{"text_format":"1","workbook":"xlsx","n_sheets":42,"sheets":["TOOL1","User_manual","find_NEBs","EEM1_NEBs","EEM2_NEBs","EEM3_NEBs","EEM4_NEBs","EEM5_NEBs","EEM6_NEBs","EEM7_NEBs","EEM8_NEBs","EEM9_NEBs","EEM10_NEBs","Sheet1","important_NEBs","TOP","EMP","LEG","AUT_top","ESP_top","GRC_top","HUN_top","ITA_top","LAT_top","POL_top","POR_top","AUT_emp","ESP_emp","GRC_emp","HUN_emp","ITA_emp","LAT_emp","POL_emp","POR_emp","AUT_leg","ESP_leg","GRC_leg","HUN_leg","ITA_leg","LAT_leg","POL_leg","POR_leg"],"not_rendered":{"charts":0,"images":2,"macros":1,"external_links":0,"defined_names":10,"comments":8,"pivot_tables":0},"unopened":[],"bounds":{"document_bytes":16777216,"sheet_cells":100000,"rows_first":2000,"rows_last":500,"rows_between":2000,"halvings":0,"cell_chars":16384,"cell_head_chars":4096},"cells_cut":0,"cells_raw":0,"read":"whole","date_system":"1900"}

{"sheet":"TOOL1","index":0,"n_rows":30,"n_cols":8,"rows_kept":30,"cut":false,"hidden":false,"merged":[[9,2,12,13],[27,2,27,13],[6,2,7,13]]}
[]
[]
[]
[]
[]
[]
[null,null,"Integration of non-energy benefits into energy audit practices to accelerate the uptake of recommended measures"]
[]
[]
[null,null,"TOOL1 is a tool that helps energy auditors identify and quantify the non-energy benefits (NEBs) of energy efficiency measures (EEMs) for their company. The TOOL1 is based on the experience of KNOWnNEBs project partners, who developed a NEBs matrix with approximately 130 000 data points."]
[]
[]
[]
[]
[]
[]
[null,null,"The tool is available in multiple languages."]
[null,null,"Choose your language:",null,"English"]
[]
[]
[null,null,"For more information"]
[null,null,"Contacts","ekodoma@ekodoma.lv"]
[null,null,"WWW","https://www.e-sieben.at/en/projects/22003_knownnebs.php"]
[]
[]
[]
[]
[null,null,"The KNOWnNEBs project has received funding from the European Union’s LIFE21-CET-AUDITS programme under grant agreement no. 101076494. The sole responsibility for the content of this document lies with the authors. It does not necessarily reflect the opinion of the European Union. Neither the CINEA nor the European Commission is responsible for any use that may be made of the information contained herein."]
[]
[null,null,null,null,null,null,null,2025]

{"sheet":"User_manual","index":1,"n_rows":21,"n_cols":4,"rows_kept":21,"cut":false,"hidden":false,"merged":[[2,1,2,3],[1,1,1,3],[4,1,4,3]]}
[]
[null,{"$f":"Sheet1!O3","v":"General description"}]
[null,{"$f":"Sheet1!O4","v":"This tool is developed based on outcomes of KNOWnNEBs project. The tool is to be used for determining non energy benefits based on type of energy efficiency measure to be implemented. When choosing a specific energy efficiency measure to be implemented this tool will present all 51 non energy benefits in order from most likely to least likely for each specific case (in other words - the higher in the table the non energy benefit is the more likely it is that this non energy benefits occures while implementing this specific ewnergy efficiency measure). The maximum score for a non energy benefit is \"8\" and the theoretical minimum score is \"-8\"."}]
[]
[null,{"$f":"Sheet1!O5","v":"How to use the tool"}]
[null,{"$f":"Sheet1!O6","v":"Step"},{"$f":"Sheet1!O7","v":"Sheet"},{"$f":"Sheet1!O8","v":"Action"}]
[null,1,"find_NEBs",{"$f":"Sheet1!O9","v":"From dropdown list in cell C23 choose the energy efficiency measure (EEM) category"}]
[null,2,"find_NEBs",{"$f":"Sheet1!O10","v":"From dropdown list in cell C24 choose specific EEM from the chosen category"}]
[null,3,"find_NEBs",{"$f":"Sheet1!O11","v":"From dropdown list in cell C25 choose the sorting options. If no option is chosen then the sorting will be done by \"Top management\""}]
[null,4,"find_NEBs",{"$f":"Sheet1!O12","v":"Press button \"EEM1\" …. \"EEM10\". Then steps 1, 2 and 3 can be repeated before pressing buttons \"EEM1\" … \"EEM10\""}]
[null,5,"EEM1_NEBs …. EEM10_NEBs",{"$f":"Sheet1!O13","v":"The tool will fill in the cells in the respective sheet based on the button pressed (for instance - when button EEM4 is pressed it will fill in sheet EEM4_NEBs)"}]
[null,6,"EEM1_NEBs …. EEM10_NEBs",{"$f":"Sheet1!O14","v":"In column I select the NEBs which are relevant in your case. This is done by choosing \"Yes\" or \"No\" from a drop down list"}]
[null,7,"EEM1_NEBs …. EEM10_NEBs",{"$f":"Sheet1!O15","v":"In column J select from the drop down list if these NEBs will be quantifiied or they will be not quantified"}]
[null,8,"EEM1_NEBs …. EEM10_NEBs",{"$f":"Sheet1!O16","v":"For the quantified NEBs in column K indicate if this is a initial NEB (occures at the implementation phase of the EEM - year zero) or yearly NEB (occures each year after implementation of EEM)"}]
[null,9,"EEM1_NEBs …. EEM10_NEBs",{"$f":"Sheet1!O17","v":"For the quantified NEBs in column L indicate the unit of measurement which will be used for quantification (monetizing)"}]
[null,10,"EEM1_NEBs …. EEM10_NEBs",{"$f":"Sheet1!O18","v":"For the quantified NEBs in column M indicate the cost of unit. For initial NEB EUR/unit and for yearly NEB EUR/unit per year should be indicated."}]
[null,11,"EEM1_NEBs …. EEM10_NEBs",{"$f":"Sheet1!O19","v":"For the quantified NEBs in column N indicate the amount of units."}]
[null,12,"EEM1_NEBs …. EEM10_NEBs",{"$f":"Sheet1!O20","v":"For not quantified NEBs in column O indicate the importance of these NEBs by choosing a value from 1 to 5 from a drop down list. The importance not quantified NEBs should be asked to the decision makers in the companies for which the EEM is analyzed."}]
[null,13,"EEM1_NEBs …. EEM10_NEBs",{"$f":"Sheet1!O21","v":"In the upper left corner of the sheet you can filter out Quantified and not quantified NEBs. This information will be used as input value in NEB tool."}]
[null,14,"EEM1_NEBs …. EEM10_NEBs",{"$f":"Sheet1!O22","v":"You can manually overwrite NEBs in column B if there is a NEB which is not in the list but you want to include it in the analysis."}]
[null,15,"EEM1_NEBs …. EEM10_NEBs",{"$f":"Sheet1!O23","v":"You can hide unnecesarry columns from column D till column H by pressing \"-\" sign above column \"I\". You can afterwards unhide these columns by pressing \"+\" sign above column I"}]

{"sheet":"find_NEBs","index":2,"n_rows":92,"n_cols":53,"rows_kept":92,"cut":false,"hidden":false,"merged":[]}
[null,null,null,null,null,null,null,null,null,null,null,null,null,null,{"$f":"COUNTA(O2:O12)","v":6},{"$f":"COUNTA(P2:P12)","v":11},7,11,7,6,6,4,5,5,4,10,3,10,9,4,3]
[null,null,null,null,null,null,null,null,null,null,null,null,{"$f":"Sheet1!O29","v":"Top management"},null,{"$f":"Sheet1!O161","v":"Envelope"},{"$f":"Sheet1!O167","v":"Heating system"},{"$f":"Sheet1!O178","v":"DHW system"},{"$f":"Sheet1!O185","v":"Cooling system"},{"$f":"Sheet1!O197","v":"Ventilation system"},{"$f":"Sheet1!O204","v":"Lighting"},{"$f":"Sheet1!O210","v":"Renewable energy"},{"$f":"Sheet1!O216","v":"Appliances"},{"$f":"Sheet1!O220","v":"Building automation"},{"$f":"Sheet1!O225","v":"Compressed air system"},{"$f":"Sheet1!O230","v":"Steam system"},{"$f":"Sheet1!O234","v":"Refrigeration"},{"$f":"Sheet1!O244","v":"Water systems"},{"$f":"Sheet1!O247","v":"Production line"},{"$f":"Sheet1!O257","v":"Transport of goods"},{"$f":"Sheet1!O266","v":"Management & Maintenance measures"},{"$f":"Sheet1!O270","v":"Occupant behaviour"}]
[null,null,null,null,null,null,null,null,null,null,null,null,{"$f":"Sheet1!O30","v":"Employee"},null,{"$f":"Sheet1!O162","v":"Improvement to visible building envelope elements"},{"$f":"Sheet1!O168","v":"Roomwise temperature control"},{"$f":"Sheet1!O179","v":"Reducing the DHW demand"},{"$f":"Sheet1!O186","v":"Roomwise temperature control"},{"$f":"Sheet1!O198","v":"Schedule optimisation"},{"$f":"Sheet1!O205","v":"Energy efficient lights (e.g LED)"},{"$f":"Sheet1!O211","v":"Solar PV"},{"$f":"Sheet1!O217","v":"Energy efficient appliances"},{"$f":"Sheet1!O221","v":"Building automation and management systems"},{"$f":"Sheet1!O226","v":"Check the required pressure"},{"$f":"Sheet1!O231","v":"Check the required pressure"},{"$f":"Sheet1!O235","v":"Optimisation of the required temperatures"},{"$f":"Sheet1!O245","v":"Efficient pumps for the Water treatment system (if any)"},{"$f":"Sheet1!O248","v":"Optimisation of the production process and workflow"},{"$f":"Sheet1!O258","v":"Optimisation of timetables"},{"$f":"Sheet1!O267","v":"Green supply chain management"},{"$f":"Sheet1!O271","v":"Employee engagement and training"},null,null,{"$f":"_xlfn.XLOOKUP(C23,O2:AE2,O3:AE12)","v":{"$error":"#N/A"}}]
[null,null,null,null,null,null,null,null,null,null,null,null,{"$f":"Sheet1!O31","v":"Legislator"},null,{"$f":"Sheet1!O163","v":"Improvements to non-visible building envelope elements"},{"$f":"Sheet1!O169","v":"Zoning optimisation of the building"},{"$f":"Sheet1!O180","v":"Insulation of the distribution network"},{"$f":"Sheet1!O187","v":"Zoning optimisation of the building"},{"$f":"Sheet1!O199","v":"Control optimisation"},{"$f":"Sheet1!O206","v":"Level of illumination"},{"$f":"Sheet1!O212","v":"Wind turbine"},{"$f":"Sheet1!O218","v":"Reducing stand-by consumption"},{"$f":"Sheet1!O222","v":"Energy management system"},{"$f":"Sheet1!O227","v":"Regular check for leakages"},{"$f":"Sheet1!O232","v":"Check for leakages"},{"$f":"Sheet1!O236","v":"Waste heat recovery "},{"$f":"Sheet1!O246","v":"Advanced process of water recovery "},{"$f":"Sheet1!O249","v":"Waste reduction & recycling in the production line "},{"$f":"Sheet1!O259","v":"Optimisation of routes"},{"$f":"Sheet1!O268","v":"Improved energy management"},{"$f":"Sheet1!O272","v":"Motivation"}]
[null,null,null,null,null,null,null,null,null,null,null,null,null,null,{"$f":"Sheet1!O164","v":"Replacemert of windows"},{"$f":"Sheet1!O170","v":"Optimisation of the heating schedule"},{"$f":"Sheet1!O181","v":"Lowering setpoint temperature"},{"$f":"Sheet1!O188","v":"Optimisation of the cooling schedule"},{"$f":"Sheet1!O200","v":"Air velocity optimisation"},{"$f":"Sheet1!O207","v":"Schedule optimisation"},{"$f":"Sheet1!O213","v":"Solar collector system"},{"$f":"Sheet1!O219","v":"Optimal usage, on demand operation"},{"$f":"Sheet1!O223","v":"Measured consumption"},{"$f":"Sheet1!O228","v":"Waste heat recovery "},{"$f":"Sheet1!O233","v":"Regular maintenance of the boiler"},{"$f":"Sheet1!O237","v":"Install frequency control (i.e. VRF) on chiller compressor."},null,{"$f":"Sheet1!O250","v":"Optimization of motor driven systems "},{"$f":"Sheet1!O260","v":"Optimisation of loads"},{"$f":"Sheet1!O269","v":"Improved environmental awareness at the management level"}]
[null,null,null,null,null,null,null,null,null,null,null,null,null,null,{"$f":"Sheet1!O165","v":"Increasing the air-tightness of the building"},{"$f":"Sheet1!O171","v":"Lowering setpoint temperature"},{"$f":"Sheet1!O182","v":"Circulation network optimisation, decentralisation of DHW production"},{"$f":"Sheet1!O189","v":"Increasing setpoint temperature"},{"$f":"Sheet1!O201","v":"Inlet air temperature optimisation"},{"$f":"Sheet1!O208","v":"Control optimisation"},{"$f":"Sheet1!O214","v":"Geothermal heat pump system"},null,{"$f":"Sheet1!O224","v":"Improved smart-readiness"},{"$f":"Sheet1!O229","v":"Regular maintenance of the compressor"},null,{"$f":"Sheet1!O238","v":"Install high efficiency or 2-rev electromotor on evaporation fan"},null,{"$f":"Sheet1!O251","v":"High efficient transmission system"},{"$f":"Sheet1!O261","v":"Optimisation of the fleet"}]
[null,null,null,null,null,null,null,null,null,null,null,null,null,null,{"$f":"Sheet1!O166","v":"Shading to reduce summer heat gains"},{"$f":"Sheet1!O172","v":"Control optimisation"},{"$f":"Sheet1!O183","v":"New, more efficient heat generator"},{"$f":"Sheet1!O190","v":"Control optimisation"},{"$f":"Sheet1!O202","v":"Heat recovery"},{"$f":"Sheet1!O209","v":"Utilisation of natural light"},{"$f":"Sheet1!O215","v":"Passive measures"},null,null,null,null,{"$f":"Sheet1!O239","v":"Build a cooled front space for refrigeration units."},null,{"$f":"Sheet1!O252","v":"Reduction of the mAnnual labor"},{"$f":"Sheet1!O262","v":"Promote electromobility"}]
[null,null,null,null,null,null,null,null,null,null,null,null,null,null,null,{"$f":"Sheet1!O173","v":"Insulation of the distribution network"},{"$f":"Sheet1!O184","v":"Including a renewable based heat source"},{"$f":"Sheet1!O191","v":"Insulation of the distribution network"},{"$f":"Sheet1!O203","v":"Energy efficient fans"},null,null,null,null,null,null,{"$f":"Sheet1!O240","v":"Use hot refrigerant gas from the compressor for the initial stages of the defrosting cycle."},null,{"$f":"Sheet1!O253","v":"Regular maintenance of the equipment"},{"$f":"Sheet1!O263","v":"Promotion of modal shift for freight"}]
[null,null,null,null,null,null,null,null,null,null,null,null,null,null,null,{"$f":"Sheet1!O174","v":"Hydraulic balancing of the distribution network"},null,{"$f":"Sheet1!O192","v":"Hydraulic balancing of the distribution network"},null,null,null,null,null,null,null,{"$f":"Sheet1!O241","v":"Use excess heat from other production processes for the production of cooling using adsorption/absorption cooling."},null,{"$f":"Sheet1!O254","v":"Replacement of the equipment"},{"$f":"Sheet1!O264","v":"Regular maintenance"}]
[null,null,null,null,null,null,null,null,null,null,null,null,null,null,null,{"$f":"Sheet1!O175","v":"New, more efficient heat generator"},null,{"$f":"Sheet1!O193","v":"New, more efficient heat generator"},null,null,null,null,null,null,null,{"$f":"Sheet1!O242","v":"Utilisation of free cooling"},null,{"$f":"Sheet1!O255","v":"Waste heat recovery "},{"$f":"Sheet1!O265","v":"Driver training"}]
[null,null,null,null,null,null,null,null,null,null,null,null,null,null,null,{"$f":"Sheet1!O176","v":"Including a renewable based heat source"},null,{"$f":"Sheet1!O194","v":"Energy efficient pumps"},null,null,null,null,null,null,null,{"$f":"Sheet1!O243","v":"Replacement of the equipment."},null,{"$f":"Sheet1!O256","v":"Low-carbon packaging "}]
[null,null,null,null,null,null,null,null,null,null,null,null,null,null,null,{"$f":"Sheet1!O177","v":"Energy efficient pumps"},null,{"$f":"Sheet1!O195","v":"Utilisation of free cooling"}]
[null,null,null,null,null,null,null,null,null,null,null,null,null,null,null,null,null,{"$f":"Sheet1!O196","v":"Utilising the waste heat from the cooling system for heating&DHW"}]
[]
[]
[]
[]
[]
[]
[]
[]
[]
[null,{"$f":"Sheet1!O24","v":"Energy efficiency measure category"}]
[null,{"$f":"Sheet1!O25","v":"Energy efficiency measure from category"}]
[null,{"$f":"Sheet1!O26","v":"Sort by"}]
[null,"NEB category",{"$f":"Sheet1!$O$52","v":"Social"},{"$f":"Sheet1!$O$52","v":"Social"},{"$f":"Sheet1!$O$52","v":"Social"},{"$f":"Sheet1!$O$52","v":"Social"},{"$f":"Sheet1!$O$52","v":"Social"},{"$f":"Sheet1!$O$53","v":"Health"},{"$f":"Sheet1!$O$53","v":"Health"},{"$f":"Sheet1!$O$53","v":"Health"},{"$f":"Sheet1!$O$53","v":"Health"},{"$f":"Sheet1!$O$53","v":"Health"},{"$f":"Sheet1!$O$53","v":"Health"},{"$f":"Sheet1!$O$53","v":"Health"},{"$f":"Sheet1!$O$54","v":"Environment"},{"$f":"Sheet1!$O$54","v":"Environment"},{"$f":"Sheet1!$O$54","v":"Environment"},{"$f":"Sheet1!$O$54","v":"Environment"},{"$f":"Sheet1!$O$54","v":"Environment"},{"$f":"Sheet1!$O$54","v":"Environment"},{"$f":"Sheet1!$O$54","v":"Environment"},{"$f":"Sheet1!$O$54","v":"Environment"},{"$f":"Sheet1!$O$54","v":"Environment"},{"$f":"Sheet1!$O$54","v":"Environment"},{"$f":"Sheet1!$O$55","v":"Economic"},{"$f":"Sheet1!$O$55","v":"Economic"},{"$f":"Sheet1!$O$55","v":"Economic"},{"$f":"Sheet1!$O$55","v":"Economic"},{"$f":"Sheet1!$O$55","v":"Economic"},{"$f":"Sheet1!$O$55","v":"Economic"},{"$f":"Sheet1!$O$55","v":"Economic"},{"$f":"Sheet1!$O$55","v":"Economic"},{"$f":"Sheet1!$O$55","v":"Economic"},{"$f":"Sheet1!$O$55","v":"Economic"},{"$f":"Sheet1!$O$55","v":"Economic"},{"$f":"Sheet1!$O$55","v":"Economic"},{"$f":"Sheet1!$O$55","v":"Economic"},{"$f":"Sheet1!$O$56","v":"Security & Safety"},{"$f":"Sheet1!$O$56","v":"Security & Safety"},{"$f":"Sheet1!$O$56","v":"Security & Safety"},{"$f":"Sheet1!$O$56","v":"Security & Safety"},{"$f":"Sheet1!$O$56","v":"Security & Safety"},{"$f":"Sheet1!$O$56","v":"Security & Safety"},{"$f":"Sheet1!$O$56","v":"Security & Safety"},{"$f":"Sheet1!$O$57","v":"Quality"},{"$f":"Sheet1!$O$57","v":"Quality"},{"$f":"Sheet1!$O$57","v":"Quality"},{"$f":"Sheet1!$O$57","v":"Quality"},{"$f":"Sheet1!$O$57","v":"Quality"},{"$f":"Sheet1!$O$57","v":"Quality"},{"$f":"Sheet1!$O$58","v":"Time"},{"$f":"Sheet1!$O$58","v":"Time"},{"$f":"Sheet1!$O$58","v":"Time"}]
[null,"Stakeholder group",{"$f":"Sheet1!$O$59","v":"Employee satisfaction"},{"$f":"Sheet1!$O$60","v":"Alleviation of energy poverty"},{"$f":"Sheet1!$O$61","v":"Customers (new, satisfaction, etc.)"},{"$f":"Sheet1!$O$62","v":"Improved supply chain relationships"},{"$f":"Sheet1!$O$63","v":"Work performance"},{"$f":"Sheet1!$O$64","v":"Health and well-being"},{"$f":"Sheet1!$O$65","v":"(avoided) mortality"},{"$f":"Sheet1!$O$66","v":"Disease burden \"daly\""},{"$f":"Sheet1!$O$67","v":"Sickness & absenteeism"},{"$f":"Sheet1!$O$68","v":"Improved air quality"},{"$f":"Sheet1!$O$69","v":"Improved lighting"},{"$f":"Sheet1!$O$70","v":"Reduced noise"},{"$f":"Sheet1!$O$71","v":"Emission reduction"},{"$f":"Sheet1!$O$72","v":"Impact of EE on RES target achievement "},{"$f":"Sheet1!$O$73","v":"Ecosystem degradation"},{"$f":"Sheet1!$O$74","v":"Reduced water use "},{"$f":"Sheet1!$O$75","v":"Reduced material consumption"},{"$f":"Sheet1!$O$76","v":"Reduced emissions (dust, CO2, chemical agents etc.)"},{"$f":"Sheet1!$O$77","v":"Reduced noise pollution"},{"$f":"Sheet1!$O$78","v":"Reduced use of non-renewable resources "},{"$f":"Sheet1!$O$79","v":"Reduced litigations risks"},{"$f":"Sheet1!$O$80","v":"Reduced waste"},{"$f":"Sheet1!$O$81","v":"Improvement of compatitiveness"},{"$f":"Sheet1!$O$82","v":"Innovation impacts"},{"$f":"Sheet1!$O$83","v":"Reduction of (maintenance) costs"},{"$f":"Sheet1!$O$84","v":"Reduction of emission or disposal fees"},{"$f":"Sheet1!$O$85","v":"Shorter production cycle"},{"$f":"Sheet1!$O$86","v":"Increased production yields"},{"$f":"Sheet1!$O$87","v":"Increased real estate value"},{"$f":"Sheet1!$O$88","v":"Reduction of (operating) costs"},{"$f":"Sheet1!$O$89","v":"Macro economy"},{"$f":"Sheet1!$O$90","v":"Usage of waste streams"},{"$f":"Sheet1!$O$91","v":"Turnover of energy efficiency goods "},{"$f":"Sheet1!$O$92","v":"Employment effects"},{"$f":"Sheet1!$O$93","v":"Impact on public budgets"},{"$f":"Sheet1!$O$94","v":"Energy security"},{"$f":"Sheet1!$O$95","v":"Security of supply / self sufficiency"},{"$f":"Sheet1!$O$96","v":"Supplier diversity "},{"$f":"Sheet1!$O$97","v":"Operation safety of equipment"},{"$f":"Sheet1!$O$98","v":"Less maintenance"},{"$f":"Sheet1!$O$99","v":"Electrical safety"},{"$f":"Sheet1!$O$100","v":"Reduced injuries"},{"$f":"Sheet1!$O$101","v":"Accurate monitoring"},{"$f":"Sheet1!$O$102","v":"Right First Time"},{"$f":"Sheet1!$O$103","v":"Increased quality of products"},{"$f":"Sheet1!$O$104","v":"Increased corporate image"},{"$f":"Sheet1!$O$105","v":"Increased regulatory compliance"},{"$f":"Sheet1!$O$106","v":"Risk reduction"},{"$f":"Sheet1!$O$107","v":"Increased productivity"},{"$f":"Sheet1!$O$108","v":"Increased equipment lifetime"},{"$f":"Sheet1!$O$109","v":"Reduced time of fault detection"}]
[null,"Top management",{"$f":"_xlfn.XLOOKUP($C$24,TOP!$C$3:$C$97,TOP!$D$3:$BB$97)","v":{"$error":"#N/A"}}]
[null,"Employees",{"$f":"_xlfn.XLOOKUP($C$24,EMP!$C$3:$C$97,EMP!$D$3:$BB$97)","v":{"$error":"#N/A"}}]
[null,"Legislator",{"$f":"_xlfn.XLOOKUP($C$24,LEG!$C$3:$C$97,LEG!$D$3:$BB$97)","v":{"$error":"#N/A"}}]
[null,"Description",{"$f":"Sheet1!$O$110","v":"Increased employee satisfaction can appear as fringe benefits, making the company competitive with even less wages. Furthermore can ease recruitment through the increased years spent at the workplace, etc. Employee satisfaction provides better value proposition. This includes improved working conditions and reduced staff turnover as well."},{"$f":"Sheet1!$O$111","v":"Reliance of reduced energy consumptions and disposable income of households - energy efficiency measures concentrated on low-income households thus providing a surplus effect of alleviating energy poverty."},{"$f":"Sheet1!$O$112","v":"Indicators related with the number of (new) customers, money spent by the customers, number of customers registering after the referal of other customers, customer loyalty, customer satisfaction by surveys. "},{"$f":"Sheet1!$O$113","v":"Improved supply chain relationships"},{"$f":"Sheet1!$O$114","v":"Reduction in work days lost due to working conditions. Advantage of seperating this from increased production is that these number of days are though to appear in sick leaves, while productivity could be expressed by the number of products produced divided by working hours. (Could remain an individaual levelized indicator - averaged for a single person showing gain for the employees as a social indicator)."},{"$f":"Sheet1!$O$115","v":"Reduction of health-related emissions - such as nitrogen oxide, sulfur oxide, PM2.5 that can be correlated with premature death."},{"$f":"Sheet1!$O$116","v":"By project relevance can express safety conditions with the decreased number of mortal accidents, while on a higher level can represent the number of avoided (premature) death in reliance with reduced emissions."},{"$f":"Sheet1!$O$117","v":"Involves persistent illness as well caused by inadequate living or working conditions.\nThe overall burden of disease is assessed using the disability-adjusted life year (DALY), a time-based measure that combines years of life lost due to premature mortality (YLLs) and years of life lost due to time lived in states of less than full health, or years of healthy life lost due to disability (YLDs). One DALY represents the loss of the equivalent of one year of full health. Using DALYs, the burden of diseases that cause premature death but little disability (such as drowning or measles) can be compared to that of diseases that do not cause death but do cause disability (such as cataract causing blindness)."},{"$f":"Sheet1!$O$118","v":"Number of days of sickness absence on a corporate level. Could be differentated from work performance as an aggregated indicator while work performance could remain an individual-level average."},{"$f":"Sheet1!$O$119","v":"The air quality is improved at the workspace, resulting in an improved working environment."},{"$f":"Sheet1!$O$120","v":"The level of lighting is improved at the workspace, resulting in an improved working environment."},{"$f":"Sheet1!$O$121","v":"Reduced (maximum) noise pollution in dB at the workspace, resulting in an improved working environment."},{"$f":"Sheet1!$O$122","v":"Emissions related to any impact categories - climate change, ozone depletion, acidificaton, eutophication, etc. (LCA) or individual metrics for CO, CO2, NOx, SOx and so on. "},{"$f":"Sheet1!$O$123","v":"Energy savings allow to reach RES targets more easily"},{"$f":"Sheet1!$O$124","v":"Any non-emission related ecosystem degrading activities."},{"$f":"Sheet1!$O$125","v":"Reducing the use of water of the processes/buildings"},{"$f":"Sheet1!$O$126","v":"Less materials are required for production, saving can be expressed in e.g.[kg]."},{"$f":"Sheet1!$O$127","v":"The harmful emissions of the processes and/or HVAC systems are reduced."},{"$f":"Sheet1!$O$128","v":"Reducing the noise from the processes/building systems"},{"$f":"Sheet1!$O$129","v":"Reducing the non-renewable energy use in processes/building systems"},{"$f":"Sheet1!$O$130","v":"Total amount of expenses and fines related to environmental law violations."},{"$f":"Sheet1!$O$131","v":"Amount of waste disposed (hazardous/ non-hazardous/ radioactive) (LCA)."},{"$f":"Sheet1!$O$132","v":"Improved image of a region/ country; can also be a quantified indicator as well. Higher customer satisfaction."},{"$f":"Sheet1!$O$133","v":"Impacts on innovation related to the diffusion of EE technologies"},{"$f":"Sheet1!$O$134","v":"Reduction of maintenance costs. Avoided breakdowns due to regular maintenance."},{"$f":"Sheet1!$O$135","v":"Reduction of emission or disposal fees."},{"$f":"Sheet1!$O$136","v":"The production chain is optimised resulting in shorted production time."},{"$f":"Sheet1!$O$137","v":"Increased income due to better productivity."},{"$f":"Sheet1!$O$138","v":"Spending money on energy efficiency measures can increase the real estate value of buildings"},{"$f":"Sheet1!$O$139","v":"Reduction of cost due to increased efficiency, productivity and right first time. Reduced manual labor costs."},{"$f":"Sheet1!$O$140","v":"Impact on national GDP and other economic indicators."},{"$f":"Sheet1!$O$141","v":"Heat/fuel/gas - reduced need for external resources."},{"$f":"Sheet1!$O$142","v":"Macro-economic indicator representing the turnover of EE goods"},{"$f":"Sheet1!$O$143","v":"Macro-economic indicator showing effects of EE measures on employment"},{"$f":"Sheet1!$O$144","v":"Macro-economic indicator showing changes in public budgets triggered by tax revenue increase or decrease"},{"$f":"Sheet1!$O$145","v":"Reduced import dependency, impact on RES integration, supplier diversity, etc.; Herfindahl-Hirschman Index ."},{"$f":"Sheet1!$O$146","v":"Security of supply / self sufficiency"},{"$f":"Sheet1!$O$147","v":"Security of energy/resource suppliers "},{"$f":"Sheet1!$O$148","v":"Improving the safety of the equimpent."},{"$f":"Sheet1!$O$149","v":"Reduced malfunctions."},{"$f":"Sheet1!$O$150","v":"Improving the electrical safety for the process equipmetns and building systems"},{"$f":"Sheet1!$O$151","v":"Number of reduced injuries."},{"$f":"Sheet1!$O$152","v":"Improved fault detection and measurement systems to allocate possible improvements."},{"$f":"Sheet1!$O$153","v":"How many products are produced correctly from the first time (without modifications)."},{"$f":"Sheet1!$O$154","v":"Eg. Increased life cycle of batteries."},{"$f":"Sheet1!$O$155","v":"By better corporate image new customers can be reached and also the staff turnover can be reduced as it is a prestige to work there."},{"$f":"Sheet1!$O$156","v":"N° of EU and national energy policies adopted"},{"$f":"Sheet1!$O$157","v":"Risk of production disorganization."},{"$f":"Sheet1!$O$158","v":"Higher outputs (nº of finished products) / a certain period of time."},{"$f":"Sheet1!$O$159","v":"Increased equipment lifetime due to better operating conditions/ maintenance/ improved fault detection."},{"$f":"Sheet1!$O$160","v":"Reduced time of fault detection."}]
[null,"Quantification","1. Quant./qualitative - Well-being\n2. Quant./qualitative - Well-being - productivity\n3. Qualitative - average nr of years that employees work at\nthe company \n4. Quantitative - Employee satisfaction (based on survey)",{"$error":"#N/A"},{"$error":"#N/A"},{"$error":"#N/A"},"Depend on the tasks (repetitive or not)","Quant./qualitative - Well-being",{"$error":"#N/A"},"Quantitative - Insurance premiums reduction","Quantitative - Sickness absence days x cost per day","Quantitative - Number of particles /m2 (example)",{"$error":"#N/A"},"Quantitative - Decibels x time of exposure","1. Quantitative - M Number of particles /m2 (example)",{"$error":"#N/A"},"1.Quantitative - M (kg/yr) * disposal costs (EUR/kg)","Quantitative - amount of reduced water (m3) * price of water (EUR/m3) ","1. (in tonne/year) * costs of material\n2. (nr/yr) * price (EUR/product)","1. Quantitative - M Number of particles /m2 (example)",{"$error":"#N/A"},{"$error":"#N/A"},{"$error":"#N/A"},{"$error":"#N/A"},{"$error":"#N/A"},{"$error":"#N/A"},"1.Quantitative - Number of breakdowns/defects\n2.Quantitative - wages (EUR/hr) * reduced maintenance\n3.Quantitative - Longer lifetime of equipment so reduce\n4.Quantitative - Technical control cost",{"$error":"#N/A"},"Shorter production cycle (shorter process cycle time)","1.Quantitative - (nr/yr) * price (EUR/product)\n2.Quantitative - Output total/input total","Quantitative - Assets value",{"$error":"#N/A"},{"$error":"#N/A"},"1.Quantitative - M Quantity (% of total waste heat)\n",{"$error":"#N/A"},{"$error":"#N/A"},{"$error":"#N/A"},"\n1. price forecast","electricity supply disruption rate",{"$error":"#N/A"},"1.qualitative - Number of accidents / year\n2.Quantitative - nr of incidents per year * average costs (or\nother impact) per incident","1. Quantitative - E-M % default pieces/pieces produced\n2. Quantitative - M Number of breakdowns/defect",{"$error":"#N/A"},{"$error":"#N/A"},{"$error":"#N/A"},{"$error":"#N/A"},"Quantitative - Reduction of production losses - redo",{"$error":"#N/A"},"1. number of lawsuits or legal disputes\n2. n/a","Quantitative -  pieces produced",{"$error":"#N/A"},"Quantitative - Cost of equipment - spending delayed",{"$error":"#N/A"}]
[]
[]
[null,null,null,1,2,3]
[null,{"$f":"TRANSPOSE(B26:BA32)","v":"NEB category"},"Stakeholder group","Top management","Employees","Legislator","Description","Quantification"]
[null,"Social","Employee satisfaction",{"$error":"#N/A"},{"$error":"#N/A"},{"$error":"#N/A"},"Increased employee satisfaction can appear as fringe benefits, making the company competitive with even less wages. Furthermore can ease recruitment through the increased years spent at the workplace, etc. Employee satisfaction provides better value proposition. This includes improved working conditions and reduced staff turnover as well.","1. Quant./qualitative - Well-being\n2. Quant./qualitative - Well-being - productivity\n3. Qualitative - average nr of years that employees work at\nthe company \n4. Quantitative - Employee satisfaction (based on survey)"]
[null,"Social","Alleviation of energy poverty",0,0,0,"Reliance of reduced energy consumptions and disposable income of households - energy efficiency measures concentrated on low-income households thus providing a surplus effect of alleviating energy poverty.",{"$error":"#N/A"}]
[null,"Social","Customers (new, satisfaction, etc.)",0,0,0,"Indicators related with the number of (new) customers, money spent by the customers, number of customers registering after the referal of other customers, customer loyalty, customer satisfaction by surveys. ",{"$error":"#N/A"}]
[null,"Social","Improved supply chain relationships",0,0,0,"Improved supply chain relationships",{"$error":"#N/A"}]
[null,"Social","Work performance",0,0,0,"Reduction in work days lost due to working conditions. Advantage of seperating this from increased production is that these number of days are though to appear in sick leaves, while productivity could be expressed by the number of products produced divided by working hours. (Could remain an individaual levelized indicator - averaged for a single person showing gain for the employees as a social indicator).","Depend on the tasks (repetitive or not)"]
[null,"Health","Health and well-being",0,0,0,"Reduction of health-related emissions - such as nitrogen oxide, sulfur oxide, PM2.5 that can be correlated with premature death.","Quant./qualitative - Well-being"]
[null,"Health","(avoided) mortality",0,0,0,"By project relevance can express safety conditions with the decreased number of mortal accidents, while on a higher level can represent the number of avoided (premature) death in reliance with reduced emissions.",{"$error":"#N/A"}]
[null,"Health","Disease burden \"daly\"",0,0,0,"Involves persistent illness as well caused by inadequate living or working conditions.\nThe overall burden of disease is assessed using the disability-adjusted life year (DALY), a time-based measure that combines years of life lost due to premature mortality (YLLs) and years of life lost due to time lived in states of less than full health, or years of healthy life lost due to disability (YLDs). One DALY represents the loss of the equivalent of one year of full health. Using DALYs, the burden of diseases that cause premature death but little disability (such as drowning or measles) can be compared to that of diseases that do not cause death but do cause disability (such as cataract causing blindness).","Quantitative - Insurance premiums reduction"]
[null,"Health","Sickness & absenteeism",0,0,0,"Number of days of sickness absence on a corporate level. Could be differentated from work performance as an aggregated indicator while work performance could remain an individual-level average.","Quantitative - Sickness absence days x cost per day"]
[null,"Health","Improved air quality",0,0,0,"The air quality is improved at the workspace, resulting in an improved working environment.","Quantitative - Number of particles /m2 (example)"]
[null,"Health","Improved lighting",0,0,0,"The level of lighting is improved at the workspace, resulting in an improved working environment.",{"$error":"#N/A"}]
[null,"Health","Reduced noise",0,0,0,"Reduced (maximum) noise pollution in dB at the workspace, resulting in an improved working environment.","Quantitative - Decibels x time of exposure"]
[null,"Environment","Emission reduction",0,0,0,"Emissions related to any impact categories - climate change, ozone depletion, acidificaton, eutophication, etc. (LCA) or individual metrics for CO, CO2, NOx, SOx and so on. ","1. Quantitative - M Number of particles /m2 (example)"]
[null,"Environment","Impact of EE on RES target achievement ",0,0,0,"Energy savings allow to reach RES targets more easily",{"$error":"#N/A"}]
[null,"Environment","Ecosystem degradation",0,0,0,"Any non-emission related ecosystem degrading activities.","1.Quantitative - M (kg/yr) * disposal costs (EUR/kg)"]
[null,"Environment","Reduced water use ",0,0,0,"Reducing the use of water of the processes/buildings","Quantitative - amount of reduced water (m3) * price of water (EUR/m3) "]
[null,"Environment","Reduced material consumption",0,0,0,"Less materials are required for production, saving can be expressed in e.g.[kg].","1. (in tonne/year) * costs of material\n2. (nr/yr) * price (EUR/product)"]
[null,"Environment","Reduced emissions (dust, CO2, chemical agents etc.)",0,0,0,"The harmful emissions of the processes and/or HVAC systems are reduced.","1. Quantitative - M Number of particles /m2 (example)"]
[null,"Environment","Reduced noise pollution",0,0,0,"Reducing the noise from the processes/building systems",{"$error":"#N/A"}]
[null,"Environment","Reduced use of non-renewable resources ",0,0,0,"Reducing the non-renewable energy use in processes/building systems",{"$error":"#N/A"}]
[null,"Environment","Reduced litigations risks",0,0,0,"Total amount of expenses and fines related to environmental law violations.",{"$error":"#N/A"}]
[null,"Environment","Reduced waste",0,0,0,"Amount of waste disposed (hazardous/ non-hazardous/ radioactive) (LCA).",{"$error":"#N/A"}]
[null,"Economic","Improvement of compatitiveness",0,0,0,"Improved image of a region/ country; can also be a quantified indicator as well. Higher customer satisfaction.",{"$error":"#N/A"}]
[null,"Economic","Innovation impacts",0,0,0,"Impacts on innovation related to the diffusion of EE technologies",{"$error":"#N/A"}]
[null,"Economic","Reduction of (maintenance) costs",0,0,0,"Reduction of maintenance costs. Avoided breakdowns due to regular maintenance.","1.Quantitative - Number of breakdowns/defects\n2.Quantitative - wages (EUR/hr) * reduced maintenance\n3.Quantitative - Longer lifetime of equipment so reduce\n4.Quantitative - Technical control cost"]
[null,"Economic","Reduction of emission or disposal fees",0,0,0,"Reduction of emission or disposal fees.",{"$error":"#N/A"}]
[null,"Economic","Shorter production cycle",0,0,0,"The production chain is optimised resulting in shorted production time.","Shorter production cycle (shorter process cycle time)"]
[null,"Economic","Increased production yields",0,0,0,"Increased income due to better productivity.","1.Quantitative - (nr/yr) * price (EUR/product)\n2.Quantitative - Output total/input total"]
[null,"Economic","Increased real estate value",0,0,0,"Spending money on energy efficiency measures can increase the real estate value of buildings","Quantitative - Assets value"]
[null,"Economic","Reduction of (operating) costs",0,0,0,"Reduction of cost due to increased efficiency, productivity and right first time. Reduced manual labor costs.",{"$error":"#N/A"}]
[null,"Economic","Macro economy",0,0,0,"Impact on national GDP and other economic indicators.",{"$error":"#N/A"}]
[null,"Economic","Usage of waste streams",0,0,0,"Heat/fuel/gas - reduced need for external resources.","1.Quantitative - M Quantity (% of total waste heat)\n"]
[null,"Economic","Turnover of energy efficiency goods ",0,0,0,"Macro-economic indicator representing the turnover of EE goods",{"$error":"#N/A"}]
[null,"Economic","Employment effects",0,0,0,"Macro-economic indicator showing effects of EE measures on employment",{"$error":"#N/A"}]
[null,"Economic","Impact on public budgets",0,0,0,"Macro-economic indicator showing changes in public budgets triggered by tax revenue increase or decrease",{"$error":"#N/A"}]
[null,"Security & Safety","Energy security",0,0,0,"Reduced import dependency, impact on RES integration, supplier diversity, etc.; Herfindahl-Hirschman Index .","\n1. price forecast"]
[null,"Security & Safety","Security of supply / self sufficiency",0,0,0,"Security of supply / self sufficiency","electricity supply disruption rate"]
[null,"Security & Safety","Supplier diversity ",0,0,0,"Security of energy/resource suppliers ",{"$error":"#N/A"}]
[null,"Security & Safety","Operation safety of equipment",0,0,0,"Improving the safety of the equimpent.","1.qualitative - Number of accidents / year\n2.Quantitative - nr of incidents per year * average costs (or\nother impact) per incident"]
[null,"Security & Safety","Less maintenance",0,0,0,"Reduced malfunctions.","1. Quantitative - E-M % default pieces/pieces produced\n2. Quantitative - M Number of breakdowns/defect"]
[null,"Security & Safety","Electrical safety",0,0,0,"Improving the electrical safety for the process equipmetns and building systems",{"$error":"#N/A"}]
[null,"Security & Safety","Reduced injuries",0,0,0,"Number of reduced injuries.",{"$error":"#N/A"}]
[null,"Quality","Accurate monitoring",0,0,0,"Improved fault detection and measurement systems to allocate possible improvements.",{"$error":"#N/A"}]
[null,"Quality","Right First Time",0,0,0,"How many products are produced correctly from the first time (without modifications).",{"$error":"#N/A"}]
[null,"Quality","Increased quality of products",0,0,0,"Eg. Increased life cycle of batteries.","Quantitative - Reduction of production losses - redo"]
[null,"Quality","Increased corporate image",0,0,0,"By better corporate image new customers can be reached and also the staff turnover can be reduced as it is a prestige to work there.",{"$error":"#N/A"}]
[null,"Quality","Increased regulatory compliance",0,0,0,"N° of EU and national energy policies adopted","1. number of lawsuits or legal disputes\n2. n/a"]
[null,"Quality","Risk reduction",0,0,0,"Risk of production disorganization.","Quantitative -  pieces produced"]
[null,"Time","Increased productivity",0,0,0,"Higher outputs (nº of finished products) / a certain period of time.",{"$error":"#N/A"}]
[null,"Time","Increased equipment lifetime",0,0,0,"Increased equipment lifetime due to better operating conditions/ maintenance/ improved fault detection.","Quantitative - Cost of equipment - spending delayed"]
[null,"Time","Reduced time of fault detection",0,0,0,"Reduced time of fault detection.",{"$error":"#N/A"}]
[]
[]
[]
[null,{"$f":"Sheet1!O27","v":"NEB category"},{"$f":"Sheet1!O28","v":"NEB"},{"$f":"Sheet1!O29","v":"Top management"},{"$f":"Sheet1!O30","v":"Employee"},{"$f":"Sheet1!O31","v":"Legislator"},{"$f":"Sheet1!O32","v":"Description of the NEB"},{"$f":"Sheet1!O33","v":"Examples of quantification"}]
[null,{"$f":"IF(C24=\"\",\"\",_xlfn._xlws.SORT(B37:H87,_xlfn.SWITCH(C25,M2,3,M3,4,M4,5,3),-1,FALSE))","v":""}]

{"sheet":"EEM1_NEBs","index":3,"n_rows":57,"n_cols":26,"rows_kept":57,"cut":false,"hidden":false,"merged":[]}
[null,null,null,null,null,null,null,null,null,null,null,null,null,null,null,null,null,null,null,null,null,null,null,null,null,"Quantified"]
[null,null,null,null,null,null,null,null,null,null,null,null,null,null,null,null,null,null,null,null,null,null,null,null,null,"Not quantified"]
[null,null,null,null,null,null,null,null,null,null,null,null,null,null,null,null,null,null,null,null,null,null,null,null,null,"Initial"]
[null,null,null,null,null,null,null,null,null,null,null,null,null,null,null,null,null,null,null,null,null,null,null,null,null,"Yearly"]
[null,{"$f":"Sheet1!O34","v":"NEB category"},{"$f":"Sheet1!O35","v":"NEB"},{"$f":"Sheet1!O36","v":"Top management"},{"$f":"Sheet1!O37","v":"Employee"},{"$f":"Sheet1!O38","v":"Legislator"},{"$f":"Sheet1!O39","v":"Description of the NEB"},{"$f":"Sheet1!O40","v":"Examples of quantification"},{"$f":"Sheet1!O41","v":"Include in calculations"},{"$f":"Sheet1!O42","v":"Quantified/not quantified"},{"$f":"Sheet1!O43","v":"Initial/yearly"},{"$f":"Sheet1!O44","v":"Unit of measurement"},{"$f":"Sheet1!O45","v":"Cost of unit, EUR/unit (for initial) and EUR/unit per year (for yearly)"},{"$f":"Sheet1!O46","v":"Amount of units"},{"$f":"Sheet1!O47","v":"Importance (1-low; 5-very high)"}]
[null,"NEB category","NEB","Top management","Employee","Legislator","Description of the NEB","Examples of quantification","Include in calculations","Quantified/not quantified","Initial/yearly","Unit of measurement","Cost of unit, EUR/unit (for initial) and EUR/unit per year (for yearly)","Amount of units","Importance (1-low; 5-very high)"]
[null,"",null,null,null,null,null,null,"No"]
[null,null,null,null,null,null,null,null,"No"]
[null,null,null,null,null,null,null,null,"No"]
[null,null,null,null,null,null,null,null,"No"]
[null,null,null,null,null,null,null,null,"No"]
[null,null,null,null,null,null,null,null,"No"]
[null,null,null,null,null,null,null,null,"No"]
[null,null,null,null,null,null,null,null,"No"]
[null,null,null,null,null,null,null,null,"No"]
[null,null,null,null,null,null,null,null,"No"]
[null,null,null,null,null,null,null,null,"No"]
[null,null,null,null,null,null,null,null,"No"]
[null,null,null,null,null,null,null,null,"No"]
[null,null,null,null,null,null,null,null,"No"]
[null,null,null,null,null,null,null,null,"No"]
[null,null,null,null,null,null,null,null,"No"]
[null,null,null,null,null,null,null,null,"No"]
[null,null,null,null,null,null,null,null,"No"]
[null,null,null,null,null,null,null,null,"No"]
[null,null,null,null,null,null,null,null,"No"]
[null,null,null,null,null,null,null,null,"No"]
[null,null,null,null,null,null,null,null,"No"]
[null,null,null,null,null,null,null,null,"No"]
[null,null,null,null,null,null,null,null,"No"]
[null,null,null,null,null,null,null,null,"No"]
[null,null,null,null,null,null,null,null,"No"]
[null,null,null,null,null,null,null,null,"No"]
[null,null,null,null,null,null,null,null,"No"]
[null,null,null,null,null,null,null,null,"No"]
[null,null,null,null,null,null,null,null,"No"]
[null,null,null,null,null,null,null,null,"No"]
[null,null,null,null,null,null,null,null,"No"]
[null,null,null,null,null,null,null,null,"No"]
[null,null,null,null,null,null,null,null,"No"]
[null,null,null,null,null,null,null,null,"No"]
[null,null,null,null,null,null,null,null,"No"]
[null,null,null,null,null,null,null,null,"No"]
[null,null,null,null,null,null,null,null,"No"]
[null,null,null,null,null,null,null,null,"No"]
[null,null,null,null,null,null,null,null,"No"]
[null,null,null,null,null,null,null,null,"No"]
[null,null,null,null,null,null,null,null,"No"]
[null,null,null,null,null,null,null,null,"No"]
[null,null,null,null,null,null,null,null,"No"]
[null,null,null,null,null,null,null,null,"No"]
[null,null,null,null,null,null,null,null,"No"]
[null,null,null,null,null,null,null,null,"No"]
[null,null,null,null,null,null,null,null,"No"]
[null,null,null,null,null,null,null,null,"No"]
[null,null,null,null,null,null,null,null,"No"]
[null,null,null,null,null,null,null,null,"No"]

{"sheet":"EEM2_NEBs","index":4,"n_rows":57,"n_cols":26,"rows_kept":57,"cut":false,"hidden":false,"merged":[]}
[null,null,null,null,null,null,null,null,null,null,null,null,null,null,null,null,null,null,null,null,null,null,null,null,null,"Quantified"]
[null,null,null,null,null,null,null,null,null,null,null,null,null,null,null,null,null,null,null,null,null,null,null,null,null,"Not quantified"]
[null,null,null,null,null,null,null,null,null,null,null,null,null,null,null,null,null,null,null,null,null,null,null,null,null,"Initial"]
[null,null,null,null,null,null,null,null,null,null,null,null,null,null,null,null,null,null,null,null,null,null,null,null,null,"Yearly"]
[null,{"$f":"Sheet1!O34","v":"NEB category"},{"$f":"Sheet1!O35","v":"NEB"},{"$f":"Sheet1!O36","v":"Top management"},{"$f":"Sheet1!O37","v":"Employee"},{"$f":"Sheet1!O38","v":"Legislator"},{"$f":"Sheet1!O39","v":"Description of the NEB"},{"$f":"Sheet1!O40","v":"Examples of quantification"},{"$f":"Sheet1!O41","v":"Include in calculations"},{"$f":"Sheet1!O42","v":"Quantified/not quantified"},{"$f":"Sheet1!O43","v":"Initial/yearly"},{"$f":"Sheet1!O44","v":"Unit of measurement"},{"$f":"Sheet1!O45","v":"Cost of unit, EUR/unit (for initial) and EUR/unit per year (for yearly)"},{"$f":"Sheet1!O46","v":"Amount of units"},{"$f":"Sheet1!O47","v":"Importance (1-low; 5-very high)"}]
[null,"NEB category","NEB","Top management","Employee","Legislator","Description of the NEB","Examples of quantification","Include in calculations","Quantified/not quantified","Initial/yearly","Unit of measurement","Cost of unit, EUR/unit (for initial) and EUR/unit per year (for yearly)","Amount of units","Importance (1-low; 5-very high)"]
[null,"",null,null,null,null,null,null,"No"]
[null,null,null,null,null,null,null,null,"No"]
[null,null,null,null,null,null,null,null,"No"]
[null,null,null,null,null,null,null,null,"No"]
[null,null,null,null,null,null,null,null,"No"]
[null,null,null,null,null,null,null,null,"No"]
[null,null,null,null,null,null,null,null,"No"]
[null,null,null,null,null,null,null,null,"No"]
[null,null,null,null,null,null,null,null,"No"]
[null,null,null,null,null,null,null,null,"No"]
[null,null,null,null,null,null,null,null,"No"]
[null,null,null,null,null,null,null,null,"No"]
[null,null,null,null,null,null,null,null,"No"]
[null,null,null,null,null,null,null,null,"No"]
[null,null,null,null,null,null,null,null,"No"]
[null,null,null,null,null,null,null,null,"No"]
[null,null,null,null,null,null,null,null,"No"]
[null,null,null,null,null,null,null,null,"No"]
[null,null,null,null,null,null,null,null,"No"]
[null,null,null,null,null,null,null,null,"No"]
[null,null,null,null,null,null,null,null,"No"]
[null,null,null,null,null,null,null,null,"No"]
[null,null,null,null,null,null,null,null,"No"]
[null,null,null,null,null,null,null,null,"No"]
[null,null,null,null,null,null,null,null,"No"]
[null,null,null,null,null,null,null,null,"No"]
[null,null,null,null,null,null,null,null,"No"]
[null,null,null,null,null,null,null,null,"No"]
[null,null,null,null,null,null,null,null,"No"]
[null,null,null,null,null,null,null,null,"No"]
[null,null,null,null,null,null,null,null,"No"]
[null,null,null,null,null,null,null,null,"No"]
[null,null,null,null,null,null,null,null,"No"]
[null,null,null,null,null,null,null,null,"No"]
[null,null,null,null,null,null,null,null,"No"]
[null,null,null,null,null,null,null,null,"No"]
[null,null,null,null,null,null,null,null,"No"]
[null,null,null,null,null,null,null,null,"No"]
[null,null,null,null,null,null,null,null,"No"]
[null,null,null,null,null,null,null,null,"No"]
[null,null,null,null,null,null,null,null,"No"]
[null,null,null,null,null,null,null,null,"No"]
[null,null,null,null,null,null,null,null,"No"]
[null,null,null,null,null,null,null,null,"No"]
[null,null,null,null,null,null,null,null,"No"]
[null,null,null,null,null,null,null,null,"No"]
[null,null,null,null,null,null,null,null,"No"]
[null,null,null,null,null,null,null,null,"No"]
[null,null,null,null,null,null,null,null,"No"]
[null,null,null,null,null,null,null,null,"No"]
[null,null,null,null,null,null,null,null,"No"]

{"sheet":"EEM3_NEBs","index":5,"n_rows":57,"n_cols":26,"rows_kept":57,"cut":false,"hidden":false,"merged":[]}
[null,null,null,null,null,null,null,null,null,null,null,null,null,null,null,null,null,null,null,null,null,null,null,null,null,"Quantified"]
[null,null,null,null,null,null,null,null,null,null,null,null,null,null,null,null,null,null,null,null,null,null,null,null,null,"Not quantified"]
[null,null,null,null,null,null,null,null,null,null,null,null,null,null,null,null,null,null,null,null,null,null,null,null,null,"Initial"]
[null,null,null,null,null,null,null,null,null,null,null,null,null,null,null,null,null,null,null,null,null,null,null,null,null,"Yearly"]
[null,{"$f":"Sheet1!O34","v":"NEB category"},{"$f":"Sheet1!O35","v":"NEB"},{"$f":"Sheet1!O36","v":"Top management"},{"$f":"Sheet1!O37","v":"Employee"},{"$f":"Sheet1!O38","v":"Legislator"},{"$f":"Sheet1!O39","v":"Description of the NEB"},{"$f":"Sheet1!O40","v":"Examples of quantification"},{"$f":"Sheet1!O41","v":"Include in calculations"},{"$f":"Sheet1!O42","v":"Quantified/not quantified"},{"$f":"Sheet1!O43","v":"Initial/yearly"},{"$f":"Sheet1!O44","v":"Unit of measurement"},{"$f":"Sheet1!O45","v":"Cost of unit, EUR/unit (for initial) and EUR/unit per year (for yearly)"},{"$f":"Sheet1!O46","v":"Amount of units"},{"$f":"Sheet1!O47","v":"Importance (1-low; 5-very high)"}]
[null,"NEB category","NEB","Top management","Employee","Legislator","Description of the NEB","Examples of quantification","Include in calculations","Quantified/not quantified","Initial/yearly","Unit of measurement","Cost of unit, EUR/unit (for initial) and EUR/unit per year (for yearly)","Amount of units","Importance (1-low; 5-very high)"]
[null,null,null,null,null,null,null,null,"No"]
[null,null,null,null,null,null,null,null,"No"]
[null,null,null,null,null,null,null,null,"No"]
[null,null,null,null,null,null,null,null,"No"]
[null,null,null,null,null,null,null,null,"No"]
[null,null,null,null,null,null,null,null,"No"]
[null,null,null,null,null,null,null,null,"No"]
[null,null,null,null,null,null,null,null,"No"]
[null,null,null,null,null,null,null,null,"No"]
[null,null,null,null,null,null,null,null,"No"]
[null,null,null,null,null,null,null,null,"No"]
[null,null,null,null,null,null,null,null,"No"]
[null,null,null,null,null,null,null,null,"No"]
[null,null,null,null,null,null,null,null,"No"]
[null,null,null,null,null,null,null,null,"No"]
[null,null,null,null,null,null,null,null,"No"]
[null,null,null,null,null,null,null,null,"No"]
[null,null,null,null,null,null,null,null,"No"]
[null,null,null,null,null,null,null,null,"No"]
[null,null,null,null,null,null,null,null,"No"]
[null,null,null,null,null,null,null,null,"No"]
[null,null,null,null,null,null,null,null,"No"]
[null,null,null,null,null,null,null,null,"No"]
[null,null,null,null,null,null,null,null,"No"]
[null,null,null,null,null,null,null,null,"No"]
[null,null,null,null,null,null,null,null,"No"]
[null,null,null,null,null,null,null,null,"No"]
[null,null,null,null,null,null,null,null,"No"]
[null,null,null,null,null,null,null,null,"No"]
[null,null,null,null,null,null,null,null,"No"]
[null,null,null,null,null,null,null,null,"No"]
[null,null,null,null,null,null,null,null,"No"]
[null,null,null,null,null,null,null,null,"No"]
[null,null,null,null,null,null,null,null,"No"]
[null,null,null,null,null,null,null,null,"No"]
[null,null,null,null,null,null,null,null,"No"]
[null,null,null,null,null,null,null,null,"No"]
[null,null,null,null,null,null,null,null,"No"]
[null,null,null,null,null,null,null,null,"No"]
[null,null,null,null,null,null,null,null,"No"]
[null,null,null,null,null,null,null,null,"No"]
[null,null,null,null,null,null,null,null,"No"]
[null,null,null,null,null,null,null,null,"No"]
[null,null,null,null,null,null,null,null,"No"]
[null,null,null,null,null,null,null,null,"No"]
[null,null,null,null,null,null,null,null,"No"]
[null,null,null,null,null,null,null,null,"No"]
[null,null,null,null,null,null,null,null,"No"]
[null,null,null,null,null,null,null,null,"No"]
[null,null,null,null,null,null,null,null,"No"]
[null,null,null,null,null,null,null,null,"No"]

{"sheet":"EEM4_NEBs","index":6,"n_rows":57,"n_cols":26,"rows_kept":57,"cut":false,"hidden":false,"merged":[]}
[null,null,null,null,null,null,null,null,null,null,null,null,null,null,null,null,null,null,null,null,null,null,null,null,null,"Quantified"]
[null,null,null,null,null,null,null,null,null,null,null,null,null,null,null,null,null,null,null,null,null,null,null,null,null,"Not quantified"]
[null,null,null,null,null,null,null,null,null,null,null,null,null,null,null,null,null,null,null,null,null,null,null,null,null,"Initial"]
[null,null,null,null,null,null,null,null,null,null,null,null,null,null,null,null,null,null,null,null,null,null,null,null,null,"Yearly"]
[null,{"$f":"Sheet1!O34","v":"NEB category"},{"$f":"Sheet1!O35","v":"NEB"},{"$f":"Sheet1!O36","v":"Top management"},{"$f":"Sheet1!O37","v":"Employee"},{"$f":"Sheet1!O38","v":"Legislator"},{"$f":"Sheet1!O39","v":"Description of the NEB"},{"$f":"Sheet1!O40","v":"Examples of quantification"},{"$f":"Sheet1!O41","v":"Include in calculations"},{"$f":"Sheet1!O42","v":"Quantified/not quantified"},{"$f":"Sheet1!O43","v":"Initial/yearly"},{"$f":"Sheet1!O44","v":"Unit of measurement"},{"$f":"Sheet1!O45","v":"Cost of unit, EUR/unit (for initial) and EUR/unit per year (for yearly)"},{"$f":"Sheet1!O46","v":"Amount of units"},{"$f":"Sheet1!O47","v":"Importance (1-low; 5-very high)"}]
[null,"NEB category","NEB","Top management","Employee","Legislator","Description of the NEB","Examples of quantification","Include in calculations","Quantified/not quantified","Initial/yearly","Unit of measurement","Cost of unit, EUR/unit (for initial) and EUR/unit per year (for yearly)","Amount of units","Importance (1-low; 5-very high)"]
[null,null,null,null,null,null,null,null,"No"]
[null,null,null,null,null,null,null,null,"No"]
[null,null,null,null,null,null,null,null,"No"]
[null,null,null,null,null,null,null,null,"No"]
[null,null,null,null,null,null,null,null,"No"]
[null,null,null,null,null,null,null,null,"No"]
[null,null,null,null,null,null,null,null,"No"]
[null,null,null,null,null,null,null,null,"No"]
[null,null,null,null,null,null,null,null,"No"]
[null,null,null,null,null,null,null,null,"No"]
[null,null,null,null,null,null,null,null,"No"]
[null,null,null,null,null,null,null,null,"No"]
[null,null,null,null,null,null,null,null,"No"]
[null,null,null,null,null,null,null,null,"No"]
[null,null,null,null,null,null,null,null,"No"]
[null,null,null,null,null,null,null,null,"No"]
[null,null,null,null,null,null,null,null,"No"]
[null,null,null,null,null,null,null,null,"No"]
[null,null,null,null,null,null,null,null,"No"]
[null,null,null,null,null,null,null,null,"No"]
[null,null,null,null,null,null,null,null,"No"]
[null,null,null,null,null,null,null,null,"No"]
[null,null,null,null,null,null,null,null,"No"]
[null,null,null,null,null,null,null,null,"No"]
[null,null,null,null,null,null,null,null,"No"]
[null,null,null,null,null,null,null,null,"No"]
[null,null,null,null,null,null,null,null,"No"]
[null,null,null,null,null,null,null,null,"No"]
[null,null,null,null,null,null,null,null,"No"]
[null,null,null,null,null,null,null,null,"No"]
[null,null,null,null,null,null,null,null,"No"]
[null,null,null,null,null,null,null,null,"No"]
[null,null,null,null,null,null,null,null,"No"]
[null,null,null,null,null,null,null,null,"No"]
[null,null,null,null,null,null,null,null,"No"]
[null,null,null,null,null,null,null,null,"No"]
[null,null,null,null,null,null,null,null,"No"]
[null,null,null,null,null,null,null,null,"No"]
[null,null,null,null,null,null,null,null,"No"]
[null,null,null,null,null,null,null,null,"No"]
[null,null,null,null,null,null,null,null,"No"]
[null,null,null,null,null,null,null,null,"No"]
[null,null,null,null,null,null,null,null,"No"]
[null,null,null,null,null,null,null,null,"No"]
[null,null,null,null,null,null,null,null,"No"]
[null,null,null,null,null,null,null,null,"No"]
[null,null,null,null,null,null,null,null,"No"]
[null,null,null,null,null,null,null,null,"No"]
[null,null,null,null,null,null,null,null,"No"]
[null,null,null,null,null,null,null,null,"No"]
[null,null,null,null,null,null,null,null,"No"]

{"sheet":"EEM5_NEBs","index":7,"n_rows":57,"n_cols":26,"rows_kept":57,"cut":false,"hidden":false,"merged":[]}
[null,null,null,null,null,null,null,null,null,null,null,null,null,null,null,null,null,null,null,null,null,null,null,null,null,"Quantified"]
[null,null,null,null,null,null,null,null,null,null,null,null,null,null,null,null,null,null,null,null,null,null,null,null,null,"Not quantified"]
[null,null,null,null,null,null,null,null,null,null,null,null,null,null,null,null,null,null,null,null,null,null,null,null,null,"Initial"]
[null,null,null,null,null,null,null,null,null,null,null,null,null,null,null,null,null,null,null,null,null,null,null,null,null,"Yearly"]
[null,{"$f":"Sheet1!O34","v":"NEB category"},{"$f":"Sheet1!O35","v":"NEB"},{"$f":"Sheet1!O36","v":"Top management"},{"$f":"Sheet1!O37","v":"Employee"},{"$f":"Sheet1!O38","v":"Legislator"},{"$f":"Sheet1!O39","v":"Description of the NEB"},{"$f":"Sheet1!O40","v":"Examples of quantification"},{"$f":"Sheet1!O41","v":"Include in calculations"},{"$f":"Sheet1!O42","v":"Quantified/not quantified"},{"$f":"Sheet1!O43","v":"Initial/yearly"},{"$f":"Sheet1!O44","v":"Unit of measurement"},{"$f":"Sheet1!O45","v":"Cost of unit, EUR/unit (for initial) and EUR/unit per year (for yearly)"},{"$f":"Sheet1!O46","v":"Amount of units"},{"$f":"Sheet1!O47","v":"Importance (1-low; 5-very high)"}]
[null,"NEB category","NEB","Top management","Employee","Legislator","Description of the NEB","Examples of quantification","Include in calculations","Quantified/not quantified","Initial/yearly","Unit of measurement","Cost of unit, EUR/unit (for initial) and EUR/unit per year (for yearly)","Amount of units","Importance (1-low; 5-very high)"]
[null,null,null,null,null,null,null,null,"No"]
[null,null,null,null,null,null,null,null,"No"]
[null,null,null,null,null,null,null,null,"No"]
[null,null,null,null,null,null,null,null,"No"]
[null,null,null,null,null,null,null,null,"No"]
[null,null,null,null,null,null,null,null,"No"]
[null,null,null,null,null,null,null,null,"No"]
[null,null,null,null,null,null,null,null,"No"]
[null,null,null,null,null,null,null,null,"No"]
[null,null,null,null,null,null,null,null,"No"]
[null,null,null,null,null,null,null,null,"No"]
[null,null,null,null,null,null,null,null,"No"]
[null,null,null,null,null,null,null,null,"No"]
[null,null,null,null,null,null,null,null,"No"]
[null,null,null,null,null,null,null,null,"No"]
[null,null,null,null,null,null,null,null,"No"]
[null,null,null,null,null,null,null,null,"No"]
[null,null,null,null,null,null,null,null,"No"]
[null,null,null,null,null,null,null,null,"No"]
[null,null,null,null,null,null,null,null,"No"]
[null,null,null,null,null,null,null,null,"No"]
[null,null,null,null,null,null,null,null,"No"]
[null,null,null,null,null,null,null,null,"No"]
[null,null,null,null,null,null,null,null,"No"]
[null,null,null,null,null,null,null,null,"No"]
[null,null,null,null,null,null,null,null,"No"]
[null,null,null,null,null,null,null,null,"No"]
[null,null,null,null,null,null,null,null,"No"]
[null,null,null,null,null,null,null,null,"No"]
[null,null,null,null,null,null,null,null,"No"]
[null,null,null,null,null,null,null,null,"No"]
[null,null,null,null,null,null,null,null,"No"]
[null,null,null,null,null,null,null,null,"No"]
[null,null,null,null,null,null,null,null,"No"]
[null,null,null,null,null,null,null,null,"No"]
[null,null,null,null,null,null,null,null,"No"]
[null,null,null,null,null,null,null,null,"No"]
[null,null,null,null,null,null,null,null,"No"]
[null,null,null,null,null,null,null,null,"No"]
[null,null,null,null,null,null,null,null,"No"]
[null,null,null,null,null,null,null,null,"No"]
[null,null,null,null,null,null,null,null,"No"]
[null,null,null,null,null,null,null,null,"No"]
[null,null,null,null,null,null,null,null,"No"]
[null,null,null,null,null,null,null,null,"No"]
[null,null,null,null,null,null,null,null,"No"]
[null,null,null,null,null,null,null,null,"No"]
[null,null,null,null,null,null,null,null,"No"]
[null,null,null,null,null,null,null,null,"No"]
[null,null,null,null,null,null,null,null,"No"]
[null,null,null,null,null,null,null,null,"No"]

{"sheet":"EEM6_NEBs","index":8,"n_rows":57,"n_cols":26,"rows_kept":57,"cut":false,"hidden":false,"merged":[]}
[null,null,null,null,null,null,null,null,null,null,null,null,null,null,null,null,null,null,null,null,null,null,null,null,null,"Quantified"]
[null,null,null,null,null,null,null,null,null,null,null,null,null,null,null,null,null,null,null,null,null,null,null,null,null,"Not quantified"]
[null,null,null,null,null,null,null,null,null,null,null,null,null,null,null,null,null,null,null,null,null,null,null,null,null,"Initial"]
[null,null,null,null,null,null,null,null,null,null,null,null,null,null,null,null,null,null,null,null,null,null,null,null,null,"Yearly"]
[null,{"$f":"Sheet1!O34","v":"NEB category"},{"$f":"Sheet1!O35","v":"NEB"},{"$f":"Sheet1!O36","v":"Top management"},{"$f":"Sheet1!O37","v":"Employee"},{"$f":"Sheet1!O38","v":"Legislator"},{"$f":"Sheet1!O39","v":"Description of the NEB"},{"$f":"Sheet1!O40","v":"Examples of quantification"},{"$f":"Sheet1!O41","v":"Include in calculations"},{"$f":"Sheet1!O42","v":"Quantified/not quantified"},{"$f":"Sheet1!O43","v":"Initial/yearly"},{"$f":"Sheet1!O44","v":"Unit of measurement"},{"$f":"Sheet1!O45","v":"Cost of unit, EUR/unit (for initial) and EUR/unit per year (for yearly)"},{"$f":"Sheet1!O46","v":"Amount of units"},{"$f":"Sheet1!O47","v":"Importance (1-low; 5-very high)"}]
[null,"NEB category","NEB","Top management","Employee","Legislator","Description of the NEB","Examples of quantification","Include in calculations","Quantified/not quantified","Initial/yearly","Unit of measurement","Cost of unit, EUR/unit (for initial) and EUR/unit per year (for yearly)","Amount of units","Importance (1-low; 5-very high)"]
[null,null,null,null,null,null,null,null,"No"]
[null,null,null,null,null,null,null,null,"No"]
[null,null,null,null,null,null,null,null,"No"]
[null,null,null,null,null,null,null,null,"No"]
[null,null,null,null,null,null,null,null,"No"]
[null,null,null,null,null,null,null,null,"No"]
[null,null,null,null,null,null,null,null,"No"]
[null,null,null,null,null,null,null,null,"No"]
[null,null,null,null,null,null,null,null,"No"]
[null,null,null,null,null,null,null,null,"No"]
[null,null,null,null,null,null,null,null,"No"]
[null,null,null,null,null,null,null,null,"No"]
[null,null,null,null,null,null,null,null,"No"]
[null,null,null,null,null,null,null,null,"No"]
[null,null,null,null,null,null,null,null,"No"]
[null,null,null,null,null,null,null,null,"No"]
[null,null,null,null,null,null,null,null,"No"]
[null,null,null,null,null,null,null,null,"No"]
[null,null,null,null,null,null,null,null,"No"]
[null,null,null,null,null,null,null,null,"No"]
[null,null,null,null,null,null,null,null,"No"]
[null,null,null,null,null,null,null,null,"No"]
[null,null,null,null,null,null,null,null,"No"]
[null,null,null,null,null,null,null,null,"No"]
[null,null,null,null,null,null,null,null,"No"]
[null,null,null,null,null,null,null,null,"No"]
[null,null,null,null,null,null,null,null,"No"]
[null,null,null,null,null,null,null,null,"No"]
[null,null,null,null,null,null,null,null,"No"]
[null,null,null,null,null,null,null,null,"No"]
[null,null,null,null,null,null,null,null,"No"]
[null,null,null,null,null,null,null,null,"No"]
[null,null,null,null,null,null,null,null,"No"]
[null,null,null,null,null,null,null,null,"No"]
[null,null,null,null,null,null,null,null,"No"]
[null,null,null,null,null,null,null,null,"No"]
[null,null,null,null,null,null,null,null,"No"]
[null,null,null,null,null,null,null,null,"No"]
[null,null,null,null,null,null,null,null,"No"]
[null,null,null,null,null,null,null,null,"No"]
[null,null,null,null,null,null,null,null,"No"]
[null,null,null,null,null,null,null,null,"No"]
[null,null,null,null,null,null,null,null,"No"]
[null,null,null,null,null,null,null,null,"No"]
[null,null,null,null,null,null,null,null,"No"]
[null,null,null,null,null,null,null,null,"No"]
[null,null,null,null,null,null,null,null,"No"]
[null,null,null,null,null,null,null,null,"No"]
[null,null,null,null,null,null,null,null,"No"]
[null,null,null,null,null,null,null,null,"No"]
[null,null,null,null,null,null,null,null,"No"]

{"sheet":"EEM7_NEBs","index":9,"n_rows":57,"n_cols":26,"rows_kept":57,"cut":false,"hidden":false,"merged":[]}
[null,null,null,null,null,null,null,null,null,null,null,null,null,null,null,null,null,null,null,null,null,null,null,null,null,"Quantified"]
[null,null,null,null,null,null,null,null,null,null,null,null,null,null,null,null,null,null,null,null,null,null,null,null,null,"Not quantified"]
[null,null,null,null,null,null,null,null,null,null,null,null,null,null,null,null,null,null,null,null,null,null,null,null,null,"Initial"]
[null,null,null,null,null,null,null,null,null,null,null,null,null,null,null,null,null,null,null,null,null,null,null,null,null,"Yearly"]
[null,{"$f":"Sheet1!O34","v":"NEB category"},{"$f":"Sheet1!O35","v":"NEB"},{"$f":"Sheet1!O36","v":"Top management"},{"$f":"Sheet1!O37","v":"Employee"},{"$f":"Sheet1!O38","v":"Legislator"},{"$f":"Sheet1!O39","v":"Description of the NEB"},{"$f":"Sheet1!O40","v":"Examples of quantification"},{"$f":"Sheet1!O41","v":"Include in calculations"},{"$f":"Sheet1!O42","v":"Quantified/not quantified"},{"$f":"Sheet1!O43","v":"Initial/yearly"},{"$f":"Sheet1!O44","v":"Unit of measurement"},{"$f":"Sheet1!O45","v":"Cost of unit, EUR/unit (for initial) and EUR/unit per year (for yearly)"},{"$f":"Sheet1!O46","v":"Amount of units"},{"$f":"Sheet1!O47","v":"Importance (1-low; 5-very high)"}]
[null,"NEB category","NEB","Top management","Employee","Legislator","Description of the NEB","Examples of quantification","Include in calculations","Quantified/not quantified","Initial/yearly","Unit of measurement","Cost of unit, EUR/unit (for initial) and EUR/unit per year (for yearly)","Amount of units","Importance (1-low; 5-very high)"]
[null,null,null,null,null,null,null,null,"No"]
[null,null,null,null,null,null,null,null,"No"]
[null,null,null,null,null,null,null,null,"No"]
[null,null,null,null,null,null,null,null,"No"]
[null,null,null,null,null,null,null,null,"No"]
[null,null,null,null,null,null,null,null,"No"]
[null,null,null,null,null,null,null,null,"No"]
[null,null,null,null,null,null,null,null,"No"]
[null,null,null,null,null,null,null,null,"No"]
[null,null,null,null,null,null,null,null,"No"]
[null,null,null,null,null,null,null,null,"No"]
[null,null,null,null,null,null,null,null,"No"]
[null,null,null,null,null,null,null,null,"No"]
[null,null,null,null,null,null,null,null,"No"]
[null,null,null,null,null,null,null,null,"No"]
[null,null,null,null,null,null,null,null,"No"]
[null,null,null,null,null,null,null,null,"No"]
[null,null,null,null,null,null,null,null,"No"]
[null,null,null,null,null,null,null,null,"No"]
[null,null,null,null,null,null,null,null,"No"]
[null,null,null,null,null,null,null,null,"No"]
[null,null,null,null,null,null,null,null,"No"]
[null,null,null,null,null,null,null,null,"No"]
[null,null,null,null,null,null,null,null,"No"]
[null,null,null,null,null,null,null,null,"No"]
[null,null,null,null,null,null,null,null,"No"]
[null,null,null,null,null,null,null,null,"No"]
[null,null,null,null,null,null,null,null,"No"]
[null,null,null,null,null,null,null,null,"No"]
[null,null,null,null,null,null,null,null,"No"]
[null,null,null,null,null,null,null,null,"No"]
[null,null,null,null,null,null,null,null,"No"]
[null,null,null,null,null,null,null,null,"No"]
[null,null,null,null,null,null,null,null,"No"]
[null,null,null,null,null,null,null,null,"No"]
[null,null,null,null,null,null,null,null,"No"]
[null,null,null,null,null,null,null,null,"No"]
[null,null,null,null,null,null,null,null,"No"]
[null,null,null,null,null,null,null,null,"No"]
[null,null,null,null,null,null,null,null,"No"]
[null,null,null,null,null,null,null,null,"No"]
[null,null,null,null,null,null,null,null,"No"]
[null,null,null,null,null,null,null,null,"No"]
[null,null,null,null,null,null,null,null,"No"]
[null,null,null,null,null,null,null,null,"No"]
[null,null,null,null,null,null,null,null,"No"]
[null,null,null,null,null,null,null,null,"No"]
[null,null,null,null,null,null,null,null,"No"]
[null,null,null,null,null,null,null,null,"No"]
[null,null,null,null,null,null,null,null,"No"]
[null,null,null,null,null,null,null,null,"No"]

{"sheet":"EEM8_NEBs","index":10,"n_rows":57,"n_cols":26,"rows_kept":57,"cut":false,"hidden":false,"merged":[]}
[null,null,null,null,null,null,null,null,null,null,null,null,null,null,null,null,null,null,null,null,null,null,null,null,null,"Quantified"]
[null,null,null,null,null,null,null,null,null,null,null,null,null,null,null,null,null,null,null,null,null,null,null,null,null,"Not quantified"]
[null,null,null,null,null,null,null,null,null,null,null,null,null,null,null,null,null,null,null,null,null,null,null,null,null,"Initial"]
[null,null,null,null,null,null,null,null,null,null,null,null,null,null,null,null,null,null,null,null,null,null,null,null,null,"Yearly"]
[null,{"$f":"Sheet1!O34","v":"NEB category"},{"$f":"Sheet1!O35","v":"NEB"},{"$f":"Sheet1!O36","v":"Top management"},{"$f":"Sheet1!O37","v":"Employee"},{"$f":"Sheet1!O38","v":"Legislator"},{"$f":"Sheet1!O39","v":"Description of the NEB"},{"$f":"Sheet1!O40","v":"Examples of quantification"},{"$f":"Sheet1!O41","v":"Include in calculations"},{"$f":"Sheet1!O42","v":"Quantified/not quantified"},{"$f":"Sheet1!O43","v":"Initial/yearly"},{"$f":"Sheet1!O44","v":"Unit of measurement"},{"$f":"Sheet1!O45","v":"Cost of unit, EUR/unit (for initial) and EUR/unit per year (for yearly)"},{"$f":"Sheet1!O46","v":"Amount of units"},{"$f":"Sheet1!O47","v":"Importance (1-low; 5-very high)"}]
[null,"NEB category","NEB","Top management","Employee","Legislator","Description of the NEB","Examples of quantification","Include in calculations","Quantified/not quantified","Initial/yearly","Unit of measurement","Cost of unit, EUR/unit (for initial) and EUR/unit per year (for yearly)","Amount of units","Importance (1-low; 5-very high)"]
[null,null,null,null,null,null,null,null,"No"]
[null,null,null,null,null,null,null,null,"No"]
[null,null,null,null,null,null,null,null,"No"]
[null,null,null,null,null,null,null,null,"No"]
[null,null,null,null,null,null,null,null,"No"]
[null,null,null,null,null,null,null,null,"No"]
[null,null,null,null,null,null,null,null,"No"]
[null,null,null,null,null,null,null,null,"No"]
[null,null,null,null,null,null,null,null,"No"]
[null,null,null,null,null,null,null,null,"No"]
[null,null,null,null,null,null,null,null,"No"]
[null,null,null,null,null,null,null,null,"No"]
[null,null,null,null,null,null,null,null,"No"]
[null,null,null,null,null,null,null,null,"No"]
[null,null,null,null,null,null,null,null,"No"]
[null,null,null,null,null,null,null,null,"No"]
[null,null,null,null,null,null,null,null,"No"]
[null,null,null,null,null,null,null,null,"No"]
[null,null,null,null,null,null,null,null,"No"]
[null,null,null,null,null,null,null,null,"No"]
[null,null,null,null,null,null,null,null,"No"]
[null,null,null,null,null,null,null,null,"No"]
[null,null,null,null,null,null,null,null,"No"]
[null,null,null,null,null,null,null,null,"No"]
[null,null,null,null,null,null,null,null,"No"]
[null,null,null,null,null,null,null,null,"No"]
[null,null,null,null,null,null,null,null,"No"]
[null,null,null,null,null,null,null,null,"No"]
[null,null,null,null,null,null,null,null,"No"]
[null,null,null,null,null,null,null,null,"No"]
[null,null,null,null,null,null,null,null,"No"]
[null,null,null,null,null,null,null,null,"No"]
[null,null,null,null,null,null,null,null,"No"]
[null,null,null,null,null,null,null,null,"No"]
[null,null,null,null,null,null,null,null,"No"]
[null,null,null,null,null,null,null,null,"No"]
[null,null,null,null,null,null,null,null,"No"]
[null,null,null,null,null,null,null,null,"No"]
[null,null,null,null,null,null,null,null,"No"]
[null,null,null,null,null,null,null,null,"No"]
[null,null,null,null,null,null,null,null,"No"]
[null,null,null,null,null,null,null,null,"No"]
[null,null,null,null,null,null,null,null,"No"]
[null,null,null,null,null,null,null,null,"No"]
[null,null,null,null,null,null,null,null,"No"]
[null,null,null,null,null,null,null,null,"No"]
[null,null,null,null,null,null,null,null,"No"]
[null,null,null,null,null,null,null,null,"No"]
[null,null,null,null,null,null,null,null,"No"]
[null,null,null,null,null,null,null,null,"No"]
[null,null,null,null,null,null,null,null,"No"]

{"sheet":"EEM9_NEBs","index":11,"n_rows":57,"n_cols":26,"rows_kept":57,"cut":false,"hidden":false,"merged":[]}
[null,null,null,null,null,null,null,null,null,null,null,null,null,null,null,null,null,null,null,null,null,null,null,null,null,"Quantified"]
[null,null,null,null,null,null,null,null,null,null,null,null,null,null,null,null,null,null,null,null,null,null,null,null,null,"Not quantified"]
[null,null,null,null,null,null,null,null,null,null,null,null,null,null,null,null,null,null,null,null,null,null,null,null,null,"Initial"]
[null,null,null,null,null,null,null,null,null,null,null,null,null,null,null,null,null,null,null,null,null,null,null,null,null,"Yearly"]
[null,{"$f":"Sheet1!O34","v":"NEB category"},{"$f":"Sheet1!O35","v":"NEB"},{"$f":"Sheet1!O36","v":"Top management"},{"$f":"Sheet1!O37","v":"Employee"},{"$f":"Sheet1!O38","v":"Legislator"},{"$f":"Sheet1!O39","v":"Description of the NEB"},{"$f":"Sheet1!O40","v":"Examples of quantification"},{"$f":"Sheet1!O41","v":"Include in calculations"},{"$f":"Sheet1!O42","v":"Quantified/not quantified"},{"$f":"Sheet1!O43","v":"Initial/yearly"},{"$f":"Sheet1!O44","v":"Unit of measurement"},{"$f":"Sheet1!O45","v":"Cost of unit, EUR/unit (for initial) and EUR/unit per year (for yearly)"},{"$f":"Sheet1!O46","v":"Amount of units"},{"$f":"Sheet1!O47","v":"Importance (1-low; 5-very high)"}]
[null,"NEB category","NEB","Top management","Employee","Legislator","Description of the NEB","Examples of quantification","Include in calculations","Quantified/not quantified","Initial/yearly","Unit of measurement","Cost of unit, EUR/unit (for initial) and EUR/unit per year (for yearly)","Amount of units","Importance (1-low; 5-very high)"]
[null,null,null,null,null,null,null,null,"No"]
[null,null,null,null,null,null,null,null,"No"]
[null,null,null,null,null,null,null,null,"No"]
[null,null,null,null,null,null,null,null,"No"]
[null,null,null,null,null,null,null,null,"No"]
[null,null,null,null,null,null,null,null,"No"]
[null,null,null,null,null,null,null,null,"No"]
[null,null,null,null,null,null,null,null,"No"]
[null,null,null,null,null,null,null,null,"No"]
[null,null,null,null,null,null,null,null,"No"]
[null,null,null,null,null,null,null,null,"No"]
[null,null,null,null,null,null,null,null,"No"]
[null,null,null,null,null,null,null,null,"No"]
[null,null,null,null,null,null,null,null,"No"]
[null,null,null,null,null,null,null,null,"No"]
[null,null,null,null,null,null,null,null,"No"]
[null,null,null,null,null,null,null,null,"No"]
[null,null,null,null,null,null,null,null,"No"]
[null,null,null,null,null,null,null,null,"No"]
[null,null,null,null,null,null,null,null,"No"]
[null,null,null,null,null,null,null,null,"No"]
[null,null,null,null,null,null,null,null,"No"]
[null,null,null,null,null,null,null,null,"No"]
[null,null,null,null,null,null,null,null,"No"]
[null,null,null,null,null,null,null,null,"No"]
[null,null,null,null,null,null,null,null,"No"]
[null,null,null,null,null,null,null,null,"No"]
[null,null,null,null,null,null,null,null,"No"]
[null,null,null,null,null,null,null,null,"No"]
[null,null,null,null,null,null,null,null,"No"]
[null,null,null,null,null,null,null,null,"No"]
[null,null,null,null,null,null,null,null,"No"]
[null,null,null,null,null,null,null,null,"No"]
[null,null,null,null,null,null,null,null,"No"]
[null,null,null,null,null,null,null,null,"No"]
[null,null,null,null,null,null,null,null,"No"]
[null,null,null,null,null,null,null,null,"No"]
[null,null,null,null,null,null,null,null,"No"]
[null,null,null,null,null,null,null,null,"No"]
[null,null,null,null,null,null,null,null,"No"]
[null,null,null,null,null,null,null,null,"No"]
[null,null,null,null,null,null,null,null,"No"]
[null,null,null,null,null,null,null,null,"No"]
[null,null,null,null,null,null,null,null,"No"]
[null,null,null,null,null,null,null,null,"No"]
[null,null,null,null,null,null,null,null,"No"]
[null,null,null,null,null,null,null,null,"No"]
[null,null,null,null,null,null,null,null,"No"]
[null,null,null,null,null,null,null,null,"No"]
[null,null,null,null,null,null,null,null,"No"]
[null,null,null,null,null,null,null,null,"No"]

{"sheet":"EEM10_NEBs","index":12,"n_rows":57,"n_cols":26,"rows_kept":57,"cut":false,"hidden":false,"merged":[]}
[null,null,null,null,null,null,null,null,null,null,null,null,null,null,null,null,null,null,null,null,null,null,null,null,null,"Quantified"]
[null,null,null,null,null,null,null,null,null,null,null,null,null,null,null,null,null,null,null,null,null,null,null,null,null,"Not quantified"]
[null,null,null,null,null,null,null,null,null,null,null,null,null,null,null,null,null,null,null,null,null,null,null,null,null,"Initial"]
[null,null,null,null,null,null,null,null,null,null,null,null,null,null,null,null,null,null,null,null,null,null,null,null,null,"Yearly"]
[null,{"$f":"Sheet1!O34","v":"NEB category"},{"$f":"Sheet1!O35","v":"NEB"},{"$f":"Sheet1!O36","v":"Top management"},{"$f":"Sheet1!O37","v":"Employee"},{"$f":"Sheet1!O38","v":"Legislator"},{"$f":"Sheet1!O39","v":"Description of the NEB"},{"$f":"Sheet1!O40","v":"Examples of quantification"},{"$f":"Sheet1!O41","v":"Include in calculations"},{"$f":"Sheet1!O42","v":"Quantified/not quantified"},{"$f":"Sheet1!O43","v":"Initial/yearly"},{"$f":"Sheet1!O44","v":"Unit of measurement"},{"$f":"Sheet1!O45","v":"Cost of unit, EUR/unit (for initial) and EUR/unit per year (for yearly)"},{"$f":"Sheet1!O46","v":"Amount of units"},{"$f":"Sheet1!O47","v":"Importance (1-low; 5-very high)"}]
[null,"NEB category","NEB","Top management","Employee","Legislator","Description of the NEB","Examples of quantification","Include in calculations","Quantified/not quantified","Initial/yearly","Unit of measurement","Cost of unit, EUR/unit (for initial) and EUR/unit per year (for yearly)","Amount of units","Importance (1-low; 5-very high)"]
[null,null,null,null,null,null,null,null,"No"]
[null,null,null,null,null,null,null,null,"No"]
[null,null,null,null,null,null,null,null,"No"]
[null,null,null,null,null,null,null,null,"No"]
[null,null,null,null,null,null,null,null,"No"]
[null,null,null,null,null,null,null,null,"No"]
[null,null,null,null,null,null,null,null,"No"]
[null,null,null,null,null,null,null,null,"No"]
[null,null,null,null,null,null,null,null,"No"]
[null,null,null,null,null,null,null,null,"No"]
[null,null,null,null,null,null,null,null,"No"]
[null,null,null,null,null,null,null,null,"No"]
[null,null,null,null,null,null,null,null,"No"]
[null,null,null,null,null,null,null,null,"No"]
[null,null,null,null,null,null,null,null,"No"]
[null,null,null,null,null,null,null,null,"No"]
[null,null,null,null,null,null,null,null,"No"]
[null,null,null,null,null,null,null,null,"No"]
[null,null,null,null,null,null,null,null,"No"]
[null,null,null,null,null,null,null,null,"No"]
[null,null,null,null,null,null,null,null,"No"]
[null,null,null,null,null,null,null,null,"No"]
[null,null,null,null,null,null,null,null,"No"]
[null,null,null,null,null,null,null,null,"No"]
[null,null,null,null,null,null,null,null,"No"]
[null,null,null,null,null,null,null,null,"No"]
[null,null,null,null,null,null,null,null,"No"]
[null,null,null,null,null,null,null,null,"No"]
[null,null,null,null,null,null,null,null,"No"]
[null,null,null,null,null,null,null,null,"No"]
[null,null,null,null,null,null,null,null,"No"]
[null,null,null,null,null,null,null,null,"No"]
[null,null,null,null,null,null,null,null,"No"]
[null,null,null,null,null,null,null,null,"No"]
[null,null,null,null,null,null,null,null,"No"]
[null,null,null,null,null,null,null,null,"No"]
[null,null,null,null,null,null,null,null,"No"]
[null,null,null,null,null,null,null,null,"No"]
[null,null,null,null,null,null,null,null,"No"]
[null,null,null,null,null,null,null,null,"No"]
[null,null,null,null,null,null,null,null,"No"]
[null,null,null,null,null,null,null,null,"No"]
[null,null,null,null,null,null,null,null,"No"]
[null,null,null,null,null,null,null,null,"No"]
[null,null,null,null,null,null,null,null,"No"]
[null,null,null,null,null,null,null,null,"No"]
[null,null,null,null,null,null,null,null,"No"]
[null,null,null,null,null,null,null,null,"No"]
[null,null,null,null,null,null,null,null,"No"]
[null,null,null,null,null,null,null,null,"No"]
[null,null,null,null,null,null,null,null,"No"]

{"sheet":"Sheet1","index":13,"n_rows":272,"n_cols":15,"rows_kept":272,"cut":false,"hidden":false,"merged":[]}
[]
[null,"Page","Cell","English","German","Bulgarian","Greek","Hungarian","Italian","Latvian","Polish","Portuguese","Spanish",null,{"$f":"TOOL1!E18","v":"English"}]
[null,"User_manual","B2","General description","Allgemeine Beschreibung","Общо описание","Γενική περιγραφή","Általános leírás","Descrizione generale","Vispārīgs apraksts","Opis ogólny","Descrição geral","Descripción general",null,{"$f":"_xlfn.XLOOKUP(O2,D2:M2,D3:M272)","v":"General description"}]
[null,"User_manual","B3","This tool is developed based on outcomes of KNOWnNEBs project. The tool is to be used for determining non energy benefits based on type of energy efficiency measure to be implemented. When choosing a specific energy efficiency measure to be implemented this tool will present all 51 non energy benefits in order from most likely to least likely for each specific case (in other words - the higher in the table the non energy benefit is the more likely it is that this non energy benefits occures while implementing this specific ewnergy efficiency measure). The maximum score for a non energy benefit is \"8\" and the theoretical minimum score is \"-8\".","Dieses Tool wurde auf der Grundlage der Ergebnisse des KNOWnNEBs-Projekts entwickelt. Das Tool dient zur Ermittlung nicht-energetischer Vorteile basierend auf der Art der umzusetzenden Energieeffizienzmaßnahme. Bei der Auswahl einer spezifischen Energieeffizienzmaßnahme, die umgesetzt werden soll, zeigt dieses Tool alle 51 nicht-energetischen Vorteile in der Reihenfolge vom wahrscheinlichsten zum am wenigsten wahrscheinlichen für jeden Fall an (mit anderen Worten: Je weiter oben in der Tabelle der nicht-energetische Nutzen steht, desto wahrscheinlicher ist es, dass diese nicht-energetischen Vorteile bei der Umsetzung dieser spezifischen Maßnahme zur Energieeffizienz entstehen. Die maximale Punktzahl für einen nicht-energetischen Vorteil beträgt „8“ und die theoretische Mindestpunktzahl beträgt „-8“.","Този инструмент е разработен въз основа на резултатите от проекта KNOWnNEBs. Инструментът ще се използва за определяне на неенергийните ползи в зависимост от вида на прилаганата мярка за енергийна ефективност. При избора на конкретна мярка за енергийна ефективност, която да бъде приложена, този инструмент ще представи всички 51 неенергийни ползи, подредени от най-вероятната към най-малко вероятната за всеки конкретен случай (с други думи - колкото по-високо в таблицата е неенергийната полза, толкова по-вероятно е тя да възникне при прилагането на тази конкретна мярка за енергийна ефективност). Максималната оценка за неенергийна полза е \"8\", а теоретичната минимална оценка е \"-8\".","Το εργαλείο αυτό έχει αναπτυχθεί με βάση τα αποτελέσματα του έργου KNOWnNEBs. Το εργαλείο χρησιμοποιείται για τον προσδιορισμό των μη ενεργειακών οφελών με βάση την κατηγορία του μέτρου ενεργειακής απόδοσης που θα επιλεγεί. Κατά την επιλογή ενός συγκεκριμένου μέτρου ενεργειακής απόδοσης, το εργαλείο παρουσιάζει και τα 51 μη ενεργειακά οφέλη κατά σειρά από το πιο πιθανό έως το λιγότερο πιθανό για κάθε συγκεκριμένη περίπτωση (με άλλα λόγια - όσο ψηλότερα στον πίνακα είναι το μη ενεργειακό όφελος, τόσο πιο πιθανό είναι είναι ότι αυτό το όφελος προκύπτει κατά την εφαρμογή αυτού του συγκεκριμένου μέτρου ενεργειακής απόδοσης). Η μέγιστη βαθμολογία για μη ενεργειακό όφελος είναι \"8\" και η θεωρητική ελάχιστη βαθμολογία είναι \"-8\".","Ezt az eszközt a KNOWnNEBs projekt eredményei alapján fejlesztették ki. Az eszköz a megvalósítandó energiahatékonysági intézkedés típusán alapuló nem energetikai előnyök meghatározására szolgál. A megvalósítandó energiahatékonysági intézkedés kiválasztásakor ez az eszköz az 51 nem energetikai hasznot a legvalószínűbbtől a legvalószínűtlenebbig sorrendben mutatja be minden egyes konkrét esetben (más szóval - minél magasabb a táblázatban a nem energetikai haszon, annál valószínűbb, hogy az adott nem energetikai haszon az adott energiahatékonysági intézkedés végrehajtása során jelentkezik). A nem energetikai előnyök maximális pontszáma \"8\", az elméleti minimális pontszám pedig \"-8\".","Questo strumento è sviluppato sulla base dei risultati del progetto KNOWnNEBs. Lo strumento deve essere utilizzato per determinare i benefici non energetici in base al tipo di misura di efficienza energetica da implementare. Quando si sceglie una specifica misura di efficienza energetica da implementare, questo strumento presenterà tutti i 51 benefici non energetici in ordine dal più probabile al meno probabile per ciascun caso specifico (in altre parole, più alto nella tabella è il beneficio non energetico, più probabile sarà che questo beneficio non energetico si verifichi durante l'implementazione di questa specifica misura di efficienza energetica). Il punteggio massimo per un beneficio non energetico è \"8\" e il punteggio minimo teorico è \"-8\".","Šis rīks ir izstrādāts, pamatojoties uz KNOWnNEBs projekta rezultātiem. Šis rīks ir jāizmanto, lai noteiktu ne enerģijas bonusus, ņemot vērā izvēlēto energoefektivitātes pasākuma veidu. Izvēloties konkrētu energoefektivitātes pasākumu, šis rīks uzrādīs 51. ne enerģijas bonusus, secībā no visticamākā līdz vismazāk iespējamajam katrā konkrētajā gadījumā (citiem vārdiem sakot – jo augstāk tabulā ir konkrēts ne enerģijas bonuss, jo lielāka iespējamība, ka tas tiks panākts, ieviešot izvēlēto energoefektivitātes pasākumu). Maksimālais punktu skaits, ko var saņemt viens ne enerģijas bonuss, ir \"8\", un teorētiskais minimālais punktu skaits ir \"-8\". ","Narzędzie zostało opracowane w oparciu o wyniki projektu KNOWnNEBs. Narzędzie służy do określania korzyści pozaenergetycznych w oparciu o rodzaj wdrażanego środka efektywności energetycznej. Wybierając konkretny środek efektywności energetycznej do wdrożenia, narzędzie to przedstawi wszystkie 51 korzyści pozaenergetycznych w kolejności od najbardziej prawdopodobnych do najmniej prawdopodobnych dla każdego konkretnego przypadku (innymi słowy - im wyżej w tabeli znajduje się korzyść pozaenergetyczna, tym bardziej prawdopodobne jest, że ta korzyść wystąpi podczas wdrażania tego konkretnego środka efektywności energetycznej). Maksymalny wynik dla korzyści nieenergetycznej to \"8\", a teoretyczny minimalny wynik to \"-8\".","Esta ferramenta foi desenvolvida com base nos resultados do projeto KNOWnNEBs. A ferramenta deve ser utilizada para determinar os benefícios não energéticos com base no tipo de medida de eficiência energética a ser implementada. Ao escolher uma medida específica de eficiência energética a implementar, esta ferramenta apresentará todos os 51 benefícios não energéticos por ordem do mais provável ao menos provável para cada caso específico (por outras palavras - quanto mais alto na tabela estiver o benefício não energético, mais provável é que este benefício não energético ocorra durante a implementação desta medida específica de eficiência energética). A pontuação máxima para um benefício não energético é \"8\" e a pontuação mínima teórica é \"-8\".\n","Esta herramienta se ha desarrollado a partir de los resultados del proyecto KNOWnNEBs. La herramienta se utilizará para determinar los beneficios no energéticos en función del tipo de medida de eficiencia energética que se vaya a implementar. Cuando se elija una medida específica de eficiencia energética, esta herramienta presentará los 51 beneficios no energéticos ordenados de más probable a menos probable para cada caso específico (en otras palabras, cuanto más arriba en la tabla esté el beneficio no energético, más probable es que este beneficio no energético se produzca al aplicar esta medida específica de eficiencia energética). La puntuación máxima de un beneficio no energético es \"8\" y la puntuación mínima teórica es \"-8\".",null,"This tool is developed based on outcomes of KNOWnNEBs project. The tool is to be used for determining non energy benefits based on type of energy efficiency measure to be implemented. When choosing a specific energy efficiency measure to be implemented this tool will present all 51 non energy benefits in order from most likely to least likely for each specific case (in other words - the higher in the table the non energy benefit is the more likely it is that this non energy benefits occures while implementing this specific ewnergy efficiency measure). The maximum score for a non energy benefit is \"8\" and the theoretical minimum score is \"-8\"."]
[null,"User_manual","B5","How to use the tool","So verwenden Sie das Tool","Как се използва инструментът","Πως να χρησιμοποιήσετε το εργαλείο","Hogyan használjuk az eszközt","Come utilizzare lo strumento","Kā lietot rīku? ","Jak korzystać z narzędzia?","Como usar a ferramenta","Cómo utilizar la herramienta",null,"How to use the tool"]
[null,"User_manual","B6","Step","Schritt","Стъпка","Βήμα","Lépés","Step","Solis","Krok","Passo","Paso",null,"Step"]
[null,"User_manual","C6","Sheet","Seite","Електронна таблица","Φύλλο εργασίας","Munkalap","Foglio","Lapa","Arkusz","Folha","Hoja",null,"Sheet"]
[null,"User_manual","D6","Action","Aktion","Действие","Ενέργεια","Művelet","Azione","Rīcība ","Działanie","Ação","Acción",null,"Action"]
[null,"User_manual","D7","From dropdown list in cell C23 choose the energy efficiency measure (EEM) category","Wählen Sie aus der Dropdown-Liste in Zelle C23 die Kategorie der Energieeffizienzmaßnahme (EEM) aus","От падащия списък в клетка C23 изберете категорията мярка за енергийна ефективност (EEM).","Από αναδυόμενη λίστα στο κελί C23 επιλέξτε την κατηγορία του Μέτρου ενεργειακής απόδοσης (ΕΕΜ)","A C23-as cellában található legördülő listából válassza ki az energiahatékonysági intézkedés (EEM - Energy Efficency Measure) kategóriáját.","Dall'elenco a tendina nella cella C23 scegliere la categoria di misura di efficienza energetica (EEM).","Izvēlnes sarakstā, šūnā C23 izvēlieties energoefektivitātes pasākuma (EEP) kategoriju","Z listy rozwijanej w komórce C23 wybierz kategorię środków efektywności energetycznej (EEM).","Na lista DropDown da célula C23, seleccione a categoria da medida de eficiência energética (MEE)","En la lista desplegable de la celda C23, elija la categoría de medida de eficiencia energética (MEE).",null,"From dropdown list in cell C23 choose the energy efficiency measure (EEM) category"]
[null,"User_manual","D8","From dropdown list in cell C24 choose specific EEM from the chosen category","Wählen Sie aus der Dropdown-Liste in Zelle C24 ein bestimmtes EEM aus der ausgewählten Kategorie aus","От падащия списък в клетка C24 изберете конкретна EEM от избраната категория","Από αναδυόμενη λίστα στο κελί C24 επιλέξτε το Μέτρο ενεργειακής απόδοσης (ΕΕΜ)","A C24-es cellában található legördülő listából válassza ki a pontos EEM-et az előzőleg kiválasztott kategóriából.","Dall'elenco a tendina nella cella C24 scegli l'EEM specifico dalla categoria scelta","Izvēlnes saraksta, šūnā C24 izvēlieties konkrēto EEP no konkrētās kategorijas","Z listy rozwijanej w komórce C24 wybierz konkretny EEM z wybranej kategorii.","Na lista DropDown da célula C24, seleccione uma EEM específica da categoria escolhida","En la lista desplegable de la celda C24, elija una MEE específica de la categoría elegida.",null,"From dropdown list in cell C24 choose specific EEM from the chosen category"]
[null,"User_manual","D9","From dropdown list in cell C25 choose the sorting options. If no option is chosen then the sorting will be done by \"Top management\"","Wählen Sie aus der Dropdown-Liste in Zelle C25 die Sortieroptionen aus. Wenn keine Option ausgewählt ist, erfolgt die Sortierung durch „Top-Management“.","От падащия списък в клетка C25 изберете опциите за сортиране. Ако не е избрана никаква опция, сортирането ще се извърши по \"Топ мениджмънт\".","Από την αναδυόμενη λίστα στο κελί C25 επιλέξτε το Μέτρο ενεργειακής απόδοσης (ΕΕΜ)","A C25-ös cellában található legördülő listából válassza ki a sorbarendezési szempontot. Ha nincs opció kiválasztva, akkor a sorbarendezés a \"Felsővezetés\" szerint történik.","Dall'elenco a tendina nella cella C25 scegli le opzioni relative al soggetto che valuta in ordine di importanza i benefici multipli (NEB). Se non viene scelta alcuna opzione, l'ordinamento verrà effettuato dal \"Top management\"","Izvēlnes sarakstā, šūnā C25 izvēlieties iespēju, kā sakārtot datus. Ja nav izvēlēta neviena iespēja, tad datu kārtošanu veiks pēc iespējas \"Augstākā vadība\"","Z listy rozwijanej w komórce C25 wybierz opcje sortowania. Jeśli żadna opcja nie zostanie wybrana, sortowanie zostanie wykonane przez \"Top management\".","A partir da lista DropDown na célula C25, seleccione as opções de ordenação. Se não for escolhida nenhuma opção, a ordenação será efectuada por \"Gestão de topo\"","En la lista desplegable de la celda C25, elija las opciones de ordenación. Si no se elige ninguna opción, la ordenación se realizará por la  \"Alta direccion\".",null,"From dropdown list in cell C25 choose the sorting options. If no option is chosen then the sorting will be done by \"Top management\""]
[null,"User_manual","D10","Press button \"EEM1\" …. \"EEM10\". Then steps 1, 2 and 3 can be repeated before pressing buttons \"EEM1\" … \"EEM10\"","Drücken Sie die Taste „EEM1“ …. „EEM10“. Anschließend können die Schritte 1, 2 und 3 wiederholt werden, bevor die Tasten „EEM1“ … „EEM10“ gedrückt werden.","Натиснете бутона \"EEM1\" .... \"EEM10\". След това могат да се повторят стъпки 1, 2 и 3, преди да се натиснат бутони \"EEM1\" ... \"EEM10\".","Πατήστε το κουμπί \"ΕΕΜ1\" έως \"ΕΕΜ10\". Τα βήματα 1, 2, 3 μπορούν να επαναληφθούν πριν πατηθούν εκ νέου τα κουμπιά  \"ΕΕΜ1\" έως \"ΕΕΜ10\".","Nyomja meg az \"EEM1\" …. \"EEM10\" gombokat. Ezután az 1., 2. és 3. lépés megismételhető a \"EEM1\" … \"EEM10\" gombok megnyomása előtt. ","Premere il pulsante \"EEM1\" …. \"EEM10\". Quindi è possibile ripetere i passaggi 1, 2 e 3 prima di premere i pulsanti \"EEM1\" … \"EEM10\"","Nospiediet pogu \"EEM1\" …. \"EEM10\". Pēc tam 1., 2. un 3. darbības var atkārtot pirms pogu \"EEM1\" … \"EEM10\" nospiešanas.","Naciśnij przycisk \"EEM1\" .... \"EEM10\". Następnie kroki 1, 2 i 3 można powtórzyć przed naciśnięciem przycisków \"EEM1\" ... \"EEM10\".","Premir o botão \"EEM1\" .... \"EEM10\". Em seguida, os passos 1, 2 e 3 podem ser repetidos antes de premir os botões \"EEM1\" ... \"EEM10\"","Pulse el botón \"EEM1\" .... \"EEM10\". A continuación, se pueden repetir los pasos 1, 2 y 3 antes de pulsar los botones \"EEM1\" ... \"EEM10\".",null,"Press button \"EEM1\" …. \"EEM10\". Then steps 1, 2 and 3 can be repeated before pressing buttons \"EEM1\" … \"EEM10\""]
[null,"User_manual","D11","The tool will fill in the cells in the respective sheet based on the button pressed (for instance - when button EEM4 is pressed it will fill in sheet EEM4_NEBs)","Das Tool füllt die Zellen im jeweiligen Blatt basierend auf der gedrückten Schaltfläche aus (wenn beispielsweise die Schaltfläche EEM4 gedrückt wird, wird das Blatt EEM4_NEBs ausgefüllt).","Инструментът ще запълни клетките в съответния лист въз основа на натиснатия бутон (например - когато е натиснат бутон EEM4, ще се запълни лист EEM4_NEBs).","Το εργαλείο θα συμπληρώσει τα κελιά στο αντίστοιχο φύλλο με βάση το κουμπί που πατήθηκε (για παράδειγμα - όταν πατηθεί το κουμπί EEM4 θα συμπληρώσει το φύλλο EEM4_NEBs)","Az eszköz a megnyomott gomb alapján kitölti az adott munkalap celláit (például - az EEM4 gomb megnyomásakor az EEM4_NEBs lapot tölti ki).","Lo strumento riempirà automaticamente le celle nel rispettivo foglio in base al pulsante premuto (ad esempio, quando si preme il pulsante EEM4 riempirà il foglio EEM4_NEBs)","Rīks aizpildīs šūnas attiecīgajā lapā, pamatojoties uz nospiesto pogu (piemēram, nospiežot pogu EEM4, tas aizpildīs lapu EEM4_NEBs)","Narzędzie wypełni komórki w odpowiednim arkuszu na podstawie naciśniętego przycisku (na przykład - po naciśnięciu przycisku EEM4 wypełni arkusz EEM4_NEBs).","A ferramenta preencherá as células da folha respectiva com base no botão premido (por exemplo, quando o botão EEM4 é premido, a folha EEM4_NEBs será preenchida)","La herramienta rellenará las celdas de la hoja correspondiente en función del botón pulsado (por ejemplo, si se pulsa el botón EEM4, se rellenará la hoja EEM4_BNEs).",null,"The tool will fill in the cells in the respective sheet based on the button pressed (for instance - when button EEM4 is pressed it will fill in sheet EEM4_NEBs)"]
[null,"User_manual","D12","In column I select the NEBs which are relevant in your case. This is done by choosing \"Yes\" or \"No\" from a drop down list","Wählen Sie in Spalte 1 die für Ihren Fall relevanten NEBs aus. Dies erfolgt durch Auswahl von „Ja“ oder „Nein“ aus einer Dropdown-Liste","В колона I изберете НЕП, които са подходящи за вашия случай. Това става чрез избиране на \"Да\" или \"Не\" от падащ списък","Στη στήλη I επιλέξτε τα μη ενεργειακά οφέλη που είναι σχετικά με την περίπτωση. Γίνεται με επιλογή \"ΝΑΙ ή \"ΌΧΙ\" από μια αναδυόμενη λίστα. ","Az I oszlopban válassza ki azokat a NEB-ket, amelyek az Ön esetében relevánsak. Ezt az \"Igen\" vagy \"Nem\" választásával lehet megtenni egy legördülő listából.","Nella colonna I selezionare i NEB rilevanti da includere nella valutazione. Questo viene fatto scegliendo \"Sì\" o \"No\" da un elenco a tendina","Kolonnā I tiek atlasīti ne enerģijas bonusi, kurus vēlaties iekļaut turpmāk datu analizē. To var izdarīt, izvēlnes sarakstā izvēloties iespēju \"Jā\" vai \"Nē\".","W kolumnie I wybierz NEBs, które są istotne w twoim przypadku. Odbywa się to poprzez wybranie \"Tak\" lub \"Nie\" z rozwijanej listy.","Na coluna I, seleccione os NEBs que são relevantes para o seu caso. Para tal, seleccione \"Sim\" ou \"Não\" numa lista DropDown","En la columna I, seleccione los BNEs que sean relevantes en su caso. Para ello, seleccione \"Sí\" o \"No\" en la lista desplegable.",null,"In column I select the NEBs which are relevant in your case. This is done by choosing \"Yes\" or \"No\" from a drop down list"]
[null,"User_manual","D13","In column J select from the drop down list if these NEBs will be quantifiied or they will be not quantified","Wählen Sie in Spalte J aus der Dropdown-Liste aus, ob diese NEBs quantifiziert werden sollen oder nicht","В колона J изберете от падащия списък дали тези НЕП ще бъдат количествено определени или няма да бъдат количествено определени.","Στη στήλη J επιλέξτε εάν τα μη ενεργειακά οφέλη είναι ποσοτικοποιημένα ή όχι. ","A J oszlopban a legördülő listából válassza ki, hogy ezeket a NEB-ket kvantitatívan vagy nem kvantitatívan fogják-e meghatározni.","Nella colonna J selezionare dall'elenco a discesa se questi NEB saranno quantificati o non saranno quantificati","Kolonnā J, izvēlnes sarakstā atlasiet, vai ne enerģijas bonusi tiks kvantificēti vai netiks kvantificēti.","W kolumnie J wybierz z listy rozwijanej, czy te NEBs będą kwantyfikowane, czy nie będą kwantyfikowane.","Na coluna J, na lista DropDown,  selecionar se estes NEBs serão quantificados ou não","En la columna J, seleccione de la lista desplegable si estos BNE se cuantificarán o no.",null,"In column J select from the drop down list if these NEBs will be quantifiied or they will be not quantified"]
[null,"User_manual","D14","For the quantified NEBs in column K indicate if this is a initial NEB (occures at the implementation phase of the EEM - year zero) or yearly NEB (occures each year after implementation of EEM)","Geben Sie für die quantifizierten NEBs in Spalte K an, ob es sich um eine anfängliche NEB (tritt in der Umsetzungsphase des EEM im Jahr Null auf) oder eine jährliche NEB (tritt jedes Jahr nach der Umsetzung des EEM auf) handelt.","За количествено изразените НЕП в колона К посочете дали това е първоначален НЕП (възниква на етапа на прилагане на ЕЕМ - нулева година) или годишен НЕП (възниква всяка година след прилагането на ЕЕМ).","Για τα ποσοτικοποιημένα ΝΕΒ (στήλη Κ) επιλέξτε εάν είναι το ΝΕΒ εμφανίζεται στην αρχή (μόνο την 1η φορά που εφαρμόζεται) ή ετήσιο (κάθε χρόνο).","A K oszlopban szereplő számszerűsített NEB-k esetében jelölje meg, hogy ez egy kezdeti NEB (az EEM végrehajtási szakaszában - nulladik év - jelentkezik) vagy éves NEB (az EEM végrehajtása után minden évben jelentkezik).","Per i NEB quantificati nella colonna K indicare se si tratta di un NEB iniziale (che si verifica nella fase di attuazione dell'EEM - anno zero) o di un NEB annuale (si verifica ogni anno dopo l'attuazione dell'EEM)","Kolonnā K izvēlētajiem NEB norādiet, vai tas ir sākotnējs (parādās EEP īstenošanas fāzē — nulles gadā) vai ikgadējs (parādās katru gadu pēc EEP ieviešanas).","W przypadku skwantyfikowanych NEBs w kolumnie K należy wskazać, czy jest to początkowy NEB (występuje na etapie wdrażania EEM - rok zerowy), czy roczny NEB (występuje co roku po wdrożeniu EEM).","Relativamente aos NEB quantificados na coluna K, indicar se se trata de um NEBs inicial (ocorre na fase de implementação da EEM - ano zero) ou anual (ocorre todos os anos após a implementação da EEM)","Para los BNE cuantificados en la columna K, indique si se trata de un BNE inicial (ocurre en la fase de implementacion de la MEE - año cero) o anual (ocurre cada año tras la aplicación de la MEE).",null,"For the quantified NEBs in column K indicate if this is a initial NEB (occures at the implementation phase of the EEM - year zero) or yearly NEB (occures each year after implementation of EEM)"]
[null,"User_manual","D15","For the quantified NEBs in column L indicate the unit of measurement which will be used for quantification (monetizing)","Geben Sie für die quantifizierten NEBs in Spalte L die Maßeinheit an, die zur Quantifizierung (Monetarisierung) verwendet wird.","За количествено определените НЕП в колона L посочете мерната единица, която ще се използва за количествено определяне (остойностяване).","Για τα ποσοτικοποιημένα ΝΕΒ (στήλη L) υποδείξτε το μέγεθος που θα χρησιμοποιηθεί για την ποσοτικοποίηση. ","A számszerűsített NEB-k esetében az L oszlopban adja meg a számszerűsítéshez (monetarizáláshoz) használt mértékegységet.","Per i NEB  quantificati nella colonna L indicare l'unità di misura che sarà utilizzata per la quantificazione (monetizzazione)","Kvantitatīvi noteiktajiem NEB kolonnā L norādiet mērvienību, kas tiks izmantota kvantificēšanai (monetizācijai). ","W przypadku skwantyfikowanych NEBs w kolumnie L należy wskazać jednostkę miary, która zostanie wykorzystana do kwantyfikacji (monetyzacji).","Para os NEBs quantificados na coluna L, indicar a unidade de medida que será utilizada para a quantificação (monetização)","Para los BNEs cuantificados en la columna L, indique la unidad de medida que se utilizará para la cuantificación (monetización)",null,"For the quantified NEBs in column L indicate the unit of measurement which will be used for quantification (monetizing)"]
[null,"User_manual","D16","For the quantified NEBs in column M indicate the cost of unit. For initial NEB EUR/unit and for yearly NEB EUR/unit per year should be indicated.","Geben Sie für die quantifizierten NEBs in Spalte M die Stückkosten an. Für den anfänglichen NEB ist EUR/Einheit und für den jährlichen NEB EUR/Einheit pro Jahr anzugeben.","За количествено определените НЕП в колона М посочете разходите за единица. За първоначална НЕП трябва да се посочи EUR/единица и за годишна НЕП EUR/единица годишно.","Για τα ποσοτικοποιημένα ΝΕΒ (στήλη Μ) επιλέξτε το κόστος της μονάδας. Για αρχικό ΝΕΒ EUR/μονάδα και για ετήσιο ΝΕΒ ΕUR/μονάδα και έτος.","A számszerűsített NEB-k esetében az M oszlopban adja meg az egységköltséget. A kezdeti NEB esetében HUF/egység, az éves NEB esetében pedig HUF/egység/év kell feltüntetni.","Per i NEB quantificati nella colonna M indicare il costo unitario. Per i NEB iniziali indicare in EUR/unità e per i NEB annuali in EUR/unità per anno.","Kvantitatīvi noteiktajiem NEB kolonnā M norādiet vienības izmaksas. Sākotnējam NEB norāda EUR/vienība, bet ikgadējam NEB EUR/vienība gadā.","Dla skwantyfikowanych NEBs w kolumnie M należy wskazać koszt jednostkowy. Dla początkowego NEB należy wskazać EUR/jednostkę, a dla rocznego NEB EUR/jednostkę rocznie.","Para os NEBs quantificados na coluna M, indicar o custo unitário. Para o NEB inicial, devem ser indicados EUR/unidade e, para o NEB anual, EUR/unidade por ano.","Para los BNEs cuantificados en la columna M indíquese el coste unitario. Coste de la unidad, EUR/unidad (para inicial) y EUR/unidad al año (para anual) serán indicados ",null,"For the quantified NEBs in column M indicate the cost of unit. For initial NEB EUR/unit and for yearly NEB EUR/unit per year should be indicated."]
[null,"User_manual","D17","For the quantified NEBs in column N indicate the amount of units.","Geben Sie für die quantifizierten NEBs in Spalte N die Anzahl der Einheiten an.","За количествено определените НЕП в колона N посочете количеството единици.","Για τα ποσοτικοποιημένα ΝΕΒ (στήλη Ν) επιλέξτε τον αριθμό των μονάδων.","A számszerűsített NEB-k esetében az N oszlopban adja meg a mennyiséget.","Per i NEB quantificati nella colonna N indicare il numero delle unità.","Kvantitatīvi noteiktajam NEB kolonnā N norāda vienību skaitu.","Dla skwantyfikowanych NEBs w kolumnie N należy wskazać ilość jednostek.","Para os NEBs quantificados na coluna n, indicar o número de unidades.","Para los BNEs cuantificados en la columna N, indicar la cantidad de unidades.",null,"For the quantified NEBs in column N indicate the amount of units."]
[null,"User_manual","D18","For not quantified NEBs in column O indicate the importance of these NEBs by choosing a value from 1 to 5 from a drop down list. The importance not quantified NEBs should be asked to the decision makers in the companies for which the EEM is analyzed.","Für nicht quantifizierte NEBs in Spalte O geben Sie die Bedeutung dieser NEBs an, indem Sie einen Wert von 1 bis 5 auswählen. Die Bedeutung nicht quantifizierter NEBs sollte den Entscheidungsträgern in den Unternehmen, für die die EEM analysiert wird, mitgeteilt werden.","За неколичествено определените НЕП в колона О се посочва значението на тези НЕП. Значението на неколичествено определените НЕП трябва да бъде зададено на лицата, вземащи решения в дружествата, за които се анализира EEM.","Για τα μη ποσοτικοποιημένα ΝΕΒ, στη στήλη Ο, επιλέξτε το πόσο σημαντικά είναι, με τιμές από 1 έως 5, από αναδυόμενη λίστα. Η σημασία των μη ποσοτικοποιημένων NEB θα πρέπει να δωθεί από τους υπεύθυνους λήψης αποφάσεων στις εταιρείες για τις οποίες απευθύνεται το μέτρο ενεργειακής απόδοσης (EEM).","A nem számszerűsített NEB-k esetében az O oszlopban az adott NEB fontosságát jelzi. A nem számszerűsített NEB-k fontosságát meg kell kérdezni azon vállalatok döntéshozóitól, amelyek esetében az EEM-et elemzik.","Per i NEBs non quantificati nella colonna O, indicare l'importanza di questi NEBs scegliendo un valore da 1 a 5 dall'elenco a discesa. L'importanza dei NEBs non quantificati dovrebbe essere richiesta ai responsabili dell'azienda per le quale viene analizzata la EEM.","Nekvantificējamiem NEB kolonnā O norādiet šī NEB būtiskumu skalā no 1 līdz 5. NEB būtiskumu konkrētajam EEP norāda uzņēmuma vadības pārstāvis. ","W przypadku nieskwantyfikowanych NEB w kolumnie O należy wskazać znaczenie tych NEB, wybierając wartość od 1 do 5 z rozwijanej listy. O znaczenie nieskwantyfikowanych NEBs należy zapytać decydentów w firmie, dla któryej analizowany jest EEM.","  Para os NEB não quantificados na coluna O, indicar a importância desses NEB escolhendo um valor de 1 a 5 numa lista DropDown. A importância dos NEB não quantificados deve ser solicitada aos decisores das empresas para as quais a MEE é analisada.   ","Para los BNEs  no cuantificados en la columna O,  indique la importancia de estos BNE. La importancia de los BNE no cuantificados debe preguntarse a los responsables de la toma de decisiones de las empresas para las MEE que se analicen.",null,"For not quantified NEBs in column O indicate the importance of these NEBs by choosing a value from 1 to 5 from a drop down list. The importance not quantified NEBs should be asked to the decision makers in the companies for which the EEM is analyzed."]
[null,"User_manual","D19","In the upper left corner of the sheet you can filter out Quantified and not quantified NEBs. This information will be used as input value in NEB tool.","In der oberen linken Ecke des Blattes können Sie quantifizierte und nicht quantifizierte NEBs herausfiltern. Diese Informationen werden als Eingabewert im NEB-Tool verwendet.","В горния ляв ъгъл на листа можете да филтрирате количествено определените и неколичествено определените НЕП. Тази информация ще бъде използвана като входна стойност в инструмента НЕП.","Επιλογή \"Ποσοτικοποιημένου\" ή \"Μη ποσοτικοποιημένου\" ΝΕΒ από την γωνία επάνω αριστερά του φύλλου εργασίας. Η πληροφορία θα χρησιμοποιηθεί ως δεδομένο εισαγωγής στο εργαλείο NEB.","A lap bal felső sarkában kiszűrheti a számszerűsített és a nem számszerűsített NEB-ket. Ezt az információt a NEB eszköz bemeneti értékként fogja kezelni.","Nell'angolo in alto a sinistra del foglio è possibile filtrare i NEB quantificati e non quantificati. Queste informazioni verranno utilizzate come valore di input nello strumento NEB.","Lapas augšējā kreisajā stūrī varat filtrēt kvantificētos un nekvantificētos NEB. Šī informācija tiks izmantota kā ievades vērtība RĪKĀ2.","W lewym górnym rogu arkusza można odfiltrować skwantyfikowane i nieskwantyfikowane NEB. Informacje te zostaną wykorzystane jako wartość wejściowa w narzędziu NEB.","No canto superior esquerdo da folha, pode filtrar os NEBs quantificados e não quantificados. Esta informação será utilizada como valor de entrada na ferramenta NEBs.","En la esquina superior izquierda de la hoja puede filtrar los BNE cuantificados y no cuantificados. Esta información se utilizará como valor de entrada en la herramienta BNE.",null,"In the upper left corner of the sheet you can filter out Quantified and not quantified NEBs. This information will be used as input value in NEB tool."]
[null,"User_manual","D20","You can manually overwrite NEBs in column B if there is a NEB which is not in the list but you want to include it in the analysis.","Sie können NEBs in Spalte B manuell überschreiben, wenn es ein NEB gibt, das nicht in der Liste enthalten ist, Sie es aber in die Analyse einbeziehen möchten.","Можете ръчно да презапишете НЕП в колона Б, ако има НЕП, който не е в списъка, но искате да го включите в анализа.","Μπορείτε να αντικαταστήσετε χειροκίνητα τα μη ενεργειακά οφέλη NEB στη στήλη B, εάν υπάρχει ένα NEB που δεν αναφέρεται στη λίστα, αλλά θέλετε να το συμπεριλάβετε στην ανάλυση.","Manuálisan felülírhatja a B oszlopban szereplő NEB-ket, ha van olyan NEB, amely nem szerepel a listán, de szeretné bevonni az elemzésbe.","È possibile sovrascrivere manualmente i NEB nella colonna B se è presente un NEB che non è presente nell'elenco ma si desidera includerlo nell'analisi.","Ja kāds NEB nav sarakstā, bet vēlaties to iekļaut analīzē, tad varat manuāli ierakstīt NEB kolonnā B. ","Możesz ręcznie nadpisać NEB w kolumnie B, jeśli istnieje NEB, którego nie ma na liście, ale chcesz go uwzględnić w analizie.","Pode substituir manualmente os NEBs na coluna B se houver um NEB que não esteja na lista mas que pretenda incluir na análise.","Puede sobrescribir manualmente los BNE en la columna B si hay un BNE que no está en la lista pero desea incluirlo en el análisis.",null,"You can manually overwrite NEBs in column B if there is a NEB which is not in the list but you want to include it in the analysis."]
[null,"User_manual","D21","You can hide unnecesarry columns from column D till column H by pressing \"-\" sign above column \"I\". You can afterwards unhide these columns by pressing \"+\" sign above column I","Sie können nicht benötigte Spalten von Spalte D bis Spalte H ausblenden, indem Sie das Zeichen „-“ über Spalte „I“ drücken. Sie können diese Spalten anschließend wieder einblenden, indem Sie auf das Zeichen „+“ über Spalte I klicken","Можете да скриете ненужните колони от колона D до колона H, като натиснете знака \"-\" над колона \"I\". След това можете да премахнете скриването на тези колони, като натиснете знака \"+\" над колона I","Μπορείτε να κρύψετε στήλες (στήλες D έως H) πατώντας το πλήκτρο \"-\" επάνω από την στήλη \"Ι\". Οι στήλες μπορούν να επανεμφανισθούν πατόντας το πλήκτρο \"+\". ","Az \"I\" oszlop felett lévő \"-\" jel megnyomásával elrejtheti a nem szükséges oszlopokat a D oszloptól a H oszlopig. Ezt követően az I oszlop felett lévő \"+\" jel megnyomásával tudja ezeket az oszlopokat megjeleníteni.","E' possibile nascondere le colonne non necessarie dalla colonna D alla colonna H premendo il segno \"-\" sopra la colonna \"I\". Successivamente si potranno mostrare queste colonne premendo il segno \"+\" sopra la colonna I","Jūs varat paslēpt nevajadzīgās kolonnas no D kolonnas līdz H kolonnai, nospiežot \"-\" zīmi virs kolonnas \"I\". Pēc tam šīs kolonnas var uzlikt redzamas, nospiežot \"+\" zīmi virs I kolonnas","Niepotrzebne kolumny od kolumny D do kolumny H można ukryć, naciskając znak \"-\" nad kolumną \"I\". Następnie można odkryć te kolumny, naciskając znak \"+\" nad kolumną I","Pode ocultar colunas desnecessárias entre a coluna D até à coluna H premindo o sinal \"-\" acima da coluna \"I\". Depois, pode voltar a mostrar estas colunas premindo o sinal \"+\" acima da coluna I","Puede ocultar las columnas innecesarias desde la columna D hasta la columna H pulsando el signo \"-\" encima de la columna \"I\". A continuación, puede mostrar estas columnas pulsando el signo \"+\" encima de la columna I.",null,"You can hide unnecesarry columns from column D till column H by pressing \"-\" sign above column \"I\". You can afterwards unhide these columns by pressing \"+\" sign above column I"]
[null,"find_NEBs","B23","Energy efficiency measure category","Kategorie der Energieeffizienzmaßnahmen","Категория на мярката за енергийна ефективност","Κατηγορία μέτρου ενεργειακής απόδοσης","Energiahatékonysági Intézkedés kategória","Categoria di intervento di efficienza energetica","Energoefektivitātes pasākuma kategorija","Kategoria środka efektywności energetycznej","Categoria da medida de eficiência energética","Categoría de la medida de eficiencia enegética",null,"Energy efficiency measure category"]
[null,"find_NEBs","B24","Energy efficiency measure from category","Energieeffizienzmaßnahme aus der Kategorie","Мярка за енергийна ефективност от категория","Υπο-κατηγορία μέτρου ενεργειακής απόδοσης","Energiahatékonysági intézkedés a kategóriából","Misura di efficienza energetica della categoria di intervento","Energoefektivitātes pasākums no kategorijas","Środek efektywności energetycznej z kategorii","Medida de eficiência energética da categoria ","Medida de eficiencia energética de la categoría",null,"Energy efficiency measure from category"]
[null,"find_NEBs","B25","Sort by","Sortiere nach","Сортирай по","Ταξινόμηση βάσει","Sorbarendezés","Ordina per","Kārtot pēc","Sortuj według","Ordenar por","Ordenar por",null,"Sort by"]
[null,"find_NEBs","B91","NEB category","NEB-Kategorie","Категория НЕП","Κατηγορία μη ενεργειακού οφέλους","NEB kategória","Categoria NEB","NEB kategorija","Kategoria NEB","Categoria do NEB","Categoría BNE",null,"NEB category"]
[null,"find_NEBs","C91","NEB","NEB","НЕП","Μη ενεργειακό όφελος","NEB","NEB","NEB","NEB","NEB","BNE",null,"NEB"]
[null,"find_NEBs","d91","Top management","Geschäftsführung","Висш мениджмънт","Ανώτατη διοίκηση","Felsővezetés","Alta direzione","Uzņēmuma vadība ","Najwyższe kierownictwo","Direção superior/gestão de topo","Alta dirección",null,"Top management"]
[null,"find_NEBs","E91","Employee","Arbeitnehmer*in","Служител","Προσωπικό","Alkalmazottak","Dipendente","Darbinieks ","Pracownik","Empregado","Empleado",null,"Employee"]
[null,"find_NEBs","F91","Legislator","Gesetzgeber*in","Законодател","Υπέυθυνος χάραξης πολιτικής / Νομοθέτης","Jogalkotó","Legislatore","Likumdevējs ","Ustawodawca","Legislador","Legislador",null,"Legislator"]
[null,"find_NEBs","G91","Description of the NEB","Beschreibung des NEBs","Описание на НЕП","Περιγραφή μη ενεργειακού οφέλους","A NEB leírása","Descrizione del NEB","NEB apraksts","Opis NEB","Descrição do NEB","Descripción del BNE",null,"Description of the NEB"]
[null,"find_NEBs","H91","Examples of quantification","Beispiele zur Quantifizierung","Примери за околичествяване","Παραδείγματα ποσοτικοποίησης","Példák a számszerűsítésre","Esempi di quantificazione","Kvantificēšanas piemēri","Przykłady kwantyfikacji","Exemplos de quantificação","Ejemplos de cuantificación",null,"Examples of quantification"]
[null,"EEM1_NEBs","B6","NEB category","NEB-Kategorie","Категория НЕП","Κατηγορία μη ενεργειακού οφέλους","NEB kategória","Categoria NEB","NEB kategorija","Kategoria NEB","Categoria dos NEBs","Categoría BNE",null,"NEB category"]
[null,"EEM1_NEBs","C6","NEB","NEB","НЕП","Μη ενεργειακό όφελος","NEB","NEB","NEB","NEB","NEB","BNE",null,"NEB"]
[null,"EEM1_NEBs","D6","Top management","Geschäftsführung","Висш мениджмънт","Ανώτατη διοίκηση","Felsővezetés","Alta direzione","Uzņēmuma vadība ","Najwyższe kierownictwo","Direção superior/gestão de topo","Alta dirección",null,"Top management"]
[null,"EEM1_NEBs","E6","Employee","Arbeitnehmer*in","Служител","Προσωπικό","Alkalmazottak","Dipendente","Darbinieks ","Pracownik","Empregado","Empleado",null,"Employee"]
[null,"EEM1_NEBs","F6","Legislator","Gesetzgeber*in","Законодател","Υπέυθυνος χάραξης πολιτικής / Νομοθέτης","Jogalkotó","Legislatore","Likumdevējs ","Ustawodawca","Legislador","Legislador",null,"Legislator"]
[null,"EEM1_NEBs","G6","Description of the NEB","Beschreibung des NEBs","Описание на НЕП","Περιγραφή μη ενεργειακού οφέλους","A NEB leírása","Descrizione del NEB","NEB apraksts","Opis NEB","Descrição dos NEBs","Descripción del BNE",null,"Description of the NEB"]
[null,"EEM1_NEBs","H6","Examples of quantification","Beispiele zur Quantifizierung","Примери за околичествяване","Παραδείγματα ποσοτικοποίησης","Példák a számszerűsítésre","Esempi di quantificazione","Kvantificēšanas piemēri","Przykłady kwantyfikacji","Exemplos de quantificação","Ejemplos de cuantificación",null,"Examples of quantification"]
[null,"EEM1_NEBs","I6","Include in calculations","In Berechnungen einbeziehen","Включете в изчисленията","Συμπεριλαμβάνεται στους υπολογισμούς","A számításokba való figyelembevétel","Includere nei calcoli","Iekļaut aprēķinos","Uwzględnienie w obliczeniach","Incluir nos cálculos","Incluir en los cálculos",null,"Include in calculations"]
[null,"EEM1_NEBs","J6","Quantified/not quantified","Quantifiziert/nicht quantifiziert","Околичествен / неоколичествен","Ποσοτικοποιημένο/ Μη ποσοστικοποιημένο","Számszerűsített/nem számszerűsített","Quantificato/non quantificato","Kvantificēti/Nekvantificēti ","Kwantyfikowane/niekwantyfikowane","Quantificado/não quantificado","Cuantificado/no cuantificado",null,"Quantified/not quantified"]
[null,"EEM1_NEBs","K6","Initial/yearly","Anfänglich/jährlich","Първоначално/годишно","Αρχικό/ ετήσιο","Kezdeti/évenkénti","Iniziale/annuale","Sākotnējs/ikgadējs ","Początkowa/roczna","Inicial/Anual","Inicial/anual",null,"Initial/yearly"]
[null,"EEM1_NEBs","L6","Unit of measurement","Maßeinheit","Единица мярка","Μετρούμενο μέγεθος","Mértékegység","Unità di misura","Mērvienība ","Jednostka miary","Unidade de medição","Unidad de medida",null,"Unit of measurement"]
[null,"EEM1_NEBs","M6","Cost of unit, EUR/unit (for initial) and EUR/unit per year (for yearly)","Kosten pro Einheit, EUR/Einheit (für Erstanschaffung) und EUR/Einheit pro Jahr (für jährlich)","Разходи за единица, EUR/единица (за първоначална) и EUR/единица на година (за годишна)","Τιμή μονάδας, EUR/μονάδα (γα αρχικό), EUR/μονάδα*έτος (για ετήσιο)","Egységköltség, HUF/egység (kezdeti érték esetén) és HUF/egység/év (éves érték esetén).","Costo dell'unità, EUR/unità (per iniziale) e EUR/unità per anno (per annuale)","Vienības izmaksas, EUR/vienība (sākotnējiem) un EUR/vienība gadā (ikgadējiem)","Koszt jednostki, EUR/jednostkę (dla początkowego) i EUR/jednostkę rocznie (dla rocznego)","Custo da unidade, euros/unidade (para inicial) e euros/unidade por ano (para anual)","Coste de la unidad, EUR/unidad (para inicial) y EUR/unidad al año (para anual)",null,"Cost of unit, EUR/unit (for initial) and EUR/unit per year (for yearly)"]
[null,"EEM1_NEBs","N6","Amount of units","Anzahl der Einheiten","Брой единици","Αριθμός μονάδων","Egységek mennyisége","Quantità di unità","Vienību daudzums","Ilość jednostek","Nº de unidades","Cantidad de unidades",null,"Amount of units"]
[null,"EEM1_NEBs","O6","Importance (1-low; 5-very high)","Wichtigkeit (1 – niedrig; 5 – sehr hoch)","Важност (1-ниска, 5-много висока)","Σημασία/σπουδαιότητα (1-χαμηλή; 5-πολύ μεγάλη)","Jelentőség (1-alacsony; 5-nagyon magas)","Importanza (1-bassa; 5-molto alta)","Būtiskums (1-zems; 5-ļoti augsts)","Znaczenie (1 - niskie; 5 - bardzo wysokie)","Importância (1-pouco importante; 5-muito importante)","Importancia (1-baja; 5-muy alta)",null,"Importance (1-low; 5-very high)"]
[null,"EEM1_NEBs","Z1","Quantified","Quantifiziert","Околичествен  ","Ποσοτικοποιημένο","Számszerűsített","Quantificato","Kvantificēts ","Określone ilościowo","Quantificados ","Cuantificado",null,"Quantified"]
[null,"EEM1_NEBs","Z2","Not quantified","Nicht quantifiziert","Неоколичествен","Μη ποσοστικοποιημένο","Nem számszerűsített","Non quantificato","Nekvantificēts","Nieokreślone ilościowo","Não quantificados","No cuantificado",null,"Not quantified"]
[null,"EEM1_NEBs","Z3","Initial","Anfänglich","Първоначален","Αρχικό ","Kezdeti","Iniziale","Sākotnējs ","Początkowa","Inicial","Inicial",null,"Initial"]
[null,"EEM1_NEBs","Z4","Yearly","Jährlich","Годишно","Ετήσιο","Éves","Annuale","Ikgadējs ","Roczna","Anual","Anual",null,"Yearly"]
[null,"find_NEBs","D26:G26","Social","Sozialbereich","Социална","Κοινωνία","Szociális","Sociali","Sociālie ieguvumi","Społeczeństwo","Social","Social",null,"Social"]
[null,"find_NEBs","H26:N26","Health","Gesundheit","Здравна","Υγεία","Egészség","Salute","Veselība","Zdrowie","Saúde","Salud",null,"Health"]
[null,"find_NEBs","O26:X26","Environment","Umwelt","Екологична","Περιβάλλον","Környezet","Ambientali","Vide","Środowisko","Ambiente","Medio ambiente",null,"Environment"]
[null,"find_NEBs","Y26:AK26","Economic","Wirtschaft","Икономическа","Οικονομία","Gazdasági","Economici","Ekonomiskie ieguvumi","Ekonomia","Económico","Económico",null,"Economic"]
[null,"find_NEBs","AL26:AR26","Security & Safety","Sicherheit & Schutz","Сигурност и безопасност","Ασφάλεια","Biztonság","Sicurezza e Protezione ","Drošība","Bezpieczeństwo i ochrona","Segurança & proteção","Seguridad y protección",null,"Security & Safety"]
[null,"find_NEBs","AS26:AX26","Quality","Qualität","Качество","Ποιότητα","Minőség","Qualità","Kvalitāte","Jakość","Qualidade","Calidad",null,"Quality"]
[null,"find_NEBs","AY26:BA26","Time","Zeit","Време","Χρόνος","Idő","Tempo","Laiks","Czas","Tempo","Tiempo",null,"Time"]
[null,"find_NEBs","C27","Employee satisfaction","Zufriedenheit der Mitarbeiter*innen","Удовлетворение на служителите","Ικανοποίηση εργαζόμενου","Alkalmazotti elégedettség","Soddisfazione dei dipendenti ","Darbinieku apmierinātība","Zadowolenie pracowników","Satisfação do colaborador","Satisfacción de los empleados",null,"Employee satisfaction"]
[null,"find_NEBs","D27","Alleviation of energy poverty","Bekämpfung der Energiearmut","Намаляване на енергийната бедност","Μετριασμός της ενεργειακής φτώχειας","Energiaszegénység csökkentése","Alleviamento della condizione di povertà energetica","Enerģētiskās nabadzības mazināšana","Zmniejszenie ubóstwa energetycznego","Redução da pobreza energética","Alivio de la pobreza energética",null,"Alleviation of energy poverty"]
[null,"find_NEBs","E27","Customers (new, satisfaction, etc.)","Kunden (Neukunden, Zufriedenheit, etc.)","Клиенти (нови, удовлетворение, др.)","Πελάτες (νέοι, ικανοποίηση, κ.λπ.)","Ügyfelek (elégedettsége, számának növelése)","Clienti (nuovi, soddisfazione, ecc.)","Klienti (jauni, apmierinātība utt.)","Klienci (nowi, zadowoleni itp.)","Clientes (novos, satisfação, etc.)","Clientes (nuevos, satisfacción, etc.)",null,"Customers (new, satisfaction, etc.)"]
[null,"find_NEBs","F27","Improved supply chain relationships","Verbesserte Geschäftsbeziehungen in der Lieferkette","Подобрени взаимоотношения по веригата за доставки\n","Βελτιωμένες σχέσεις εφοδιαστικής αλυσίδας","Elosztási lánc szereplői elégedettség","Miglioramento delle relazioni  con i fornitori","Uzlabotas attiecības produktu piegādes ķēdēs","Poprawa relacji w łańcuchu dostaw","Melhoria das relações na cadeia de abastecimento","Mejora de las relaciones con la cadena de suministro",null,"Improved supply chain relationships"]
[null,"find_NEBs","G27","Work performance","Arbeitsleistung","Производителност","Απόδοση εργαζομένων","Munkateljesítmény","Efficienza lavorativa","Darba apstākļu uzlabošanās (samazināts darbnespējas dienu skaits)","Wydajność pracy","Desempenho profissional","Rendimiento laboral",null,"Work performance"]
[null,"find_NEBs","H27","Health and well-being","Gesundheit und Wohlbefinden","Здраве и благосъстояние","Υγεία και ευεξία","Egésszég és jóllét","Salute e benessere","Veselība un labklājība","Zdrowie i dobre samopoczucie","Saúde e bem-estar","Salud y bienestar",null,"Health and well-being"]
[null,"find_NEBs","I27","(avoided) mortality","(vermiedene) Mortalität","(предотвратена) смъртност","Αποφυγή θνησιμότητας","(elkerült) halálozás","Mortalità evitata","(Novērsta) mirstība","(Uniknięta) śmiertelność","Mortalidade (evitada)","Mortalidad (evitada)",null,"(avoided) mortality"]
[null,"find_NEBs","J27","Disease burden \"daly\"","Krankheitslast \"daly\"","Тежест от заболявания","Εμφάνιση ασθενειών - Μείωση ευδόκιμου ζωής","Tartós betegségek, korai halál elkerülése","Carico di malattie: durata della vita ridotta","Slimību slogs jeb DALY indekss","Obciążenie chorobami \"daly\"","Carga de doenças \"diariamente\"","Disminución esperanza de vida \"daly\"",null,"Disease burden \"daly\""]
[null,"find_NEBs","K27","Sickness & absenteeism","Krankheit und Abwesenheit","Болест & отсъствие от работа","Ασθένεια και απουσία από εργασία","Rosszullét és hiányzás","Malattia e assenteismo","Slimības prombūtne un kavējumi ","Choroby i nieobecności w pracy","Doença e absentismo","Enfermedad y ausentismo",null,"Sickness & absenteeism"]
[null,"find_NEBs","L27","Improved air quality","Verbesserte Luftqualität","Подобрено качество на въздуха","Βελτίωση ποιότητας άερα","Levegőminőség javulása","Migliore qualità dell'aria","Uzlabota gaisa kvalitāte","Lepsza jakość powietrza","Melhoria da qualidade do ar","Mejora de la calidad del aire",null,"Improved air quality"]
[null,"find_NEBs","M27","Improved lighting","Verbesserte Beleuchtung","Подобрено осветление","Βελτίωση επιπέδων φωτισμού","Jobb világítási komfort","Illuminazione migliorata","Uzlabots apgaismojums","Lepsze oświetlenie","Melhoria da iluminação","Mejora de iluminación",null,"Improved lighting"]
[null,"find_NEBs","N27","Reduced noise","Lärmreduzierung","Намалени нива на шум","Μειωμένος θόρυβος","Csökkentett zajszint","Rumore ridotto","Samazināts troksnis","Zmniejszony hałas","Redução de ruídos","Reducción de ruido",null,"Reduced noise"]
[null,"find_NEBs","O27","Emission reduction","Reduzierung der Emissionen","Намаление на емисиите","Μείωση εκπομπών ","Emissziócsökkenés","Riduzione delle emissioni","Emisiju samazinājums","Redukcja emisji","Redução das emissões","Reducción de emisiones",null,"Emission reduction"]
[null,"find_NEBs","P27","Impact of EE on RES target achievement ","Auswirkungen von EE auf die Erreichung der EE-Ziele ","Въздействие на ЕЕ върху постигането на целта за ВЕИ ","Επίπτωση των μέτρων ενεργειακής απόδοσης στην επίτευξη του στόχου αξιοποίησης των ανανεώσιμων πηγών ενέργειας","Hozzájárulás az energiahatékonysági és megújuló energiás célok teljesítéséhez","Impatto delle misure di efficienza energetica sul raggiungimento degli obiettivi di utilizzo delle energie rinnovabili","Energoefektivitātes ietekme uz atjaunojamās enerģijas mērķu sasniegšanu","Wpływ EE na osiągnięcie celu OZE","Impacto da EE no cumprimento do objetivo das RES","Impacto de las medidas de EE para  conseguir objetivos de EERR\n",null,"Impact of EE on RES target achievement "]
[null,"find_NEBs","Q27","Ecosystem degradation","Verschlechterung des Ökosystems","Деградация на екосистемите","Υποβάθμιση του οικοσυστήματος","Az ökoszisztéma károsodása","Degrado dell'ecosistema","Ekosistēmu degradācija","Degradacja ekosystemu","Degradação do ecossistema","Degradación de ecosistemas\n",null,"Ecosystem degradation"]
[null,"find_NEBs","R27","Reduced water use ","Reduzierter Wasserverbrauch","Намалено използване на вода ","Μείωση χρήσης ύδατος","Csökkentett vízhasználat","Ridotto consumo di acqua","Samazināts ūdens patēriņš","Zmniejszone zużycie wody","Redução da utilização de água ","Reducción del uso de agua",null,"Reduced water use "]
[null,"find_NEBs","S27","Reduced material consumption","Reduzierter Materialverbrauch","Намалено потребление на материали","Μείωση κατανάλωσης υλικών","Csökkentett anyaghasználat","Consumo di materiale ridotto","Samazināts materiālu patēriņš","Zmniejszone zużycie materiałów","Redução do consumo de materiais","Reducción de consumo de materiales",null,"Reduced material consumption"]
[null,"find_NEBs","T27","Reduced emissions (dust, CO2, chemical agents etc.)","Verringerung der Emissionen (Staub, CO2, chemische Stoffe usw.)","Намалени емисии (прах, CO2, химически агенти и др.)","Μειωμένες εκπομπές από διεργασίες (σκόνη, CO2, χημικοί παράγοντες, κ.λπ.)","Csökkentett kibocsátás (por, CO2, vegyi anyagok stb.)","Riduzione delle emissioni (polveri, CO2, agenti chimici ecc.)","Samazinātas emisijas (putekļi, CO2, ķīmiskās vielas utt.)","Zmniejszona emisja (pył, CO2, czynniki chemiczne itp.)","Redução das emissões (poeiras, CO2, agentes químicos, etc.)","Reducción de emisiones (polvo, CO2, agentes químicos, etc.)",null,"Reduced emissions (dust, CO2, chemical agents etc.)"]
[null,"find_NEBs","U27","Reduced noise pollution","Reduzierte Lärmbelästigung","Намалено шумово замърсяване","Μείωση ηχορύπανσης","Csökkentett zajszennyezés","Ridotto inquinamento acustico","Samazināts trokšņa piesārņojums","Zmniejszone zanieczyszczenie hałasem","Redução da poluição sonora","Reducción de la contaminación acústica",null,"Reduced noise pollution"]
[null,"find_NEBs","V27","Reduced use of non-renewable resources ","Reduzierte Nutzung von nicht erneuerbaren Ressourcen","Намалено използване на невъзобновяеми ресурси ","Μείωση χρήσης μη ανανεώσιμων συστημάτων ενέργειας","A nem megújuló erőforrások csökkentett felhasználása","Ridotto utilizzo di risorse non rinnovabili","Samazināta neatjaunojamo resursu izmantošana","Zmniejszone zużycie zasobów nieodnawialnych","Redução da utilização de recursos não renováveis ","Reducción del uso de recursos no renovables",null,"Reduced use of non-renewable resources "]
[null,"find_NEBs","W27","Reduced litigations risks","Geringeres Risiko von Rechtsstreitigkeiten","Намалени рискове от съдебни дела","Μείωση δαπανών και προστίμων που σχετίζονται με παραβιάσεις της περιβαλλοντικής νομοθεσίας","Peres eljárások kockázatának csökkenése","Rischio di contenziosi ridotto","Samazināts tiesvedības risks","Zmniejszone ryzyko sporów sądowych","Redução dos riscos de litígio","Reducción de los riesgos de litigios",null,"Reduced litigations risks"]
[null,"find_NEBs","X27","Reduced waste","Reduzierter Abfall","Намаляване на отпадъците","Μείωση αποβλήτων ","Hulladék csökkenése","Riduzione degli sprechi","Samazināts atkritumu daudzums","Zmniejszona ilość odpadów","Redução de resíduos","Reducción de residuos",null,"Reduced waste"]
[null,"find_NEBs","Y27","Improvement of compatitiveness","Verbesserung der Wettbewerbsfähigkeit","Повишаване на конкурентоспособността","Βελτίωση της ανταγωνιστικότητας","Versenyképesség növelése","Miglioramento della competitività","Konkurētspējas palielināšana","Poprawa konkurencyjności","Melhoria da competitividade","Mejora de la competitividad",null,"Improvement of compatitiveness"]
[null,"find_NEBs","Z27","Innovation impacts","Auswirkungen von Innovationen","Въздействие на иновациите","Επιπτώσεις από καινοτομίες","Innovációs hatások","Impatti sull’innovazione","Ietekme uz inovācijām","Wpływ na innowacyjność","Impactos na inovação","Impactos en la innovación",null,"Innovation impacts"]
[null,"find_NEBs","AA27","Reduction of (maintenance) costs","Reduzierung der (Wartungs-)Kosten","Намаляване на разходите за (поддръжка)","Μείωση κόστους συντήρησης","(Karbantartási) költségek csökkenése","Riduzione dei costi di manutenzione","(Uzturēšanas) izmaksu samazināšana","Redukcja kosztów (utrzymania)","Redução dos custos (de manutenção)","Reducción de costes (de mantenimiento)",null,"Reduction of (maintenance) costs"]
[null,"find_NEBs","AB27","Reduction of emission or disposal fees","Reduzierung der Emissions- oder Entsorgungsgebühren",0,"Μείωση των τελών εκπομπών ρύπων ή διάθεσης ","A kibocsátási vagy ártalmatlanítási díjak csökkentése","Riduzione delle tasse di emissione o di smaltimento","Piesārņojuma vai atkritumu apsaimniekošanas izmaksu samazināšana","Redukcja opłat za emisję lub utylizację","Redução das taxas de emissão ou de eliminação","Reducción de las tasas de emisión o eliminación",null,"Reduction of emission or disposal fees"]
[null,"find_NEBs","AC27","Shorter production cycle","Kürzere Produktionszyklen","По-кратък производствен цикъл","Πιο σύντομος κύκλος παραγωγής","Rovidebb termelési lánc","Ciclo produttivo più breve","Īsāks ražošanas cikls","Krótszy cykl produkcyjny","Ciclo de produção mais curto","Ciclo de producción más corto",null,"Shorter production cycle"]
[null,"find_NEBs","AD27","Increased production yields","Höhere Produktionserträge","Повишени производствени добиви","Αυξημένη απόδοση παραγωγής","Növekvő termelési hozam","Aumento dei rendimenti produttivi","Augstāka ražība","Zwiększona wydajność produkcji","Aumento do rendimento da produção","Aumento de los rendimientos de producción",null,"Increased production yields"]
[null,"find_NEBs","AE27","Increased real estate value","Gesteigerter Immobilienwert","Увеличена стойност на недвижимите имоти","Αύξηση αξίας ακινήτου","Ingatlan értékének növekedése","Aumento del valore immobiliare","Augstāka nekustamā īpašuma vērtība","Zwiększona wartość nieruchomości","Aumento do valor imobiliário","Aumento del valor inmobiliario",null,"Increased real estate value"]
[null,"find_NEBs","AF27","Reduction of (operating) costs","Verringerung der (Betriebs-)Kosten","Намаляване на (оперативните) разходи","Μείωση κόστους λειτουργίας ","Üzemeltetési költségek csökkenése","Riduzione dei costi operativi","(Ekspluatācijas) izmaksu samazināšana","Redukcja kosztów (operacyjnych)","Redução de custos (operacionais)","Reducción de costes (operativos)",null,"Reduction of (operating) costs"]
[null,"find_NEBs","AG27","Macro economy","Makroökonomie","Макроикономика","Θετική επίπτωση στη μακρο-οικονομία ","Makroökonómiai kedvező hatások","Impatto positivo sulla macroeconomia","Ietekme uz makroekonomiku","Makroekonomia","Macroeconomia","Impacto positivo en la macroeconomía",null,"Macro economy"]
[null,"find_NEBs","AH27","Usage of waste streams","Nutzung von Abfallströmen","Използване на отпадъчни потоци","Μείωση εξόδων απόρριψης αποβλήτων","Hulladékáramok felhasználása","Utilizzo dei flussi di rifiuti","Atkritumu plūsmu izmantošana","Wykorzystanie strumieni odpadów","Uso de fluxos de resíduos","Utilización de flujos de residuos",null,"Usage of waste streams"]
[null,"find_NEBs","AI27","Turnover of energy efficiency goods ","Umsatz mit energieeffizienten Waren","Оборот на стоки за енергийна ефективност ","Κύκλος εργασιών του εξοπλισμού ενεργειακής απόδοσης","Energiahatékonysági termékek forgalma","Fatturato dei beni di efficienza energetica","Energoefektivitātes preču apgrozījums","Obrót towarami energooszczędnymi ","Volume de negócios de bens de eficiência energética","Ventas de bienes de eficiencia energética",null,"Turnover of energy efficiency goods "]
[null,"find_NEBs","AJ27","Employment effects","Beschäftigungseffekte","Ефекти върху заетостта","Επιπτώσεις στην απασχόληση","Foglalkoztatási hatások","Effetti sull'occupazione","Ietekme uz nodarbinātību","Wpływ na zatrudnienie","Efeitos no emprego","Efectos sobre el empleo",null,"Employment effects"]
[null,"find_NEBs","AK27","Impact on public budgets","Auswirkungen auf die öffentlichen Haushalte","Въздействие върху публичните бюджети","Επιπτώσεις στο δημόσιο προϋπολογισμό","Az állami költségvetésre gyakorolt hatás","Impatto sui bilanci pubblici","Ietekme uz valsts un pašvaldību budžetu","Wpływ na budżety publiczne","Impacto nos orçamentos públicos","Impacto en los presupuestos públicos",null,"Impact on public budgets"]
[null,"find_NEBs","AL27","Energy security","Sicherheit der Energieversorgung",0,"Ενεργειακή ασφάλεια","Energiabiztonság","Sicurezza energetica","Energoapgādes drošība","Bezpieczeństwo energetyczne","Segurança energética","Seguridad energética",null,"Energy security"]
[null,"find_NEBs","AM27","Security of supply / self sufficiency","Versorgungssicherheit / Selbstversorgung","Сигурност на доставките/самодостатъчност","Ασφάλεια εφοδιασμού / αυτάρκεια","Ellátásbiztonság / önellátás","Sicurezza dell'approvvigionamento/autosufficienza","Piegādes drošība/pašpietiekamība","Bezpieczeństwo dostaw / samowystarczalność","Segurança do abastecimento / autossuficiência","Seguridad de suministro / autosuficiencia",null,"Security of supply / self sufficiency"]
[null,"find_NEBs","AN27","Supplier diversity ","Lieferantenvielfalt","Разнообразие на доставчиците ","Επιλογή πολλαπλών προμηθευτών","Beszállítói diverzifikáció","Diversificazione dei fornitori","Piegādātāju diversifikācija","Różnorodność dostawców ","Diversidade dos fornecedores ","Diversidad de proveedores",null,"Supplier diversity "]
[null,"find_NEBs","AO27","Operation safety of equipment","Betriebssicherheit der Geräte","Безопасност на работата на оборудването","Ασφάλεια λειτουργίας του εξοπλισμού","A berendezések üzembiztonsága","Sicurezza operativa delle apparecchiature","Iekārtu ekspluatācijas drošums","Bezpieczeństwo eksploatacji urządzeń","Segurança operacional do equipamento","Seguridad de funcionamiento de los equipos",null,"Operation safety of equipment"]
[null,"find_NEBs","AP27","Less maintenance","Weniger Wartungsaufwand","По-малко поддръжка","Μειωμένη συντήρηση","Kevesebb karbantartás ","Ridotta manutenzione","Apkopes apjoma samazinājums","Mniej konserwacji","Menos manutenção","Menor mantenimiento",null,"Less maintenance"]
[null,"find_NEBs","AQ27","Electrical safety","Elektrotechnische Sicherheit","Електрическа безопасност","Ασφάλεια ηλεκτρολογικού εξοπλισμού","Elektromos biztonság ","Sicurezza elettrica","Elektroierīču droša ekspluatācija","Bezpieczeństwo elektryczne","Segurança eléctrica","Seguridad eléctrica",null,"Electrical safety"]
[null,"find_NEBs","AR27","Reduced injuries","Verringerung der Verletzungen","По-малко наранявания","Μείωση τραυματισμών","Kevesebb sérülés","Infortuni ridotti","Mazāks traumatisms","Mniej urazów","Redução de lesões","Reducción de accidentes",null,"Reduced injuries"]
[null,"find_NEBs","AS27","Accurate monitoring","Sorgfältige Überwachung","Точен мониторинг","Ακριβής παρακολούθηση των διαδικασιών","Megbízható monitoring","Monitoraggio accurato del processo","Precīza procesu uzraudzība","Dokładne monitorowanie","Precisão de monitorização","Monitorización real de los procesos",null,"Accurate monitoring"]
[null,"find_NEBs","AT27","Right First Time","Auf Anhieb richtig","Правилно от първия път","Μείωση προϊόντων με βλάβη από την παραγωγή","Első alkalomra helyesen","Diminuzione del numero di prodotti fabbricati in modo errato","Brāķēto produktu skaita samazinājums","Prawidłowo za pierwszym razem","Correto à primeira vez","Disminución de fallos en la fabricación de los productos",null,"Right First Time"]
[null,"find_NEBs","AU27","Increased quality of products","Höhere Qualität der Produkte","Повишено качество на продуктите","Παραγόμενα προϊόντα με καλύτερη ποιότητα ","Növekvő termékminőség","Miglioramento della qualità dei prodotti","Augstāka produktu kvalitāte","Wyższa jakość produktów","Aumento da qualidade dos produtos","Mejora de la calidad de los productos",null,"Increased quality of products"]
[null,"find_NEBs","AV27","Increased corporate image","Verbesserung des Unternehmensimages","Повишен корпоративен имидж","Καλύτερη εταιρική εικόνα ","Javuló vállalati imázs ","Miglioramento dell'immagine aziendale","Uzņēmuma tēla uzlabošanās","Lepszy wizerunek firmy","Melhoria da imagem corporativa","Mejora de la imagen corporativa",null,"Increased corporate image"]
[null,"find_NEBs","AW27","Increased regulatory compliance","Verbesserte Beachtung von Vorschriften","Повишаване на регулаторното съответствие","Συμμόρφωση στη νομοθεσία (εθνική, Ευρωπαϊκή) ","Növekvő jogszabályi megfelelés ","Maggiore conformità alle normative vigenti","Uzlabota atbilstība normatīvajiem aktiem","Większa zgodność z przepisami","Maior conformidade regulatória","Mayor cumplimiento normativo",null,"Increased regulatory compliance"]
[null,"find_NEBs","AX27","Risk reduction","Risikominderung","Намаляване на риска","Μείωση κινδύνου στην παραγωγή ","Kockázatcsökkentés ","Riduzione del rischio","Risku novēršana","Redukcja ryzyka","Redução de risco","Reducción de riesgos",null,"Risk reduction"]
[null,"find_NEBs","AY27","Increased productivity","Höhere Produktivität","Повишена производителност","Αύξηση παραγωγικότητας","Növekvő termelékenység ","Produttività incrementata","Paaugstināta produktivitāte","Zwiększona produktywność","Aumento da produtividade","Aumento de la productividad",null,"Increased productivity"]
[null,"find_NEBs","AZ27","Increased equipment lifetime","Verlängerte Lebensdauer der Geräte","Увеличен живот на оборудването","Αυξημένη διάρκεια ζωής του εξοπλισμού","Növekvő berendezés élettartam ","Maggiore durata dell'apparecchiatura","Ilgāks aprīkojuma kalpošanas laiks","Zwiększona żywotność sprzętu","Aumento da vida útil do equipamento","Mayor vida útil del equipo",null,"Increased equipment lifetime"]
[null,"find_NEBs","BA27","Reduced time of fault detection","Verkürzte Fehlererkennungszeit","Съкратено време за откриване на неизправности","Μείωση χρόνου ανίχνευσης σφαλμάτων","Csökkenő hibafeltárási idő","Tempo ridotto di rilevamento dei guasti","Īsāks defektu noteikšanas laiks","Krótszy czas wykrywania usterek","Redução do tempo de deteção de falhas","Reducción del tiempo de detección de fallos",null,"Reduced time of fault detection"]
[null,"find_NEBs","C31","Increased employee satisfaction can appear as fringe benefits, making the company competitive with even less wages. Furthermore can ease recruitment through the increased years spent at the workplace, etc. Employee satisfaction provides better value proposition. This includes improved working conditions and reduced staff turnover as well.","Eine höhere Mitarbeiter*innenzufriedenheit kann als Zusatzleistung erscheinen und das Unternehmen mit noch niedrigeren Löhnen wettbewerbsfähig machen. Darüber hinaus kann sie die Einstellung von Mitarbeiter*innen erleichtern, da diese mehr Jahre am selben Arbeitsplatz verbringen usw. Mitarbeiterzufriedenheit bietet ein besseres Wertversprechen. Dazu gehören auch bessere Arbeitsbedingungen und eine geringere Personalfluktuation.","Повишената удовлетвореност на служителите може да се прояви като допълнителни ползи, което прави компанията конкурентоспособна дори и с по-ниски заплати. Освен това може да улесни набирането на персонал чрез увеличаване на годините, прекарани на работното място, и т.н. Удовлетвореността на служителите осигурява по-добро и стойностно предложение. Това включва и подобряване на условията на труд и намаляване на текучеството на персонала.","Η αυξημένη ικανοποίηση των εργαζομένων μπορεί να εμφανιστεί ως επιπλέον όφελος, καθιστώντας την εταιρεία ανταγωνιστική ακόμη και με χαμηλότερους μισθούς. Επιπλέον, μπορεί να διευκολύνει την πρόσληψη μέσω των αυξημένων ετών που δαπανώνται στο χώρο εργασίας, κ.λπ. Η ικανοποίηση των εργαζομένων παρέχει αξία στην επιχείρηση. Αυτό περιλαμβάνει επίσης βελτιωμένες συνθήκες εργασίας και μειωμένες προσλήψεις προσωπικού.","A munkavállalók megnövekedett elégedettsége béren kívüli juttatásként jelenhet meg, ami még alacsonyabb bérrel is versenyképessé teszi a vállalatot. Továbbá megkönnyítheti a munkaerő-felvételt a munkahelyen eltöltött évek növekedése révén stb. A munkavállalói elégedettség jobb értékteremtést biztosít. Ez magában foglalja a jobb munkakörülményeket és a csökkentett fluktuációt is.","Una maggiore soddisfazione dei dipendenti potrebbe essere considerata un beneficio accessorio, rendendo l’azienda competitiva con salari ancora più bassi. Inoltre, può facilitare il reclutamento grazie all'aumento degli anni trascorsi sul posto di lavoro, ecc. La soddisfazione dei dipendenti fornisce una migliore proposta di valore. Ciò include anche il miglioramento delle condizioni di lavoro e la riduzione del turnover del personale.","Augsta darbinieku apmierinātība ar darba apstākļiem un vidi var dot papildus priekšrocības, nodrošinot uzņēmuma konkurētspēju un vērtību pat situācijā, ja atalgojums ir zemāks nekā, salīdzinot ar konkurējošu uzņēmumu. Augsta darbinieku apmierinātība sekmē mazāku kadru mainību un samazina laika patēriņu personāla atlasei. ","Zwiększona satysfakcja pracowników może pojawić się jako dodatkowe korzyści, czyniąc firmę konkurencyjną przy jeszcze niższych wynagrodzeniach. Ponadto może ułatwić rekrutację poprzez wydłużenie lat spędzonych w miejscu pracy itp. Zadowolenie pracowników zapewnia lepszą propozycję dotyczącą wartości. Obejmuje to również poprawę warunków pracy i zmniejszenie rotacji pracowników.","O aumento da satisfação dos trabalhadores pode aparecer como benefícios adicionais, tornando a empresa competitiva mesmo com salários baixos. Além disso, pode facilitar o recrutamento através do aumento dos anos passados no local de trabalho, etc. A satisfação dos trabalhadores proporciona uma melhor proposta de valor. This includes improved working conditions and reduced staff turnover as well.","El aumento de la satisfacción de los empleados puede aparecer como beneficios adicionales, haciendo que la empresa sea competitiva con aún menos salarios. Además, puede facilitar el reclutamiento a través del aumento de los años pasados en el lugar de trabajo, etc. La satisfacción de los empleados proporciona una mejor propuesta de valor. Esto incluye la mejora de las condiciones de trabajo y la reducción de la rotación de personal.",null,"Increased employee satisfaction can appear as fringe benefits, making the company competitive with even less wages. Furthermore can ease recruitment through the increased years spent at the workplace, etc. Employee satisfaction provides better value proposition. This includes improved working conditions and reduced staff turnover as well."]
[null,"find_NEBs","D31","Reliance of reduced energy consumptions and disposable income of households - energy efficiency measures concentrated on low-income households thus providing a surplus effect of alleviating energy poverty.","Abhängigkeit von reduziertem Energieverbrauch und verfügbarem Einkommen der Haushalte - Energieeffizienzmaßnahmen konzentrieren sich auf einkommensschwache Haushalte und haben somit einen zusätzlichen Effekt zur Linderung der Energiearmut.","Разчитайки на намаленото потребление на енергия и повишения разполагаем доход на домакинствата - мерките за енергийна ефективност се концентрират върху домакинствата с ниски доходи, като по този начин се постига допълнителен ефект за намаляване на енергийната бедност.","Εξάρτηση από μειωμένες ενεργειακές καταναλώσεις και διαθέσιμο εισόδημα των νοικοκυριών - μέτρα ενεργειακής απόδοσης επικεντρωμένα σε νοικοκυριά χαμηλού εισοδήματος, παρέχοντας έτσι πλεονασματικό αποτέλεσμα ανακούφισης της ενεργειακής φτώχειας.","A csökkentett energiafogyasztás és a háztartások rendelkezésre álló jövedelmének növekedése - ha az energiahatékonysági intézkedések az alacsony jövedelmű háztartásokra koncentrálódnak, többlethatásként enyhítik az energiaszegénységet.","Dipendenza dalla riduzione dei consumi energetici e del reddito disponibile delle famiglie: le misure di efficienza energetica si sono concentrate sulle famiglie a basso reddito, fornendo così un effetto surplus di riduzione della povertà energetica.","Energoefektivitātes pasākumu īstenošana mājsaimniecībās ar zemiem ienākumiem var ne tikai samazināt enerģijas patēriņu un palielināt rīcībā esošos ienākumus, bet arī dot pozitīvu ietekmi uz enerģētiskās nabadzības mazināšanu, padarot energopakalpojumus pieejamākus finansiāli mazāk aizsargātiem patērētājiem. ","Zależność od zmniejszonego zużycia energii i dochodu gospodarstwa domowego - środki efektywności energetycznej koncentrują się na gospodarstwach domowych o niskich dochodach, zapewniając w ten sposób nadwyżkowy efekt łagodzenia ubóstwa energetycznego.","Dependência da redução do consumo de energia e do rendimento disponível dos agregados familiares - as medidas de eficiência energética concentram-se nos agregados familiares com baixos rendimentos, proporcionando assim um efeito excedentário de alívio da pobreza energética.","Dependencia de la reducción del consumo de energía y de la renta disponible de los hogares: las medidas de eficiencia energética se concentraron en los hogares de bajos ingresos, proporcionando así un efecto excedente de alivio de la pobreza energética.",null,"Reliance of reduced energy consumptions and disposable income of households - energy efficiency measures concentrated on low-income households thus providing a surplus effect of alleviating energy poverty."]
[null,"find_NEBs","E31","Indicators related with the number of (new) customers, money spent by the customers, number of customers registering after the referal of other customers, customer loyalty, customer satisfaction by surveys. ","Indikatoren in Bezug auf die Anzahl der (neuen) Kunden*innen, die von den Kunden*innen ausgegebenen Gelder, die Anzahl der Kunden*innen, die sich nach der Empfehlung anderer Kunden*innen registrieren, die Kundentreue und die Kundenzufriedenheit durch Umfragen.","Показатели, свързани с броя на (новите) клиенти, парите, похарчени от клиентите, броя на клиентите, които се регистрират след препоръка на други клиенти, лоялността на клиентите, удовлетвореността на клиентите чрез проучвания. ","Δείκτες που σχετίζονται με τον αριθμό των (νέων) πελατών, τα χρήματα που δαπανήθηκαν από τους πελάτες, τον αριθμό των πελατών που εγγράφηκαν μετά από παραπομπή άλλων πελατών, την πίστη των πελατών, την ικανοποίηση πελατών μέσα από έρευνες.","Az (új) ügyfelek számával, az ügyfelek által elköltött pénzzel, a más ügyfelek ajánlása után regisztráló ügyfelek számával, az ügyfelek hűségével, az ügyfelek elégedettségével kapcsolatos javulás. ","Indicatori relativi al numero di (nuovi) clienti, denaro speso dai clienti, numero di clienti che si registrano dopo la segnalazione di altri clienti, fedeltà dei clienti, soddisfazione dei clienti tramite sondaggi.","Rādītāji, kas saistīti ar (jauno) klientu skaitu, ieņēmumi no klientiem, klientu skaitu, kas reģistrējušies pēc citu klientu ieteikuma, klientu lojalitāti, apmierinātības aptauju rezultātiem u.c.","Wskaźniki związane z liczbą (nowych) klientów, pieniędzmi wydanymi przez klientów, liczbą klientów rejestrujących się po poleceniu innych klientów, lojalnością klientów, satysfakcją klientów na podstawie ankiet. ","Indicadores relacionados com o número de (novos) clientes, dinheiro gasto pelos clientes, número de clientes registados após indicação de outros clientes, fidelização de clientes, satisfação de clientes por inquéritos.","Indicadores relacionados con el número de (nuevos) clientes, dinero gastado por los clientes, número de clientes que se registran después de la referencia de otros clientes, lealtad del cliente, satisfacción del cliente por encuestas.",null,"Indicators related with the number of (new) customers, money spent by the customers, number of customers registering after the referal of other customers, customer loyalty, customer satisfaction by surveys. "]
[null,"find_NEBs","F31","Improved supply chain relationships","Verbesserte Lieferkettenbeziehungen","Подобрени взаимоотношения по веригата на доставки","Βελτιωμένες σχέσεις εφοδιαστικής αλυσίδας","Ellátási lánchoz kötődő kapcsolatok javulása","Miglioramento delle relazioni con i fornitori","Sadarbības uzlabošana un stiprināšana starp dažādām pusēm, kas ir iesaistītas produkta un/vai pakalpojuma piegādes ķēdē, lai paaugtsinātu efektivitāti un samazinātu riskus. ","Poprawa relacji w łańcuchu dostaw","Relacionamentos melhorado da cadeia de abastecimento","Mejora de las relaciones con la cadena de suministro",null,"Improved supply chain relationships"]
[null,"find_NEBs","G31","Reduction in work days lost due to working conditions. Advantage of seperating this from increased production is that these number of days are though to appear in sick leaves, while productivity could be expressed by the number of products produced divided by working hours. (Could remain an individaual levelized indicator - averaged for a single person showing gain for the employees as a social indicator).","Reduzierung der durch die Arbeitsbedingungen verlorenen Arbeitstage. Der Vorteil, dies von der Produktionssteigerung zu trennen, besteht darin, dass diese Anzahl von Arbeitstagen vermutlich in den Krankenständen enthalten ist, während die Produktivität durch die Anzahl der produzierten Produkte geteilt durch die Arbeitsstunden ausgedrückt werden könnte. (Könnte ein individuell angepasster Indikator bleiben - berechnet für eine einzelne Person, der als sozialer Indikator einen Gewinn für die Beschäftigten darstellt).","Намаляване на загубените работни дни поради условията на труд. Предимството на отделянето на това от увеличеното производство е, че този брой дни все пак се появяват в болничните листове, докато производителността може да се изрази чрез броя на произведените продукти, разделен на работните часове. (Би могло да остане индивидуален изравнен показател - осреднен за едно лице, показващ печалба за служителите като социален показател).","Μείωση των ημερών εργασίας που χάνονται λόγω συνθηκών εργασίας. Το πλεονέκτημα του διαχωρισμού αυτού από την αυξημένη παραγωγή είναι ότι αυτός ο αριθμός ημερών φαίνεται να εμφανίζεται σε φύλλα ασθενείας, ενώ η παραγωγικότητα θα μπορούσε να εκφραστεί με τον αριθμό των παραγόμενων προϊόντων διαιρεμένο με τις ώρες εργασίας (Θα μπορούσε να παραμείνει ένας ατομικός δείκτης - ως μέσος όρος για ένα άτομε που να δείχνει κέρδος για τους εργαζόμενους ως κοινωνικός δείκτης).","A munkakörülmények miatt kiesett munkanapok számának csökkenése. Ennek a termelés növekedésétől való elkülönítésének előnye, hogy ezek a napok a betegszabadságokban jelennek meg, míg a termelékenységet az előállított termékek számának és a munkaórák számának hányadosával lehet kifejezni. (Maradhatna egyéni szintű mutató - egy személyre átlagolva, ami a munkavállalók számára szociális mutatóként nyereséget mutat).","Riduzione dei giorni di lavoro persi a causa delle condizioni di lavoro. Il vantaggio di separare questo dall'aumento della produzione è che si pensa che questo numero di giorni compaia nei congedi per malattia, mentre la produttività potrebbe essere espressa dal numero di prodotti diviso per l'orario di lavoro. (Potrebbe rimanere un indicatore livellato individuale - mediato per una singola persona che mostra il guadagno per i dipendenti come indicatore sociale).","Darba apstākļu dēļ zaudēto darba dienu samazinājums. Raksturo ar slimības prombūtnes dienu skaitu. Kā sociālo indikatoru izmanto, lai noteiktu vidējo ieguvumu vienam darbiniekam. Atšķiras no ekonomiskā indikatora ar līdzīgu nosaukumu, kas mēra saražotās produkcijas daudzumu attiecībā pret darbinieka darba stundu skaitu. ","Zmniejszenie liczby dni roboczych utraconych z powodu warunków pracy. Zaletą oddzielenia tego od zwiększonej produkcji jest to, że ta liczba dni pojawia się w zwolnieniach lekarskich, podczas gdy wydajność można wyrazić liczbą wyprodukowanych produktów podzielonych przez godziny pracy. (Może pozostać wskaźnikiem indywidualnym - uśrednionym dla pojedynczej osoby, pokazującym zysk dla pracowników jako wskaźnik społeczny).","Redução dos dias de trabalho perdidos devido às condições de trabalho. A vantagem de separar isso do aumento da produção é que esse número de dias é pensado para aparecer em licenças médicas, enquanto a produtividade pode ser expressa pelo número de produtos produzidos dividido pelas horas de trabalho. (Poderia permanecer um indicador nivelado individual - média para uma única pessoa mostrando ganho para os funcionários como um indicador social).","Reducción de las jornadas de trabajo perdidas por las condiciones de trabajo. La ventaja de separar esto del aumento de la producción es que este número de días debe aparecer en bajas por enfermedad, mientras que la productividad podría expresarse por el número de productos producidos dividido por las horas de trabajo. (Podría seguir siendo un indicador individual nivelado, promediado para una sola persona que muestra la ganancia para los empleados como un indicador social).",null,"Reduction in work days lost due to working conditions. Advantage of seperating this from increased production is that these number of days are though to appear in sick leaves, while productivity could be expressed by the number of products produced divided by working hours. (Could remain an individaual levelized indicator - averaged for a single person showing gain for the employees as a social indicator)."]
[null,"find_NEBs","H31","Reduction of health-related emissions - such as nitrogen oxide, sulfur oxide, PM2.5 that can be correlated with premature death.","Verringerung gesundheitsrelevanter Emissionen - wie Stickoxide, Schwefeloxide, PM2,5, die mit vorzeitigem Tod in Verbindung gebracht werden können.","Намаляване на свързаните със здравето емисии - като азотен оксид, серен оксид, PM2.5, които могат да бъдат свързани с преждевременна смърт.","Μείωση των εκπομπών που σχετίζονται με την υγεία - όπως οξείδιο του αζώτου, οξείδιο του θείου, σωματίδια PM2,5 που μπορεί να συσχετιστούν με πρόωρο θάνατο.","Az egészséggel kapcsolatos kibocsátások - mint például a nitrogén-oxid, kén-oxid, PM2,5 - csökkentése, amelyek összefüggésbe hozhatók a korai halálozással.","Riduzione delle emissioni legate alla salute - come ossido di azoto, ossido di zolfo, PM2,5 che possono essere correlate alla morte prematura.","Ar ietekmi uz veselību saistīto emisiju samazināšana, piemēram, slāpekļa oksīds, sēra oksīds, PM2,5, ko var saistīt ar priekšlaicīgu nāvi.","Redukcja emisji związanych ze zdrowiem - takich jak tlenek azotu, tlenek siarki, PM2,5, które mogą być skorelowane z przedwczesną śmiercią","Redução de emissões relacionadas à saúde - como óxido de nitrogênio, óxido de enxofre, PM2.5, que podem ser correlacionados com a morte prematura.","Reducción de las emisiones relacionadas con la salud, como óxido de nitrógeno, óxido de azufre, PM2.5 que pueden correlacionarse con la muerte prematura.",null,"Reduction of health-related emissions - such as nitrogen oxide, sulfur oxide, PM2.5 that can be correlated with premature death."]
[null,"find_NEBs","I31","By project relevance can express safety conditions with the decreased number of mortal accidents, while on a higher level can represent the number of avoided (premature) death in reliance with reduced emissions.","Projektbezogen können die Sicherheitsbedingungen durch die verringerte Zahl der tödlichen Unfälle ausgedrückt werden, während auf einer höheren Ebene die Zahl der vermiedenen (vorzeitigen) Todesfälle in Abhängigkeit von den verringerten Emissionen dargestellt werden kann.","Чрез значението на проекта могат да се изразят условията на безопасност с намаления брой смъртни злополуки, докато на по-високо ниво може да се представи броят на избегнатите (преждевременни) смъртни случаи в зависимост от намалените емисии.","Ανά έργο, η συνάφεια μπορεί να εκφράζει τις συνθήκες ασφαλείας με τον μειωμένο αριθμό θανατηφόρων ατυχημάτων, ενώ σε υψηλότερο επίπεδο μπορεί να αντιπροσωπεύει τον αριθμό των αποφευγμένων (πρόωρων) θανάτων σε συνάρτηση με τις μειωμένες εκπομπές.","Lokálisan a javuló biztonsági körülények a halálos balesetek számának csökkenését eredményezik, míg magasabb szinten az elkerült (idő előtti) halálesetek számát jelentheti a csökkentett kibocsátások miatt.","Per rilevanza del progetto si possono esprimere condizioni di sicurezza con un numero ridotto di incidenti mortali, mentre a un livello più alto si può rappresentare il numero di morti (premature) evitate grazie alla riduzione delle emissioni.","Novērsto nāves gadījumu skaits, pateicoties uzlabotiem darba apstākļiem. Novērsto (priekšlaicīgas) nāves gadījumu skaits, pateicoties samazinātām piesārņojumam ilgtermiņā. ","Znaczenie projektu może wyrażać warunki bezpieczeństwa ze zmniejszoną liczbą śmiertelnych wypadków, podczas gdy na wyższym poziomie może reprezentować liczbę unikniętych (przedwczesnych) zgonów w zależności od zmniejszonej emisji.","A relevância do projeto pode expressar as condições de segurança com a diminuição do número de acidentes mortais, enquanto em um nível mais alto pode representar o número de mortes (prematuras) evitadas com base na redução das emissões.","Por relevancia del proyecto puede expresar condiciones de seguridad con la disminución del número de accidentes mortales, mientras que en un nivel más alto puede representar el número de muertes evitadas (prematuras) en dependencia con emisiones reducidas.",null,"By project relevance can express safety conditions with the decreased number of mortal accidents, while on a higher level can represent the number of avoided (premature) death in reliance with reduced emissions."]
[null,"find_NEBs","J31","Involves persistent illness as well caused by inadequate living or working conditions.\nThe overall burden of disease is assessed using the disability-adjusted life year (DALY), a time-based measure that combines years of life lost due to premature mortality (YLLs) and years of life lost due to time lived in states of less than full health, or years of healthy life lost due to disability (YLDs). One DALY represents the loss of the equivalent of one year of full health. Using DALYs, the burden of diseases that cause premature death but little disability (such as drowning or measles) can be compared to that of diseases that do not cause death but do cause disability (such as cataract causing blindness).","Beinhaltet anhaltende Krankheiten, die auch durch unangemessene Lebens- oder Arbeitsbedingungen verursacht werden.\nDie Gesamtbelastung durch Krankheiten wird anhand des behinderungsbereinigten Lebensjahres (DALY) bewertet, einer zeitbasierten Messgröße, die die durch vorzeitige Sterblichkeit verlorenen Lebensjahre (YLL) und die durch einen nicht vollständigen Gesundheitszustand verlorenen Lebensjahre (YLD) kombiniert. Ein DALY entspricht dem Verlust des Äquivalents eines Jahres bei voller Gesundheit. Anhand der DALYs lässt sich die Belastung durch Krankheiten, die zu einem vorzeitigen Tod, aber nur zu geringen Behinderungen führen (wie Ertrinken oder Masern), mit der Belastung durch Krankheiten vergleichen, die zwar nicht zum Tod, aber zu Behinderungen führen (wie der Katarakt, der zur Erblindung führt).","Включва и постоянно заболяване, причинено от неподходящи условия на живот или труд.\nОбщата тежест на заболяванията се оценява с помощта на годината живот, коригирана с увреждането (DALY) - мярка, основана на времето, която съчетава годините живот, загубени поради преждевременна смъртност (YLL), и годините живот, загубени поради времето, прекарано в състояние на непълно здраве, или годините живот в добро здраве, загубени поради увреждане (YLD). Един DALY представлява загубата на еквивалента на една година пълно здраве. С помощта на DALY може да се сравни тежестта на заболяванията, които причиняват преждевременна смърт, но малко инвалидност (като удавяне или морбили), с тази на заболяванията, които не причиняват смърт, но причиняват инвалидност (като катаракта, причиняваща слепота).","Περιλαμβάνει χρόνια ασθένεια που προκαλείται επίσης από ανεπαρκείς συνθήκες διαβίωσης ή εργασίας. \nΗ συνολική επιβάρυνση της νόσου αξιολογείται χρησιμοποιώντας το προσαρμοσμένο σε αναπηρία έτος ζωής (DALY), ένα μέτρο βάσει χρόνου που συνδυάζει χρόνια ζωής που χάθηκαν λόγω πρόωρης θνησιμότητας (YLL) και χρόνια ζωής που χάθηκαν λόγω χρόνου ζωής σε καταστάσεις μικρότερες από πλήρη υγεία ή χρόνια υγιούς ζωής που χάθηκαν λόγω αναπηρίας (YLDs). Ένα DALY αντιπροσωπεύει την απώλεια του ισοδύναμου ενός έτους πλήρους υγείας. Χρησιμοποιώντας τα DALY, το βάρος των ασθενειών που προκαλούν πρόωρο θάνατο αλλά μικρή αναπηρία (όπως ο πνιγμός ή η ιλαρά) μπορεί να συγκριθεί με αυτό των ασθενειών που δεν προκαλούν θάνατο αλλά προκαλούν αναπηρία (όπως ο καταρράκτης που προκαλεί τύφλωση).  ","Tartós betegségeket is magában foglal, amelyeket a nem megfelelő élet- vagy munkakörülmények okoznak.\nA betegségek általános terhét a fogyatékossággal korrigált életév (DALY) segítségével értékelik, amely egy időalapú mérőszám, amely egyesíti az idő előtti halálozás miatt elvesztett életéveket (YLL) és a nem teljes értékű egészségi állapotban eltöltött idő miatt elvesztett életéveket, vagy a fogyatékosság miatt elvesztett egészséges életéveket (YLD). Egy DALY egy év teljes egészségi állapot elvesztésének felel meg. A DALY-k segítségével a korai halált, de fogyatékosságot nem annyira okozó betegségek (mint például a fulladás vagy a kanyaró) terhe összehasonlítható a halált nem okozó, de fogyatékosságot okozó betegségek (mint például a vakságot okozó szürkehályog) terhével.","\"Comporta anche malattie persistenti causate da condizioni di vita o di lavoro inadeguate. Il carico complessivo della malattia viene valutato utilizzando l’anno di vita corretto per la disabilità (DALY), una misura basata sul tempo che combina gli anni di vita persi a causa di mortalità prematura (YLL) e gli anni di vita persi a causa del tempo vissuto in situazioni di non piena salute o anni di vita sana persi a causa di disabilità (YLD). Un DALY rappresenta la perdita dell’equivalente di un anno di piena salute. Utilizzando i DALY, il peso delle malattie che causano morte prematura ma lieve disabilità (come l’annegamento o il morbillo) può essere paragonato a quello delle malattie che non causano la morte ma causano disabilità (come la cataratta che causa la cecità).","Indekss \"Invaliditātes koriģētie dzīves gadi jeb DALY\" attiecas uz neatbilstošu dzīves vai darba apstākļu izraistītām pastāvīgām slimībām. DALY rādītājs apvieno dzīves gadus, kas zaudēti priekšlaicīgas mirstības dēļ, un dzīves gadus, kas zaudēti veselības problēmu vai invaliditātes dēļ. Viens DALY ir līdzvērtīgs vienam gadam pilnīga veselības zaudējuma. Izmantojot DALY, ir iespējams savā starpā salīdzināt slimības, kas izraisa priekšlaicīgu nāvi, bet nelielu invaliditāti (piemēram, noslīkšana vai masalas), ar slimībām, kas neizraisa nāvi, bet izraisa invaliditāti (piemēram, katarakta, kas izraisa aklumu).","Obejmuje również trwałe choroby spowodowane nieodpowiednimi warunkami życia lub pracy.\nOgólne obciążenie chorobami jest oceniane za pomocą roku życia skorygowanego niepełnosprawnością (DALY), miary opartej na czasie, która łączy lata życia utracone z powodu przedwczesnej umieralności (YLL) i lata życia utracone z powodu czasu spędzonego w stanach poniżej pełnego zdrowia lub lata zdrowego życia utracone z powodu niepełnosprawności (YLD). Jeden DALY odpowiada utracie ekwiwalentu jednego roku pełnego zdrowia. Korzystając z DALY, obciążenie chorobami, które powodują przedwczesną śmierć, ale niewielką niepełnosprawność (takimi jak tonięcie lub odra), można porównać z obciążeniem chorobami, które nie powodują śmierci, ale powodują niepełnosprawność (takimi jak zaćma powodująca ślepotę).","Envolve também doenças persistentes causadas por condições inadequadas de vida ou trabalho. A carga geral da doença é avaliada usando o ano de vida ajustado por incapacidade (DALY), uma medida baseada no tempo que combina anos de vida perdidos devido à mortalidade prematura (YLLs) e anos de vida perdidos devido ao tempo vivido em estados de menor saúde plena, ou anos de vida saudável perdidos por incapacidade (YLDs). Um DALY representa a perda do equivalente a um ano de plena saúde. Usando DALYs, a carga de doenças que causam morte prematura, ou pouca incapacidade (como afogamento ou sarampo) pode ser comparada à de doenças que não causam morte, mas causam incapacidade (como catarata que causa cegueira).","Implica una enfermedad persistente causada por condiciones de vida o de trabajo inadecuadas.\nLa carga general de enfermedad se evalúa utilizando el año de vida ajustado por discapacidad (AVAD), una medida basada en el tiempo que combina los años de vida perdidos debido a la mortalidad prematura (AVP) y los años de vida perdidos debido al tiempo vivido en estados de salud inferior a la plena, o los años de vida saludable perdidos debido a la discapacidad (AVP). Un AVAD representa la pérdida del equivalente a un año de salud plena. Usando AVAD, la carga de enfermedades que causan muerte prematura pero poca discapacidad (como ahogamiento o sarampión) se puede comparar con la de enfermedades que no causan la muerte pero sí causan discapacidad (como la catarata que causa ceguera).",null,"Involves persistent illness as well caused by inadequate living or working conditions.\nThe overall burden of disease is assessed using the disability-adjusted life year (DALY), a time-based measure that combines years of life lost due to premature mortality (YLLs) and years of life lost due to time lived in states of less than full health, or years of healthy life lost due to disability (YLDs). One DALY represents the loss of the equivalent of one year of full health. Using DALYs, the burden of diseases that cause premature death but little disability (such as drowning or measles) can be compared to that of diseases that do not cause death but do cause disability (such as cataract causing blindness)."]
[null,"find_NEBs","K31","Number of days of sickness absence on a corporate level. Could be differentated from work performance as an aggregated indicator while work performance could remain an individual-level average.","Anzahl der Tage krankheitsbedingter Fehlzeiten auf Unternehmensebene. Kann als zusammengefasster Indikator von der Arbeitsleistung unterschieden werden, während die Arbeitsleistung ein Durchschnittswert auf individueller Ebene bleiben kann.","Брой дни на отсъствие по болест на корпоративно ниво. Може да се разграничи от трудовото представяне като обобщен показател, докато трудовото представяне може да остане средна стойност на индивидуално ниво.","Αριθμός ημερών απουσίας λόγω ασθένειας σε επίπεδο εταιρείας. Θα μπορούσε να διαφοροποιηθεί από την απόδοση εργασίας ως συγκεντρωτικός δείκτης, ενώ η απόδοση εργασίας θα μπορούσε να παραμείνει ένας μέσος όρος σε ατομικό επίπεδο.","A betegszabadsággal töltött napok száma vállalati szinten. Meg lehetne különböztetni a munkateljesítménytől, mint aggregált mutatót, míg a munkateljesítmény egyéni szintű átlag maradhatna.","Numero di giorni di assenza per malattia a livello aziendale. Potrebbe essere differenziato dalla prestazione lavorativa come indicatore aggregato, mentre la prestazione lavorativa potrebbe rimanere una media a livello individuale","Slimības prombūtnes dienu skaits uzņēmuma līmenī. Atšķirībā no sociālā indikatora \"Darba izpilde\", kas vairāk raksturo indivīdu, šis indikators apkopo rādītāju uzņēmuma līmenī.","Liczba dni absencji chorobowej na poziomie korporacyjnym. Można odróżnić od wydajności pracy jako zagregowanego wskaźnika, podczas gdy wydajność pracy może pozostać średnią na poziomie indywidualnym.","Número de dias de ausência por doença a nível corporativo. Pode ser diferenciado do desempenho no trabalho como um indicador agregado, enquanto o desempenho no trabalho pode permanecer como uma média individual.","Número de días de ausencia por enfermedad a nivel corporativo. Podría diferenciarse del rendimiento laboral como indicador agregado, mientras que el rendimiento laboral podría seguir siendo un promedio a nivel individual.",null,"Number of days of sickness absence on a corporate level. Could be differentated from work performance as an aggregated indicator while work performance could remain an individual-level average."]
[null,"find_NEBs","L31","The air quality is improved at the workspace, resulting in an improved working environment.","Die Luftqualität am Arbeitsplatz wird verbessert, was zu einer verbesserten Arbeitsumgebung führt.","Качеството на въздуха на работното място се подобрява, което води до подобряване на работната среда.","Η ποιότητα του αέρα βελτιώνεται στο χώρο εργασίας, με αποτέλεσμα τη βελτίωση του εργασιακού περιβάλλοντος.","A levegőminőség javulása a munkahelyen, ami jobb munkakörnyezetet eredményez.","La qualità dell'aria viene migliorata nell'area di lavoro, con conseguente miglioramento dell'ambiente di lavoro.","Gaisa kvalitātes uzlabošana darba vietā, kā rezultātā tiek uzlabota darba vide.","Poprawa jakości powietrza w miejscu pracy, skutkująca poprawą środowiska pracy","A qualidade do ar é melhorada no espaço de trabalho, resultando em um melhor ambiente de trabalho.","La calidad del aire se mejora en el espacio de trabajo, lo que resulta en un mejor ambiente de trabajo.",null,"The air quality is improved at the workspace, resulting in an improved working environment."]
[null,"find_NEBs","M31","The level of lighting is improved at the workspace, resulting in an improved working environment.","Das Beleuchtungsniveau am Arbeitsplatz wird verbessert, was zu einer verbesserten Arbeitsumgebung führt.","Подобрява се нивото на осветление на работното място, което води до подобряване на работната среда.","Το επίπεδο φωτισμού βελτιώνεται στο χώρο εργασίας, με αποτέλεσμα τη βελτίωση του εργασιακού περιβάλλοντος.","A munkahelyen javul a világítás szintje, ami jobb munkakörnyezetet eredményez.","Il livello di illuminazione è migliorato nell'area di lavoro, con conseguente miglioramento dell'ambiente di lavoro.","Apgaismojuma līmeņa uzlabošana darba vietā, kā rezultātā tiek uzlabota darba vide.","Poziom oświetlenia w miejscu pracy ulega poprawie, co skutkuje poprawą środowiska pracy.","O nível de iluminação é melhorado no espaço de trabalho, resultando em um melhor ambiente de trabalho.","El nivel de iluminación se mejora en el espacio de trabajo, lo que resulta en un mejor entorno de trabajo.",null,"The level of lighting is improved at the workspace, resulting in an improved working environment."]
[null,"find_NEBs","N31","Reduced (maximum) noise pollution in dB at the workspace, resulting in an improved working environment.","Verringerung der (maximalen) Lärmbelastung am Arbeitsplatz, was zu einer verbesserten Arbeitsumgebung führt.","Намалено (максимално) шумово замърсяване в dB на работното място, което води до подобряване на работната среда.","Μειωμένη (μέγιστη) ηχορύπανση σε dB στο χώρο εργασίας, με αποτέλεσμα βελτιωμένο εργασιακό περιβάλλον.","Csökkentett (maximális) zajterhelés dB-ben kifejezve a munkahelyen, ami jobb munkakörnyezetet eredményez.","Inquinamento acustico ridotto (massimo) in dB nell'area di lavoro, con conseguente miglioramento dell'ambiente di lavoro","Samazināts (maksimālais) trokšņa piesārņojums (dB) darba vietā, kā rezultātā tiek uzlabota darba vide.","Zmniejszone (maksymalne) zanieczyszczenie hałasem w dB w miejscu pracy, co skutkuje poprawą środowiska pracy.","Poluição sonora reduzida (máxima) em dB no espaço de trabalho, resultando em um ambiente de trabalho melhorado.","Reducción (máxima) de la contaminación acústica en dB en el espacio de trabajo, lo que resulta en un mejor entorno de trabajo.",null,"Reduced (maximum) noise pollution in dB at the workspace, resulting in an improved working environment."]
[null,"find_NEBs","O31","Emissions related to any impact categories - climate change, ozone depletion, acidificaton, eutophication, etc. (LCA) or individual metrics for CO, CO2, NOx, SOx and so on. ","Emissionen in Bezug auf beliebige Wirkungskategorien - Klimawandel, Ozonabbau, Versauerung, Eutophikation usw. (LCA) oder einzelne Messgrößen für CO, CO2, NOx, SOx usw.","Емисии, свързани с всякакви категории на въздействие - изменение на климата, разрушаване на озоновия слой, подкиселяване, еутофикация и т.н. (LCA) или отделни показатели за CO, CO2, NOx, SOx и т.н. ","Εκπομπές που σχετίζονται με οποιεσδήποτε κατηγορίες επιπτώσεων - κλιματική αλλαγή, καταστροφή του όζοντος, όξινη βροχή, ευτροφισμός κ.λπ. (LCA) ή μεμονωμένες μετρήσεις για CO, CO2, NOx, Sox, κ.λπ.","Bármely hatáskategóriához - éghajlatváltozás, ózonpusztulás, savasodás, eutofikáció stb. (LCA) vagy a CO, CO2, NOx, SOx stb. kapcsolódó emisszió egyedi mérőszámai. ","Emissioni relative a qualsiasi categoria di impatto: cambiamento climatico, riduzione dell'ozono, acidificazione, eutoficazione, ecc. (LCA) o parametri individuali per CO, CO2, NOx, SOx e così via.","Emisijas, kas saistītas ar jebkādām ietekmes kategorijām (pēc dzīves cikla analīzes pieejas) – klimata pārmaiņas, ozona noārdīšanās, paskābināšanās, eitofikācija utt. vai atsevišķiem rādītājiem, piemēram, CO, CO2, NOx, SOx u.c.","Emisje związane z dowolnymi kategoriami wpływu - zmiana klimatu, zubożenie warstwy ozonowej, zakwaszenie, eutrofizacja itp. (LCA) lub indywidualne wskaźniki dla CO, CO2, NOx, SOx itp. ","Emissões relacionadas a quaisquer categorias de impacto ambiental - mudança climática, destruição do ozônio, acidificação, eutoficação, etc. (LCA) ou métricas individuais para CO, CO2, NOx, SOx e assim por diante.","Emisiones relacionadas con cualquier categoría de impacto: cambio climático, agotamiento de la capa de ozono, acidificación, eutoficación, etc. (LCA) o métricas individuales para CO, CO2, NOx, SOx, etc.",null,"Emissions related to any impact categories - climate change, ozone depletion, acidificaton, eutophication, etc. (LCA) or individual metrics for CO, CO2, NOx, SOx and so on. "]
[null,"find_NEBs","P31","Energy savings allow to reach RES targets more easily","Durch Energieeinsparungen lassen sich die EE-Ziele leichter erreichen","Енергийните спестявания позволяват по-лесно да се постигнат целите за ВЕИ","Η εξοικονόμηση ενέργειας επιτρέπει την ευκολότερη επίτευξη των στόχων ΑΠΕ","Az energiamegtakarítás lehetővé teszi a megújuló energiaforrásokkal kapcsolatos célok könnyebb elérését","Il risparmio energetico consente di raggiungere più facilmente gli obiettivi FER","Enerģijas ietaupījums ļauj vieglāk sasniegt AER mērķus.","Oszczędności energii pozwalają łatwiej osiągnąć cele OZE","A economia de energia permite atingir as metas de RES com mais facilidade","El ahorro de energía permite alcanzar los objetivos de EERR más fácilmente",null,"Energy savings allow to reach RES targets more easily"]
[null,"find_NEBs","Q31","Any non-emission related ecosystem degrading activities.","Alle nicht emissionsbezogenen Aktivitäten, die das Ökosystem beeinträchtigen.","Всички дейности, които не са свързани с емисии и влошават състоянието на екосистемите.","Οποιεσδήποτε δραστηριότητες υποβάθμισης του οικοσυστήματος που δεν σχετίζονται με τις εκπομπές.","Bármilyen, nem kibocsátással kapcsolatos ökoszisztémát károsító tevékenység.","Qualsiasi attività di degrado dell’ecosistema non correlata alle emissioni","Jebkādas ar emisijām nesaistītas ekosistēmu degradējošas darbības.","Wszelkie działania związane z degradacją ekosystemu niezwiązane z emisjami","Quaisquer atividades degradadoras de ecossistemas não relacionadas a emissões.","Cualquier actividad de degradación de los ecosistemas no relacionada con las emisiones.",null,"Any non-emission related ecosystem degrading activities."]
[null,"find_NEBs","R31","Reducing the use of water of the processes/buildings","Reduzierung des Wasserverbrauchs in den Prozessen/Gebäuden","Намаляване на използването на вода в процесите/сградите\n","Μείωση της χρήσης νερού στις διεργασίες/κτίρια","A folyamatok/épületek vízfelhasználásának csökkentése.","Ridurre l'utilizzo di acqua dei processi/edifici","Procesu/ēku ūdens patēriņa samazināšana.","Zmniejszenie zużycia wody w procesach/budynkach","Reduzir o uso de água dos processos/prédios","Reducir el uso de agua de los procesos/edificios",null,"Reducing the use of water of the processes/buildings"]
[null,"find_NEBs","S31","Less materials are required for production, saving can be expressed in e.g.[kg].","Es werden weniger Materialien für die Produktion benötigt, die Einsparung kann z. B. in [kg] ausgedrückt werden.","За производството са необходими по-малко материали, като икономията може да се изрази например в [kg].","Μικρότερη ανάγκες σε υλικά της παραγωγής, έκφραση της εξοικονόμησης σε άλλη μονάδα, π.χ. σε [kg].","Kevesebb anyagra van szükség a termeléshez, a megtakarítás pl. [kg-ban] fejezhető ki.","Per la produzione sono necessari meno materiali, il risparmio può essere espresso ad esempio in [kg].","Ražošanai nepieciešamo matriālu patēriņa samazinājums; var izteikt, piemēram, kilogramos. ","Do produkcji potrzeba mniej materiałów, oszczędności można wyrazić np. w [kg].","Menos materiais são necessários para a produção, a economia pode ser expressa em, por exemplo, [kg].","Se requieren menos materiales para la producción, el ahorro se puede expresar, por ejemplo, en kg.",null,"Less materials are required for production, saving can be expressed in e.g.[kg]."]
[null,"find_NEBs","T31","The harmful emissions of the processes and/or HVAC systems are reduced.","Die Schadstoffemissionen der Prozesse und/oder HLK-Anlagen werden reduziert.","Намаляват се вредните емисии от процесите и/или ОВК системите.","Μείωση των επιβλαβών εκπομπών των διεργασιών ή/και των HVAC συστημάτων .","Csökken a folyamatok és/vagy a épülettechnikai rendszerek károsanyag-kibocsátása.","Si riducono le emissioni nocive dei processi e/o degli impianti HVAC.","Tiek samazinātas procesu un/vai HVAC sistēmu (apkures, ventilācijas un dzesēšanas sistēmas) kaitīgās emisijas.","Zmniejszenie szkodliwych emisji pochodzących z procesów i/lub systemów HVAC.","As emissões nocivas dos processos e/ou sistemas AVAC são reduzidas.","Se reducen las emisiones nocivas de los procesos y/o sistemas HVAC.",null,"The harmful emissions of the processes and/or HVAC systems are reduced."]
[null,"find_NEBs","U31","Reducing the noise from the processes/building systems","Verringerung des Lärms aus den Prozessen/Gebäudesystemen","Намаляване на шума от процесите/строителните системи","Μείωση του θορύβου από τις διεργασίες/τα συστήματα κατασκευής","A folyamatok/épülettechnikai rendszerek zajterhelésének csökkentése.","Ridurre il rumore dei processi/sistemi edilizi","Procesos/ēkās radītā trokšņa samazināšana. ","Zmniejszenie hałasu pochodzącego z procesów/systemów budowlanych","Reduzir o ruído dos processos/sistemas de construção","Reducir el ruido de los procesos/sistemas de construcción",null,"Reducing the noise from the processes/building systems"]
[null,"find_NEBs","V31","Reducing the non-renewable energy use in processes/building systems","Verringerung des Einsatzes nicht erneuerbarer Energie in Prozessen/Gebäudesystemen","Намаляване на използването на невъзобновяема енергия в процесите/сградните системи","Μείωση της χρήσης μη ανανεώσιμης ενέργειας σε διεργασίες/κτιριακά συγκροτήματα","A folyamatok/épülettechnikai rendszerek nem megújuló energiafelhasználásának csökkentése.","Ridurre il consumo di energia non rinnovabile nei processi/sistemi edilizi","Neatjaunojamās enerģijas izmantošanas samazināšana procesos/ēkās. ","Zmniejszenie zużycia energii nieodnawialnej w procesach/systemach budowlanych","Reduzir a utilização de energia não renovável nos processos/sistemas de construção","Reducir el uso de energía no renovable en procesos/sistemas de construcción",null,"Reducing the non-renewable energy use in processes/building systems"]
[null,"find_NEBs","W31","Total amount of expenses and fines related to environmental law violations.","Gesamtbetrag der Ausgaben und Geldstrafen im Zusammenhang mit Verstößen gegen das Umweltrecht.","Общ размер на разходите и глобите, свързани с нарушения на екологичното законодателство.","Συνολικό ποσό δαπανών και προστίμων που σχετίζονται με παραβάσεις της περιβαλλοντικής νομοθεσίας.","A környezetvédelmi jogszabályok megsértésével kapcsolatos kiadások és bírságok teljes összege.","Importo totale delle spese e delle multe relative a violazioni della normativa ambientale.","Kopējā izdevumu un soda naudas summa saistībā ar vides tiesību pārkāpumiem.","Łączna kwota wydatków i kar związanych z naruszeniami prawa ochrony środowiska.","Montante total das despesas e coimas relacionadas com infracções à legislação ambiental.","Cantidad total de gastos y multas relacionadas con violaciones de la ley ambiental.",null,"Total amount of expenses and fines related to environmental law violations."]
[null,"find_NEBs","X31","Amount of waste disposed (hazardous/ non-hazardous/ radioactive) (LCA).","Menge des entsorgten Abfalls (gefährlich/ungefährlich/radioaktiv) (LCA).","Количество на депонираните отпадъци (опасни/неопасни/радиоактивни) (LCA).","Ποσότητα απορριμμάτων/αποβλήτων που διατίθενται (επικίνδυνα/μη επικίνδυνα/ραδιενεργά) (LCA).","Az ártalmatlanított hulladék mennyisége (veszélyes/nem veszélyes/ radioaktív) (teljes életciklus szemléletben).","Quantità di rifiuti smaltiti (pericolosi/non pericolosi/radioattivi) (LCA).","Apglabāto atkritumu daudzums (bīstamie/ nebīstamie/ radioaktīvie).","Ilość składowanych odpadów (niebezpiecznych/niebezpiecznych/radioaktywnych) (LCA)","Quantidade de resíduos eliminados (perigosos/não perigosos/ radioactivos) (LCA).","Cantidad de residuos eliminados (peligrosos/no peligrosos/radiactivos) (ACV).",null,"Amount of waste disposed (hazardous/ non-hazardous/ radioactive) (LCA)."]
[null,"find_NEBs","Y31","Improved image of a region/ country; can also be a quantified indicator as well. Higher customer satisfaction.","Verbessertes Image einer Region/eines Landes; kann auch ein quantifizierter Indikator sein. Höhere Kundenzufriedenheit.",0,"Βελτιωμένη εικόνα μιας περιοχής/χώρας. Μπορεί επίσης να είναι ποσοτικοποιημένος δείκτης. Μεγαλύτερη ικανοποίηση πελατών.","Egy régió/ország imázsának javulása; lehet számszerűsített mutató is. Magasabb ügyfél-elégedettség.","Immagine migliorata di una regione/paese; può anche essere un indicatore quantificato. Maggiore soddisfazione del cliente.","Uzlabots reģiona/valsts tēls; var būt arī kvantitatīvs rādītājs. Augstāka klientu apmierinātība.","Poprawa wizerunku regionu/kraju; może być również wskaźnikiem ilościowym. Większe zadowolenie klientów","Melhoria da imagem de uma região/país; também pode ser um indicador quantificado. Maior satisfação do cliente.","Imagen mejorada de una región / país; también puede ser un indicador cuantificado. Mayor satisfacción del cliente.",null,"Improved image of a region/ country; can also be a quantified indicator as well. Higher customer satisfaction."]
[null,"find_NEBs","Z31","Impacts on innovation related to the diffusion of EE technologies","Auswirkungen auf die Innovation im Zusammenhang mit der Verbreitung von EE-Technologien","Въздействие върху иновациите, свързани с разпространението на технологиите за ЕЕ","Επιπτώσεις στην καινοτομία που σχετίζονται με τη διάδοση των τεχνολογιών EE","Az energiahatékony technológiák elterjedésével kapcsolatos innovációra gyakorolt hatások","Impatti sull'innovazione legati alla diffusione delle tecnologie EE","Ietekme uz inovācijām saistībā ar energoefektivitātes tehnoloģiju izplatību (radīšana, izmantošana).","Wpływ na innowacje związane z rozpowszechnianiem technologii EE","Impactos na inovação relacionados com a difusão de tecnologias de EE","Impactos en la innovación relacionados con la difusión de tecnologías de EE",null,"Impacts on innovation related to the diffusion of EE technologies"]
[null,"find_NEBs","AA31","Reduction of maintenance costs. Avoided breakdowns due to regular maintenance.","Reduzierung der Wartungskosten. Vermeiden von Ausfällen durch regelmäßige Wartung.",0,"Μείωση του κόστους συντήρησης. Αποφεύγονται βλάβες λόγω τακτικής συντήρησης.","A karbantartási költségek csökkenése. A rendszeres karbantartás miatt elkerült üzemzavarok.","Riduzione dei costi di manutenzione. Guasti evitati grazie alla manutenzione regolare.","Ragulāras apkopes palīdz novērst iekārtu bojājumus un samazināt uzturēšanas izmaksas.","Redukcja kosztów konserwacji. Unikanie awarii dzięki regularnej konserwacji","Redução dos custos de manutenção. Evitar as avarias devido a uma manutenção regular.","Reducción de costes de mantenimiento. Evitado de averías debido al mantenimiento regular.",null,"Reduction of maintenance costs. Avoided breakdowns due to regular maintenance."]
[null,"find_NEBs","AB31","Reduction of emission or disposal fees.","Reduzierung der Emissions- oder Entsorgungsgebühren.","Намаляване на таксите за емисии или обезвреждане.","Μείωση των τελών εκπομπής ή διάθεσης.","A kibocsátási vagy ártalmatlanítási díjak csökkenése.","Riduzione delle tasse di emissione o di smaltimento.","Ar emisijām vai atkritumu apglabāšanu saistīto izmaksu samazināšana. ","Redukcja opłat za emisję lub utylizację","Redução das taxas de emissão ou de eliminação.","Reducción de las tasas de emisión o eliminación.",null,"Reduction of emission or disposal fees."]
[null,"find_NEBs","AC31","The production chain is optimised resulting in shorted production time.","Die Produktionskette wird optimiert, was zu einer kürzeren Produktionszeit führt.","Производствената верига е оптимизирана, което води до съкращаване на времето за производство.","Η αλυσίδα παραγωγής είναι βελτιστοποιημένη με αποτέλεσμα να συντομεύεται ο χρόνος παραγωγής.","A termelési lánc optimalizálása, ami a gyártási idő rövidülését eredményezi.","La catena di produzione è ottimizzata con conseguente riduzione dei tempi di produzione.","Ražošanas ķēdes optimizēšana, saīsinot ražošanas laiku.","Optymalizacja łańcucha produkcyjnego skutkująca skróceniem czasu produkcji","A cadeia de produção é optimizada, resultando numa redução do tempo de produção.","La cadena de producción está optimizada, lo que resulta en un tiempo de producción más corto.",null,"The production chain is optimised resulting in shorted production time."]
[null,"find_NEBs","AD31","Increased income due to better productivity.","Höheres Einkommen durch bessere Produktivität.","Увеличен доход поради по-добра производителност.","Αυξημένο εισόδημα λόγω καλύτερης παραγωγικότητας.","A jobb termelékenységnek köszönhető jövedelemnövekedés.","Aumento del reddito grazie ad una migliore produttività.","Ienākumu pieaugums, pateicoties augstākai produktivitātei.","Zwiększony dochód dzięki lepszej produktywności","Aumento do rendimento devido a uma melhor produtividade.","Aumento de los ingresos debido a una mejor productividad.",null,"Increased income due to better productivity."]
[null,"find_NEBs","AE31","Spending money on energy efficiency measures can increase the real estate value of buildings","Ausgaben für Energieeffizienzmaßnahmen können den Immobilienwert von Gebäuden steigern","Разходите за мерки за енергийна ефективност могат да увеличат стойността на недвижимите имоти на сградите","Η δαπάνη χρημάτων για μέτρα ενεργειακής απόδοσης μπορεί να αυξήσει την αξία των ακινήτων των κτιρίων","Az energiahatékonysági intézkedésekre fordított összegek növelhetik az épületek ingatlanértékét.","Investire in misure di efficienza energetica può aumentare il valore immobiliare degli edifici","Ieguldījumi energoefektivitātes pasākumos var palielināt nekustamā īpašuma vērtību","Wydatkowanie pieniędzy na środki poprawy efektywności energetycznej może zwiększyć wartość nieruchomości.","Gastar dinheiro em medidas de eficiência energética pode aumentar o valor imobiliário dos edifícios","Gastar dinero en medidas de eficiencia energética puede aumentar el valor inmobiliario de los edificios",null,"Spending money on energy efficiency measures can increase the real estate value of buildings"]
[null,"find_NEBs","AF31","Reduction of cost due to increased efficiency, productivity and right first time. Reduced manual labor costs.","Kostenreduzierung durch höhere Effizienz, Produktivität und eine fehlerfreie Erstverarbeitung. Geringere Kosten für manuelle Arbeit.","Намаляване на разходите благодарение на повишената ефективност, производителност и правилния първи път. Намаляване на разходите за ръчен труд.","Μείωση κόστους λόγω αυξημένης απόδοσης, παραγωγικότητας και σωστής παραγωγή από την πρώτη φορά. Μειωμένο κόστος χειρωνακτικής εργασίας.","Költségcsökkenés a megnövekedett hatékonyság, termelékenység és az elsőre helyes működés miatt. Csökkentett kézi munkaerőköltségek.","Riduzione dei costi grazie all'aumento di efficienza, produttività e correttezza al primo tentativo. Costi di manodopera ridotti.","Izmaksu samazinājums, pateicoties augstinātai efektivitātei, produktivitātei un mazākam brāķēto produktu skaitam. Samazinātas roku darba izmaksas.","Redukcja kosztów dzięki zwiększonej wydajności, produktywności i pierwszemu właściwemu działaniu. Redukcja kosztów pracy fizycznej","Redução de custos devido ao aumento da eficiência, produtividade e acerto na primeira vez. Redução dos custos de trabalho manual.","Reducción de costos debido al aumento de la eficiencia, la productividad y la primera vez. Reducción de los costes de mano de obra.",null,"Reduction of cost due to increased efficiency, productivity and right first time. Reduced manual labor costs."]
[null,"find_NEBs","AG31","Impact on national GDP and other economic indicators.","Auswirkungen auf das nationale BIP und andere Wirtschaftsindikatoren.",0,"Επιπτώσεις στο εθνικό ΑΕΠ και σε άλλους οικονομικούς δείκτες.","A nemzeti GDP-re és más gazdasági mutatókra gyakorolt hatás.","Impatto sul PIL nazionale e altri indicatori economic","Ietekme uz valsts IKP un citiem makroekonomikas rādītājiem. ","Wpływ na krajowy PKB i inne wskaźniki ekonomiczne","Impacto no PIB nacional e noutros indicadores económicos.","Impacto en el PIB nacional y otros indicadores económicos.",null,"Impact on national GDP and other economic indicators."]
[null,"find_NEBs","AH31","Heat/fuel/gas - reduced need for external resources.","Wärme/Brennstoff/Gas - geringerer Bedarf an externen Ressourcen.","Топлина/гориво/газ - намалена нужда от външни ресурси.","Θερμότητα/καύσιμο/αέριο - μειωμένη ανάγκη εξωτερικών πόρων.","Hő/üzemanyag/gáz - csökken a külső erőforrások iránti igény.","Calore/combustibile/gas: minore necessità di risorse esterne.","Siltums/degviela/gāze – samazināta nepieciešamība pēc ārējiem resursiem.","Ciepło/paliwo/gaz - mniejsze zapotrzebowanie na zasoby zewnętrzne","Calor/combustível/gás - menor necessidade de recursos externos.","Calor/combustible/gas: reducción de la necesidad de recursos externos.",null,"Heat/fuel/gas - reduced need for external resources."]
[null,"find_NEBs","AI31","Macro-economic indicator representing the turnover of EE goods","Makroökonomischer Indikator, der den Umsatz von EE-Gütern darstellt","Макроикономически показател, представящ оборота на стоки за ЕЕ","Μακροοικονομικός δείκτης που αντιπροσωπεύει τον κύκλο εργασιών των μέτυρων ΕΕ","Az energiahatékonysági termékek forgalmát reprezentáló makrogazdasági mutató.","Indicatore macroeconomico che rappresenta il fatturato dei beni EE ","Makroekonomikas rādītājs, kas atspoguļo energoefektivitātes preču apgrozījumu.","Wskaźnik makroekonomiczny reprezentujący obrót towarami EE","Indicador macroeconómico que representa o volume de negócios dos bens de EE","Indicador macroeconómico que representa la venta de los bienes de EE",null,"Macro-economic indicator representing the turnover of EE goods"]
[null,"find_NEBs","AJ31","Macro-economic indicator showing effects of EE measures on employment","Makroökonomischer Indikator für die Auswirkungen von EE-Maßnahmen auf die Beschäftigung","Макроикономически показател, показващ въздействието на мерките за ЕЕ върху заетостта","Μακροοικονομικός δείκτης που δείχνει τις επιπτώσεις των μέτρων ΕΕ στην απασχόληση","Az energiahatékonysági intézkedések foglalkoztatásra gyakorolt hatását mutató makrogazdasági mutató.","Indicatore macroeconomico che mostra gli effetti delle misure di EE sull’occupazione","Makroekonomikas rādītājs, kas atspoguļo energoefektivitātes pasākumu ietekmi uz nodarbinātību.","Wskaźnik makroekonomiczny pokazujący wpływ środków EE na zatrudnienie","Indicador macroeconómico que mostra os efeitos das medidas de EE no emprego","Indicador macroeconómico que muestra los efectos de las medidas de EE sobre el empleo",null,"Macro-economic indicator showing effects of EE measures on employment"]
[null,"find_NEBs","AK31","Macro-economic indicator showing changes in public budgets triggered by tax revenue increase or decrease","Makroökonomischer Indikator, der Veränderungen in den öffentlichen Haushalten anzeigt, die durch höhere oder niedrigere Steuereinnahmen ausgelöst werden","Макроикономически показател, показващ промените в публичните бюджети, предизвикани от увеличаване или намаляване на данъчните приходи","Μακροοικονομικός δείκτης που δείχνει αλλαγές στους δημόσιους προϋπολογισμούς που δημιουργούνται από αύξηση ή μείωση φορολογικών εσόδων","Az adóbevételek növekedése vagy csökkenése által kiváltott, az államháztartásban bekövetkező változásokat mutató makrogazdasági mutató.","Indicatore macroeconomico che mostra i cambiamenti nei bilanci pubblici innescati dall’aumento o dalla diminuzione delle entrate fiscali","Makroekonomikas rādītājs, kas atspoguļo izmaiņas valsts budžetā, ko izraisījis nodokļu ieņēmumu pieaugums vai samazinājums.","Wskaźnik makroekonomiczny pokazujący zmiany w budżetach publicznych wywołane wzrostem lub spadkiem dochodów podatkowych","Indicador macroeconómico que mostra as alterações nos orçamentos públicos provocadas pelo aumento ou diminuição das receitas fiscais","Indicador macroeconómico que muestra los cambios en los presupuestos públicos provocados por el aumento o la disminución de los ingresos fiscales",null,"Macro-economic indicator showing changes in public budgets triggered by tax revenue increase or decrease"]
[null,"find_NEBs","AL31","Reduced import dependency, impact on RES integration, supplier diversity, etc.; Herfindahl-Hirschman Index .","Geringere Einfuhrabhängigkeit, Auswirkungen auf die Integration erneuerbarer Energien, Lieferantenvielfalt usw.; Herfindahl-Hirschman-Index .","Намалена зависимост от вноса, въздействие върху интеграцията на ВЕИ, разнообразие на доставчиците и т.н.; Индекс на Херфиндал-Хиршман .","Μειωμένη εξάρτηση από εισαγωγές, αντίκτυπος στην ενοποίηση των ΑΠΕ, ποικιλομορφία προμηθευτών κ.λπ. Δείκτης Herfindahl-Hirschman.","Csökkentett importfüggőség, megújuló energiák integrációjára gyakorolt hatás, beszállítói sokszínűség stb.; Herfindahl-Hirschman index .","Riduzione della dipendenza dalle importazioni, impatto sull’integrazione delle fonti rinnovabili, diversità dei fornitori, ecc.; Indice Herfindahl-Hirschman .","Samazināta atkarība no enerģijas importa, ietekme uz AER integrāciju, enerģijas piegāžu diversifikācija utt.; Herfindāla-Hiršmana indekss.","Zmniejszona zależność od importu, wpływ na integrację OZE, różnorodność dostawców itp.","Redução da dependência das importações, impacto na integração das RES, diversidade dos fornecedores, etc.; Índice Herfindahl-Hirschman .","Reducción de la dependencia de las importaciones, impacto en la integración de las FFER, diversidad de proveedores, etc.; Índice Herfindahl-Hirschman.",null,"Reduced import dependency, impact on RES integration, supplier diversity, etc.; Herfindahl-Hirschman Index ."]
[null,"find_NEBs","AM31","Security of supply / self sufficiency","Versorgungssicherheit / Selbstversorgung","Сигурност на доставките/самодостатъчност","Ασφάλεια εφοδιασμού / αυτάρκεια","Ellátásbiztonság / önellátás","Sicurezza dell'approvvigionamento/autosufficienza","Enerģijas un resursu/izejvielu piegādes drošība/pašpietiekamība","Bezpieczeństwo dostaw/samowystarczalność","Segurança do abastecimento / autossuficiência.","Seguridad de suministro / autosuficiencia",null,"Security of supply / self sufficiency"]
[null,"find_NEBs","AN31","Security of energy/resource suppliers ","Sicherheit der Energie-/Ressourcenlieferant*innen","Сигурност на доставчиците на енергия/ресурси ","Ασφάλεια προμηθευτών ενέργειας/πόρων","Az energia-/erőforrás-beszállítók biztonsága ","Sicurezza dei fornitori di energia/risorse","Drošas enerģijas un resursu piegādes.","Bezpieczeństwo dostawców energii/zasobów ","Segurança com os fornecedores de energia/recursos ","Seguridad de los proveedores de energía/recursos",null,"Security of energy/resource suppliers "]
[null,"find_NEBs","AO31","Improving the safety of the equimpent.","Verbesserung der Sicherheit des Equipments.","Подобряване на безопасността на оборудването","Βελτίωση της ασφάλειας του εξοπλισμού","Az berendezések üzembiztonságának javítása.","Migliorare la sicurezza dell'attrezzatura.","Aprīkojuma ekspluatācijas drošuma uzlabošana.","Poprawa bezpieczeństwa urządzeń","Melhorar a segurança do equipamento.","Mejora de la seguridad del equimento.",null,"Improving the safety of the equimpent."]
[null,"find_NEBs","AP31","Reduced malfunctions.","Weniger Fehlfunktionen.",0,"Μειωμένες δυσλειτουργίες εξοπλσμού","Csökkentett üzemzavarok.","Malfunzionamenti ridotti.","Retāki bojājumi, mazāks nepieciešamās apkopes apjoms. ","Zmniejszenie liczby awarii","Redução das avarias.","Reducción de fallos de funcionamiento.",null,"Reduced malfunctions."]
[null,"find_NEBs","AQ31","Improving the electrical safety for the process equipmetns and building systems","Verbesserung der elektrischen Sicherheit von Prozessanlagen und Gebäudesystemen","Подобряване на електрическата безопасност на технологичното оборудване и сградните системи","Βελτίωση της ασφάλειας για τον εξοπλισμό διεργασιών και τα συστήματα κτιρίων","A technológiai berendezések és az épülettechnikai rendszerek elektromos biztonságának javítása.","Miglioramento della sicurezza elettrica delle apparecchiature di processo e dei sistemi di costruzione","Procesa iekārtu un ēku inženiersistēmu elektrodrošības uzlabošana.","Poprawa bezpieczeństwa elektrycznego urządzeń procesowych i systemów budowlanych.","Melhorar a segurança eléctrica dos equipamentos de processo, e dos sistemas de construção","Mejora de la seguridad eléctrica para los equipos de proceso y los sistemas de construcción",null,"Improving the electrical safety for the process equipmetns and building systems"]
[null,"find_NEBs","AR31","Number of reduced injuries.","Anzahl der reduzierten Verletzungen.","Намален брой наранявания /при аварии/.","Αριθμός μειωμένων τραυματισμών","A sérülések számának csökkenése.","Numero di infortuni ridotti.","Samazināts traumu skaits.","Zmniejszenie liczby urazów","Número de lesões reduzidas.","Número reducido de accidentes",null,"Number of reduced injuries."]
[null,"find_NEBs","AS31","Improved fault detection and measurement systems to allocate possible improvements.","Verbesserte Fehlererkennungs- und Messsysteme, um mögliche Verbesserungen zuzuordnen.","Усъвършенстване на системите за откриване на неизправности и измерване с цел разпределяне на възможните подобрения.","Βελτιωμένα συστήματα ανίχνευσης και μέτρησης σφαλμάτων για την κατανομή πιθανών βελτιώσεων.","Továbbfejlesztett hibaérzékelő és mérőrendszerek a lehetséges fejlesztések meghatározásához.","Miglioramento dei sistemi di rilevamento e misurazione dei guasti per allocare possibili miglioramenti.","Efektīvākas kļūdu noteikšanas un monitoringa sistēmas, lai noteiktu iespējamos uzlabojumus.","Ulepszone systemy wykrywania i pomiaru usterek w celu przydzielenia możliwych ulepszeń","Melhoria dos sistemas de deteção e medição de avarias para atribuir possíveis melhorias.","Mejora de los sistemas de detección y medición de fallos para asignar posibles mejoras.",null,"Improved fault detection and measurement systems to allocate possible improvements."]
[null,"find_NEBs","AT31","How many products are produced correctly from the first time (without modifications).","Wie viele Produkte werden vom ersten Mal an korrekt hergestellt (ohne Änderungen)","Колко продукта са произведени правилно от първия път (без модификации).","Πόσα προϊόντα παράγονται σωστά από την πρώτη φορά (χωρίς τροποποιήσεις).","Hány termék készül helyesen az első alkalomtól kezdve (módosítások nélkül).","Quanti prodotti vengono realizzati correttamente dalla prima volta (senza modifiche).","Raksturo, cik daudz produktu tiek saražoti pareizi no pirmās reizes (bez modifikācijām).","Ilość produktów wytwarzanych prawidłowo od pierwszego razu (bez modyfikacji)","Quantos produtos são produzidos corretamente desde a primeira vez (sem modificações).","Cuántos productos se producen correctamente desde la primera vez (sin modificaciones).",null,"How many products are produced correctly from the first time (without modifications)."]
[null,"find_NEBs","AU31","Eg. Increased life cycle of batteries.","Z. B. Verlängerung der Lebensdauer von Batterien.","Например по-дълъг жизнен цикъл на батериите.","Π.χ. Αύξηση του κύκλου ζωής των μπαταριών","Pl. az akkumulátorok megnövelt élettartama.","Per esempio. Aumento del ciclo di vita delle batterie.","Piemēram, ilgāks akumulatora kalpošanas laiks (dzīves cikls).","Np. wydłużony cykl życia baterii","Por exemplo, aumento do ciclo de vida das baterias.","Eg. Aumento del ciclo de vida de las baterías.",null,"Eg. Increased life cycle of batteries."]
[null,"find_NEBs","AV31","By better corporate image new customers can be reached and also the staff turnover can be reduced as it is a prestige to work there.","Durch ein besseres Unternehmensimage können neue Kund*innen erreicht werden und auch die Personalfluktuation kann verringert werden, da es ein Prestige ist, dort zu arbeiten.","Чрез по-добър корпоративен имидж може да се достигне до нови клиенти, а също и да се намали текучеството на персонала, тъй като е престижно да се работи там.","Με την καλύτερη εταιρική εικόνα μπορούν να προσεγγιστούν νέοι πελάτες και να μειωθεί ο κύκλος εργασιών του προσωπικού καθώς είναι κύρος να εργάζεται κάποιος σε αυτή.","A jobb vállalati arculat révén új ügyfeleket lehet elérni, és a személyzet fluktuációja is csökkenhet, mivel presztízst jelent ott dolgozni.","Con una migliore immagine aziendale si possono raggiungere nuovi clienti e anche il turnover del personale può essere ridotto poiché è un prestigio lavorare lì.","Ar labāku korporatīvo tēlu var sasniegt jaunus klientus, kā arī mazināt darbinieku mainību. ","Dzięki lepszemu wizerunkowi firmy można dotrzeć do nowych klientów, a także zmniejszyć rotację personelu, ponieważ praca w niej jest prestiżowa.","Através de uma melhor imagem da empresa, é possível alcançar novos clientes e também reduzir a rotação do pessoal, uma vez que é um prestígio trabalhar nessa empresa.","Mediante una mejor imagen corporativa se puede llegar a nuevos clientes y también se puede reducir la rotación de personal, ya que es un prestigio trabajar allí.",null,"By better corporate image new customers can be reached and also the staff turnover can be reduced as it is a prestige to work there."]
[null,"find_NEBs","AW31","N° of EU and national energy policies adopted","Anzahl der übernommenen EU- und nationalen Energiemaßnahmen","Брой приети енергийни политики на ЕС и на национално равнище","Αριθμός Ευρωπαϊκών και εθνικών ενεργειακών πολιτικών που έχουν εγκριθεί","Az elfogadott uniós és nemzeti energiapolitikák száma","N. di politiche energetiche comunitarie e nazionali adottate","Izpildīito (atbilstība) ES un nacionālo enerģētikas politikas normatīvo aktu skaits. ","Liczba przyjętych unijnych i krajowych polityk energetycznych","N.º de políticas energéticas comunitárias(EU) e nacionais adoptadas.","N° de políticas energéticas nacionales y de la UE adoptadas",null,"N° of EU and national energy policies adopted"]
[null,"find_NEBs","AX31","Risk of production disorganization.","Risiko der Produktionsstörung.","Риск от дезорганизация на производството.","Κίνδυνος αποδιοργάνωσης της παραγωγής","A termelés szétesésének kockázata.","Rischio di disorganizzazione produttiva.","Ražošanas dezorganizācijas riska samazinājums. ","Ryzyko dezorganizacji produkcji","Risco de desorganização da produção.","Riesgo de desorganización de la producción.",null,"Risk of production disorganization."]
[null,"find_NEBs","AY31","Higher outputs (nº of finished products) / a certain period of time.","Höherer Output (Anzahl der Fertigerzeugnisse) / eine bestimmte Zeitspanne.","По-висока производителност (брой готови продукти) / определен период от време.","Higher outputs (nº of finished products) / a certain period of time.","Nagyobb output (késztermékek száma) / bizonyos idő alatt.","Produzioni più elevate (nº di prodotti finiti) / un certo periodo di tempo.","Lielāka izlaide (gatavās produkcijas skaits) noteiktā laika periodā.","Wyższa wydajność (liczba gotowych produktów) w określonym czasie","Maior produção (número de produtos acabados)  num determinado período de tempo.","Mayores rendimientos (nº de productos terminados) / un cierto período de tiempo.",null,"Higher outputs (nº of finished products) / a certain period of time."]
[null,"find_NEBs","AZ31","Increased equipment lifetime due to better operating conditions/ maintenance/ improved fault detection.","Längere Lebensdauer der Geräte durch bessere Betriebsbedingungen/ Wartung/ verbesserte Fehlererkennung.","По-дълъг живот на оборудването поради по-добри условия на работа/поддръжка/подобрено откриване на неизправности.","Increased equipment lifetime due to better operating conditions/ maintenance/ improved fault detection.","A berendezések élettartamának növekedése a jobb működési feltételek/ karbantartás/ jobb hibafelismerés miatt.","Maggiore durata delle apparecchiature grazie a migliori condizioni operative/manutenzione/miglioramento del rilevamento dei guasti.","Palielināts aprīkojuma kalpošanas laiks, pateicoties labākiem darbības apstākļiem/ apkopei/ efektīvākai defektu atklāšanai.","Wydłużona żywotność sprzętu dzięki lepszym warunkom pracy/konserwacji/lepszemu wykrywaniu usterek","Aumento do tempo de vida do equipamento devido a melhores condições de funcionamento/ manutenção/ melhor deteção de falhas.","Mayor vida útil del equipo debido a mejores condiciones de operación / mantenimiento / detección de fallas mejorada.",null,"Increased equipment lifetime due to better operating conditions/ maintenance/ improved fault detection."]
[null,"find_NEBs","BA31","Reduced time of fault detection.","Verkürzte Zeit der Fehlererkennung.","Намалено време за откриване на неизправности.","Reduced time of fault detection.","A hibák észlelésének ideje megrövidül.","Tempo ridotto di rilevamento dei guasti.","Samazināts defektu noteikšanas laiks.","Skrócony czas wykrywania usterek","Redução do tempo de deteção de falhas","Reducción del tiempo de detección de fallos.",null,"Reduced time of fault detection."]
[null,"find_NEBs","O2","Envelope","Gebäudehülle","Сградна обвивка","Κέλυφος κτιρίου","Épületburok","Involucro","Ēkas norobežojošās konstrukcijas","Przegrody zewnętrzne","Envelope","Envolvente",null,"Envelope"]
[null,"find_NEBs","O3","Improvement to visible building envelope elements","Verbesserung der sichtbaren Elemente der Gebäudehülle","Подобрение на видимите елементи на сградната обвивка","Βελτίωση των εμφανών δομικών στοιχείων του κτιρίου","Az épületburok látható részeinek korszerűsítése","Miglioramenti degli elementi visibili dell'involucro edilizio","Redzamo ēkas norobežojošo konstrukciju uzlabošana","Poprawa elementów widocznych","Melhoria dos elementos visíveis da envolvente do edifício","Mejora de los elementos visibles de la envolvente del edificio",null,"Improvement to visible building envelope elements"]
[null,"find_NEBs","O4","Improvements to non-visible building envelope elements","Verbesserungen an nicht sichtbaren Elementen der Gebäudehülle","Подобрение на невидимите елементи на сградната обвивка","Βελτίωση των αδιαφανών δομικών στοιχείων του κτιρίου","Az épületburok nem látható részeinek korszerűsítése","Miglioramenti agli elementi non visibili dell'involucro dell'edificio","Neredzamo ēkas norobežojošo konstrukciju uzlabošana","Poprawa elementów niewidocznych","Melhorias em elementos não visíveis da envolvente do edifício","Mejoras en los elementos no visibles de la envolvente del edificio",null,"Improvements to non-visible building envelope elements"]
[null,"find_NEBs","O5","Replacemert of windows","Fensteraustausch","Подмяна на дограма","Αντικατάσταση κουφωμάτων","Nyílászáró csere","Sostituzione finestre","Logu atjaunošana vai nomaiņa","Wymiana okien","Substituição de janelas","Sustitución de ventanas",null,"Replacemert of windows"]
[null,"find_NEBs","O6","Increasing the air-tightness of the building","Verbesserung der Luftdichte des Gebäudes","Повишаване на изолацията на сградата","Βελτίωση της αεροστεγανότητας του κτιρίου","Légtömörség javítása","Aumento della tenuta all’aria dell’edificio","Ēkas hermētiskuma uzlabošana","Zwiększenie szczelności budynku","Aumentar a estanqueidade do edifício","Aumento de la estanqueidad del edificio",null,"Increasing the air-tightness of the building"]
[null,"find_NEBs","O7","Shading to reduce summer heat gains","Sonnenschutz zur Reduzierung von sommerlicher Hitzeeinwirkung","Засенчване за намаляване на натрупването на топлина през лятото","Σκίαση κτιρίου","Árnyékolás","Ombreggiatura per ridurre gli apporti di calore estivi","Noēnojuma risinājumi, lai izvairītos no iekštelpu pārkaršanas","Zacienienie zmniejszające nagrzewanie się budynku latem","Sombreamento para reduzir os ganhos de calor no verão","Sombreado para reducir las ganancias de calor del verano",null,"Shading to reduce summer heat gains"]
[null,"find_NEBs","P2","Heating system","Heizungssystem","Система за отопление","Σύστημα θέρμανσης","Fűtési rendszer","Sistema di riscaldamento","Apkures sistēma","System ogrzewania","Sistema de aquecimento","Sistema de calor",null,"Heating system"]
[null,"find_NEBs","P3","Roomwise temperature control","Raumweise Temperaturregelung","Температурен контрол в помещенията","Έλεγχος θερμοκρασίας δωματίου ","Helyiségenkénti hőmérséklet szabályozás","Controllo della temperatura nelle stanze","Temperatūras kontrole telpās","Regulacja temperatury w poszczególnych pomieszczeniach","Controlo de temperatura ambiente","Control de temperatura ambiente",null,"Roomwise temperature control"]
[null,"find_NEBs","P4","Zoning optimisation of the building","Optimierung der Flächennutzung des Gebäudes","Оптимизиране на зонирането на сградата","Βελτιστοποίηση ζωνοποίησης του κτιρίου ","Zónánkénti optimalizáció","Ottimizzazione della zonizzazione dell'edificio","Ēkas zonējuma optimizācija","Optymalizacja podziału budynku na strefy","Otimização de zoneamento do edifício","Optimización de la zonificación del edificio",null,"Zoning optimisation of the building"]
[null,"find_NEBs","P5","Optimisation of the heating schedule","Optimierung des Heizprogramms","Оптимизиране на графика за отопление","Βελτιστοποίηση του προγράμματος θέρμανσης ","Fűtési menetrend optimalizáció","Ottimizzazione del programma di riscaldamento","Apkures grafika optimizācija","Optymalizacja harmonogramu ogrzewania","Otimização do programa de aquecimento","Optimización del horario de calefacción",null,"Optimisation of the heating schedule"]
[null,"find_NEBs","P6","Lowering setpoint temperature","Senkung der Solltemperatur","Намаляване на зададените температури","Μείωση θερμοκρασίας λειτουργίας ","Előírt hőmérséklet csökkentése","Abbassamento della temperatura nominale","Apkures temperatūras pazemināšana","Obniżenie temperatury zadanej","Reduzir a temperatura de referência","Reducción de la temperatura de consigna",null,"Lowering setpoint temperature"]
[null,"find_NEBs","P7","Control optimisation","Optimierung der Regelung","Оптимизация на контрола","Βελτιστοποίηση ελέγχου ","Szabályozás optimalizációja","Ottimizzazione del controllo","Vadības optimizācija","Optymalizacja sterowania","Otimização do controlo","Optimización del sistema de control",null,"Control optimisation"]
[null,"find_NEBs","P8","Insulation of the distribution network","Isolierung des Verteilungsnetzes","Изолация на разпределителната мрежа","Θερμομόνωση σωληνώσεων διανομής ","Elosztóhálózat hőszigetelése","Isolamento della rete di distribuzione","Apkures cauruļvadu siltināšana","Izolacja sieci dystrybucyjnej","Isolamento da rede de distribuição","Aislamiento de la red de distribución",null,"Insulation of the distribution network"]
[null,"find_NEBs","P9","Hydraulic balancing of the distribution network","Hydraulischer Abgleich des Verteilungsnetzes","Хидравлично балансиране на разпределителната мрежа","Υδραυλική ισοστάθμιση δικτύου διανομής","Elosztóhálózat beszabályozása","Bilanciamento idraulico della rete di distribuzione","Apkures sistēmas hidrauliskā balansēšana ","Równoważenie hydrauliczne sieci dystrybucyjnej","Balanceamento hidráulico da rede de distribuição","Equilibrado hidráulico de la red de distribución",null,"Hydraulic balancing of the distribution network"]
[null,"find_NEBs","P10","New, more efficient heat generator","Neuer, effizienterer Wärmeerzeuger","Нов, по-ефективен генератор на топлина","Νέο, πιο ενεργεικά αποδοτικό σύστημα παραγωγής θερμότητας ","Új, hatékonyabb hőtermelő","Nuovo generatore di calore più efficiente","Jauns, efektīvāks enerģijas avots","Nowy, bardziej wydajny generator ciepła","Gerador de calor novo e mais eficiente","Nuevo generador de calor más eficiente",null,"New, more efficient heat generator"]
[null,"find_NEBs","P11","Including a renewable based heat source","Einschließlich einer erneuerbaren Wärmequelle","Включване на източник на топлина от ВЕИ","Προσθήκη μιας ανανεώσιμης πηγής θέρμανσης","Megújulót hasznosító hőtermelő beilleszése","Inclusione di una fonte di calore rinnovabile","Atjaunojamo energoresursu izmantošana ","Włączenie do systemu odnawialnego źródła ciepła","Incluir uma fonte de calor de base renovável","Inclusión de una fuente de calor de base renovable",null,"Including a renewable based heat source"]
[null,"find_NEBs","P12","Energy efficient pumps","Energieeffiziente Pumpen","Енергийно ефективни помпи","Ενεργειακά αποδοτικές αντλίες","Energiahatékony szivattyúk","Pompe ad alta efficienza energetica","Energoefektīvi sūkņi","Energooszczędne pompy","Bombas energeticamente eficientes","Bombas energéticamente eficientes",null,"Energy efficient pumps"]
[null,"find_NEBs","Q2","DHW system","Warmwassersystem","DHW система /за битова гореща вода/","Σύστημα παραγωγής ζεστού νερού","HMV rendszer","Impianto per acqua calda sanitaria","Karstā ūdens apgādes sistēma","System CWU","Sistema de AQS","Sistema de ACS",null,"DHW system"]
[null,"find_NEBs","Q3","Reducing the DHW demand","Reduzierung des Warmwasserbedarfs","Намаляване на потреблението на битова гореща вода","Μείωση αναγκών ζεστού νερού χρήσης","HMV igény csökkentése","Riduzione della richiesta di ACS","Karstā ūdens patēriņa samazināšana","Zmniejszenie zapotrzebowania na ciepłą wodę użytkową","Reduzir a procura de AQS","Reducción de la demanda de ACS",null,"Reducing the DHW demand"]
[null,"find_NEBs","Q4","Insulation of the distribution network","Isolierung des Verteilungsnetzes","Изолация на разпределителната мрежа","Θερμομόνωση σωληνώσεων διανομής ","Elosztóhálózat hőszigetelése","Isolamento della rete di distribuzione","Karstā ūdens cauruļvadu siltināšana","Izolacja sieci dystrybucyjnej","Isolamento da rede de distribuição","Aislamiento de la red de distribución",null,"Insulation of the distribution network"]
[null,"find_NEBs","Q5","Lowering setpoint temperature","Senkung der Solltemperatur","Намаляване на зададените температури","Μείωση θερμοκρασίας λειτουργίας ","Melegvíz hőmérséklet csökkentése","Abbassamento della temperatura nominale","Karstā ūdens temperatūras pazemināšana","Obniżenie temperatury zadanej","Reduzir a temperatura de referência","Reducción de la temperatura de consigna",null,"Lowering setpoint temperature"]
[null,"find_NEBs","Q6","Circulation network optimisation, decentralisation of DHW production","Optimierung des Kreislaufsystems, Dezentralisierung der Warmwasserbereitung","Оптимизиране на циркулационната мрежа, децентрализация на производството на гореща вода за бита","Βελτιστοποίηση δικτύου κυκλοφορίας, αποκέντρωση της παραγωγής ζεστού νερού ","Cirkulációs hálózat optimalizálása, decentralizált rendszerre váltás","Ottimizzazione della rete di circolazione, decentramento della produzione di ACS","Cirkulācijas tīkla optimizācija, karstā ūdens ražošanas decentralizācija","Optymalizacja sieci cyrkulacyjnej, decentralizacja produkcji c.w.u.","Otimização da rede de circulação, descentralização da produção de AQS","Optimización de la red de circulación, descentralización de la producción de ACS",null,"Circulation network optimisation, decentralisation of DHW production"]
[null,"find_NEBs","Q7","New, more efficient heat generator","Neuer, effizienterer Wärmeerzeuger","Нов, по-ефективен генератор на топлина","Νέο, πιο ενεργεικά αποδοτικό σύστημα παραγωγής θερμότητας ","Új, hatékonyabb hőtermelő","Nuovo generatore di calore più efficiente","Jauns, efektīvāks siltuma avots","Nowy, bardziej wydajny generator ciepła","Gerador de calor novo e mais eficiente","Nuevo generador de calor más eficiente",null,"New, more efficient heat generator"]
[null,"find_NEBs","Q8","Including a renewable based heat source","Einschließlich einer erneuerbaren Wärmequelle","Включване на източник на топлина от ВЕИ","Προσθήκη μιας ανανεώσιμης πηγής θέρμανσης","Megújulót hasznosító hőtermelő beilleszése","Inclusione di una fonte di calore rinnovabile","Atjaunojamo energoresursu izmantošana ","Włączenie do systemu odnawialnego źródła ciepła","Incluir uma fonte de calor de base renovável","Inclusión de una fuente de calor de base renovable",null,"Including a renewable based heat source"]
[null,"find_NEBs","R2","Cooling system","Kühlsystem","Охладителна система","Σύτημα ψύξης","Hűtési rendszer","Sistema di rafffrescamento","Aukstumapgādes sistēma ","System chłodzenia","Sistema de refrigeração","Sistema de aire acondicionado",null,"Cooling system"]
[null,"find_NEBs","R3","Roomwise temperature control","Raumweise Temperaturregelung","Температурен контрол в помещенията","Έλεγχος θερμοκρασίας δωματίου ","Helyiségenkénti hőmérséklet szabályozás","Controllo della temperatura nelle stanze","Temperatūras kontrole telpās","Regulacja temperatury w poszczególnych pomieszczeniach","Controlo da temperatura ambiente","Control de temperatura ambiente",null,"Roomwise temperature control"]
[null,"find_NEBs","R4","Zoning optimisation of the building","Optimierung der Flächennutzung des Gebäudes","Оптимизиране на зонирането на сградата","Βελτιστοποίηση ζωνοποίησης του κτιρίου ","Zónánkénti optimalizáció","Ottimizzazione della zonizzazione dell'edificio","Ēkas zonējuma optimizācija","Optymalizacja podziału budynku na strefy","Otimização de zoneamento do edifício","Optimización de la zonificación del edificio",null,"Zoning optimisation of the building"]
[null,"find_NEBs","R5","Optimisation of the cooling schedule","Optimierung des Kühlsystems","Оптимизиране на графика за охлаждане","Βελτιστοποίηση του προγράμματος ψύξης","A hűtési menetrend optimalizációja","Ottimizzazione del programma di raffrescamento","Dzesēšanas grafika optimizācija","Optymalizacja harmonogramu chłodzenia","Otimização do programa de arrefecimento","Optimización del programa de refrigeración",null,"Optimisation of the cooling schedule"]
[null,"find_NEBs","R6","Increasing setpoint temperature","Erhöhung der Solltemperatur","Повишаване на зададените температури","Αύξηση θερμοκρασίας λειτουργίας ","A helyiséghőmérséklet növelése","Aumento della temperatura nominale","Dzesēšanas iestatītās temperatūras paaugstināšana","Podwyższenie temperatury zadanej","Aumento da temperatura de referência","Optimización del sistema de control",null,"Increasing setpoint temperature"]
[null,"find_NEBs","R7","Control optimisation","Optimierung der Regelung","Оптимизация на контрола","Βελτιστοποίηση ελέγχου ","Szabályozás optimalizációja","Ottimizzazione del controllo","Vadības optimizācija","Optymalizacja sterowania","Otimização do controlo","Optimización del control",null,"Control optimisation"]
[null,"find_NEBs","R8","Insulation of the distribution network","Isolierung des Verteilungsnetzes","Изолация на разпределителната мрежа","Θερμομόνωση σωληνώσεων διανομής ","Elosztóhálózat hőszigetelése","Isolamento della rete di distribuzione","Aukstumapgādes cauruļvadu siltināšana","Izolacja sieci dystrybucyjnej","Isolamento da rede de distribuição","Aislamiento de la red de distribución",null,"Insulation of the distribution network"]
[null,"find_NEBs","R9","Hydraulic balancing of the distribution network","Hydraulischer Abgleich des Verteilungsnetzes","Хидравлично балансиране на разпределителната мрежа","Υδραυλική ισοστάθμιση δικτύου διανομής","Elosztóhálózat beszabályozása","Bilanciamento idraulico della rete di distribuzione","Aukstumapgādes sistēmas hidrauliskā balansēšana","Równoważenie hydrauliczne sieci dystrybucyjnej","Balanceamento hidráulico da rede de distribuição","Equilibrado hidráulico de la red de distribución",null,"Hydraulic balancing of the distribution network"]
[null,"find_NEBs","R10","New, more efficient heat generator","Neuer, effizienterer Wärmeerzeuger","Нов, по-ефективен генератор на топлина","Νέο, πιο ενεργεικά αποδοτικό σύστημα παραγωγής θερμότητας ","Új, hatékonyabb hűtőberendezés","Nuovo generatore di calore più efficiente","Jauns, efektīvāks enerģijas avots","Nowy, bardziej wydajny generator","Gerador de calor novo e mais eficiente","Nuevo generador de calor más eficiente",null,"New, more efficient heat generator"]
[null,"find_NEBs","R11","Energy efficient pumps","Energieeffiziente Pumpen","Energy efficient pumps","Ενεργειακά αποδοτικές αντλίες","Energiahatékony szivattyúk","Pompe ad alta efficienza energetica","Energoefektīvi sūkņi","Energooszczędne pompy","Bombas energeticamente eficientes","Bombas energéticamente eficientes",null,"Energy efficient pumps"]
[null,"find_NEBs","R12","Utilisation of free cooling","Verwendung von freier Kühlung","Използване на свободно охлаждане","Χρήση συστήματος ελεύθερης ψύξης","Szabad hűtés alkalmazása","Utilizzo del freecooling","Brīvdzesēšanas režīma izmantošana ","Wykorzystanie free coolingu","Utilização de free cooling","Utilización del free cooling",null,"Utilisation of free cooling"]
[null,"find_NEBs","R13","Utilising the waste heat from the cooling system for heating&DHW","Nutzung der Abwärme des Kühlsystems für Heizung und Warmwasserbereitung","Оползотворяване на отпадната топлина от охладителната система за отопление и БГВ","Χρήση απορριπτόμενης θερμότητας του συστήματος ψύξης για θέρμσανση και ΖΝΧ","Hűtési hulladékhő hasznosítása fűtési és HMV célra","Utilizzo del calore di scarto del sistema di raffreddamento per riscaldamento e acqua calda","Dzesēšanas sistēmas siltuma pārpalikumu izmantošana apkurei un karstajam ūdenim","Wykorzystanie ciepła odpadowego z systemu chłodzenia do ogrzewania i podgrzewania ciepłej wody użytkowej","Utilizar o calor residual do sistema de arrefecimento para aquecimento & AQS","Utilización del calor residual del sistema de refrigeración para calefacción & ACS",null,"Utilising the waste heat from the cooling system for heating&DHW"]
[null,"find_NEBs","S2","Ventilation system","Belüftungssystem","Вентилационна система","Σύστημα εξαερισμού","Szellőzőrendszer","Sistema di ventilazione","Ventilācijas sistēma","System wentylacji","Sistema de ventilação","Sistema de ventilación",null,"Ventilation system"]
[null,"find_NEBs","S3","Schedule optimisation","Optimierung des Ablaufs","Оптимизиране на графика","Βελτιστοποίηση προγράμματος λειτουργίας","Menetrendi optimalizáció","Ottimizzazione della pianificazione","Grafiku optimizācija","Optymalizacja harmonogramu","Otimização de cronograma","Optimización de horarios",null,"Schedule optimisation"]
[null,"find_NEBs","S4","Control optimisation","Optimierung der Regelung","Оптимизация на контрола","Βελτιστοποίηση ελέγχου ","Szabályozás optimalizációja","Ottimizzazione del controllo","Vadības optimizācija","Optymalizacja sterowania","Otimização do controlo","Optimización del control",null,"Control optimisation"]
[null,"find_NEBs","S5","Air velocity optimisation","Optimierung der Luftstromgeschwindigkeit","Оптимизиране на скоростта на въздуха","Βελτίωση ταχύτητας του αέρα ","Légsebesség optimalizációja","Ottimizzazione della velocità dell'aria","Gaisa plūsmas optimizācija","Optymalizacja prędkości przepływu powietrza","Otimização da velocidade do ar","Optimización de la velocidad del aire",null,"Air velocity optimisation"]
[null,"find_NEBs","S6","Inlet air temperature optimisation","Optimierung der Lufteintrittstemperatur","Оптимизиране на температурата на входящия въздух","Βελτιστοποίηση θερμοκρασίας αέρα εισαγωγής","Befúvott levegő hőmérsékletének optimalizációja","Ottimizzazione della temperatura dell'aria in ingresso","Ieplūstošā gaisa temperatūras optimizācija","Optymalizacja temperatury powietrza na wlocie","Otimização da temperatura do ar de entrada","Optimización de la temperatura del aire de entrada",null,"Inlet air temperature optimisation"]
[null,"find_NEBs","S7","Heat recovery","Wärmerückgewinnung","Рекуперация на топлина","Ανάκτηση θερμότητας ","Hővisszanyerés","Recupero di calore","Siltuma atgūšana","Odzysk ciepła","Recuperação de calor","Recuperación de calor",null,"Heat recovery"]
[null,"find_NEBs","S8","Energy efficient fans","Energieeffiziente Ventilatoren","Енергийно ефективни вентилатори","Ενεργειακά αποδοτικοί ανεμιστήρες","Energiahatékony szivattyúk","Ventilatori ad alta efficienza energetica","Energoefektīvi ventilatori","Energooszczędne wentylatory","Ventiladores energeticamente eficientes","Ventiladores energéticamente eficientes",null,"Energy efficient fans"]
[null,"find_NEBs","T2","Lighting","Beleuchtung","Осветление","Φωτισμός","Világítás","Illuminazione","Apgaismojums","Oświetlenie","Iluminação","Iluminación",null,"Lighting"]
[null,"find_NEBs","T3","Energy efficient lights (e.g LED)","Energieeffiziente Leuchten (z. B. LED)","Енергийно ефективни лампи (напр. LED)","Ενεργειακά αποδοτικοί λαμπτήρες (π.χ. LED)","Energiahatékony világítótestek (pl. LED)","Luci a risparmio energetico (ad esempio LED)","Energoefektīvs apgaismojums (piemēram, LED)","Energooszczędne oświetlenie (np. LED)","Lâmpadas energeticamente eficientes (ex: LED)","Luces energéticamente eficientes (por ejemplo, LED)",null,"Energy efficient lights (e.g LED)"]
[null,"find_NEBs","T4","Level of illumination","Beleuchtungsstärke","Ниво на осветяване","Επίπεδο φωτισμού ","Megvilágítási szint csökkentése","Livello di illuminazione","Apgaismojuma līmenis","Poziom oświetlenia","Nível de iluminação","Nivel de iluminación",null,"Level of illumination"]
[null,"find_NEBs","T5","Schedule optimisation","Optimierung des Ablaufplans","Оптимизация на графика","Βελτιστοποίηση προγράμματος λειτουργίας","Menetrendi optimalizáció","Ottimizzazione della pianificazione","Grafika optimizācija","Optymalizacja harmonogramu","Otimização de cronograma","Optimización de horarios",null,"Schedule optimisation"]
[null,"find_NEBs","T6","Control optimisation","Optimierung der Regelung","Оптимизация на контрола","Βελτιστοποίηση ελέγχου ","Szabályozás optimalizációja","Ottimizzazione del controllo","Vadības optimizācija","Optymalizacja sterowania","Otimização de controlo","Optimización del control",null,"Control optimisation"]
[null,"find_NEBs","T7","Utilisation of natural light","Nutzung des natürlichen Lichts","Използване на естествена светлина","Χρήση φυσικού φωτισμού","Természetes fény jobb hasznosítása","Utilizzo della luce naturale","Dabiskā apgaismojuma izmantošana","Wykorzystanie naturalnego światła","Aproveitamento da luz natural","Aprovechamiento de la luz natural",null,"Utilisation of natural light"]
[null,"find_NEBs","U2","Renewable energy","Erneuerbare Energie","Възобновяема енергия","Ανανεώσιμες πηγές","Megújuló energiák","Energia Rinnovabile ","Atjaunojamā enerģija","Energia odnawialna","Energia renovável","Energía renovable",null,"Renewable energy"]
[null,"find_NEBs","U3","Solar PV","Solare Photovoltaik","Соларни ФВ","Φ/Β συστήματα","Szolár PV","Solare fotovoltaico","Saules PV","Fotowoltaika","Energia solar fotovoltaica","Energía solar fotovoltaica",null,"Solar PV"]
[null,"find_NEBs","U4","Wind turbine","Windkraftanlage","Вятърни турбини","Ανεμογεννήτριες","Szélturbinák","Impianto eolico","Vēja turbīnas","Turbina wiatrowa","Turbina eólica","Aerogenerador",null,"Wind turbine"]
[null,"find_NEBs","U5","Solar collector system","Solarkollektoranlage","Соларна колекторна система","Ηλιακοί συλλέκτες","Napkollektorok","Solare termico","Saules kolektori","System kolektorów słonecznych","Sistema de colectores solares","Sistema de colectores solares",null,"Solar collector system"]
[null,"find_NEBs","U6","Geothermal heat pump system","Geothermische Wärmepumpenanlage","Геотермална термопомпена система","Γεωθερμική αντλία θερμότητας","Geotermikus hőszivattyúk","Pompe di calore geotermiche","Ģeotermālais siltumsūknis","Geotermalny system pomp ciepła","Sistema de bomba de calor geotérmica","Sistema de bomba de calor geotérmica",null,"Geothermal heat pump system"]
[null,"find_NEBs","U7","Passive measures","Passive Maßnahmen","Пасивни мерки","Παθητικά συστήματα","Passzív megoldások","Misure passive","Pasīvie risinājumi ","Środki pasywne","Medidas passivas","Medidas pasivas",null,"Passive measures"]
[null,"find_NEBs","V2","Appliances","Geräte","Ел. уреди","Συσκευές","Készülékek","Elettrodomestici","Elektroierīces ","Urządzenia AGD, RTV i IT","Eletrodomésticos","Electrodomésticos",null,"Appliances"]
[null,"find_NEBs","V31","Energy efficient appliances","Energieeffiziente Geräte","Енергийно-ефективни електроуреди","Ενεργειακά αποδοτικές συσκευές","Energiahatékony készülékek alkalmazása","Elettrodomestici ad alta efficienza energetica","Energoefektīvas ierīces","Energooszczędne urządzenia","Aparelhos energeticamente eficientes","Electrodomésticos energéticamente eficientes",null,"Energy efficient appliances"]
[null,"find_NEBs","V4","Reducing stand-by consumption","Senkung des Stand-by-Verbrauchs","Намаляване на потреблението в режим на готовност","Μείωση καταναλώσεων από συνθήκες αναμονής","Készenléti fogyasztás csökkentése","Riduzione dei consumi in stand-by","Samazināts elektroenerģijas patēriņš gaidīšanas režīmā","Zmniejszenie zużycia energii w trybie stand-by","Redução do consumo em standby","Reducción del consumo en espera",null,"Reducing stand-by consumption"]
[null,"find_NEBs","V5","Optimal usage, on demand operation","Optimale Nutzung, Verwendung bei Bedarf","Оптимално използване, работа при необходимост","Βέλτιστη χρήση, λειτουργία βάσει αναγκών","Optimális használat, igényekhez való illesztés","Utilizzo ottimale, funzionamento su richiesta","Optimāla lietošana, izmantošana pēc pieprasījuma","Optymalne wykorzystanie, praca na żądanie","Otimização do consumo","Uso óptimo, operación bajo demanda",null,"Optimal usage, on demand operation"]
[null,"find_NEBs","W2","Building automation","Gebäudeautomatisierung","Сградна автоматизация","Αυτοματισμοί κτιρίου","Épületautomatizálás","Automazione degli edifici","Ēkas vadības sistēma","Automatyka","Automação de edificios","Sistemas de domótica",null,"Building automation"]
[null,"find_NEBs","W3","Building automation and management systems","Gebäudeautomations- und -managementsysteme","Системи за сградна автоматизация и управление","Συστήματα αυτοματισμών και διαχείρισης κτιρίου","Épületautomatika és -menedzsment","Sistemi di automazione e gestione degli edifici","Ēku automatizācijas un vadības sistēmas uzstādīšana ","Systemy automatyki i zarządzania budynkiem","Sistemas de automação e gestão de edificios","Sistemas de automatización y gestión de edificios",null,"Building automation and management systems"]
[null,"find_NEBs","W4","Energy management system","Energiemanagementsystem","Система за енергиен мениджмънт","Σύστημα ενεργειακής διαχείρισης","Energiamenedzsment rendszer","Sistema di gestione dell'energia","Energopārvaldības sistēmas izveide un uzturēšana","System zarządzania energią","Sistema de gestão de energia","Sistema de gestión energética",null,"Energy management system"]
[null,"find_NEBs","W5","Measured consumption","Gemessener Energieverbrauch","Измерено потребление","Ακριβής καταγραφή καταναλώσεων","Mért fogyasztás","Consumo misurato","Enerģijas patēriņa mērījumi ","Mierzenie zużycia energii","Monitorização do consumo","Monitorización del consumo",null,"Measured consumption"]
[null,"find_NEBs","W6","Improved smart-readiness","Verbesserte Smart-Readiness","Подобрена готовност за работа с интелигентни системи","Βελτιωμένη εθιεία εξοπλισμού Improved smart-readiness","Épületokosítás","Sistemi di automazione/controllo negli edifici (building-automation)","Uzlabota viedā gatavība","Zwiększona gotowość do pracy w trybie smart","Melhoria da Smart-Readiness","Preparación para instalación de sistemas smart",null,"Improved smart-readiness"]
[null,"find_NEBs","X2","Compressed air system","Druckluftsystem","С-ма за сгъстен въздух","Σύστημα συμπιεσμένου αέρα","Nagynyomású levegő rendszer","Sistemi ad aria compressa","Saspiestā gaisa sistēma","System sprężonego powietrza","Sistema de ar comprimido","Sistema de aire comprimido",null,"Compressed air system"]
[null,"find_NEBs","X3","Check the required pressure","Überprüfung des erforderlichen Drucks","Проверка на необходимото налягане","Ελεγχος απαιτούμενης πίεσης","A szükséges nyomás ellenőrzése","Controllo della pressione richiesta","Spiediena pārbaude","Sprawdzanie wymaganego ciśnienia","Verificar a pressão necessária","Comprobación de la presión requerida",null,"Check the required pressure"]
[null,"find_NEBs","X4","Regular check for leakages","Regelmäßige Kontrolle auf Dichtheit","Редовна проверка за течове","Τακτικός έλεγχος για διαρροές","Rendszeres szivárgásellenőrzés","Controllo regolare delle perdite","Regulāras pārbaudes uz noplūdēm","Regularna kontrola pod kątem wycieków","Verificação regular de fugas","Comprobación periódica de fugas",null,"Regular check for leakages"]
[null,"find_NEBs","X5","Waste heat recovery ","Wärmerückgewinnung","Оползотворяване на отпадна топлина ","Ανάκτηση απορριπτόμενης θερμότητας ","Hulladékhő hasznosítás","Recupero del calore residuo","Siltuma pārpalikumu izmantošana ","Odzysk ciepła odpadowego","Recuperação de calor residual","Recuperación de calor residual",null,"Waste heat recovery "]
[null,"find_NEBs","X6","Regular maintenance of the compressor","Regelmäßige Wartung des Kompressors","Редовна поддръжка на компресора","Τακτική συντήρηση συμπιεστή","Kompresszor rendszeres karbantartása","Manutenzione regolare del compressore","Regulāra kompresora apkope","Regularna konserwacja sprężarki","Manutenção regular do compressor","Mantenimiento regular del compresor",null,"Regular maintenance of the compressor"]
[null,"find_NEBs","Y2","Steam system","Dampfsystem","Парна система","Σύστημα παραγωγής ατμού","Gőzellátó rendszer","Sistema a vapore  ","Tvaika sistēma","System pary","Sistema de vapor","Sistema de vapor",null,"Steam system"]
[null,"find_NEBs","Y3","Check the required pressure","Prüfung des erforderlichen Drucks","Проверка на необходимото налягане","Ελεγχος απαιτούμενης πίεσης","A szükséges nyomás ellenőrzése","Controllo della pressione richiesta","Spiediena pārbaude","Sprawdzanie wymaganego ciśnienia","Verificar a pressão necessária","Comprobación de la presión requerida",null,"Check the required pressure"]
[null,"find_NEBs","Y4","Check for leakages","Kontrolle auf Dichtheit","Проверка за течове","Τακτικός έλεγχος για διαρροές","Rendszeres szivárgásellenőrzés","Controllo delle perdite","Regulāras pārbaudes uz noplūdēm","Sprawdzanie szczelności","Verificar a existência de fugas","Comprobación de fugas",null,"Check for leakages"]
[null,"find_NEBs","Y5","Regular maintenance of the boiler","Regelmäßige Wartung des Heizkessels","Редовна поддръжка на котела","Τακτική συντήρηση του λέβητα","A kazán rendszeres ellenőrzése","Manutenzione regolare della caldaia","Regulāra katla apkope","Regularna konserwacja kotła","Manutenção regular da caldeira","Mantenimiento regular de la caldera",null,"Regular maintenance of the boiler"]
[null,"find_NEBs","Z2","Refrigeration","Kühltechnik","Хладилна техника","Συστήματα ψύξης παραγωγικής διαδικασίας ","Hűtési technológiai rendszer","Refrigerazione","Saldēšana","Chłodzenie","Refrigeração","Sistema de frío",null,"Refrigeration"]
[null,"find_NEBs","Z3","Optimisation of the required temperatures","Optimierung der erforderlichen Temperaturen","Оптимизация на необходимите температури","Βελτιστοποίηση απαιτούμενης θερμοκρασίας λειτουργίας","A szükséges hőmérsékletek ellenőrzése","Ottimizzazione delle temperature richieste","Nepieciešamās temperatūras optimizācija","Optymalizacja wymaganych temperatur","Otimização das temperaturas requeridas","Optimización de las temperaturas requeridas",null,"Optimisation of the required temperatures"]
[null,"find_NEBs","Z4","Waste heat recovery ","Wärmerückgewinnung","Оползотворяване на отпадна топлина ","Ανάκτηση απορριπτόμενης θερμότητας ","Hővisszanyerés","Recupero del calore residuo","Siltuma pārpalikumu izmantošana ","Odzysk ciepła odpadowego","Recuperação de calor residual ","Recuperación de calor residual",null,"Waste heat recovery "]
[null,"find_NEBs","Z5","Install frequency control (i.e. VRF) on chiller compressor.","Installation einer Frequenzregelung (z.B. VRF) am Kompressor der Kühlanlage.","Монтиране на честотно управление (напр. VRF) на компресора на чилъра.","Εγκατάσταση έλεγχου συχνότητας (VRF) στον συμπιεστή ψυκτικού συγκροτήματος","Frekvenciaszabályozás alkalmazása a hűtési kompresszornál (pl. VRF)","Installazione del controllo della frequenza (ovvero VRF) sul compressore del refrigeratore.","Frekvences kontroliera uzstādīšana dzesētāja kompresoram (piemēram, regulējamas aukstumaģenta plūsmas tehnoloģija)","Zainstalowanie sterowania częstotliwościowego (np. VRF) na sprężarce agregatu chłodniczego","Instalar um controlo de frequência (ex: VRF) no compressor do chiller.","Instalación de variadorde frecuencia (es decir, VRF) en el compresor enfriador.",null,"Install frequency control (i.e. VRF) on chiller compressor."]
[null,"find_NEBs","Z6","Install high efficiency or 2-rev electromotor on evaporation fan","Installation eines hocheffizienten Elektromotors oder eines Elektromotors mit 2 Umdrehungen am Verdunstungsventilator","Инсталиране на високоефективен или двуоборотен електромотор на вентилатора за изпаряване","Εγκατάσταση ηλεκτροκινητήρα υψηλής απόδοσης ή 2θμιο στον ανεμιστήρα εξάτμισης","Nagy hatásfokú vagy 2 fokozatú elektromotor felszerelése a párologtató oldali ventilátorra","Installazione di motori elettrici ad alta efficienza o a doppia velocità sul ventilatore lato sorgente","Augstas efektivitātes vai divu apgriezienu elektromotora uzstādīšana uz iztvaikošanas dzesētāja","Zainstalowanie wysokowydajnego lub 2-obrotowego silnika elektrycznego na wentylatorze wyparnym","Instalar um motor de alta eficiência ou de 2 rotações na ventoinha de evaporação","Instalación de un electromotor de alta eficiencia o de 2 revoluciones en el ventilador de evaporación",null,"Install high efficiency or 2-rev electromotor on evaporation fan"]
[null,"find_NEBs","Z7","Build a cooled front space for refrigeration units.","Einrichtung einer gekühlten Vorderseite für Kühlgeräte.","Изграждане на охладено предно пространство за хладилните агрегати.","Κατασκευή ενός ψυχρού χώρου μπροστά από τις μονάδες παραγωγής ψύξης","Hűtött térek előtt kondicionált zóna létrehozása","Costruzione di uno spazio anteriore raffreddato per le unità di refrigerazione.","Atdzesētas priekštelpas izveide saldēšanas iekārtām","Zbudowanie chłodzonej przestrzeni przedniej dla agregatów chłodniczych","Construir um espaço frontal refrigerado para unidades de refrigeração.","Construir un espacio frontal refrigerado para unidades de refrigeración.",null,"Build a cooled front space for refrigeration units."]
[null,"find_NEBs","Z8","Use hot refrigerant gas from the compressor for the initial stages of the defrosting cycle.","Verwendung von heißem Kältegas aus dem Kompressor für die ersten Phasen des Entfrostungszyklus.","Използване на горещ хладилен газ от компресора за началните етапи на цикъла на размразяване.","Χρησιμοποιήστε θερμαινόμενο ψυκτικό αέριο στον συμπιεστή για τα αρχικά στάδια του κύκλου απόψυξης","A kompresszorból származó forró hűtőgáz használata a leolvasztási ciklus kezdeti szakaszaiban.","Utilizzare il gas refrigerante caldo proveniente dal compressore per le fasi iniziali del ciclo di sbrinamento.","Karstās aukstumaģenta gāzes (no kompresora) izmantošana atkausēšanas cikla sākumā","Wykorzystanie gorącego czynnika chłodniczego ze sprężarki do początkowych etapów cyklu odszraniania","Utilizar o gás refrigerante quente do compressor para as fases iniciais do ciclo de descongelação.","Utilización de gas refrigerante caliente del compresor para las etapas iniciales del ciclo de descongelación.",null,"Use hot refrigerant gas from the compressor for the initial stages of the defrosting cycle."]
[null,"find_NEBs","Z9","Use excess heat from other production processes for the production of cooling using adsorption/absorption cooling.","Nutzung der überschüssigen Wärme aus anderen Produktionsprozessen zur Erzeugung von Kälte durch Adsorption/Absorptionskälte.","Използване на излишната топлина от други производствени процеси за производство на охлаждане чрез адсорбция/абсорбционно охлаждане.","Χρήση περίσσειας θερμότητας από άλλες διεργασίες παραγωγής για την παραγωγή ψύξης μέσω ψύξης από συσκευές προσρόφησης/απορρόφησης","Más termelési folyamatokból származó felesleges hő felhasználása hűtés előállítására adszorpciós/abszorpciós hűtéssel.","Utilizzare il calore in eccesso proveniente da altri processi produttivi per la produzione di potenza frigorifera utilizzando macchine frigorifere ad assorbimento/adsorbimento.","Ražošanas procesu siltuma pārpalikumu izmantošana dzesēšanas vajadzībām ar adsorbcijas/absorbcijas dzesētājiem","Wykorzystanie nadmiaru ciepła z innych procesów produkcyjnych do produkcji chłodu przy użyciu chłodzenia adsorpcyjnego/absorpcyjnego.","Utilizar o calor excedente de outros processos de produção para a produção de arrefecimento utilizando a refrigeração por adsorção/absorção.","Utilización del exceso de calor de otros procesos de producción para la producción de refrigeración mediante refrigeración por adsorción/absorción.",null,"Use excess heat from other production processes for the production of cooling using adsorption/absorption cooling."]
[null,"find_NEBs","Z10","Utilisation of free cooling","Nutzung der freien Kühlung","Оползотворяване на свободното охлаждане","Χρήση συστήματος ελεύθερης ψύξης","Szabad hűtés alkalmazása","Utilizzo del freecooling","Brīvdzesēšanas režīma izmantošana ","Wykorzystanie free-cooling","Utilização de free cooling","Utilización del free cooling",null,"Utilisation of free cooling"]
[null,"find_NEBs","Z11","Replacement of the equipment.","Austausch der Ausrüstung","Подмяна на оборудването","Αντικατάσταση εξοπλισμού","Berendezések cseréje","Sostituzione dell'attrezzatura.","Iekārtu nomaiņa","Wymiana sprzętu","Substituição do equipamento.","Sustitución del equipo actual",null,"Replacement of the equipment."]
[null,"find_NEBs","AA2","Water systems","Wasserversorgung","Водни системи","Συστήματα χρήσης νερού","Vízkezelés","Sistemi idrici","Ūdensapgādes sistēma","Systemy wodne","Sistemas de água","Sistema de agua",null,"Water systems"]
[null,"find_NEBs","AA3","Efficient pumps for the Water treatment system (if any)","Effiziente Pumpen für das Wasseraufbereitungssystem (falls vorhanden)","Ефективни помпи за системата за пречистване на вода (ако има такива)","Αποδοτικές αντλίες για σύστημα επεξεργασίας νερού (εάν υφίσταται)","Hatékony szivattyúk a vízkezelő rendszerbe (ha releváns)","Pompe efficienti per il sistema di trattamento dell'acqua (se presente)","Efektīvi sūkņi ūdens attīrīšanas sistēmai (ja tāda ir)","Wydajne pompy do systemu uzdatniania wody (jeśli występują)","Bombas eficientes para o sistema de tratamento de água (se houver)","Bombas eficientes para el sistema de tratamiento de agua (si las hay)",null,"Efficient pumps for the Water treatment system (if any)"]
[null,"find_NEBs","AA4","Advanced process of water recovery ","Fortschrittliches Verfahren zur Wasserrückgewinnung","Усъвършенстван процес за възстановяване на вода ","Προηγμένα συστήματα ανάκτησης νερού  ","Fejlett vízvisszanyerési eljárás","Processo avanzato di recupero dell'acqua ","Uzlabots ūdens atgūšanas process","Zaawansowany proces odzyskiwania wody","Processo avançado de recuperação de água","Proceso avanzado de recuperación de agua",null,"Advanced process of water recovery "]
[null,"find_NEBs","AB2","Production line","Produktionskette","Производствена линия","Γραμμή παραγωγής","Termelési lánc","Linea di produzione","Ražošanas līnija","Linia produkcyjna","Linha de produção","Línea de producción",null,"Production line"]
[null,"find_NEBs","AB3","Optimisation of the production process and workflow","Optimierung des Produktionsprozesses und des Arbeitsablaufs","Оптимизация на производствения процес и потока на работа","Βελτιστοποίηση της παραγωγικής διαδικασίας και ροής εργασιών ","A gyártási folyamat és a munkafolyamat optimalizálása","Ottimizzazione del processo produttivo e del flusso di lavoro","Ražošanas procesa un darbplūsmas optimizācija","Optymalizacja procesu produkcji i przebiegu pracy","Otimização do processo de produção e fluxo de trabalho","Optimización del proceso de producción y del flujo de trabajo",null,"Optimisation of the production process and workflow"]
[null,"find_NEBs","AB4","Waste reduction & recycling in the production line ","Abfallreduzierung und Recycling in der Produktionskette","Намаляване на отпадъците  в производствената линия и рециклиране","Μείωση και ανακύκλωση αποβλήτων στη γραμμή παραγωγής ","Hulladé csökkentése és újrahasznosítása a termelési láncban ","Riduzione e riutilizzo dei rifiuti nella linea di produzione","Atkritumu daudzuma samazināšana un pārstrāde ražošanas līnijā","Redukcja odpadów i recykling na linii produkcyjnej","Redução de resíduos & reciclagem na linha de produção","Reducción de residuos y reciclaje en la línea de producción",null,"Waste reduction & recycling in the production line "]
[null,"find_NEBs","AB5","Optimization of motor driven systems ","Optimierung von motorgetriebenen Systemen","Оптимизиране на системи, задвижвани от двигатели ","Βελτιστοποίηση χρήσης κινητήρων ","Motorhajtású rendszerek optimalizációja","Ottimizzazione dei sistemi motorizzati","Elektropiedziņas sistēmu optimizācija","Optymalizacja systemów napędzanych silnikiem ","Otimização de sistemas motorizados ","Optimización de sistemas accionados por motor",null,"Optimization of motor driven systems "]
[null,"find_NEBs","AB6","High efficient transmission system","Hocheffizientes Übertragungssystem","Високо ефективна трансмисионна система","Σύστημα μετάδοσης υψηλής απόδοσης","Nagy hatékonyságú erőátviteli rendszer","Sistema di trasmissione ad alta efficienza","Energoefektīvi transportieri","Wysokowydajny system transmisji","Sistema de transmissão de alta eficiência","Sistema de transmisión de alta eficiencia",null,"High efficient transmission system"]
[null,"find_NEBs","AB7","Reduction of the mAnnual labor","Verringerung der manuellen Arbeit","Намаляване на ръчния труд","Μείωση της ανθρώπινης εργασίας","Manuális munka csökkentése","Riduzione del lavoro manuale","Fiziskā (manuālā) darba samazināšana","Redukcja pracy wykonywanej ręcznie","Redução do trabalho manual","Reducción del trabajo manual",null,"Reduction of the mAnnual labor"]
[null,"find_NEBs","AB8","Regular maintenance of the equipment","Regelmäßige Wartung der Geräte","Редовна поддръжка но оборудването","Τακτική συντήρηση του εξοπλισμού ","A berendezések rendszeres karbantartása","Manutenzione regolare dell'attrezzatura","Regulāra iekārtu apkope","Regularna konserwacja sprzętu","Manutenção regular do equipamento","Mantenimiento regular del equipo",null,"Regular maintenance of the equipment"]
[null,"find_NEBs","AB9","Replacement of the equipment","Austausch der Ausrüstung","Подмяна на оборудването","Αντικατάσταση εξοπλισμού","A berendezések cseréje","Sostituzione dell'attrezzatura","Iekārtu nomaiņa","Wymiana sprzętu","Substituição do equipamento","Sustitución del equipo",null,"Replacement of the equipment"]
[null,"find_NEBs","AB10","Waste heat recovery ","Wärmerückgewinnung","Оползотворяване на отпадна топлина ","Ανάκτηση απορριπτόμενης θερμότητας  ","Hővisszanyerés","Recupero del calore residuo","Siltuma pārpalikumu izmantošana ","Odzyskiwanie ciepła odpadowego","Recuperação de calor residual ","Recuperación de calor residual",null,"Waste heat recovery "]
[null,"find_NEBs","AB11","Low-carbon packaging ","Kohlenstoffarme Verpackungen","Опаковки с малък въглероден отпечатък","Συσκευασίες χαμηλών εκπομπών άνθρακα","Alacsony szén-dioxid-kibocsátású csomagolás","Imballaggio a basse emissioni di carbonio","Oglekļa mazietilpīgs iepakojums","Opakowania niskoemisyjne","Embalagens com baixo teor de carbono ","Empaquetado sostenible",null,"Low-carbon packaging "]
[null,"find_NEBs","AC2","Transport of goods","Transport von Ware","Транспорт на стоки","Μεταφορές προϊόντων","Termékek szállítása","Trasporti","Preču transports","Transport towarów","Transporte de mercadorias","Transporte de productos/bienes",null,"Transport of goods"]
[null,"find_NEBs","AC3","Optimisation of timetables","Optimierung der Zeitpläne","Оптимизация на графика","Βελτιστοποίηση των χρονοδιαγραμμάτων","Menetrendi optimalizáció","Ottimizzazione degli orari","Grafiku optimizācija","Optymalizacja rozkładów jazdy","Otimização de horários","Optimización de horarios",null,"Optimisation of timetables"]
[null,"find_NEBs","AC4","Optimisation of routes","Optimierung der Routen","Оптимизация на маршрутите","Βελτιστοποίηση των δρομολογίων","Útvonalak optimalizációja","Ottimizzazione dei percorsi","Maršrutu optimizācija","Optymalizacja tras","Otimização de rotas","Optimización de rutas",null,"Optimisation of routes"]
[null,"find_NEBs","AC5","Optimisation of loads","Optimierung der Ladungen","Оптимизация на товарите","Βελτιστοποίηση των φορτίων","Járműterhelés optimalizáció","Ottimizzazione dei carichi","Slodžu optimizācija","Optymalizacja ładunków","Otimização de cargas","Optimización de cargas",null,"Optimisation of loads"]
[null,"find_NEBs","AC6","Optimisation of the fleet","Optimierung des Fuhrparks","Оптимизация на автомобилния парк","Βελτιστοποίηση του στόλου οχημάτων","Flotta optimalizáció","Ottimizzazione della flotta","Autoparka optimizācija ","Optymalizacja floty","Otimização da frota","Optimización de la flota",null,"Optimisation of the fleet"]
[null,"find_NEBs","AC7","Promote electromobility","Förderung der Elektromobilität","Промотиране на електромобили","Προώθηση ηλεκτροκίνησης ","Elektromobilitás promotálása","Promuovere la mobilità elettrica ","Elektromobilitātes veicināšana ","Promowanie elektromobilności","Promover a mobilidade eléctrica","Promoción de la electromovilidad",null,"Promote electromobility"]
[null,"find_NEBs","AC8","Promotion of modal shift for freight","Förderung der Verlagerung des Güterverkehrs","Насърчаване на преминаването към друг вид транспорт при товарните превози","Προώθηση μεταφοράς φορτίου εμπορευμάτων ","Az árufuvarozási módváltás előmozdítása","Promozione del trasferimento modale delle merci","Kravu pārvadājumu modālās maiņas veicināšana","Promowanie modalnej zmiany w transporcie towarowym","Promoção de transferência modal para cargas","Promoción de la transferencia modal para el transporte de mercancías",null,"Promotion of modal shift for freight"]
[null,"find_NEBs","AC9","Regular maintenance","Regelmäßige Wartung","Редовна поддръжка","Τακτική συντήρηση σοχημάτων","Rendszeres karbantartás","Manutenzione regolare","Regulāra apkope","Regularna konserwacja","Manutenção regular","Mantenimiento regular",null,"Regular maintenance"]
[null,"find_NEBs","AC10","Driver training","Fahrerausbildung","Обучение на водачите на МПС","Εκπαίδευση οδηγών","Sofőrök képzése","Formazione degli autisti","Vadītāju apmācība","Szkolenie kierowców","Treino do motorista","Formación de conductores",null,"Driver training"]
[null,"find_NEBs","AD2","Management & Maintenance measures","Management- und Instandhaltungsmaßnahmen","Мерки за управление и поддръжка","Μέτρα διαχείρισης και συντήρησης","Menedzsment és karbantartás","Gestione e manutenzione","Pārvaldība un monitorings","Środki zarządzania i utrzymania","Medidas de gestão & manutenção","Medidas de gestión y mantenimiento",null,"Management & Maintenance measures"]
[null,"find_NEBs","AD3","Green supply chain management","Umweltfreundliches Lieferkettenmanagement","\"Зелено\" управление на веригата на доставки","Διαχείριση πράσινης εφοδιαστικής αλυσίδας","Zöld ellátási lánc menedzsment","Gestione della catena di fornitura \"Green\"","Zaļās piegādes ķēdes vadība","Ekologiczne zarządzanie łańcuchem dostaw","Gestão ecológica da cadeia de abastecimento","Gestión ecológica de la cadena de suministro",null,"Green supply chain management"]
[null,"find_NEBs","AD4","Improved energy management","Verbessertes Energiemanagement","Подобрен енергиен мениджмънт","Βελτιωμένη ενεργειακή διαχειριση","Energiamenedzsment fejlesztése","Gestione energetica migliorata","Uzlabota energopārvaldība","Usprawnione zarządzanie energią","Melhoria da gestão energética","Gestión energética mejorada",null,"Improved energy management"]
[null,"find_NEBs","AD5","Improved environmental awareness at the management level","Verbessertes Umweltbewusstsein auf Managementebene","Подобрена екологична осведоменост на управленско ниво","Βελτίωση περιβαλλοντικής συνείδησης σε επίπεδο διοίκησης","Környezettudatosság fejlesztése a vezetés szintjén","Maggiore consapevolezza ambientale a livello manageriale, ","Uzlabota izpratne par vidi vadības līmenī","Wyższa świadomość ekologiczna na poziomie zarządzania","Melhoria da sensibilização ambiental a nível da gestão","Mayor conciencia ambiental a nivel de gestión",null,"Improved environmental awareness at the management level"]
[null,"find_NEBs","AE2","Occupant behaviour","Verhalten der Nutzer*innen","Поведение на обитателите","Συμπεριφορά χρηστών ","Felhasználói magatartás","Comportamento degli occupanti","Paradumi un uzvedība","Zachowania pracowników","Comportamento dos ocupantes","Comportamiento empleados",null,"Occupant behaviour"]
[null,"find_NEBs","AE3","Employee engagement and training","Engagement und Schulung der Mitarbeiter*innen","Ангажиране и обучение на служителите","Συμμετοχή και εκπαίδευση εργαζομένων","Alkalmazottak bevonása és képzése","Coinvolgimento e formazione dei dipendenti","Darbinieku iesaistīšana un apmācība","Zaangażowanie pracowników i szkolenia","Envolvimento e formação dos trabalhadores","Compromiso y capacitación de los empleados",null,"Employee engagement and training"]
[null,"find_NEBs","AE4","Motivation","Motivation","Мотивация","Κίνητρο","Motiváció","Motivazione","Motivācija","Motywacja","Motivação","Motivación",null,"Motivation"]

{"sheet":"important_NEBs","index":14,"n_rows":118,"n_cols":53,"rows_kept":118,"cut":false,"hidden":true,"merged":[[9,3,9,6],[65,3,65,6]]}
[]
[null,"NEB category","Social","Social","Social","Social","Social","Health","Health","Health","Health","Health","Health","Health","Environment","Environment","Environment","Environment","Environment","Environment","Environment","Environment","Environment","Environment","Economic","Economic","Economic","Economic","Economic","Economic","Economic","Economic","Economic","Economic","Economic","Economic","Economic","Security & Safety","Security & Safety","Security & Safety","Security & Safety","Security & Safety","Security & Safety","Security & Safety","Quality","Quality","Quality","Quality","Quality","Quality","Time","Time","Time"]
[null,"NEB","Employee satisfaction","Alleviation of energy poverty","Customers (new, satisfaction, etc.)","Improved supply chain relationships","Work performance","Health and well-being","(avoided) mortality","Disease burden \"daly\"","Sickness & absenteeism","Improved air quality","Improved lighting","Reduced noise","Emission reduction","Impact of EE on RES target achievement ","Ecosystem degradation","Reduced water use ","Reduced material consumption","Reduced emissions (dust, CO2, chemical agents etc.)","Reduced noise pollution","Reduced use of non-renewable resources ","Reduced litigations risks","Reduced waste","Improvement of compatitiveness","Innovation impacts","Reduction of (maintenance) costs","Reduction of emission or disposal fees","Shorter production cycle","Increased production yields","Increased real estate value","Reduction of (operating) costs","Macro economy","Usage of waste streams","Turnover of energy efficiency goods ","Employment effects","Impact on public budgets","Energy security","Security of supply / self sufficiency","Supplier diversity ","Operation safety of equipment","Less maintenance","Electrical safety","Reduced injuries","Accurate monitoring","Right First Time","Increased quality of products","Increased corporate image","Increased regulatory compliance","Risk reduction","Increased productivity","Increased equipment lifetime","Reduced time of fault detection"]
[null,"Top management",{"$f":"TOP!D99","v":0.33947368421052632},{"$f":"TOP!E99","v":5.2631578947368418E-2},{"$f":"TOP!F99","v":0.23421052631578948},{"$f":"TOP!G99","v":7.6315789473684212E-2},{"$f":"TOP!H99","v":0.16315789473684211},{"$f":"TOP!I99","v":0.20394736842105263},{"$f":"TOP!J99","v":7.7631578947368426E-2},{"$f":"TOP!K99","v":7.4999999999999997E-2},{"$f":"TOP!L99","v":0.14078947368421052},{"$f":"TOP!M99","v":0.13026315789473683},{"$f":"TOP!N99","v":6.1842105263157893E-2},{"$f":"TOP!O99","v":0.125},{"$f":"TOP!P99","v":0.81184210526315792},{"$f":"TOP!Q99","v":0.31447368421052629},{"$f":"TOP!R99","v":0.15394736842105264},{"$f":"TOP!S99","v":6.5789473684210523E-2},{"$f":"TOP!T99","v":6.0526315789473685E-2},{"$f":"TOP!U99","v":0.76315789473684215},{"$f":"TOP!V99","v":0.11973684210526316},{"$f":"TOP!W99","v":0.54868421052631577},{"$f":"TOP!X99","v":0.15},{"$f":"TOP!Y99","v":4.0789473684210528E-2},{"$f":"TOP!Z99","v":0.65263157894736845},{"$f":"TOP!AA99","v":5.6578947368421055E-2},{"$f":"TOP!AB99","v":0.22763157894736843},{"$f":"TOP!AC99","v":0.60263157894736841},{"$f":"TOP!AD99","v":5.6578947368421055E-2},{"$f":"TOP!AE99","v":8.1578947368421056E-2},{"$f":"TOP!AF99","v":0.50657894736842102},{"$f":"TOP!AG99","v":0.69605263157894737},{"$f":"TOP!AH99","v":0.16710526315789473},{"$f":"TOP!AI99","v":6.8421052631578952E-2},{"$f":"TOP!AJ99","v":0.18684210526315789},{"$f":"TOP!AK99","v":1.1842105263157895E-2},{"$f":"TOP!AL99","v":0.13947368421052631},{"$f":"TOP!AM99","v":0.55394736842105263},{"$f":"TOP!AN99","v":0.26973684210526316},{"$f":"TOP!AO99","v":2.763157894736842E-2},{"$f":"TOP!AP99","v":0.10657894736842105},{"$f":"TOP!AQ99","v":0.11447368421052631},{"$f":"TOP!AR99","v":3.4210526315789476E-2},{"$f":"TOP!AS99","v":5.526315789473684E-2},{"$f":"TOP!AT99","v":7.8947368421052627E-2},{"$f":"TOP!AU99","v":4.736842105263158E-2},{"$f":"TOP!AV99","v":7.1052631578947367E-2},{"$f":"TOP!AW99","v":0.26052631578947366},{"$f":"TOP!AX99","v":0.18289473684210528},{"$f":"TOP!AY99","v":0.11710526315789474},{"$f":"TOP!AZ99","v":0.21447368421052632},{"$f":"TOP!BA99","v":0.20789473684210527},{"$f":"TOP!BB99","v":9.8684210526315791E-2}]
[null,"Employee",{"$f":"EMP!D99","v":0.16447368421052633},{"$f":"EMP!E99","v":1.3157894736842105E-2},{"$f":"EMP!F99","v":5.2631578947368418E-2},{"$f":"EMP!G99","v":4.3421052631578951E-2},{"$f":"EMP!H99","v":9.2105263157894732E-2},{"$f":"EMP!I99","v":0.12105263157894737},{"$f":"EMP!J99","v":4.8684210526315788E-2},{"$f":"EMP!K99","v":8.4210526315789472E-2},{"$f":"EMP!L99","v":0.10789473684210527},{"$f":"EMP!M99","v":9.4736842105263161E-2},{"$f":"EMP!N99","v":6.8421052631578952E-2},{"$f":"EMP!O99","v":0.11578947368421053},{"$f":"EMP!P99","v":0.4723684210526316},{"$f":"EMP!Q99","v":5.7894736842105263E-2},{"$f":"EMP!R99","v":0.14868421052631578},{"$f":"EMP!S99","v":4.2105263157894736E-2},{"$f":"EMP!T99","v":2.368421052631579E-2},{"$f":"EMP!U99","v":0.33552631578947367},{"$f":"EMP!V99","v":6.8421052631578952E-2},{"$f":"EMP!W99","v":0.21710526315789475},{"$f":"EMP!X99","v":2.368421052631579E-2},{"$f":"EMP!Y99","v":5.6578947368421055E-2},{"$f":"EMP!Z99","v":0.13289473684210526},{"$f":"EMP!AA99","v":4.4736842105263158E-2},{"$f":"EMP!AB99","v":8.4210526315789472E-2},{"$f":"EMP!AC99","v":9.0789473684210531E-2},{"$f":"EMP!AD99","v":3.8157894736842106E-2},{"$f":"EMP!AE99","v":0.05},{"$f":"EMP!AF99","v":2.5000000000000001E-2},{"$f":"EMP!AG99","v":0.17105263157894737},{"$f":"EMP!AH99","v":0},{"$f":"EMP!AI99","v":2.5000000000000001E-2},{"$f":"EMP!AJ99","v":0},{"$f":"EMP!AK99","v":1.1842105263157895E-2},{"$f":"EMP!AL99","v":8.0263157894736842E-2},{"$f":"EMP!AM99","v":4.4736842105263158E-2},{"$f":"EMP!AN99","v":2.5000000000000001E-2},{"$f":"EMP!AO99","v":9.2105263157894728E-3},{"$f":"EMP!AP99","v":8.5526315789473686E-2},{"$f":"EMP!AQ99","v":6.5789473684210523E-2},{"$f":"EMP!AR99","v":3.5526315789473684E-2},{"$f":"EMP!AS99","v":0.10263157894736842},{"$f":"EMP!AT99","v":1.8421052631578946E-2},{"$f":"EMP!AU99","v":3.9473684210526317E-3},{"$f":"EMP!AV99","v":1.9736842105263157E-2},{"$f":"EMP!AW99","v":9.8684210526315791E-2},{"$f":"EMP!AX99","v":2.2368421052631579E-2},{"$f":"EMP!AY99","v":4.2105263157894736E-2},{"$f":"EMP!AZ99","v":5.2631578947368418E-2},{"$f":"EMP!BA99","v":7.2368421052631582E-2},{"$f":"EMP!BB99","v":3.5526315789473684E-2}]
[null,"Legislator",{"$f":"LEG!D99","v":0.21052631578947367},{"$f":"LEG!E99","v":0.42236842105263156},{"$f":"LEG!F99","v":0.125},{"$f":"LEG!G99","v":1.8421052631578946E-2},{"$f":"LEG!H99","v":5.921052631578947E-2},{"$f":"LEG!I99","v":0.39605263157894738},{"$f":"LEG!J99","v":0.1618421052631579},{"$f":"LEG!K99","v":0.1618421052631579},{"$f":"LEG!L99","v":0.16447368421052633},{"$f":"LEG!M99","v":6.0526315789473685E-2},{"$f":"LEG!N99","v":-7.2368421052631582E-2},{"$f":"LEG!O99","v":-1.3157894736842105E-3},{"$f":"LEG!P99","v":0.71710526315789469},{"$f":"LEG!Q99","v":0.47763157894736841},{"$f":"LEG!R99","v":0.36578947368421055},{"$f":"LEG!S99","v":-5.2631578947368418E-2},{"$f":"LEG!T99","v":0.11578947368421053},{"$f":"LEG!U99","v":0.60789473684210527},{"$f":"LEG!V99","v":0.18552631578947368},{"$f":"LEG!W99","v":0.59342105263157896},{"$f":"LEG!X99","v":1.8421052631578946E-2},{"$f":"LEG!Y99","v":1.1842105263157895E-2},{"$f":"LEG!Z99","v":0.49736842105263157},{"$f":"LEG!AA99","v":0.38552631578947366},{"$f":"LEG!AB99","v":0.35657894736842105},{"$f":"LEG!AC99","v":0.69078947368421051},{"$f":"LEG!AD99","v":0.15526315789473685},{"$f":"LEG!AE99","v":0.21710526315789475},{"$f":"LEG!AF99","v":0.20263157894736841},{"$f":"LEG!AG99","v":0.51315789473684215},{"$f":"LEG!AH99","v":0.49736842105263157},{"$f":"LEG!AI99","v":0.3},{"$f":"LEG!AJ99","v":0.28421052631578947},{"$f":"LEG!AK99","v":0.26973684210526316},{"$f":"LEG!AL99","v":0.46052631578947367},{"$f":"LEG!AM99","v":0.77500000000000002},{"$f":"LEG!AN99","v":0.55526315789473679},{"$f":"LEG!AO99","v":0.26578947368421052},{"$f":"LEG!AP99","v":0.33157894736842103},{"$f":"LEG!AQ99","v":0.21447368421052632},{"$f":"LEG!AR99","v":0.25},{"$f":"LEG!AS99","v":0.16710526315789473},{"$f":"LEG!AT99","v":0.15},{"$f":"LEG!AU99","v":0.13815789473684212},{"$f":"LEG!AV99","v":0.14473684210526316},{"$f":"LEG!AW99","v":0.2013157894736842},{"$f":"LEG!AX99","v":0.41973684210526313},{"$f":"LEG!AY99","v":0.22105263157894736},{"$f":"LEG!AZ99","v":0.44210526315789472},{"$f":"LEG!BA99","v":0.26578947368421052},{"$f":"LEG!BB99","v":0.16578947368421051}]
[null,"Total",{"$f":"AVERAGE(C4:C6)","v":0.23815789473684212},{"$f":"AVERAGE(D4:D6)","v":0.16271929824561401},0.13728070175438598,4.6052631578947373E-2,0.10482456140350878,0.24035087719298245,9.6052631578947376E-2,0.10701754385964912,0.13771929824561405,9.5175438596491233E-2,1.9298245614035092E-2,7.982456140350877E-2,0.66710526315789476,0.28333333333333333,0.22280701754385968,1.8421052631578949E-2,6.6666666666666666E-2,0.56885964912280707,0.12456140350877193,0.45307017543859657,6.4035087719298237E-2,3.640350877192982E-2,0.42763157894736842,0.16228070175438594,0.22280701754385968,0.46140350877192987,8.3333333333333329E-2,0.11622807017543861,0.24473684210526314,0.4600877192982456,0.22149122807017543,0.13114035087719297,0.15701754385964914,9.7807017543859662E-2,0.22675438596491226,0.4578947368421053,0.28333333333333333,0.10087719298245613,0.17456140350877192,0.13157894736842105,0.10657894736842105,0.10833333333333332,8.2456140350877186E-2,6.3157894736842107E-2,7.850877192982457E-2,0.18684210526315789,0.20833333333333334,0.12675438596491229,0.23640350877192984,0.18201754385964911,9.9999999999999992E-2]
[]
[]
[null,null,null,"Importance of NEB"]
[null,{"$f":"TRANSPOSE(B2:BA7)","v":"NEB category"},"NEB","Top management","Employee","Legislator","Total"]
[null,"Social","Employee satisfaction",0.33947368421052632,0.16447368421052633,0.21052631578947367,0.23815789473684212]
[null,"Social","Alleviation of energy poverty",5.2631578947368418E-2,1.3157894736842105E-2,0.42236842105263156,0.16271929824561401]
[null,"Social","Customers (new, satisfaction, etc.)",0.23421052631578948,5.2631578947368418E-2,0.125,0.13728070175438598]
[null,"Social","Improved supply chain relationships",7.6315789473684212E-2,4.3421052631578951E-2,1.8421052631578946E-2,4.6052631578947373E-2]
[null,"Social","Work performance",0.16315789473684211,9.2105263157894732E-2,5.921052631578947E-2,0.10482456140350878]
[null,"Health","Health and well-being",0.20394736842105263,0.12105263157894737,0.39605263157894738,0.24035087719298245]
[null,"Health","(avoided) mortality",7.7631578947368426E-2,4.8684210526315788E-2,0.1618421052631579,9.6052631578947376E-2]
[null,"Health","Disease burden \"daly\"",7.4999999999999997E-2,8.4210526315789472E-2,0.1618421052631579,0.10701754385964912]
[null,"Health","Sickness & absenteeism",0.14078947368421052,0.10789473684210527,0.16447368421052633,0.13771929824561405]
[null,"Health","Improved air quality",0.13026315789473683,9.4736842105263161E-2,6.0526315789473685E-2,9.5175438596491233E-2]
[null,"Health","Improved lighting",6.1842105263157893E-2,6.8421052631578952E-2,-7.2368421052631582E-2,1.9298245614035092E-2]
[null,"Health","Reduced noise",0.125,0.11578947368421053,-1.3157894736842105E-3,7.982456140350877E-2]
[null,"Environment","Emission reduction",0.81184210526315792,0.4723684210526316,0.71710526315789469,0.66710526315789476]
[null,"Environment","Impact of EE on RES target achievement ",0.31447368421052629,5.7894736842105263E-2,0.47763157894736841,0.28333333333333333]
[null,"Environment","Ecosystem degradation",0.15394736842105264,0.14868421052631578,0.36578947368421055,0.22280701754385968]
[null,"Environment","Reduced water use ",6.5789473684210523E-2,4.2105263157894736E-2,-5.2631578947368418E-2,1.8421052631578949E-2]
[null,"Environment","Reduced material consumption",6.0526315789473685E-2,2.368421052631579E-2,0.11578947368421053,6.6666666666666666E-2]
[null,"Environment","Reduced emissions (dust, CO2, chemical agents etc.)",0.76315789473684215,0.33552631578947367,0.60789473684210527,0.56885964912280707]
[null,"Environment","Reduced noise pollution",0.11973684210526316,6.8421052631578952E-2,0.18552631578947368,0.12456140350877193]
[null,"Environment","Reduced use of non-renewable resources ",0.54868421052631577,0.21710526315789475,0.59342105263157896,0.45307017543859657]
[null,"Environment","Reduced litigations risks",0.15,2.368421052631579E-2,1.8421052631578946E-2,6.4035087719298237E-2]
[null,"Environment","Reduced waste",4.0789473684210528E-2,5.6578947368421055E-2,1.1842105263157895E-2,3.640350877192982E-2]
[null,"Economic","Improvement of compatitiveness",0.65263157894736845,0.13289473684210526,0.49736842105263157,0.42763157894736842]
[null,"Economic","Innovation impacts",5.6578947368421055E-2,4.4736842105263158E-2,0.38552631578947366,0.16228070175438594]
[null,"Economic","Reduction of (maintenance) costs",0.22763157894736843,8.4210526315789472E-2,0.35657894736842105,0.22280701754385968]
[null,"Economic","Reduction of emission or disposal fees",0.60263157894736841,9.0789473684210531E-2,0.69078947368421051,0.46140350877192987]
[null,"Economic","Shorter production cycle",5.6578947368421055E-2,3.8157894736842106E-2,0.15526315789473685,8.3333333333333329E-2]
[null,"Economic","Increased production yields",8.1578947368421056E-2,0.05,0.21710526315789475,0.11622807017543861]
[null,"Economic","Increased real estate value",0.50657894736842102,2.5000000000000001E-2,0.20263157894736841,0.24473684210526314]
[null,"Economic","Reduction of (operating) costs",0.69605263157894737,0.17105263157894737,0.51315789473684215,0.4600877192982456]
[null,"Economic","Macro economy",0.16710526315789473,0,0.49736842105263157,0.22149122807017543]
[null,"Economic","Usage of waste streams",6.8421052631578952E-2,2.5000000000000001E-2,0.3,0.13114035087719297]
[null,"Economic","Turnover of energy efficiency goods ",0.18684210526315789,0,0.28421052631578947,0.15701754385964914]
[null,"Economic","Employment effects",1.1842105263157895E-2,1.1842105263157895E-2,0.26973684210526316,9.7807017543859662E-2]
[null,"Economic","Impact on public budgets",0.13947368421052631,8.0263157894736842E-2,0.46052631578947367,0.22675438596491226]
[null,"Security & Safety","Energy security",0.55394736842105263,4.4736842105263158E-2,0.77500000000000002,0.4578947368421053]
[null,"Security & Safety","Security of supply / self sufficiency",0.26973684210526316,2.5000000000000001E-2,0.55526315789473679,0.28333333333333333]
[null,"Security & Safety","Supplier diversity ",2.763157894736842E-2,9.2105263157894728E-3,0.26578947368421052,0.10087719298245613]
[null,"Security & Safety","Operation safety of equipment",0.10657894736842105,8.5526315789473686E-2,0.33157894736842103,0.17456140350877192]
[null,"Security & Safety","Less maintenance",0.11447368421052631,6.5789473684210523E-2,0.21447368421052632,0.13157894736842105]
[null,"Security & Safety","Electrical safety",3.4210526315789476E-2,3.5526315789473684E-2,0.25,0.10657894736842105]
[null,"Security & Safety","Reduced injuries",5.526315789473684E-2,0.10263157894736842,0.16710526315789473,0.10833333333333332]
[null,"Quality","Accurate monitoring",7.8947368421052627E-2,1.8421052631578946E-2,0.15,8.2456140350877186E-2]
[null,"Quality","Right First Time",4.736842105263158E-2,3.9473684210526317E-3,0.13815789473684212,6.3157894736842107E-2]
[null,"Quality","Increased quality of products",7.1052631578947367E-2,1.9736842105263157E-2,0.14473684210526316,7.850877192982457E-2]
[null,"Quality","Increased corporate image",0.26052631578947366,9.8684210526315791E-2,0.2013157894736842,0.18684210526315789]
[null,"Quality","Increased regulatory compliance",0.18289473684210528,2.2368421052631579E-2,0.41973684210526313,0.20833333333333334]
[null,"Quality","Risk reduction",0.11710526315789474,4.2105263157894736E-2,0.22105263157894736,0.12675438596491229]
[null,"Time","Increased productivity",0.21447368421052632,5.2631578947368418E-2,0.44210526315789472,0.23640350877192984]
[null,"Time","Increased equipment lifetime",0.20789473684210527,7.2368421052631582E-2,0.26578947368421052,0.18201754385964911]
[null,"Time","Reduced time of fault detection",9.8684210526315791E-2,3.5526315789473684E-2,0.16578947368421051,9.9999999999999992E-2]
[]
[null,"Sort by","Top management"]
[]
[null,null,null,"Importance of NEB"]
[null,"NEB category","NEB","Top management","Employee","Legislator","Total"]
[null,{"$f":"_xlfn._xlws.SORT(B12:G62,_xlfn.SWITCH(C64,\"Top management\",3,\"Employee\",4,\"Legislator\",5,\"Total\",6,6),-1,FALSE)","v":"Environment"},"Emission reduction",0.81184210526315792,0.4723684210526316,0.71710526315789469,0.66710526315789476]
[null,"Environment","Reduced emissions (dust, CO2, chemical agents etc.)",0.76315789473684215,0.33552631578947367,0.60789473684210527,0.56885964912280707]
[null,"Economic","Reduction of (operating) costs",0.69605263157894737,0.17105263157894737,0.51315789473684215,0.4600877192982456]
[null,"Economic","Improvement of compatitiveness",0.65263157894736845,0.13289473684210526,0.49736842105263157,0.42763157894736842]
[null,"Economic","Reduction of emission or disposal fees",0.60263157894736841,9.0789473684210531E-2,0.69078947368421051,0.46140350877192987]
[null,"Security & Safety","Energy security",0.55394736842105263,4.4736842105263158E-2,0.77500000000000002,0.4578947368421053]
[null,"Environment","Reduced use of non-renewable resources ",0.54868421052631577,0.21710526315789475,0.59342105263157896,0.45307017543859657]
[null,"Economic","Increased real estate value",0.50657894736842102,2.5000000000000001E-2,0.20263157894736841,0.24473684210526314]
[null,"Social","Employee satisfaction",0.33947368421052632,0.16447368421052633,0.21052631578947367,0.23815789473684212]
[null,"Environment","Impact of EE on RES target achievement ",0.31447368421052629,5.7894736842105263E-2,0.47763157894736841,0.28333333333333333]
[null,"Security & Safety","Security of supply / self sufficiency",0.26973684210526316,2.5000000000000001E-2,0.55526315789473679,0.28333333333333333]
[null,"Quality","Increased corporate image",0.26052631578947366,9.8684210526315791E-2,0.2013157894736842,0.18684210526315789]
[null,"Social","Customers (new, satisfaction, etc.)",0.23421052631578948,5.2631578947368418E-2,0.125,0.13728070175438598]
[null,"Economic","Reduction of (maintenance) costs",0.22763157894736843,8.4210526315789472E-2,0.35657894736842105,0.22280701754385968]
[null,"Time","Increased productivity",0.21447368421052632,5.2631578947368418E-2,0.44210526315789472,0.23640350877192984]
[null,"Time","Increased equipment lifetime",0.20789473684210527,7.2368421052631582E-2,0.26578947368421052,0.18201754385964911]
[null,"Health","Health and well-being",0.20394736842105263,0.12105263157894737,0.39605263157894738,0.24035087719298245]
[null,"Economic","Turnover of energy efficiency goods ",0.18684210526315789,0,0.28421052631578947,0.15701754385964914]
[null,"Quality","Increased regulatory compliance",0.18289473684210528,2.2368421052631579E-2,0.41973684210526313,0.20833333333333334]
[null,"Economic","Macro economy",0.16710526315789473,0,0.49736842105263157,0.22149122807017543]
[null,"Social","Work performance",0.16315789473684211,9.2105263157894732E-2,5.921052631578947E-2,0.10482456140350878]
[null,"Environment","Ecosystem degradation",0.15394736842105264,0.14868421052631578,0.36578947368421055,0.22280701754385968]
[null,"Environment","Reduced litigations risks",0.15,2.368421052631579E-2,1.8421052631578946E-2,6.4035087719298237E-2]
[null,"Health","Sickness & absenteeism",0.14078947368421052,0.10789473684210527,0.16447368421052633,0.13771929824561405]
[null,"Economic","Impact on public budgets",0.13947368421052631,8.0263157894736842E-2,0.46052631578947367,0.22675438596491226]
[null,"Health","Improved air quality",0.13026315789473683,9.4736842105263161E-2,6.0526315789473685E-2,9.5175438596491233E-2]
[null,"Health","Reduced noise",0.125,0.11578947368421053,-1.3157894736842105E-3,7.982456140350877E-2]
[null,"Environment","Reduced noise pollution",0.11973684210526316,6.8421052631578952E-2,0.18552631578947368,0.12456140350877193]
[null,"Quality","Risk reduction",0.11710526315789474,4.2105263157894736E-2,0.22105263157894736,0.12675438596491229]
[null,"Security & Safety","Less maintenance",0.11447368421052631,6.5789473684210523E-2,0.21447368421052632,0.13157894736842105]
[null,"Security & Safety","Operation safety of equipment",0.10657894736842105,8.5526315789473686E-2,0.33157894736842103,0.17456140350877192]
[null,"Time","Reduced time of fault detection",9.8684210526315791E-2,3.5526315789473684E-2,0.16578947368421051,9.9999999999999992E-2]
[null,"Economic","Increased production yields",8.1578947368421056E-2,0.05,0.21710526315789475,0.11622807017543861]
[null,"Quality","Accurate monitoring",7.8947368421052627E-2,1.8421052631578946E-2,0.15,8.2456140350877186E-2]
[null,"Health","(avoided) mortality",7.7631578947368426E-2,4.8684210526315788E-2,0.1618421052631579,9.6052631578947376E-2]
[null,"Social","Improved supply chain relationships",7.6315789473684212E-2,4.3421052631578951E-2,1.8421052631578946E-2,4.6052631578947373E-2]
[null,"Health","Disease burden \"daly\"",7.4999999999999997E-2,8.4210526315789472E-2,0.1618421052631579,0.10701754385964912]
[null,"Quality","Increased quality of products",7.1052631578947367E-2,1.9736842105263157E-2,0.14473684210526316,7.850877192982457E-2]
[null,"Economic","Usage of waste streams",6.8421052631578952E-2,2.5000000000000001E-2,0.3,0.13114035087719297]
[null,"Environment","Reduced water use ",6.5789473684210523E-2,4.2105263157894736E-2,-5.2631578947368418E-2,1.8421052631578949E-2]
[null,"Health","Improved lighting",6.1842105263157893E-2,6.8421052631578952E-2,-7.2368421052631582E-2,1.9298245614035092E-2]
[null,"Environment","Reduced material consumption",6.0526315789473685E-2,2.368421052631579E-2,0.11578947368421053,6.6666666666666666E-2]
[null,"Economic","Innovation impacts",5.6578947368421055E-2,4.4736842105263158E-2,0.38552631578947366,0.16228070175438594]
[null,"Economic","Shorter production cycle",5.6578947368421055E-2,3.8157894736842106E-2,0.15526315789473685,8.3333333333333329E-2]
[null,"Security & Safety","Reduced injuries",5.526315789473684E-2,0.10263157894736842,0.16710526315789473,0.10833333333333332]
[null,"Social","Alleviation of energy poverty",5.2631578947368418E-2,1.3157894736842105E-2,0.42236842105263156,0.16271929824561401]
[null,"Quality","Right First Time",4.736842105263158E-2,3.9473684210526317E-3,0.13815789473684212,6.3157894736842107E-2]
[null,"Environment","Reduced waste",4.0789473684210528E-2,5.6578947368421055E-2,1.1842105263157895E-2,3.640350877192982E-2]
[null,"Security & Safety","Electrical safety",3.4210526315789476E-2,3.5526315789473684E-2,0.25,0.10657894736842105]
[null,"Security & Safety","Supplier diversity ",2.763157894736842E-2,9.2105263157894728E-3,0.26578947368421052,0.10087719298245613]
[null,"Economic","Employment effects",1.1842105263157895E-2,1.1842105263157895E-2,0.26973684210526316,9.7807017543859662E-2]

{"sheet":"TOP","index":15,"n_rows":99,"n_cols":56,"rows_kept":99,"cut":false,"hidden":true,"merged":[[84,0,91,0],[92,0,94,0],[95,0,96,0],[57,0,83,0],[0,51,0,53],[2,0,56,0],[0,3,0,7],[0,8,0,14],[0,15,0,24],[0,25,0,37],[0,38,0,44],[0,45,0,50]]}
[null,null,null,"Social",null,null,null,null,"Health",null,null,null,null,null,null,"Environment",null,null,null,null,null,null,null,null,null,"Economic",null,null,null,null,null,null,null,null,null,null,null,null,"Security & Safety",null,null,null,null,null,null,"Quality",null,null,null,null,null,"Time"]
[null,null,"EEM/NEB","Employee satisfaction","Alleviation of energy poverty","Customers (new, satisfaction, etc.)","Improved supply chain relationships","Work performance","Health and well-being","(avoided) mortality","Disease burden \"daly\"","Sickness & absenteeism","Improved air quality","Improved lighting","Reduced noise","Emission reduction","Impact of EE on RES target achievement ","Ecosystem degradation","Reduced water use ","Reduced material consumption","Reduced emissions (dust, CO2, chemical agents etc.)","Reduced noise pollution","Reduced use of non-renewable resources ","Reduced litigations risks","Reduced waste","Improvement of compatitiveness","Innovation impacts","Reduction of (maintenance) costs","Reduction of emission or disposal fees","Shorter production cycle","Increased production yields","Increased real estate value","Reduction of (operating) costs","Macro economy","Usage of waste streams","Turnover of energy efficiency goods ","Employment effects","Impact on public budgets","Energy security","Security of supply / self sufficiency","Supplier diversity ","Operation safety of equipment","Less maintenance","Electrical safety","Reduced injuries","Accurate monitoring","Right First Time","Increased quality of products","Increased corporate image","Increased regulatory compliance","Risk reduction","Increased productivity","Increased equipment lifetime","Reduced time of fault detection"]
["Building","Envelope",{"$f":"Sheet1!O162","v":"Improvement to visible building envelope elements"},{"$f":"SUM(AUT_top:POR_top!D3)","v":6},{"$f":"SUM(AUT_top:POR_top!E3)","v":1},{"$f":"SUM(AUT_top:POR_top!F3)","v":5},{"$f":"SUM(AUT_top:POR_top!G3)","v":1},{"$f":"SUM(AUT_top:POR_top!H3)","v":2},{"$f":"SUM(AUT_top:POR_top!I3)","v":3},{"$f":"SUM(AUT_top:POR_top!J3)","v":0},{"$f":"SUM(AUT_top:POR_top!K3)","v":0},{"$f":"SUM(AUT_top:POR_top!L3)","v":1},{"$f":"SUM(AUT_top:POR_top!M3)","v":0},{"$f":"SUM(AUT_top:POR_top!N3)","v":0},{"$f":"SUM(AUT_top:POR_top!O3)","v":2},{"$f":"SUM(AUT_top:POR_top!P3)","v":7},{"$f":"SUM(AUT_top:POR_top!Q3)","v":2},{"$f":"SUM(AUT_top:POR_top!R3)","v":1},{"$f":"SUM(AUT_top:POR_top!S3)","v":0},{"$f":"SUM(AUT_top:POR_top!T3)","v":0},{"$f":"SUM(AUT_top:POR_top!U3)","v":4},{"$f":"SUM(AUT_top:POR_top!V3)","v":1},{"$f":"SUM(AUT_top:POR_top!W3)","v":5},{"$f":"SUM(AUT_top:POR_top!X3)","v":1},{"$f":"SUM(AUT_top:POR_top!Y3)","v":1},{"$f":"SUM(AUT_top:POR_top!Z3)","v":4},{"$f":"SUM(AUT_top:POR_top!AA3)","v":0},{"$f":"SUM(AUT_top:POR_top!AB3)","v":2},{"$f":"SUM(AUT_top:POR_top!AC3)","v":4},{"$f":"SUM(AUT_top:POR_top!AD3)","v":0},{"$f":"SUM(AUT_top:POR_top!AE3)","v":0},{"$f":"SUM(AUT_top:POR_top!AF3)","v":6},{"$f":"SUM(AUT_top:POR_top!AG3)","v":5},{"$f":"SUM(AUT_top:POR_top!AH3)","v":2},{"$f":"SUM(AUT_top:POR_top!AI3)","v":0},{"$f":"SUM(AUT_top:POR_top!AJ3)","v":2},{"$f":"SUM(AUT_top:POR_top!AK3)","v":0},{"$f":"SUM(AUT_top:POR_top!AL3)","v":2},{"$f":"SUM(AUT_top:POR_top!AM3)","v":5},{"$f":"SUM(AUT_top:POR_top!AN3)","v":3},{"$f":"SUM(AUT_top:POR_top!AO3)","v":0},{"$f":"SUM(AUT_top:POR_top!AP3)","v":1},{"$f":"SUM(AUT_top:POR_top!AQ3)","v":2},{"$f":"SUM(AUT_top:POR_top!AR3)","v":0},{"$f":"SUM(AUT_top:POR_top!AS3)","v":0},{"$f":"SUM(AUT_top:POR_top!AT3)","v":0},{"$f":"SUM(AUT_top:POR_top!AU3)","v":0},{"$f":"SUM(AUT_top:POR_top!AV3)","v":0},{"$f":"SUM(AUT_top:POR_top!AW3)","v":6},{"$f":"SUM(AUT_top:POR_top!AX3)","v":2},{"$f":"SUM(AUT_top:POR_top!AY3)","v":0},{"$f":"SUM(AUT_top:POR_top!AZ3)","v":0},{"$f":"SUM(AUT_top:POR_top!BA3)","v":1},{"$f":"SUM(AUT_top:POR_top!BB3)","v":0},{"$f":"SUM(D3:BB3)","v":90},{"$f":"BC3/(51*8)","v":0.22058823529411764}]
[null,"Envelope",{"$f":"Sheet1!O163","v":"Improvements to non-visible building envelope elements"},{"$f":"SUM(AUT_top:POR_top!D4)","v":4},{"$f":"SUM(AUT_top:POR_top!E4)","v":1},{"$f":"SUM(AUT_top:POR_top!F4)","v":1},{"$f":"SUM(AUT_top:POR_top!G4)","v":0},{"$f":"SUM(AUT_top:POR_top!H4)","v":2},{"$f":"SUM(AUT_top:POR_top!I4)","v":2},{"$f":"SUM(AUT_top:POR_top!J4)","v":0},{"$f":"SUM(AUT_top:POR_top!K4)","v":1},{"$f":"SUM(AUT_top:POR_top!L4)","v":2},{"$f":"SUM(AUT_top:POR_top!M4)","v":0},{"$f":"SUM(AUT_top:POR_top!N4)","v":0},{"$f":"SUM(AUT_top:POR_top!O4)","v":3},{"$f":"SUM(AUT_top:POR_top!P4)","v":7},{"$f":"SUM(AUT_top:POR_top!Q4)","v":2},{"$f":"SUM(AUT_top:POR_top!R4)","v":1},{"$f":"SUM(AUT_top:POR_top!S4)","v":0},{"$f":"SUM(AUT_top:POR_top!T4)","v":0},{"$f":"SUM(AUT_top:POR_top!U4)","v":4},{"$f":"SUM(AUT_top:POR_top!V4)","v":1},{"$f":"SUM(AUT_top:POR_top!W4)","v":5},{"$f":"SUM(AUT_top:POR_top!X4)","v":1},{"$f":"SUM(AUT_top:POR_top!Y4)","v":1},{"$f":"SUM(AUT_top:POR_top!Z4)","v":3},{"$f":"SUM(AUT_top:POR_top!AA4)","v":0},{"$f":"SUM(AUT_top:POR_top!AB4)","v":2},{"$f":"SUM(AUT_top:POR_top!AC4)","v":4},{"$f":"SUM(AUT_top:POR_top!AD4)","v":0},{"$f":"SUM(AUT_top:POR_top!AE4)","v":0},{"$f":"SUM(AUT_top:POR_top!AF4)","v":6},{"$f":"SUM(AUT_top:POR_top!AG4)","v":6},{"$f":"SUM(AUT_top:POR_top!AH4)","v":2},{"$f":"SUM(AUT_top:POR_top!AI4)","v":0},{"$f":"SUM(AUT_top:POR_top!AJ4)","v":2},{"$f":"SUM(AUT_top:POR_top!AK4)","v":0},{"$f":"SUM(AUT_top:POR_top!AL4)","v":2},{"$f":"SUM(AUT_top:POR_top!AM4)","v":5},{"$f":"SUM(AUT_top:POR_top!AN4)","v":3},{"$f":"SUM(AUT_top:POR_top!AO4)","v":0},{"$f":"SUM(AUT_top:POR_top!AP4)","v":1},{"$f":"SUM(AUT_top:POR_top!AQ4)","v":2},{"$f":"SUM(AUT_top:POR_top!AR4)","v":0},{"$f":"SUM(AUT_top:POR_top!AS4)","v":0},{"$f":"SUM(AUT_top:POR_top!AT4)","v":0},{"$f":"SUM(AUT_top:POR_top!AU4)","v":0},{"$f":"SUM(AUT_top:POR_top!AV4)","v":0},{"$f":"SUM(AUT_top:POR_top!AW4)","v":3},{"$f":"SUM(AUT_top:POR_top!AX4)","v":2},{"$f":"SUM(AUT_top:POR_top!AY4)","v":0},{"$f":"SUM(AUT_top:POR_top!AZ4)","v":0},{"$f":"SUM(AUT_top:POR_top!BA4)","v":1},{"$f":"SUM(AUT_top:POR_top!BB4)","v":0},{"$f":"SUM(D4:BB4)","v":82},{"$f":"BC4/(51*8)","v":0.20098039215686275}]
[null,"Envelope",{"$f":"Sheet1!O164","v":"Replacemert of windows"},{"$f":"SUM(AUT_top:POR_top!D5)","v":6},{"$f":"SUM(AUT_top:POR_top!E5)","v":1},{"$f":"SUM(AUT_top:POR_top!F5)","v":2},{"$f":"SUM(AUT_top:POR_top!G5)","v":1},{"$f":"SUM(AUT_top:POR_top!H5)","v":1},{"$f":"SUM(AUT_top:POR_top!I5)","v":2},{"$f":"SUM(AUT_top:POR_top!J5)","v":0},{"$f":"SUM(AUT_top:POR_top!K5)","v":1},{"$f":"SUM(AUT_top:POR_top!L5)","v":4},{"$f":"SUM(AUT_top:POR_top!M5)","v":1},{"$f":"SUM(AUT_top:POR_top!N5)","v":2},{"$f":"SUM(AUT_top:POR_top!O5)","v":5},{"$f":"SUM(AUT_top:POR_top!P5)","v":7},{"$f":"SUM(AUT_top:POR_top!Q5)","v":2},{"$f":"SUM(AUT_top:POR_top!R5)","v":1},{"$f":"SUM(AUT_top:POR_top!S5)","v":0},{"$f":"SUM(AUT_top:POR_top!T5)","v":0},{"$f":"SUM(AUT_top:POR_top!U5)","v":4},{"$f":"SUM(AUT_top:POR_top!V5)","v":2},{"$f":"SUM(AUT_top:POR_top!W5)","v":5},{"$f":"SUM(AUT_top:POR_top!X5)","v":1},{"$f":"SUM(AUT_top:POR_top!Y5)","v":1},{"$f":"SUM(AUT_top:POR_top!Z5)","v":3},{"$f":"SUM(AUT_top:POR_top!AA5)","v":0},{"$f":"SUM(AUT_top:POR_top!AB5)","v":3},{"$f":"SUM(AUT_top:POR_top!AC5)","v":4},{"$f":"SUM(AUT_top:POR_top!AD5)","v":0},{"$f":"SUM(AUT_top:POR_top!AE5)","v":0},{"$f":"SUM(AUT_top:POR_top!AF5)","v":6},{"$f":"SUM(AUT_top:POR_top!AG5)","v":5},{"$f":"SUM(AUT_top:POR_top!AH5)","v":2},{"$f":"SUM(AUT_top:POR_top!AI5)","v":0},{"$f":"SUM(AUT_top:POR_top!AJ5)","v":2},{"$f":"SUM(AUT_top:POR_top!AK5)","v":0},{"$f":"SUM(AUT_top:POR_top!AL5)","v":2},{"$f":"SUM(AUT_top:POR_top!AM5)","v":5},{"$f":"SUM(AUT_top:POR_top!AN5)","v":3},{"$f":"SUM(AUT_top:POR_top!AO5)","v":0},{"$f":"SUM(AUT_top:POR_top!AP5)","v":1},{"$f":"SUM(AUT_top:POR_top!AQ5)","v":2},{"$f":"SUM(AUT_top:POR_top!AR5)","v":0},{"$f":"SUM(AUT_top:POR_top!AS5)","v":0},{"$f":"SUM(AUT_top:POR_top!AT5)","v":1},{"$f":"SUM(AUT_top:POR_top!AU5)","v":0},{"$f":"SUM(AUT_top:POR_top!AV5)","v":0},{"$f":"SUM(AUT_top:POR_top!AW5)","v":4},{"$f":"SUM(AUT_top:POR_top!AX5)","v":3},{"$f":"SUM(AUT_top:POR_top!AY5)","v":1},{"$f":"SUM(AUT_top:POR_top!AZ5)","v":1},{"$f":"SUM(AUT_top:POR_top!BA5)","v":1},{"$f":"SUM(AUT_top:POR_top!BB5)","v":1},99,0.24264705882352941]
[null,"Envelope",{"$f":"Sheet1!O165","v":"Increasing the air-tightness of the building"},{"$f":"SUM(AUT_top:POR_top!D6)","v":5},{"$f":"SUM(AUT_top:POR_top!E6)","v":0},{"$f":"SUM(AUT_top:POR_top!F6)","v":2},{"$f":"SUM(AUT_top:POR_top!G6)","v":0},{"$f":"SUM(AUT_top:POR_top!H6)","v":1},{"$f":"SUM(AUT_top:POR_top!I6)","v":3},{"$f":"SUM(AUT_top:POR_top!J6)","v":0},{"$f":"SUM(AUT_top:POR_top!K6)","v":2},{"$f":"SUM(AUT_top:POR_top!L6)","v":5},{"$f":"SUM(AUT_top:POR_top!M6)","v":1},{"$f":"SUM(AUT_top:POR_top!N6)","v":0},{"$f":"SUM(AUT_top:POR_top!O6)","v":5},{"$f":"SUM(AUT_top:POR_top!P6)","v":7},{"$f":"SUM(AUT_top:POR_top!Q6)","v":2},{"$f":"SUM(AUT_top:POR_top!R6)","v":1},{"$f":"SUM(AUT_top:POR_top!S6)","v":0},{"$f":"SUM(AUT_top:POR_top!T6)","v":-1},{"$f":"SUM(AUT_top:POR_top!U6)","v":4},{"$f":"SUM(AUT_top:POR_top!V6)","v":3},{"$f":"SUM(AUT_top:POR_top!W6)","v":5},{"$f":"SUM(AUT_top:POR_top!X6)","v":1},{"$f":"SUM(AUT_top:POR_top!Y6)","v":0},{"$f":"SUM(AUT_top:POR_top!Z6)","v":4},{"$f":"SUM(AUT_top:POR_top!AA6)","v":0},{"$f":"SUM(AUT_top:POR_top!AB6)","v":3},{"$f":"SUM(AUT_top:POR_top!AC6)","v":4},{"$f":"SUM(AUT_top:POR_top!AD6)","v":0},{"$f":"SUM(AUT_top:POR_top!AE6)","v":0},{"$f":"SUM(AUT_top:POR_top!AF6)","v":5},{"$f":"SUM(AUT_top:POR_top!AG6)","v":6},{"$f":"SUM(AUT_top:POR_top!AH6)","v":2},{"$f":"SUM(AUT_top:POR_top!AI6)","v":0},{"$f":"SUM(AUT_top:POR_top!AJ6)","v":1},{"$f":"SUM(AUT_top:POR_top!AK6)","v":0},{"$f":"SUM(AUT_top:POR_top!AL6)","v":2},{"$f":"SUM(AUT_top:POR_top!AM6)","v":5},{"$f":"SUM(AUT_top:POR_top!AN6)","v":3},{"$f":"SUM(AUT_top:POR_top!AO6)","v":0},{"$f":"SUM(AUT_top:POR_top!AP6)","v":1},{"$f":"SUM(AUT_top:POR_top!AQ6)","v":2},{"$f":"SUM(AUT_top:POR_top!AR6)","v":0},{"$f":"SUM(AUT_top:POR_top!AS6)","v":0},{"$f":"SUM(AUT_top:POR_top!AT6)","v":1},{"$f":"SUM(AUT_top:POR_top!AU6)","v":0},{"$f":"SUM(AUT_top:POR_top!AV6)","v":0},{"$f":"SUM(AUT_top:POR_top!AW6)","v":2},{"$f":"SUM(AUT_top:POR_top!AX6)","v":3},{"$f":"SUM(AUT_top:POR_top!AY6)","v":1},{"$f":"SUM(AUT_top:POR_top!AZ6)","v":1},{"$f":"SUM(AUT_top:POR_top!BA6)","v":1},{"$f":"SUM(AUT_top:POR_top!BB6)","v":0},93,0.22794117647058823]
[null,"Envelope",{"$f":"Sheet1!O166","v":"Shading to reduce summer heat gains"},{"$f":"SUM(AUT_top:POR_top!D7)","v":8},{"$f":"SUM(AUT_top:POR_top!E7)","v":0},{"$f":"SUM(AUT_top:POR_top!F7)","v":2},{"$f":"SUM(AUT_top:POR_top!G7)","v":0},{"$f":"SUM(AUT_top:POR_top!H7)","v":4},{"$f":"SUM(AUT_top:POR_top!I7)","v":5},{"$f":"SUM(AUT_top:POR_top!J7)","v":1},{"$f":"SUM(AUT_top:POR_top!K7)","v":2},{"$f":"SUM(AUT_top:POR_top!L7)","v":4},{"$f":"SUM(AUT_top:POR_top!M7)","v":1},{"$f":"SUM(AUT_top:POR_top!N7)","v":0},{"$f":"SUM(AUT_top:POR_top!O7)","v":1},{"$f":"SUM(AUT_top:POR_top!P7)","v":5},{"$f":"SUM(AUT_top:POR_top!Q7)","v":2},{"$f":"SUM(AUT_top:POR_top!R7)","v":1},{"$f":"SUM(AUT_top:POR_top!S7)","v":0},{"$f":"SUM(AUT_top:POR_top!T7)","v":0},{"$f":"SUM(AUT_top:POR_top!U7)","v":4},{"$f":"SUM(AUT_top:POR_top!V7)","v":0},{"$f":"SUM(AUT_top:POR_top!W7)","v":5},{"$f":"SUM(AUT_top:POR_top!X7)","v":1},{"$f":"SUM(AUT_top:POR_top!Y7)","v":0},{"$f":"SUM(AUT_top:POR_top!Z7)","v":4},{"$f":"SUM(AUT_top:POR_top!AA7)","v":0},{"$f":"SUM(AUT_top:POR_top!AB7)","v":2},{"$f":"SUM(AUT_top:POR_top!AC7)","v":4},{"$f":"SUM(AUT_top:POR_top!AD7)","v":0},{"$f":"SUM(AUT_top:POR_top!AE7)","v":0},{"$f":"SUM(AUT_top:POR_top!AF7)","v":5},{"$f":"SUM(AUT_top:POR_top!AG7)","v":6},{"$f":"SUM(AUT_top:POR_top!AH7)","v":2},{"$f":"SUM(AUT_top:POR_top!AI7)","v":0},{"$f":"SUM(AUT_top:POR_top!AJ7)","v":2},{"$f":"SUM(AUT_top:POR_top!AK7)","v":0},{"$f":"SUM(AUT_top:POR_top!AL7)","v":2},{"$f":"SUM(AUT_top:POR_top!AM7)","v":5},{"$f":"SUM(AUT_top:POR_top!AN7)","v":3},{"$f":"SUM(AUT_top:POR_top!AO7)","v":0},{"$f":"SUM(AUT_top:POR_top!AP7)","v":1},{"$f":"SUM(AUT_top:POR_top!AQ7)","v":0},{"$f":"SUM(AUT_top:POR_top!AR7)","v":0},{"$f":"SUM(AUT_top:POR_top!AS7)","v":0},{"$f":"SUM(AUT_top:POR_top!AT7)","v":0},{"$f":"SUM(AUT_top:POR_top!AU7)","v":0},{"$f":"SUM(AUT_top:POR_top!AV7)","v":0},{"$f":"SUM(AUT_top:POR_top!AW7)","v":2},{"$f":"SUM(AUT_top:POR_top!AX7)","v":3},{"$f":"SUM(AUT_top:POR_top!AY7)","v":1},{"$f":"SUM(AUT_top:POR_top!AZ7)","v":1},{"$f":"SUM(AUT_top:POR_top!BA7)","v":0},{"$f":"SUM(AUT_top:POR_top!BB7)","v":0},89,0.21813725490196079]
[null,"Heating system",{"$f":"Sheet1!O168","v":"Roomwise temperature control"},{"$f":"SUM(AUT_top:POR_top!D8)","v":7},{"$f":"SUM(AUT_top:POR_top!E8)","v":1},{"$f":"SUM(AUT_top:POR_top!F8)","v":3},{"$f":"SUM(AUT_top:POR_top!G8)","v":0},{"$f":"SUM(AUT_top:POR_top!H8)","v":4},{"$f":"SUM(AUT_top:POR_top!I8)","v":5},{"$f":"SUM(AUT_top:POR_top!J8)","v":1},{"$f":"SUM(AUT_top:POR_top!K8)","v":2},{"$f":"SUM(AUT_top:POR_top!L8)","v":5},{"$f":"SUM(AUT_top:POR_top!M8)","v":3},{"$f":"SUM(AUT_top:POR_top!N8)","v":0},{"$f":"SUM(AUT_top:POR_top!O8)","v":0},{"$f":"SUM(AUT_top:POR_top!P8)","v":7},{"$f":"SUM(AUT_top:POR_top!Q8)","v":3},{"$f":"SUM(AUT_top:POR_top!R8)","v":1},{"$f":"SUM(AUT_top:POR_top!S8)","v":0},{"$f":"SUM(AUT_top:POR_top!T8)","v":0},{"$f":"SUM(AUT_top:POR_top!U8)","v":7},{"$f":"SUM(AUT_top:POR_top!V8)","v":1},{"$f":"SUM(AUT_top:POR_top!W8)","v":5},{"$f":"SUM(AUT_top:POR_top!X8)","v":1},{"$f":"SUM(AUT_top:POR_top!Y8)","v":0},{"$f":"SUM(AUT_top:POR_top!Z8)","v":5},{"$f":"SUM(AUT_top:POR_top!AA8)","v":0},{"$f":"SUM(AUT_top:POR_top!AB8)","v":-1},{"$f":"SUM(AUT_top:POR_top!AC8)","v":5},{"$f":"SUM(AUT_top:POR_top!AD8)","v":0},{"$f":"SUM(AUT_top:POR_top!AE8)","v":1},{"$f":"SUM(AUT_top:POR_top!AF8)","v":6},{"$f":"SUM(AUT_top:POR_top!AG8)","v":6},{"$f":"SUM(AUT_top:POR_top!AH8)","v":1},{"$f":"SUM(AUT_top:POR_top!AI8)","v":0},{"$f":"SUM(AUT_top:POR_top!AJ8)","v":2},{"$f":"SUM(AUT_top:POR_top!AK8)","v":0},{"$f":"SUM(AUT_top:POR_top!AL8)","v":1},{"$f":"SUM(AUT_top:POR_top!AM8)","v":5},{"$f":"SUM(AUT_top:POR_top!AN8)","v":2},{"$f":"SUM(AUT_top:POR_top!AO8)","v":0},{"$f":"SUM(AUT_top:POR_top!AP8)","v":-1},{"$f":"SUM(AUT_top:POR_top!AQ8)","v":0},{"$f":"SUM(AUT_top:POR_top!AR8)","v":-1},{"$f":"SUM(AUT_top:POR_top!AS8)","v":0},{"$f":"SUM(AUT_top:POR_top!AT8)","v":1},{"$f":"SUM(AUT_top:POR_top!AU8)","v":0},{"$f":"SUM(AUT_top:POR_top!AV8)","v":0},{"$f":"SUM(AUT_top:POR_top!AW8)","v":1},{"$f":"SUM(AUT_top:POR_top!AX8)","v":1},{"$f":"SUM(AUT_top:POR_top!AY8)","v":0},{"$f":"SUM(AUT_top:POR_top!AZ8)","v":3},{"$f":"SUM(AUT_top:POR_top!BA8)","v":2},{"$f":"SUM(AUT_top:POR_top!BB8)","v":1},96,0.23529411764705882]
[null,"Heating system",{"$f":"Sheet1!O169","v":"Zoning optimisation of the building"},{"$f":"SUM(AUT_top:POR_top!D9)","v":4},{"$f":"SUM(AUT_top:POR_top!E9)","v":1},{"$f":"SUM(AUT_top:POR_top!F9)","v":3},{"$f":"SUM(AUT_top:POR_top!G9)","v":0},{"$f":"SUM(AUT_top:POR_top!H9)","v":2},{"$f":"SUM(AUT_top:POR_top!I9)","v":3},{"$f":"SUM(AUT_top:POR_top!J9)","v":0},{"$f":"SUM(AUT_top:POR_top!K9)","v":1},{"$f":"SUM(AUT_top:POR_top!L9)","v":2},{"$f":"SUM(AUT_top:POR_top!M9)","v":3},{"$f":"SUM(AUT_top:POR_top!N9)","v":0},{"$f":"SUM(AUT_top:POR_top!O9)","v":2},{"$f":"SUM(AUT_top:POR_top!P9)","v":6},{"$f":"SUM(AUT_top:POR_top!Q9)","v":2},{"$f":"SUM(AUT_top:POR_top!R9)","v":1},{"$f":"SUM(AUT_top:POR_top!S9)","v":0},{"$f":"SUM(AUT_top:POR_top!T9)","v":0},{"$f":"SUM(AUT_top:POR_top!U9)","v":7},{"$f":"SUM(AUT_top:POR_top!V9)","v":2},{"$f":"SUM(AUT_top:POR_top!W9)","v":5},{"$f":"SUM(AUT_top:POR_top!X9)","v":1},{"$f":"SUM(AUT_top:POR_top!Y9)","v":0},{"$f":"SUM(AUT_top:POR_top!Z9)","v":5},{"$f":"SUM(AUT_top:POR_top!AA9)","v":0},{"$f":"SUM(AUT_top:POR_top!AB9)","v":1},{"$f":"SUM(AUT_top:POR_top!AC9)","v":5},{"$f":"SUM(AUT_top:POR_top!AD9)","v":0},{"$f":"SUM(AUT_top:POR_top!AE9)","v":0},{"$f":"SUM(AUT_top:POR_top!AF9)","v":6},{"$f":"SUM(AUT_top:POR_top!AG9)","v":6},{"$f":"SUM(AUT_top:POR_top!AH9)","v":2},{"$f":"SUM(AUT_top:POR_top!AI9)","v":0},{"$f":"SUM(AUT_top:POR_top!AJ9)","v":2},{"$f":"SUM(AUT_top:POR_top!AK9)","v":0},{"$f":"SUM(AUT_top:POR_top!AL9)","v":1},{"$f":"SUM(AUT_top:POR_top!AM9)","v":5},{"$f":"SUM(AUT_top:POR_top!AN9)","v":2},{"$f":"SUM(AUT_top:POR_top!AO9)","v":0},{"$f":"SUM(AUT_top:POR_top!AP9)","v":-1},{"$f":"SUM(AUT_top:POR_top!AQ9)","v":0},{"$f":"SUM(AUT_top:POR_top!AR9)","v":0},{"$f":"SUM(AUT_top:POR_top!AS9)","v":0},{"$f":"SUM(AUT_top:POR_top!AT9)","v":0},{"$f":"SUM(AUT_top:POR_top!AU9)","v":0},{"$f":"SUM(AUT_top:POR_top!AV9)","v":0},{"$f":"SUM(AUT_top:POR_top!AW9)","v":1},{"$f":"SUM(AUT_top:POR_top!AX9)","v":1},{"$f":"SUM(AUT_top:POR_top!AY9)","v":0},{"$f":"SUM(AUT_top:POR_top!AZ9)","v":2},{"$f":"SUM(AUT_top:POR_top!BA9)","v":1},{"$f":"SUM(AUT_top:POR_top!BB9)","v":0},84,0.20588235294117646]
[null,"Heating system",{"$f":"Sheet1!O170","v":"Optimisation of the heating schedule"},{"$f":"SUM(AUT_top:POR_top!D10)","v":3},{"$f":"SUM(AUT_top:POR_top!E10)","v":1},{"$f":"SUM(AUT_top:POR_top!F10)","v":3},{"$f":"SUM(AUT_top:POR_top!G10)","v":0},{"$f":"SUM(AUT_top:POR_top!H10)","v":2},{"$f":"SUM(AUT_top:POR_top!I10)","v":3},{"$f":"SUM(AUT_top:POR_top!J10)","v":0},{"$f":"SUM(AUT_top:POR_top!K10)","v":1},{"$f":"SUM(AUT_top:POR_top!L10)","v":2},{"$f":"SUM(AUT_top:POR_top!M10)","v":3},{"$f":"SUM(AUT_top:POR_top!N10)","v":0},{"$f":"SUM(AUT_top:POR_top!O10)","v":2},{"$f":"SUM(AUT_top:POR_top!P10)","v":7},{"$f":"SUM(AUT_top:POR_top!Q10)","v":2},{"$f":"SUM(AUT_top:POR_top!R10)","v":1},{"$f":"SUM(AUT_top:POR_top!S10)","v":0},{"$f":"SUM(AUT_top:POR_top!T10)","v":0},{"$f":"SUM(AUT_top:POR_top!U10)","v":7},{"$f":"SUM(AUT_top:POR_top!V10)","v":1},{"$f":"SUM(AUT_top:POR_top!W10)","v":5},{"$f":"SUM(AUT_top:POR_top!X10)","v":1},{"$f":"SUM(AUT_top:POR_top!Y10)","v":0},{"$f":"SUM(AUT_top:POR_top!Z10)","v":5},{"$f":"SUM(AUT_top:POR_top!AA10)","v":0},{"$f":"SUM(AUT_top:POR_top!AB10)","v":1},{"$f":"SUM(AUT_top:POR_top!AC10)","v":5},{"$f":"SUM(AUT_top:POR_top!AD10)","v":0},{"$f":"SUM(AUT_top:POR_top!AE10)","v":1},{"$f":"SUM(AUT_top:POR_top!AF10)","v":6},{"$f":"SUM(AUT_top:POR_top!AG10)","v":6},{"$f":"SUM(AUT_top:POR_top!AH10)","v":1},{"$f":"SUM(AUT_top:POR_top!AI10)","v":1},{"$f":"SUM(AUT_top:POR_top!AJ10)","v":2},{"$f":"SUM(AUT_top:POR_top!AK10)","v":0},{"$f":"SUM(AUT_top:POR_top!AL10)","v":1},{"$f":"SUM(AUT_top:POR_top!AM10)","v":5},{"$f":"SUM(AUT_top:POR_top!AN10)","v":2},{"$f":"SUM(AUT_top:POR_top!AO10)","v":0},{"$f":"SUM(AUT_top:POR_top!AP10)","v":-1},{"$f":"SUM(AUT_top:POR_top!AQ10)","v":0},{"$f":"SUM(AUT_top:POR_top!AR10)","v":0},{"$f":"SUM(AUT_top:POR_top!AS10)","v":0},{"$f":"SUM(AUT_top:POR_top!AT10)","v":2},{"$f":"SUM(AUT_top:POR_top!AU10)","v":0},{"$f":"SUM(AUT_top:POR_top!AV10)","v":0},{"$f":"SUM(AUT_top:POR_top!AW10)","v":1},{"$f":"SUM(AUT_top:POR_top!AX10)","v":1},{"$f":"SUM(AUT_top:POR_top!AY10)","v":0},{"$f":"SUM(AUT_top:POR_top!AZ10)","v":3},{"$f":"SUM(AUT_top:POR_top!BA10)","v":2},{"$f":"SUM(AUT_top:POR_top!BB10)","v":0},88,0.21568627450980393]
[null,"Heating system",{"$f":"Sheet1!O171","v":"Lowering setpoint temperature"},{"$f":"SUM(AUT_top:POR_top!D11)","v":2},{"$f":"SUM(AUT_top:POR_top!E11)","v":1},{"$f":"SUM(AUT_top:POR_top!F11)","v":2},{"$f":"SUM(AUT_top:POR_top!G11)","v":0},{"$f":"SUM(AUT_top:POR_top!H11)","v":-1},{"$f":"SUM(AUT_top:POR_top!I11)","v":-1},{"$f":"SUM(AUT_top:POR_top!J11)","v":0},{"$f":"SUM(AUT_top:POR_top!K11)","v":1},{"$f":"SUM(AUT_top:POR_top!L11)","v":-1},{"$f":"SUM(AUT_top:POR_top!M11)","v":0},{"$f":"SUM(AUT_top:POR_top!N11)","v":0},{"$f":"SUM(AUT_top:POR_top!O11)","v":1},{"$f":"SUM(AUT_top:POR_top!P11)","v":7},{"$f":"SUM(AUT_top:POR_top!Q11)","v":2},{"$f":"SUM(AUT_top:POR_top!R11)","v":1},{"$f":"SUM(AUT_top:POR_top!S11)","v":0},{"$f":"SUM(AUT_top:POR_top!T11)","v":0},{"$f":"SUM(AUT_top:POR_top!U11)","v":7},{"$f":"SUM(AUT_top:POR_top!V11)","v":1},{"$f":"SUM(AUT_top:POR_top!W11)","v":5},{"$f":"SUM(AUT_top:POR_top!X11)","v":1},{"$f":"SUM(AUT_top:POR_top!Y11)","v":0},{"$f":"SUM(AUT_top:POR_top!Z11)","v":5},{"$f":"SUM(AUT_top:POR_top!AA11)","v":0},{"$f":"SUM(AUT_top:POR_top!AB11)","v":1},{"$f":"SUM(AUT_top:POR_top!AC11)","v":5},{"$f":"SUM(AUT_top:POR_top!AD11)","v":0},{"$f":"SUM(AUT_top:POR_top!AE11)","v":-1},{"$f":"SUM(AUT_top:POR_top!AF11)","v":5},{"$f":"SUM(AUT_top:POR_top!AG11)","v":6},{"$f":"SUM(AUT_top:POR_top!AH11)","v":2},{"$f":"SUM(AUT_top:POR_top!AI11)","v":1},{"$f":"SUM(AUT_top:POR_top!AJ11)","v":2},{"$f":"SUM(AUT_top:POR_top!AK11)","v":0},{"$f":"SUM(AUT_top:POR_top!AL11)","v":1},{"$f":"SUM(AUT_top:POR_top!AM11)","v":5},{"$f":"SUM(AUT_top:POR_top!AN11)","v":2},{"$f":"SUM(AUT_top:POR_top!AO11)","v":0},{"$f":"SUM(AUT_top:POR_top!AP11)","v":-1},{"$f":"SUM(AUT_top:POR_top!AQ11)","v":0},{"$f":"SUM(AUT_top:POR_top!AR11)","v":0},{"$f":"SUM(AUT_top:POR_top!AS11)","v":0},{"$f":"SUM(AUT_top:POR_top!AT11)","v":0},{"$f":"SUM(AUT_top:POR_top!AU11)","v":0},{"$f":"SUM(AUT_top:POR_top!AV11)","v":0},{"$f":"SUM(AUT_top:POR_top!AW11)","v":1},{"$f":"SUM(AUT_top:POR_top!AX11)","v":1},{"$f":"SUM(AUT_top:POR_top!AY11)","v":0},{"$f":"SUM(AUT_top:POR_top!AZ11)","v":-1},{"$f":"SUM(AUT_top:POR_top!BA11)","v":1},{"$f":"SUM(AUT_top:POR_top!BB11)","v":0},63,0.15441176470588236]
[null,"Heating system",{"$f":"Sheet1!O172","v":"Control optimisation"},{"$f":"SUM(AUT_top:POR_top!D12)","v":3},{"$f":"SUM(AUT_top:POR_top!E12)","v":1},{"$f":"SUM(AUT_top:POR_top!F12)","v":2},{"$f":"SUM(AUT_top:POR_top!G12)","v":0},{"$f":"SUM(AUT_top:POR_top!H12)","v":1},{"$f":"SUM(AUT_top:POR_top!I12)","v":3},{"$f":"SUM(AUT_top:POR_top!J12)","v":0},{"$f":"SUM(AUT_top:POR_top!K12)","v":0},{"$f":"SUM(AUT_top:POR_top!L12)","v":1},{"$f":"SUM(AUT_top:POR_top!M12)","v":4},{"$f":"SUM(AUT_top:POR_top!N12)","v":1},{"$f":"SUM(AUT_top:POR_top!O12)","v":2},{"$f":"SUM(AUT_top:POR_top!P12)","v":7},{"$f":"SUM(AUT_top:POR_top!Q12)","v":2},{"$f":"SUM(AUT_top:POR_top!R12)","v":1},{"$f":"SUM(AUT_top:POR_top!S12)","v":0},{"$f":"SUM(AUT_top:POR_top!T12)","v":0},{"$f":"SUM(AUT_top:POR_top!U12)","v":7},{"$f":"SUM(AUT_top:POR_top!V12)","v":1},{"$f":"SUM(AUT_top:POR_top!W12)","v":5},{"$f":"SUM(AUT_top:POR_top!X12)","v":1},{"$f":"SUM(AUT_top:POR_top!Y12)","v":0},{"$f":"SUM(AUT_top:POR_top!Z12)","v":5},{"$f":"SUM(AUT_top:POR_top!AA12)","v":0},{"$f":"SUM(AUT_top:POR_top!AB12)","v":0},{"$f":"SUM(AUT_top:POR_top!AC12)","v":5},{"$f":"SUM(AUT_top:POR_top!AD12)","v":0},{"$f":"SUM(AUT_top:POR_top!AE12)","v":0},{"$f":"SUM(AUT_top:POR_top!AF12)","v":6},{"$f":"SUM(AUT_top:POR_top!AG12)","v":6},{"$f":"SUM(AUT_top:POR_top!AH12)","v":2},{"$f":"SUM(AUT_top:POR_top!AI12)","v":1},{"$f":"SUM(AUT_top:POR_top!AJ12)","v":2},{"$f":"SUM(AUT_top:POR_top!AK12)","v":0},{"$f":"SUM(AUT_top:POR_top!AL12)","v":1},{"$f":"SUM(AUT_top:POR_top!AM12)","v":5},{"$f":"SUM(AUT_top:POR_top!AN12)","v":2},{"$f":"SUM(AUT_top:POR_top!AO12)","v":0},{"$f":"SUM(AUT_top:POR_top!AP12)","v":0},{"$f":"SUM(AUT_top:POR_top!AQ12)","v":0},{"$f":"SUM(AUT_top:POR_top!AR12)","v":-1},{"$f":"SUM(AUT_top:POR_top!AS12)","v":0},{"$f":"SUM(AUT_top:POR_top!AT12)","v":2},{"$f":"SUM(AUT_top:POR_top!AU12)","v":0},{"$f":"SUM(AUT_top:POR_top!AV12)","v":0},{"$f":"SUM(AUT_top:POR_top!AW12)","v":1},{"$f":"SUM(AUT_top:POR_top!AX12)","v":1},{"$f":"SUM(AUT_top:POR_top!AY12)","v":2},{"$f":"SUM(AUT_top:POR_top!AZ12)","v":2},{"$f":"SUM(AUT_top:POR_top!BA12)","v":2},{"$f":"SUM(AUT_top:POR_top!BB12)","v":1},87,0.21323529411764705]
[null,"Heating system",{"$f":"Sheet1!O173","v":"Insulation of the distribution network"},{"$f":"SUM(AUT_top:POR_top!D13)","v":1},{"$f":"SUM(AUT_top:POR_top!E13)","v":1},{"$f":"SUM(AUT_top:POR_top!F13)","v":2},{"$f":"SUM(AUT_top:POR_top!G13)","v":0},{"$f":"SUM(AUT_top:POR_top!H13)","v":1},{"$f":"SUM(AUT_top:POR_top!I13)","v":2},{"$f":"SUM(AUT_top:POR_top!J13)","v":0},{"$f":"SUM(AUT_top:POR_top!K13)","v":0},{"$f":"SUM(AUT_top:POR_top!L13)","v":0},{"$f":"SUM(AUT_top:POR_top!M13)","v":0},{"$f":"SUM(AUT_top:POR_top!N13)","v":0},{"$f":"SUM(AUT_top:POR_top!O13)","v":2},{"$f":"SUM(AUT_top:POR_top!P13)","v":6},{"$f":"SUM(AUT_top:POR_top!Q13)","v":2},{"$f":"SUM(AUT_top:POR_top!R13)","v":1},{"$f":"SUM(AUT_top:POR_top!S13)","v":0},{"$f":"SUM(AUT_top:POR_top!T13)","v":-1},{"$f":"SUM(AUT_top:POR_top!U13)","v":6},{"$f":"SUM(AUT_top:POR_top!V13)","v":1},{"$f":"SUM(AUT_top:POR_top!W13)","v":5},{"$f":"SUM(AUT_top:POR_top!X13)","v":1},{"$f":"SUM(AUT_top:POR_top!Y13)","v":0},{"$f":"SUM(AUT_top:POR_top!Z13)","v":5},{"$f":"SUM(AUT_top:POR_top!AA13)","v":0},{"$f":"SUM(AUT_top:POR_top!AB13)","v":2},{"$f":"SUM(AUT_top:POR_top!AC13)","v":5},{"$f":"SUM(AUT_top:POR_top!AD13)","v":0},{"$f":"SUM(AUT_top:POR_top!AE13)","v":0},{"$f":"SUM(AUT_top:POR_top!AF13)","v":6},{"$f":"SUM(AUT_top:POR_top!AG13)","v":4},{"$f":"SUM(AUT_top:POR_top!AH13)","v":2},{"$f":"SUM(AUT_top:POR_top!AI13)","v":0},{"$f":"SUM(AUT_top:POR_top!AJ13)","v":2},{"$f":"SUM(AUT_top:POR_top!AK13)","v":0},{"$f":"SUM(AUT_top:POR_top!AL13)","v":1},{"$f":"SUM(AUT_top:POR_top!AM13)","v":5},{"$f":"SUM(AUT_top:POR_top!AN13)","v":2},{"$f":"SUM(AUT_top:POR_top!AO13)","v":0},{"$f":"SUM(AUT_top:POR_top!AP13)","v":1},{"$f":"SUM(AUT_top:POR_top!AQ13)","v":0},{"$f":"SUM(AUT_top:POR_top!AR13)","v":0},{"$f":"SUM(AUT_top:POR_top!AS13)","v":0},{"$f":"SUM(AUT_top:POR_top!AT13)","v":0},{"$f":"SUM(AUT_top:POR_top!AU13)","v":0},{"$f":"SUM(AUT_top:POR_top!AV13)","v":0},{"$f":"SUM(AUT_top:POR_top!AW13)","v":1},{"$f":"SUM(AUT_top:POR_top!AX13)","v":1},{"$f":"SUM(AUT_top:POR_top!AY13)","v":1},{"$f":"SUM(AUT_top:POR_top!AZ13)","v":0},{"$f":"SUM(AUT_top:POR_top!BA13)","v":2},{"$f":"SUM(AUT_top:POR_top!BB13)","v":0},70,0.17156862745098039]
[null,"Heating system",{"$f":"Sheet1!O174","v":"Hydraulic balancing of the distribution network"},{"$f":"SUM(AUT_top:POR_top!D14)","v":2},{"$f":"SUM(AUT_top:POR_top!E14)","v":1},{"$f":"SUM(AUT_top:POR_top!F14)","v":2},{"$f":"SUM(AUT_top:POR_top!G14)","v":0},{"$f":"SUM(AUT_top:POR_top!H14)","v":1},{"$f":"SUM(AUT_top:POR_top!I14)","v":2},{"$f":"SUM(AUT_top:POR_top!J14)","v":0},{"$f":"SUM(AUT_top:POR_top!K14)","v":0},{"$f":"SUM(AUT_top:POR_top!L14)","v":1},{"$f":"SUM(AUT_top:POR_top!M14)","v":1},{"$f":"SUM(AUT_top:POR_top!N14)","v":0},{"$f":"SUM(AUT_top:POR_top!O14)","v":4},{"$f":"SUM(AUT_top:POR_top!P14)","v":6},{"$f":"SUM(AUT_top:POR_top!Q14)","v":2},{"$f":"SUM(AUT_top:POR_top!R14)","v":1},{"$f":"SUM(AUT_top:POR_top!S14)","v":1},{"$f":"SUM(AUT_top:POR_top!T14)","v":0},{"$f":"SUM(AUT_top:POR_top!U14)","v":6},{"$f":"SUM(AUT_top:POR_top!V14)","v":1},{"$f":"SUM(AUT_top:POR_top!W14)","v":5},{"$f":"SUM(AUT_top:POR_top!X14)","v":1},{"$f":"SUM(AUT_top:POR_top!Y14)","v":0},{"$f":"SUM(AUT_top:POR_top!Z14)","v":5},{"$f":"SUM(AUT_top:POR_top!AA14)","v":0},{"$f":"SUM(AUT_top:POR_top!AB14)","v":0},{"$f":"SUM(AUT_top:POR_top!AC14)","v":5},{"$f":"SUM(AUT_top:POR_top!AD14)","v":0},{"$f":"SUM(AUT_top:POR_top!AE14)","v":0},{"$f":"SUM(AUT_top:POR_top!AF14)","v":6},{"$f":"SUM(AUT_top:POR_top!AG14)","v":6},{"$f":"SUM(AUT_top:POR_top!AH14)","v":2},{"$f":"SUM(AUT_top:POR_top!AI14)","v":0},{"$f":"SUM(AUT_top:POR_top!AJ14)","v":2},{"$f":"SUM(AUT_top:POR_top!AK14)","v":0},{"$f":"SUM(AUT_top:POR_top!AL14)","v":1},{"$f":"SUM(AUT_top:POR_top!AM14)","v":5},{"$f":"SUM(AUT_top:POR_top!AN14)","v":2},{"$f":"SUM(AUT_top:POR_top!AO14)","v":0},{"$f":"SUM(AUT_top:POR_top!AP14)","v":-1},{"$f":"SUM(AUT_top:POR_top!AQ14)","v":1},{"$f":"SUM(AUT_top:POR_top!AR14)","v":0},{"$f":"SUM(AUT_top:POR_top!AS14)","v":0},{"$f":"SUM(AUT_top:POR_top!AT14)","v":0},{"$f":"SUM(AUT_top:POR_top!AU14)","v":0},{"$f":"SUM(AUT_top:POR_top!AV14)","v":0},{"$f":"SUM(AUT_top:POR_top!AW14)","v":1},{"$f":"SUM(AUT_top:POR_top!AX14)","v":1},{"$f":"SUM(AUT_top:POR_top!AY14)","v":1},{"$f":"SUM(AUT_top:POR_top!AZ14)","v":1},{"$f":"SUM(AUT_top:POR_top!BA14)","v":2},{"$f":"SUM(AUT_top:POR_top!BB14)","v":0},77,0.18872549019607843]
[null,"Heating system",{"$f":"Sheet1!O175","v":"New, more efficient heat generator"},{"$f":"SUM(AUT_top:POR_top!D15)","v":3},{"$f":"SUM(AUT_top:POR_top!E15)","v":1},{"$f":"SUM(AUT_top:POR_top!F15)","v":2},{"$f":"SUM(AUT_top:POR_top!G15)","v":0},{"$f":"SUM(AUT_top:POR_top!H15)","v":1},{"$f":"SUM(AUT_top:POR_top!I15)","v":2},{"$f":"SUM(AUT_top:POR_top!J15)","v":1},{"$f":"SUM(AUT_top:POR_top!K15)","v":0},{"$f":"SUM(AUT_top:POR_top!L15)","v":1},{"$f":"SUM(AUT_top:POR_top!M15)","v":0},{"$f":"SUM(AUT_top:POR_top!N15)","v":0},{"$f":"SUM(AUT_top:POR_top!O15)","v":1},{"$f":"SUM(AUT_top:POR_top!P15)","v":6},{"$f":"SUM(AUT_top:POR_top!Q15)","v":2},{"$f":"SUM(AUT_top:POR_top!R15)","v":1},{"$f":"SUM(AUT_top:POR_top!S15)","v":0},{"$f":"SUM(AUT_top:POR_top!T15)","v":0},{"$f":"SUM(AUT_top:POR_top!U15)","v":6},{"$f":"SUM(AUT_top:POR_top!V15)","v":3},{"$f":"SUM(AUT_top:POR_top!W15)","v":5},{"$f":"SUM(AUT_top:POR_top!X15)","v":1},{"$f":"SUM(AUT_top:POR_top!Y15)","v":0},{"$f":"SUM(AUT_top:POR_top!Z15)","v":5},{"$f":"SUM(AUT_top:POR_top!AA15)","v":1},{"$f":"SUM(AUT_top:POR_top!AB15)","v":6},{"$f":"SUM(AUT_top:POR_top!AC15)","v":5},{"$f":"SUM(AUT_top:POR_top!AD15)","v":0},{"$f":"SUM(AUT_top:POR_top!AE15)","v":0},{"$f":"SUM(AUT_top:POR_top!AF15)","v":5},{"$f":"SUM(AUT_top:POR_top!AG15)","v":4},{"$f":"SUM(AUT_top:POR_top!AH15)","v":2},{"$f":"SUM(AUT_top:POR_top!AI15)","v":0},{"$f":"SUM(AUT_top:POR_top!AJ15)","v":2},{"$f":"SUM(AUT_top:POR_top!AK15)","v":0},{"$f":"SUM(AUT_top:POR_top!AL15)","v":1},{"$f":"SUM(AUT_top:POR_top!AM15)","v":5},{"$f":"SUM(AUT_top:POR_top!AN15)","v":2},{"$f":"SUM(AUT_top:POR_top!AO15)","v":0},{"$f":"SUM(AUT_top:POR_top!AP15)","v":2},{"$f":"SUM(AUT_top:POR_top!AQ15)","v":4},{"$f":"SUM(AUT_top:POR_top!AR15)","v":2},{"$f":"SUM(AUT_top:POR_top!AS15)","v":0},{"$f":"SUM(AUT_top:POR_top!AT15)","v":0},{"$f":"SUM(AUT_top:POR_top!AU15)","v":0},{"$f":"SUM(AUT_top:POR_top!AV15)","v":0},{"$f":"SUM(AUT_top:POR_top!AW15)","v":1},{"$f":"SUM(AUT_top:POR_top!AX15)","v":2},{"$f":"SUM(AUT_top:POR_top!AY15)","v":1},{"$f":"SUM(AUT_top:POR_top!AZ15)","v":0},{"$f":"SUM(AUT_top:POR_top!BA15)","v":3},{"$f":"SUM(AUT_top:POR_top!BB15)","v":1},90,0.22058823529411764]
[null,"Heating system",{"$f":"Sheet1!O176","v":"Including a renewable based heat source"},{"$f":"SUM(AUT_top:POR_top!D16)","v":2},{"$f":"SUM(AUT_top:POR_top!E16)","v":1},{"$f":"SUM(AUT_top:POR_top!F16)","v":2},{"$f":"SUM(AUT_top:POR_top!G16)","v":1},{"$f":"SUM(AUT_top:POR_top!H16)","v":1},{"$f":"SUM(AUT_top:POR_top!I16)","v":1},{"$f":"SUM(AUT_top:POR_top!J16)","v":1},{"$f":"SUM(AUT_top:POR_top!K16)","v":0},{"$f":"SUM(AUT_top:POR_top!L16)","v":0},{"$f":"SUM(AUT_top:POR_top!M16)","v":1},{"$f":"SUM(AUT_top:POR_top!N16)","v":0},{"$f":"SUM(AUT_top:POR_top!O16)","v":0},{"$f":"SUM(AUT_top:POR_top!P16)","v":8},{"$f":"SUM(AUT_top:POR_top!Q16)","v":6},{"$f":"SUM(AUT_top:POR_top!R16)","v":1},{"$f":"SUM(AUT_top:POR_top!S16)","v":0},{"$f":"SUM(AUT_top:POR_top!T16)","v":0},{"$f":"SUM(AUT_top:POR_top!U16)","v":8},{"$f":"SUM(AUT_top:POR_top!V16)","v":3},{"$f":"SUM(AUT_top:POR_top!W16)","v":7},{"$f":"SUM(AUT_top:POR_top!X16)","v":1},{"$f":"SUM(AUT_top:POR_top!Y16)","v":0},{"$f":"SUM(AUT_top:POR_top!Z16)","v":3},{"$f":"SUM(AUT_top:POR_top!AA16)","v":1},{"$f":"SUM(AUT_top:POR_top!AB16)","v":0},{"$f":"SUM(AUT_top:POR_top!AC16)","v":6},{"$f":"SUM(AUT_top:POR_top!AD16)","v":0},{"$f":"SUM(AUT_top:POR_top!AE16)","v":0},{"$f":"SUM(AUT_top:POR_top!AF16)","v":5},{"$f":"SUM(AUT_top:POR_top!AG16)","v":4},{"$f":"SUM(AUT_top:POR_top!AH16)","v":2},{"$f":"SUM(AUT_top:POR_top!AI16)","v":0},{"$f":"SUM(AUT_top:POR_top!AJ16)","v":2},{"$f":"SUM(AUT_top:POR_top!AK16)","v":0},{"$f":"SUM(AUT_top:POR_top!AL16)","v":2},{"$f":"SUM(AUT_top:POR_top!AM16)","v":7},{"$f":"SUM(AUT_top:POR_top!AN16)","v":4},{"$f":"SUM(AUT_top:POR_top!AO16)","v":1},{"$f":"SUM(AUT_top:POR_top!AP16)","v":-1},{"$f":"SUM(AUT_top:POR_top!AQ16)","v":1},{"$f":"SUM(AUT_top:POR_top!AR16)","v":1},{"$f":"SUM(AUT_top:POR_top!AS16)","v":0},{"$f":"SUM(AUT_top:POR_top!AT16)","v":0},{"$f":"SUM(AUT_top:POR_top!AU16)","v":0},{"$f":"SUM(AUT_top:POR_top!AV16)","v":0},{"$f":"SUM(AUT_top:POR_top!AW16)","v":3},{"$f":"SUM(AUT_top:POR_top!AX16)","v":3},{"$f":"SUM(AUT_top:POR_top!AY16)","v":0},{"$f":"SUM(AUT_top:POR_top!AZ16)","v":0},{"$f":"SUM(AUT_top:POR_top!BA16)","v":1},{"$f":"SUM(AUT_top:POR_top!BB16)","v":0},89,0.21813725490196079]
[null,"Heating system",{"$f":"Sheet1!O177","v":"Energy efficient pumps"},{"$f":"SUM(AUT_top:POR_top!D17)","v":1},{"$f":"SUM(AUT_top:POR_top!E17)","v":0},{"$f":"SUM(AUT_top:POR_top!F17)","v":1},{"$f":"SUM(AUT_top:POR_top!G17)","v":0},{"$f":"SUM(AUT_top:POR_top!H17)","v":2},{"$f":"SUM(AUT_top:POR_top!I17)","v":2},{"$f":"SUM(AUT_top:POR_top!J17)","v":1},{"$f":"SUM(AUT_top:POR_top!K17)","v":0},{"$f":"SUM(AUT_top:POR_top!L17)","v":0},{"$f":"SUM(AUT_top:POR_top!M17)","v":0},{"$f":"SUM(AUT_top:POR_top!N17)","v":0},{"$f":"SUM(AUT_top:POR_top!O17)","v":4},{"$f":"SUM(AUT_top:POR_top!P17)","v":7},{"$f":"SUM(AUT_top:POR_top!Q17)","v":3},{"$f":"SUM(AUT_top:POR_top!R17)","v":1},{"$f":"SUM(AUT_top:POR_top!S17)","v":1},{"$f":"SUM(AUT_top:POR_top!T17)","v":0},{"$f":"SUM(AUT_top:POR_top!U17)","v":6},{"$f":"SUM(AUT_top:POR_top!V17)","v":3},{"$f":"SUM(AUT_top:POR_top!W17)","v":5},{"$f":"SUM(AUT_top:POR_top!X17)","v":1},{"$f":"SUM(AUT_top:POR_top!Y17)","v":0},{"$f":"SUM(AUT_top:POR_top!Z17)","v":5},{"$f":"SUM(AUT_top:POR_top!AA17)","v":0},{"$f":"SUM(AUT_top:POR_top!AB17)","v":2},{"$f":"SUM(AUT_top:POR_top!AC17)","v":5},{"$f":"SUM(AUT_top:POR_top!AD17)","v":0},{"$f":"SUM(AUT_top:POR_top!AE17)","v":0},{"$f":"SUM(AUT_top:POR_top!AF17)","v":5},{"$f":"SUM(AUT_top:POR_top!AG17)","v":4},{"$f":"SUM(AUT_top:POR_top!AH17)","v":2},{"$f":"SUM(AUT_top:POR_top!AI17)","v":0},{"$f":"SUM(AUT_top:POR_top!AJ17)","v":2},{"$f":"SUM(AUT_top:POR_top!AK17)","v":0},{"$f":"SUM(AUT_top:POR_top!AL17)","v":1},{"$f":"SUM(AUT_top:POR_top!AM17)","v":5},{"$f":"SUM(AUT_top:POR_top!AN17)","v":2},{"$f":"SUM(AUT_top:POR_top!AO17)","v":0},{"$f":"SUM(AUT_top:POR_top!AP17)","v":-1},{"$f":"SUM(AUT_top:POR_top!AQ17)","v":2},{"$f":"SUM(AUT_top:POR_top!AR17)","v":2},{"$f":"SUM(AUT_top:POR_top!AS17)","v":0},{"$f":"SUM(AUT_top:POR_top!AT17)","v":0},{"$f":"SUM(AUT_top:POR_top!AU17)","v":0},{"$f":"SUM(AUT_top:POR_top!AV17)","v":0},{"$f":"SUM(AUT_top:POR_top!AW17)","v":1},{"$f":"SUM(AUT_top:POR_top!AX17)","v":2},{"$f":"SUM(AUT_top:POR_top!AY17)","v":0},{"$f":"SUM(AUT_top:POR_top!AZ17)","v":0},{"$f":"SUM(AUT_top:POR_top!BA17)","v":1},{"$f":"SUM(AUT_top:POR_top!BB17)","v":0},78,0.19117647058823528]
[null,"DHW system",{"$f":"Sheet1!O179","v":"Reducing the DHW demand"},{"$f":"SUM(AUT_top:POR_top!D18)","v":-1},{"$f":"SUM(AUT_top:POR_top!E18)","v":1},{"$f":"SUM(AUT_top:POR_top!F18)","v":0},{"$f":"SUM(AUT_top:POR_top!G18)","v":0},{"$f":"SUM(AUT_top:POR_top!H18)","v":0},{"$f":"SUM(AUT_top:POR_top!I18)","v":-1},{"$f":"SUM(AUT_top:POR_top!J18)","v":1},{"$f":"SUM(AUT_top:POR_top!K18)","v":-1},{"$f":"SUM(AUT_top:POR_top!L18)","v":-1},{"$f":"SUM(AUT_top:POR_top!M18)","v":0},{"$f":"SUM(AUT_top:POR_top!N18)","v":0},{"$f":"SUM(AUT_top:POR_top!O18)","v":0},{"$f":"SUM(AUT_top:POR_top!P18)","v":7},{"$f":"SUM(AUT_top:POR_top!Q18)","v":3},{"$f":"SUM(AUT_top:POR_top!R18)","v":0},{"$f":"SUM(AUT_top:POR_top!S18)","v":6},{"$f":"SUM(AUT_top:POR_top!T18)","v":1},{"$f":"SUM(AUT_top:POR_top!U18)","v":7},{"$f":"SUM(AUT_top:POR_top!V18)","v":1},{"$f":"SUM(AUT_top:POR_top!W18)","v":4},{"$f":"SUM(AUT_top:POR_top!X18)","v":0},{"$f":"SUM(AUT_top:POR_top!Y18)","v":1},{"$f":"SUM(AUT_top:POR_top!Z18)","v":4},{"$f":"SUM(AUT_top:POR_top!AA18)","v":0},{"$f":"SUM(AUT_top:POR_top!AB18)","v":2},{"$f":"SUM(AUT_top:POR_top!AC18)","v":4},{"$f":"SUM(AUT_top:POR_top!AD18)","v":0},{"$f":"SUM(AUT_top:POR_top!AE18)","v":0},{"$f":"SUM(AUT_top:POR_top!AF18)","v":6},{"$f":"SUM(AUT_top:POR_top!AG18)","v":6},{"$f":"SUM(AUT_top:POR_top!AH18)","v":1},{"$f":"SUM(AUT_top:POR_top!AI18)","v":0},{"$f":"SUM(AUT_top:POR_top!AJ18)","v":1},{"$f":"SUM(AUT_top:POR_top!AK18)","v":0},{"$f":"SUM(AUT_top:POR_top!AL18)","v":0},{"$f":"SUM(AUT_top:POR_top!AM18)","v":5},{"$f":"SUM(AUT_top:POR_top!AN18)","v":2},{"$f":"SUM(AUT_top:POR_top!AO18)","v":0},{"$f":"SUM(AUT_top:POR_top!AP18)","v":0},{"$f":"SUM(AUT_top:POR_top!AQ18)","v":0},{"$f":"SUM(AUT_top:POR_top!AR18)","v":0},{"$f":"SUM(AUT_top:POR_top!AS18)","v":0},{"$f":"SUM(AUT_top:POR_top!AT18)","v":0},{"$f":"SUM(AUT_top:POR_top!AU18)","v":0},{"$f":"SUM(AUT_top:POR_top!AV18)","v":0},{"$f":"SUM(AUT_top:POR_top!AW18)","v":1},{"$f":"SUM(AUT_top:POR_top!AX18)","v":1},{"$f":"SUM(AUT_top:POR_top!AY18)","v":0},{"$f":"SUM(AUT_top:POR_top!AZ18)","v":0},{"$f":"SUM(AUT_top:POR_top!BA18)","v":1},{"$f":"SUM(AUT_top:POR_top!BB18)","v":0},62,0.15196078431372548]
[null,"DHW system",{"$f":"Sheet1!O180","v":"Insulation of the distribution network"},{"$f":"SUM(AUT_top:POR_top!D19)","v":1},{"$f":"SUM(AUT_top:POR_top!E19)","v":1},{"$f":"SUM(AUT_top:POR_top!F19)","v":1},{"$f":"SUM(AUT_top:POR_top!G19)","v":0},{"$f":"SUM(AUT_top:POR_top!H19)","v":0},{"$f":"SUM(AUT_top:POR_top!I19)","v":2},{"$f":"SUM(AUT_top:POR_top!J19)","v":1},{"$f":"SUM(AUT_top:POR_top!K19)","v":1},{"$f":"SUM(AUT_top:POR_top!L19)","v":1},{"$f":"SUM(AUT_top:POR_top!M19)","v":0},{"$f":"SUM(AUT_top:POR_top!N19)","v":0},{"$f":"SUM(AUT_top:POR_top!O19)","v":2},{"$f":"SUM(AUT_top:POR_top!P19)","v":7},{"$f":"SUM(AUT_top:POR_top!Q19)","v":3},{"$f":"SUM(AUT_top:POR_top!R19)","v":0},{"$f":"SUM(AUT_top:POR_top!S19)","v":2},{"$f":"SUM(AUT_top:POR_top!T19)","v":1},{"$f":"SUM(AUT_top:POR_top!U19)","v":7},{"$f":"SUM(AUT_top:POR_top!V19)","v":1},{"$f":"SUM(AUT_top:POR_top!W19)","v":4},{"$f":"SUM(AUT_top:POR_top!X19)","v":2},{"$f":"SUM(AUT_top:POR_top!Y19)","v":0},{"$f":"SUM(AUT_top:POR_top!Z19)","v":4},{"$f":"SUM(AUT_top:POR_top!AA19)","v":0},{"$f":"SUM(AUT_top:POR_top!AB19)","v":3},{"$f":"SUM(AUT_top:POR_top!AC19)","v":4},{"$f":"SUM(AUT_top:POR_top!AD19)","v":0},{"$f":"SUM(AUT_top:POR_top!AE19)","v":0},{"$f":"SUM(AUT_top:POR_top!AF19)","v":6},{"$f":"SUM(AUT_top:POR_top!AG19)","v":6},{"$f":"SUM(AUT_top:POR_top!AH19)","v":1},{"$f":"SUM(AUT_top:POR_top!AI19)","v":0},{"$f":"SUM(AUT_top:POR_top!AJ19)","v":2},{"$f":"SUM(AUT_top:POR_top!AK19)","v":0},{"$f":"SUM(AUT_top:POR_top!AL19)","v":1},{"$f":"SUM(AUT_top:POR_top!AM19)","v":5},{"$f":"SUM(AUT_top:POR_top!AN19)","v":2},{"$f":"SUM(AUT_top:POR_top!AO19)","v":0},{"$f":"SUM(AUT_top:POR_top!AP19)","v":0},{"$f":"SUM(AUT_top:POR_top!AQ19)","v":2},{"$f":"SUM(AUT_top:POR_top!AR19)","v":0},{"$f":"SUM(AUT_top:POR_top!AS19)","v":0},{"$f":"SUM(AUT_top:POR_top!AT19)","v":0},{"$f":"SUM(AUT_top:POR_top!AU19)","v":0},{"$f":"SUM(AUT_top:POR_top!AV19)","v":0},{"$f":"SUM(AUT_top:POR_top!AW19)","v":1},{"$f":"SUM(AUT_top:POR_top!AX19)","v":1},{"$f":"SUM(AUT_top:POR_top!AY19)","v":1},{"$f":"SUM(AUT_top:POR_top!AZ19)","v":0},{"$f":"SUM(AUT_top:POR_top!BA19)","v":3},{"$f":"SUM(AUT_top:POR_top!BB19)","v":1},80,0.19607843137254902]
[null,"DHW system",{"$f":"Sheet1!O181","v":"Lowering setpoint temperature"},{"$f":"SUM(AUT_top:POR_top!D20)","v":-2},{"$f":"SUM(AUT_top:POR_top!E20)","v":1},{"$f":"SUM(AUT_top:POR_top!F20)","v":-1},{"$f":"SUM(AUT_top:POR_top!G20)","v":0},{"$f":"SUM(AUT_top:POR_top!H20)","v":0},{"$f":"SUM(AUT_top:POR_top!I20)","v":-1},{"$f":"SUM(AUT_top:POR_top!J20)","v":-1},{"$f":"SUM(AUT_top:POR_top!K20)","v":-1},{"$f":"SUM(AUT_top:POR_top!L20)","v":-2},{"$f":"SUM(AUT_top:POR_top!M20)","v":0},{"$f":"SUM(AUT_top:POR_top!N20)","v":0},{"$f":"SUM(AUT_top:POR_top!O20)","v":0},{"$f":"SUM(AUT_top:POR_top!P20)","v":7},{"$f":"SUM(AUT_top:POR_top!Q20)","v":3},{"$f":"SUM(AUT_top:POR_top!R20)","v":0},{"$f":"SUM(AUT_top:POR_top!S20)","v":0},{"$f":"SUM(AUT_top:POR_top!T20)","v":1},{"$f":"SUM(AUT_top:POR_top!U20)","v":7},{"$f":"SUM(AUT_top:POR_top!V20)","v":1},{"$f":"SUM(AUT_top:POR_top!W20)","v":4},{"$f":"SUM(AUT_top:POR_top!X20)","v":0},{"$f":"SUM(AUT_top:POR_top!Y20)","v":0},{"$f":"SUM(AUT_top:POR_top!Z20)","v":4},{"$f":"SUM(AUT_top:POR_top!AA20)","v":0},{"$f":"SUM(AUT_top:POR_top!AB20)","v":3},{"$f":"SUM(AUT_top:POR_top!AC20)","v":4},{"$f":"SUM(AUT_top:POR_top!AD20)","v":0},{"$f":"SUM(AUT_top:POR_top!AE20)","v":-1},{"$f":"SUM(AUT_top:POR_top!AF20)","v":5},{"$f":"SUM(AUT_top:POR_top!AG20)","v":6},{"$f":"SUM(AUT_top:POR_top!AH20)","v":1},{"$f":"SUM(AUT_top:POR_top!AI20)","v":0},{"$f":"SUM(AUT_top:POR_top!AJ20)","v":1},{"$f":"SUM(AUT_top:POR_top!AK20)","v":0},{"$f":"SUM(AUT_top:POR_top!AL20)","v":1},{"$f":"SUM(AUT_top:POR_top!AM20)","v":5},{"$f":"SUM(AUT_top:POR_top!AN20)","v":2},{"$f":"SUM(AUT_top:POR_top!AO20)","v":0},{"$f":"SUM(AUT_top:POR_top!AP20)","v":0},{"$f":"SUM(AUT_top:POR_top!AQ20)","v":0},{"$f":"SUM(AUT_top:POR_top!AR20)","v":0},{"$f":"SUM(AUT_top:POR_top!AS20)","v":1},{"$f":"SUM(AUT_top:POR_top!AT20)","v":0},{"$f":"SUM(AUT_top:POR_top!AU20)","v":0},{"$f":"SUM(AUT_top:POR_top!AV20)","v":0},{"$f":"SUM(AUT_top:POR_top!AW20)","v":1},{"$f":"SUM(AUT_top:POR_top!AX20)","v":1},{"$f":"SUM(AUT_top:POR_top!AY20)","v":0},{"$f":"SUM(AUT_top:POR_top!AZ20)","v":-1},{"$f":"SUM(AUT_top:POR_top!BA20)","v":1},{"$f":"SUM(AUT_top:POR_top!BB20)","v":0},50,0.12254901960784313]
[null,"DHW system",{"$f":"Sheet1!O182","v":"Circulation network optimisation, decentralisation of DHW production"},{"$f":"SUM(AUT_top:POR_top!D21)","v":3},{"$f":"SUM(AUT_top:POR_top!E21)","v":1},{"$f":"SUM(AUT_top:POR_top!F21)","v":1},{"$f":"SUM(AUT_top:POR_top!G21)","v":0},{"$f":"SUM(AUT_top:POR_top!H21)","v":0},{"$f":"SUM(AUT_top:POR_top!I21)","v":2},{"$f":"SUM(AUT_top:POR_top!J21)","v":1},{"$f":"SUM(AUT_top:POR_top!K21)","v":1},{"$f":"SUM(AUT_top:POR_top!L21)","v":1},{"$f":"SUM(AUT_top:POR_top!M21)","v":0},{"$f":"SUM(AUT_top:POR_top!N21)","v":0},{"$f":"SUM(AUT_top:POR_top!O21)","v":0},{"$f":"SUM(AUT_top:POR_top!P21)","v":7},{"$f":"SUM(AUT_top:POR_top!Q21)","v":3},{"$f":"SUM(AUT_top:POR_top!R21)","v":0},{"$f":"SUM(AUT_top:POR_top!S21)","v":2},{"$f":"SUM(AUT_top:POR_top!T21)","v":1},{"$f":"SUM(AUT_top:POR_top!U21)","v":7},{"$f":"SUM(AUT_top:POR_top!V21)","v":1},{"$f":"SUM(AUT_top:POR_top!W21)","v":4},{"$f":"SUM(AUT_top:POR_top!X21)","v":2},{"$f":"SUM(AUT_top:POR_top!Y21)","v":0},{"$f":"SUM(AUT_top:POR_top!Z21)","v":4},{"$f":"SUM(AUT_top:POR_top!AA21)","v":0},{"$f":"SUM(AUT_top:POR_top!AB21)","v":3},{"$f":"SUM(AUT_top:POR_top!AC21)","v":4},{"$f":"SUM(AUT_top:POR_top!AD21)","v":0},{"$f":"SUM(AUT_top:POR_top!AE21)","v":0},{"$f":"SUM(AUT_top:POR_top!AF21)","v":6},{"$f":"SUM(AUT_top:POR_top!AG21)","v":6},{"$f":"SUM(AUT_top:POR_top!AH21)","v":1},{"$f":"SUM(AUT_top:POR_top!AI21)","v":0},{"$f":"SUM(AUT_top:POR_top!AJ21)","v":1},{"$f":"SUM(AUT_top:POR_top!AK21)","v":0},{"$f":"SUM(AUT_top:POR_top!AL21)","v":1},{"$f":"SUM(AUT_top:POR_top!AM21)","v":5},{"$f":"SUM(AUT_top:POR_top!AN21)","v":2},{"$f":"SUM(AUT_top:POR_top!AO21)","v":0},{"$f":"SUM(AUT_top:POR_top!AP21)","v":1},{"$f":"SUM(AUT_top:POR_top!AQ21)","v":0},{"$f":"SUM(AUT_top:POR_top!AR21)","v":0},{"$f":"SUM(AUT_top:POR_top!AS21)","v":0},{"$f":"SUM(AUT_top:POR_top!AT21)","v":0},{"$f":"SUM(AUT_top:POR_top!AU21)","v":0},{"$f":"SUM(AUT_top:POR_top!AV21)","v":0},{"$f":"SUM(AUT_top:POR_top!AW21)","v":1},{"$f":"SUM(AUT_top:POR_top!AX21)","v":1},{"$f":"SUM(AUT_top:POR_top!AY21)","v":0},{"$f":"SUM(AUT_top:POR_top!AZ21)","v":0},{"$f":"SUM(AUT_top:POR_top!BA21)","v":1},{"$f":"SUM(AUT_top:POR_top!BB21)","v":0},74,0.18137254901960784]
[null,"DHW system",{"$f":"Sheet1!O183","v":"New, more efficient heat generator"},{"$f":"SUM(AUT_top:POR_top!D22)","v":2},{"$f":"SUM(AUT_top:POR_top!E22)","v":1},{"$f":"SUM(AUT_top:POR_top!F22)","v":2},{"$f":"SUM(AUT_top:POR_top!G22)","v":0},{"$f":"SUM(AUT_top:POR_top!H22)","v":0},{"$f":"SUM(AUT_top:POR_top!I22)","v":1},{"$f":"SUM(AUT_top:POR_top!J22)","v":1},{"$f":"SUM(AUT_top:POR_top!K22)","v":0},{"$f":"SUM(AUT_top:POR_top!L22)","v":0},{"$f":"SUM(AUT_top:POR_top!M22)","v":0},{"$f":"SUM(AUT_top:POR_top!N22)","v":0},{"$f":"SUM(AUT_top:POR_top!O22)","v":1},{"$f":"SUM(AUT_top:POR_top!P22)","v":8},{"$f":"SUM(AUT_top:POR_top!Q22)","v":3},{"$f":"SUM(AUT_top:POR_top!R22)","v":0},{"$f":"SUM(AUT_top:POR_top!S22)","v":1},{"$f":"SUM(AUT_top:POR_top!T22)","v":1},{"$f":"SUM(AUT_top:POR_top!U22)","v":7},{"$f":"SUM(AUT_top:POR_top!V22)","v":2},{"$f":"SUM(AUT_top:POR_top!W22)","v":4},{"$f":"SUM(AUT_top:POR_top!X22)","v":2},{"$f":"SUM(AUT_top:POR_top!Y22)","v":0},{"$f":"SUM(AUT_top:POR_top!Z22)","v":4},{"$f":"SUM(AUT_top:POR_top!AA22)","v":1},{"$f":"SUM(AUT_top:POR_top!AB22)","v":6},{"$f":"SUM(AUT_top:POR_top!AC22)","v":4},{"$f":"SUM(AUT_top:POR_top!AD22)","v":0},{"$f":"SUM(AUT_top:POR_top!AE22)","v":0},{"$f":"SUM(AUT_top:POR_top!AF22)","v":6},{"$f":"SUM(AUT_top:POR_top!AG22)","v":4},{"$f":"SUM(AUT_top:POR_top!AH22)","v":1},{"$f":"SUM(AUT_top:POR_top!AI22)","v":0},{"$f":"SUM(AUT_top:POR_top!AJ22)","v":2},{"$f":"SUM(AUT_top:POR_top!AK22)","v":0},{"$f":"SUM(AUT_top:POR_top!AL22)","v":1},{"$f":"SUM(AUT_top:POR_top!AM22)","v":5},{"$f":"SUM(AUT_top:POR_top!AN22)","v":2},{"$f":"SUM(AUT_top:POR_top!AO22)","v":0},{"$f":"SUM(AUT_top:POR_top!AP22)","v":0},{"$f":"SUM(AUT_top:POR_top!AQ22)","v":3},{"$f":"SUM(AUT_top:POR_top!AR22)","v":1},{"$f":"SUM(AUT_top:POR_top!AS22)","v":0},{"$f":"SUM(AUT_top:POR_top!AT22)","v":0},{"$f":"SUM(AUT_top:POR_top!AU22)","v":0},{"$f":"SUM(AUT_top:POR_top!AV22)","v":0},{"$f":"SUM(AUT_top:POR_top!AW22)","v":3},{"$f":"SUM(AUT_top:POR_top!AX22)","v":2},{"$f":"SUM(AUT_top:POR_top!AY22)","v":2},{"$f":"SUM(AUT_top:POR_top!AZ22)","v":0},{"$f":"SUM(AUT_top:POR_top!BA22)","v":3},{"$f":"SUM(AUT_top:POR_top!BB22)","v":1},87,0.21323529411764705]
[null,"DHW system",{"$f":"Sheet1!O184","v":"Including a renewable based heat source"},{"$f":"SUM(AUT_top:POR_top!D23)","v":1},{"$f":"SUM(AUT_top:POR_top!E23)","v":1},{"$f":"SUM(AUT_top:POR_top!F23)","v":0},{"$f":"SUM(AUT_top:POR_top!G23)","v":1},{"$f":"SUM(AUT_top:POR_top!H23)","v":0},{"$f":"SUM(AUT_top:POR_top!I23)","v":0},{"$f":"SUM(AUT_top:POR_top!J23)","v":1},{"$f":"SUM(AUT_top:POR_top!K23)","v":0},{"$f":"SUM(AUT_top:POR_top!L23)","v":0},{"$f":"SUM(AUT_top:POR_top!M23)","v":1},{"$f":"SUM(AUT_top:POR_top!N23)","v":0},{"$f":"SUM(AUT_top:POR_top!O23)","v":1},{"$f":"SUM(AUT_top:POR_top!P23)","v":7},{"$f":"SUM(AUT_top:POR_top!Q23)","v":5},{"$f":"SUM(AUT_top:POR_top!R23)","v":1},{"$f":"SUM(AUT_top:POR_top!S23)","v":1},{"$f":"SUM(AUT_top:POR_top!T23)","v":1},{"$f":"SUM(AUT_top:POR_top!U23)","v":8},{"$f":"SUM(AUT_top:POR_top!V23)","v":2},{"$f":"SUM(AUT_top:POR_top!W23)","v":6},{"$f":"SUM(AUT_top:POR_top!X23)","v":1},{"$f":"SUM(AUT_top:POR_top!Y23)","v":0},{"$f":"SUM(AUT_top:POR_top!Z23)","v":4},{"$f":"SUM(AUT_top:POR_top!AA23)","v":1},{"$f":"SUM(AUT_top:POR_top!AB23)","v":0},{"$f":"SUM(AUT_top:POR_top!AC23)","v":5},{"$f":"SUM(AUT_top:POR_top!AD23)","v":0},{"$f":"SUM(AUT_top:POR_top!AE23)","v":0},{"$f":"SUM(AUT_top:POR_top!AF23)","v":6},{"$f":"SUM(AUT_top:POR_top!AG23)","v":4},{"$f":"SUM(AUT_top:POR_top!AH23)","v":2},{"$f":"SUM(AUT_top:POR_top!AI23)","v":0},{"$f":"SUM(AUT_top:POR_top!AJ23)","v":1},{"$f":"SUM(AUT_top:POR_top!AK23)","v":0},{"$f":"SUM(AUT_top:POR_top!AL23)","v":2},{"$f":"SUM(AUT_top:POR_top!AM23)","v":6},{"$f":"SUM(AUT_top:POR_top!AN23)","v":4},{"$f":"SUM(AUT_top:POR_top!AO23)","v":1},{"$f":"SUM(AUT_top:POR_top!AP23)","v":0},{"$f":"SUM(AUT_top:POR_top!AQ23)","v":-1},{"$f":"SUM(AUT_top:POR_top!AR23)","v":0},{"$f":"SUM(AUT_top:POR_top!AS23)","v":0},{"$f":"SUM(AUT_top:POR_top!AT23)","v":0},{"$f":"SUM(AUT_top:POR_top!AU23)","v":0},{"$f":"SUM(AUT_top:POR_top!AV23)","v":0},{"$f":"SUM(AUT_top:POR_top!AW23)","v":3},{"$f":"SUM(AUT_top:POR_top!AX23)","v":3},{"$f":"SUM(AUT_top:POR_top!AY23)","v":1},{"$f":"SUM(AUT_top:POR_top!AZ23)","v":0},{"$f":"SUM(AUT_top:POR_top!BA23)","v":1},{"$f":"SUM(AUT_top:POR_top!BB23)","v":0},81,0.19852941176470587]
[null,"Cooling system",{"$f":"Sheet1!O186","v":"Roomwise temperature control"},{"$f":"SUM(AUT_top:POR_top!D24)","v":7},{"$f":"SUM(AUT_top:POR_top!E24)","v":1},{"$f":"SUM(AUT_top:POR_top!F24)","v":2},{"$f":"SUM(AUT_top:POR_top!G24)","v":0},{"$f":"SUM(AUT_top:POR_top!H24)","v":4},{"$f":"SUM(AUT_top:POR_top!I24)","v":5},{"$f":"SUM(AUT_top:POR_top!J24)","v":0},{"$f":"SUM(AUT_top:POR_top!K24)","v":2},{"$f":"SUM(AUT_top:POR_top!L24)","v":4},{"$f":"SUM(AUT_top:POR_top!M24)","v":4},{"$f":"SUM(AUT_top:POR_top!N24)","v":0},{"$f":"SUM(AUT_top:POR_top!O24)","v":0},{"$f":"SUM(AUT_top:POR_top!P24)","v":6},{"$f":"SUM(AUT_top:POR_top!Q24)","v":2},{"$f":"SUM(AUT_top:POR_top!R24)","v":1},{"$f":"SUM(AUT_top:POR_top!S24)","v":0},{"$f":"SUM(AUT_top:POR_top!T24)","v":0},{"$f":"SUM(AUT_top:POR_top!U24)","v":6},{"$f":"SUM(AUT_top:POR_top!V24)","v":1},{"$f":"SUM(AUT_top:POR_top!W24)","v":4},{"$f":"SUM(AUT_top:POR_top!X24)","v":1},{"$f":"SUM(AUT_top:POR_top!Y24)","v":0},{"$f":"SUM(AUT_top:POR_top!Z24)","v":4},{"$f":"SUM(AUT_top:POR_top!AA24)","v":0},{"$f":"SUM(AUT_top:POR_top!AB24)","v":-1},{"$f":"SUM(AUT_top:POR_top!AC24)","v":5},{"$f":"SUM(AUT_top:POR_top!AD24)","v":0},{"$f":"SUM(AUT_top:POR_top!AE24)","v":1},{"$f":"SUM(AUT_top:POR_top!AF24)","v":5},{"$f":"SUM(AUT_top:POR_top!AG24)","v":6},{"$f":"SUM(AUT_top:POR_top!AH24)","v":1},{"$f":"SUM(AUT_top:POR_top!AI24)","v":0},{"$f":"SUM(AUT_top:POR_top!AJ24)","v":1},{"$f":"SUM(AUT_top:POR_top!AK24)","v":0},{"$f":"SUM(AUT_top:POR_top!AL24)","v":1},{"$f":"SUM(AUT_top:POR_top!AM24)","v":5},{"$f":"SUM(AUT_top:POR_top!AN24)","v":2},{"$f":"SUM(AUT_top:POR_top!AO24)","v":0},{"$f":"SUM(AUT_top:POR_top!AP24)","v":1},{"$f":"SUM(AUT_top:POR_top!AQ24)","v":0},{"$f":"SUM(AUT_top:POR_top!AR24)","v":0},{"$f":"SUM(AUT_top:POR_top!AS24)","v":0},{"$f":"SUM(AUT_top:POR_top!AT24)","v":3},{"$f":"SUM(AUT_top:POR_top!AU24)","v":1},{"$f":"SUM(AUT_top:POR_top!AV24)","v":1},{"$f":"SUM(AUT_top:POR_top!AW24)","v":1},{"$f":"SUM(AUT_top:POR_top!AX24)","v":1},{"$f":"SUM(AUT_top:POR_top!AY24)","v":1},{"$f":"SUM(AUT_top:POR_top!AZ24)","v":2},{"$f":"SUM(AUT_top:POR_top!BA24)","v":2},{"$f":"SUM(AUT_top:POR_top!BB24)","v":1},94,0.23039215686274508]
[null,"Cooling system",{"$f":"Sheet1!O187","v":"Zoning optimisation of the building"},{"$f":"SUM(AUT_top:POR_top!D25)","v":4},{"$f":"SUM(AUT_top:POR_top!E25)","v":1},{"$f":"SUM(AUT_top:POR_top!F25)","v":2},{"$f":"SUM(AUT_top:POR_top!G25)","v":0},{"$f":"SUM(AUT_top:POR_top!H25)","v":2},{"$f":"SUM(AUT_top:POR_top!I25)","v":3},{"$f":"SUM(AUT_top:POR_top!J25)","v":0},{"$f":"SUM(AUT_top:POR_top!K25)","v":1},{"$f":"SUM(AUT_top:POR_top!L25)","v":1},{"$f":"SUM(AUT_top:POR_top!M25)","v":1},{"$f":"SUM(AUT_top:POR_top!N25)","v":0},{"$f":"SUM(AUT_top:POR_top!O25)","v":1},{"$f":"SUM(AUT_top:POR_top!P25)","v":6},{"$f":"SUM(AUT_top:POR_top!Q25)","v":2},{"$f":"SUM(AUT_top:POR_top!R25)","v":1},{"$f":"SUM(AUT_top:POR_top!S25)","v":0},{"$f":"SUM(AUT_top:POR_top!T25)","v":0},{"$f":"SUM(AUT_top:POR_top!U25)","v":6},{"$f":"SUM(AUT_top:POR_top!V25)","v":1},{"$f":"SUM(AUT_top:POR_top!W25)","v":4},{"$f":"SUM(AUT_top:POR_top!X25)","v":1},{"$f":"SUM(AUT_top:POR_top!Y25)","v":0},{"$f":"SUM(AUT_top:POR_top!Z25)","v":4},{"$f":"SUM(AUT_top:POR_top!AA25)","v":0},{"$f":"SUM(AUT_top:POR_top!AB25)","v":1},{"$f":"SUM(AUT_top:POR_top!AC25)","v":5},{"$f":"SUM(AUT_top:POR_top!AD25)","v":0},{"$f":"SUM(AUT_top:POR_top!AE25)","v":0},{"$f":"SUM(AUT_top:POR_top!AF25)","v":5},{"$f":"SUM(AUT_top:POR_top!AG25)","v":6},{"$f":"SUM(AUT_top:POR_top!AH25)","v":1},{"$f":"SUM(AUT_top:POR_top!AI25)","v":0},{"$f":"SUM(AUT_top:POR_top!AJ25)","v":1},{"$f":"SUM(AUT_top:POR_top!AK25)","v":0},{"$f":"SUM(AUT_top:POR_top!AL25)","v":1},{"$f":"SUM(AUT_top:POR_top!AM25)","v":5},{"$f":"SUM(AUT_top:POR_top!AN25)","v":2},{"$f":"SUM(AUT_top:POR_top!AO25)","v":0},{"$f":"SUM(AUT_top:POR_top!AP25)","v":1},{"$f":"SUM(AUT_top:POR_top!AQ25)","v":0},{"$f":"SUM(AUT_top:POR_top!AR25)","v":0},{"$f":"SUM(AUT_top:POR_top!AS25)","v":0},{"$f":"SUM(AUT_top:POR_top!AT25)","v":1},{"$f":"SUM(AUT_top:POR_top!AU25)","v":0},{"$f":"SUM(AUT_top:POR_top!AV25)","v":0},{"$f":"SUM(AUT_top:POR_top!AW25)","v":1},{"$f":"SUM(AUT_top:POR_top!AX25)","v":1},{"$f":"SUM(AUT_top:POR_top!AY25)","v":0},{"$f":"SUM(AUT_top:POR_top!AZ25)","v":1},{"$f":"SUM(AUT_top:POR_top!BA25)","v":2},{"$f":"SUM(AUT_top:POR_top!BB25)","v":0},75,0.18382352941176472]
[null,"Cooling system",{"$f":"Sheet1!O188","v":"Optimisation of the cooling schedule"},{"$f":"SUM(AUT_top:POR_top!D26)","v":4},{"$f":"SUM(AUT_top:POR_top!E26)","v":1},{"$f":"SUM(AUT_top:POR_top!F26)","v":2},{"$f":"SUM(AUT_top:POR_top!G26)","v":0},{"$f":"SUM(AUT_top:POR_top!H26)","v":2},{"$f":"SUM(AUT_top:POR_top!I26)","v":2},{"$f":"SUM(AUT_top:POR_top!J26)","v":1},{"$f":"SUM(AUT_top:POR_top!K26)","v":1},{"$f":"SUM(AUT_top:POR_top!L26)","v":1},{"$f":"SUM(AUT_top:POR_top!M26)","v":1},{"$f":"SUM(AUT_top:POR_top!N26)","v":0},{"$f":"SUM(AUT_top:POR_top!O26)","v":0},{"$f":"SUM(AUT_top:POR_top!P26)","v":6},{"$f":"SUM(AUT_top:POR_top!Q26)","v":2},{"$f":"SUM(AUT_top:POR_top!R26)","v":1},{"$f":"SUM(AUT_top:POR_top!S26)","v":0},{"$f":"SUM(AUT_top:POR_top!T26)","v":0},{"$f":"SUM(AUT_top:POR_top!U26)","v":6},{"$f":"SUM(AUT_top:POR_top!V26)","v":1},{"$f":"SUM(AUT_top:POR_top!W26)","v":4},{"$f":"SUM(AUT_top:POR_top!X26)","v":1},{"$f":"SUM(AUT_top:POR_top!Y26)","v":0},{"$f":"SUM(AUT_top:POR_top!Z26)","v":4},{"$f":"SUM(AUT_top:POR_top!AA26)","v":0},{"$f":"SUM(AUT_top:POR_top!AB26)","v":1},{"$f":"SUM(AUT_top:POR_top!AC26)","v":5},{"$f":"SUM(AUT_top:POR_top!AD26)","v":0},{"$f":"SUM(AUT_top:POR_top!AE26)","v":1},{"$f":"SUM(AUT_top:POR_top!AF26)","v":5},{"$f":"SUM(AUT_top:POR_top!AG26)","v":6},{"$f":"SUM(AUT_top:POR_top!AH26)","v":1},{"$f":"SUM(AUT_top:POR_top!AI26)","v":0},{"$f":"SUM(AUT_top:POR_top!AJ26)","v":1},{"$f":"SUM(AUT_top:POR_top!AK26)","v":0},{"$f":"SUM(AUT_top:POR_top!AL26)","v":1},{"$f":"SUM(AUT_top:POR_top!AM26)","v":5},{"$f":"SUM(AUT_top:POR_top!AN26)","v":2},{"$f":"SUM(AUT_top:POR_top!AO26)","v":0},{"$f":"SUM(AUT_top:POR_top!AP26)","v":1},{"$f":"SUM(AUT_top:POR_top!AQ26)","v":0},{"$f":"SUM(AUT_top:POR_top!AR26)","v":0},{"$f":"SUM(AUT_top:POR_top!AS26)","v":0},{"$f":"SUM(AUT_top:POR_top!AT26)","v":0},{"$f":"SUM(AUT_top:POR_top!AU26)","v":1},{"$f":"SUM(AUT_top:POR_top!AV26)","v":1},{"$f":"SUM(AUT_top:POR_top!AW26)","v":1},{"$f":"SUM(AUT_top:POR_top!AX26)","v":1},{"$f":"SUM(AUT_top:POR_top!AY26)","v":0},{"$f":"SUM(AUT_top:POR_top!AZ26)","v":2},{"$f":"SUM(AUT_top:POR_top!BA26)","v":2},{"$f":"SUM(AUT_top:POR_top!BB26)","v":0},77,0.18872549019607843]
[null,"Cooling system",{"$f":"Sheet1!O189","v":"Increasing setpoint temperature"},{"$f":"SUM(AUT_top:POR_top!D27)","v":2},{"$f":"SUM(AUT_top:POR_top!E27)","v":1},{"$f":"SUM(AUT_top:POR_top!F27)","v":0},{"$f":"SUM(AUT_top:POR_top!G27)","v":0},{"$f":"SUM(AUT_top:POR_top!H27)","v":1},{"$f":"SUM(AUT_top:POR_top!I27)","v":0},{"$f":"SUM(AUT_top:POR_top!J27)","v":0},{"$f":"SUM(AUT_top:POR_top!K27)","v":1},{"$f":"SUM(AUT_top:POR_top!L27)","v":-1},{"$f":"SUM(AUT_top:POR_top!M27)","v":-2},{"$f":"SUM(AUT_top:POR_top!N27)","v":0},{"$f":"SUM(AUT_top:POR_top!O27)","v":0},{"$f":"SUM(AUT_top:POR_top!P27)","v":6},{"$f":"SUM(AUT_top:POR_top!Q27)","v":2},{"$f":"SUM(AUT_top:POR_top!R27)","v":1},{"$f":"SUM(AUT_top:POR_top!S27)","v":0},{"$f":"SUM(AUT_top:POR_top!T27)","v":0},{"$f":"SUM(AUT_top:POR_top!U27)","v":6},{"$f":"SUM(AUT_top:POR_top!V27)","v":1},{"$f":"SUM(AUT_top:POR_top!W27)","v":4},{"$f":"SUM(AUT_top:POR_top!X27)","v":1},{"$f":"SUM(AUT_top:POR_top!Y27)","v":0},{"$f":"SUM(AUT_top:POR_top!Z27)","v":4},{"$f":"SUM(AUT_top:POR_top!AA27)","v":0},{"$f":"SUM(AUT_top:POR_top!AB27)","v":1},{"$f":"SUM(AUT_top:POR_top!AC27)","v":5},{"$f":"SUM(AUT_top:POR_top!AD27)","v":0},{"$f":"SUM(AUT_top:POR_top!AE27)","v":-1},{"$f":"SUM(AUT_top:POR_top!AF27)","v":5},{"$f":"SUM(AUT_top:POR_top!AG27)","v":6},{"$f":"SUM(AUT_top:POR_top!AH27)","v":1},{"$f":"SUM(AUT_top:POR_top!AI27)","v":0},{"$f":"SUM(AUT_top:POR_top!AJ27)","v":1},{"$f":"SUM(AUT_top:POR_top!AK27)","v":0},{"$f":"SUM(AUT_top:POR_top!AL27)","v":1},{"$f":"SUM(AUT_top:POR_top!AM27)","v":5},{"$f":"SUM(AUT_top:POR_top!AN27)","v":2},{"$f":"SUM(AUT_top:POR_top!AO27)","v":0},{"$f":"SUM(AUT_top:POR_top!AP27)","v":0},{"$f":"SUM(AUT_top:POR_top!AQ27)","v":0},{"$f":"SUM(AUT_top:POR_top!AR27)","v":0},{"$f":"SUM(AUT_top:POR_top!AS27)","v":0},{"$f":"SUM(AUT_top:POR_top!AT27)","v":0},{"$f":"SUM(AUT_top:POR_top!AU27)","v":0},{"$f":"SUM(AUT_top:POR_top!AV27)","v":0},{"$f":"SUM(AUT_top:POR_top!AW27)","v":1},{"$f":"SUM(AUT_top:POR_top!AX27)","v":1},{"$f":"SUM(AUT_top:POR_top!AY27)","v":0},{"$f":"SUM(AUT_top:POR_top!AZ27)","v":-1},{"$f":"SUM(AUT_top:POR_top!BA27)","v":1},{"$f":"SUM(AUT_top:POR_top!BB27)","v":0},55,0.13480392156862744]
[null,"Cooling system",{"$f":"Sheet1!O190","v":"Control optimisation"},{"$f":"SUM(AUT_top:POR_top!D28)","v":3},{"$f":"SUM(AUT_top:POR_top!E28)","v":1},{"$f":"SUM(AUT_top:POR_top!F28)","v":2},{"$f":"SUM(AUT_top:POR_top!G28)","v":0},{"$f":"SUM(AUT_top:POR_top!H28)","v":1},{"$f":"SUM(AUT_top:POR_top!I28)","v":0},{"$f":"SUM(AUT_top:POR_top!J28)","v":0},{"$f":"SUM(AUT_top:POR_top!K28)","v":1},{"$f":"SUM(AUT_top:POR_top!L28)","v":2},{"$f":"SUM(AUT_top:POR_top!M28)","v":2},{"$f":"SUM(AUT_top:POR_top!N28)","v":0},{"$f":"SUM(AUT_top:POR_top!O28)","v":0},{"$f":"SUM(AUT_top:POR_top!P28)","v":6},{"$f":"SUM(AUT_top:POR_top!Q28)","v":3},{"$f":"SUM(AUT_top:POR_top!R28)","v":1},{"$f":"SUM(AUT_top:POR_top!S28)","v":0},{"$f":"SUM(AUT_top:POR_top!T28)","v":0},{"$f":"SUM(AUT_top:POR_top!U28)","v":6},{"$f":"SUM(AUT_top:POR_top!V28)","v":1},{"$f":"SUM(AUT_top:POR_top!W28)","v":4},{"$f":"SUM(AUT_top:POR_top!X28)","v":1},{"$f":"SUM(AUT_top:POR_top!Y28)","v":0},{"$f":"SUM(AUT_top:POR_top!Z28)","v":4},{"$f":"SUM(AUT_top:POR_top!AA28)","v":0},{"$f":"SUM(AUT_top:POR_top!AB28)","v":0},{"$f":"SUM(AUT_top:POR_top!AC28)","v":5},{"$f":"SUM(AUT_top:POR_top!AD28)","v":0},{"$f":"SUM(AUT_top:POR_top!AE28)","v":0},{"$f":"SUM(AUT_top:POR_top!AF28)","v":5},{"$f":"SUM(AUT_top:POR_top!AG28)","v":6},{"$f":"SUM(AUT_top:POR_top!AH28)","v":1},{"$f":"SUM(AUT_top:POR_top!AI28)","v":0},{"$f":"SUM(AUT_top:POR_top!AJ28)","v":1},{"$f":"SUM(AUT_top:POR_top!AK28)","v":0},{"$f":"SUM(AUT_top:POR_top!AL28)","v":1},{"$f":"SUM(AUT_top:POR_top!AM28)","v":5},{"$f":"SUM(AUT_top:POR_top!AN28)","v":2},{"$f":"SUM(AUT_top:POR_top!AO28)","v":0},{"$f":"SUM(AUT_top:POR_top!AP28)","v":2},{"$f":"SUM(AUT_top:POR_top!AQ28)","v":1},{"$f":"SUM(AUT_top:POR_top!AR28)","v":0},{"$f":"SUM(AUT_top:POR_top!AS28)","v":0},{"$f":"SUM(AUT_top:POR_top!AT28)","v":2},{"$f":"SUM(AUT_top:POR_top!AU28)","v":1},{"$f":"SUM(AUT_top:POR_top!AV28)","v":1},{"$f":"SUM(AUT_top:POR_top!AW28)","v":1},{"$f":"SUM(AUT_top:POR_top!AX28)","v":1},{"$f":"SUM(AUT_top:POR_top!AY28)","v":3},{"$f":"SUM(AUT_top:POR_top!AZ28)","v":0},{"$f":"SUM(AUT_top:POR_top!BA28)","v":1},{"$f":"SUM(AUT_top:POR_top!BB28)","v":1},78,0.19117647058823528]
[null,"Cooling system",{"$f":"Sheet1!O191","v":"Insulation of the distribution network"},{"$f":"SUM(AUT_top:POR_top!D29)","v":1},{"$f":"SUM(AUT_top:POR_top!E29)","v":1},{"$f":"SUM(AUT_top:POR_top!F29)","v":2},{"$f":"SUM(AUT_top:POR_top!G29)","v":0},{"$f":"SUM(AUT_top:POR_top!H29)","v":1},{"$f":"SUM(AUT_top:POR_top!I29)","v":1},{"$f":"SUM(AUT_top:POR_top!J29)","v":0},{"$f":"SUM(AUT_top:POR_top!K29)","v":0},{"$f":"SUM(AUT_top:POR_top!L29)","v":0},{"$f":"SUM(AUT_top:POR_top!M29)","v":0},{"$f":"SUM(AUT_top:POR_top!N29)","v":0},{"$f":"SUM(AUT_top:POR_top!O29)","v":1},{"$f":"SUM(AUT_top:POR_top!P29)","v":6},{"$f":"SUM(AUT_top:POR_top!Q29)","v":2},{"$f":"SUM(AUT_top:POR_top!R29)","v":1},{"$f":"SUM(AUT_top:POR_top!S29)","v":0},{"$f":"SUM(AUT_top:POR_top!T29)","v":0},{"$f":"SUM(AUT_top:POR_top!U29)","v":6},{"$f":"SUM(AUT_top:POR_top!V29)","v":1},{"$f":"SUM(AUT_top:POR_top!W29)","v":4},{"$f":"SUM(AUT_top:POR_top!X29)","v":1},{"$f":"SUM(AUT_top:POR_top!Y29)","v":0},{"$f":"SUM(AUT_top:POR_top!Z29)","v":4},{"$f":"SUM(AUT_top:POR_top!AA29)","v":0},{"$f":"SUM(AUT_top:POR_top!AB29)","v":1},{"$f":"SUM(AUT_top:POR_top!AC29)","v":5},{"$f":"SUM(AUT_top:POR_top!AD29)","v":0},{"$f":"SUM(AUT_top:POR_top!AE29)","v":0},{"$f":"SUM(AUT_top:POR_top!AF29)","v":6},{"$f":"SUM(AUT_top:POR_top!AG29)","v":6},{"$f":"SUM(AUT_top:POR_top!AH29)","v":1},{"$f":"SUM(AUT_top:POR_top!AI29)","v":0},{"$f":"SUM(AUT_top:POR_top!AJ29)","v":2},{"$f":"SUM(AUT_top:POR_top!AK29)","v":0},{"$f":"SUM(AUT_top:POR_top!AL29)","v":1},{"$f":"SUM(AUT_top:POR_top!AM29)","v":5},{"$f":"SUM(AUT_top:POR_top!AN29)","v":2},{"$f":"SUM(AUT_top:POR_top!AO29)","v":0},{"$f":"SUM(AUT_top:POR_top!AP29)","v":1},{"$f":"SUM(AUT_top:POR_top!AQ29)","v":1},{"$f":"SUM(AUT_top:POR_top!AR29)","v":0},{"$f":"SUM(AUT_top:POR_top!AS29)","v":0},{"$f":"SUM(AUT_top:POR_top!AT29)","v":1},{"$f":"SUM(AUT_top:POR_top!AU29)","v":1},{"$f":"SUM(AUT_top:POR_top!AV29)","v":1},{"$f":"SUM(AUT_top:POR_top!AW29)","v":1},{"$f":"SUM(AUT_top:POR_top!AX29)","v":1},{"$f":"SUM(AUT_top:POR_top!AY29)","v":0},{"$f":"SUM(AUT_top:POR_top!AZ29)","v":0},{"$f":"SUM(AUT_top:POR_top!BA29)","v":3},{"$f":"SUM(AUT_top:POR_top!BB29)","v":1},72,0.17647058823529413]
[null,"Cooling system",{"$f":"Sheet1!O192","v":"Hydraulic balancing of the distribution network"},{"$f":"SUM(AUT_top:POR_top!D30)","v":2},{"$f":"SUM(AUT_top:POR_top!E30)","v":1},{"$f":"SUM(AUT_top:POR_top!F30)","v":2},{"$f":"SUM(AUT_top:POR_top!G30)","v":0},{"$f":"SUM(AUT_top:POR_top!H30)","v":1},{"$f":"SUM(AUT_top:POR_top!I30)","v":1},{"$f":"SUM(AUT_top:POR_top!J30)","v":0},{"$f":"SUM(AUT_top:POR_top!K30)","v":0},{"$f":"SUM(AUT_top:POR_top!L30)","v":1},{"$f":"SUM(AUT_top:POR_top!M30)","v":0},{"$f":"SUM(AUT_top:POR_top!N30)","v":0},{"$f":"SUM(AUT_top:POR_top!O30)","v":0},{"$f":"SUM(AUT_top:POR_top!P30)","v":6},{"$f":"SUM(AUT_top:POR_top!Q30)","v":2},{"$f":"SUM(AUT_top:POR_top!R30)","v":1},{"$f":"SUM(AUT_top:POR_top!S30)","v":0},{"$f":"SUM(AUT_top:POR_top!T30)","v":0},{"$f":"SUM(AUT_top:POR_top!U30)","v":6},{"$f":"SUM(AUT_top:POR_top!V30)","v":1},{"$f":"SUM(AUT_top:POR_top!W30)","v":4},{"$f":"SUM(AUT_top:POR_top!X30)","v":1},{"$f":"SUM(AUT_top:POR_top!Y30)","v":0},{"$f":"SUM(AUT_top:POR_top!Z30)","v":4},{"$f":"SUM(AUT_top:POR_top!AA30)","v":0},{"$f":"SUM(AUT_top:POR_top!AB30)","v":1},{"$f":"SUM(AUT_top:POR_top!AC30)","v":5},{"$f":"SUM(AUT_top:POR_top!AD30)","v":0},{"$f":"SUM(AUT_top:POR_top!AE30)","v":0},{"$f":"SUM(AUT_top:POR_top!AF30)","v":6},{"$f":"SUM(AUT_top:POR_top!AG30)","v":6},{"$f":"SUM(AUT_top:POR_top!AH30)","v":1},{"$f":"SUM(AUT_top:POR_top!AI30)","v":0},{"$f":"SUM(AUT_top:POR_top!AJ30)","v":2},{"$f":"SUM(AUT_top:POR_top!AK30)","v":0},{"$f":"SUM(AUT_top:POR_top!AL30)","v":1},{"$f":"SUM(AUT_top:POR_top!AM30)","v":5},{"$f":"SUM(AUT_top:POR_top!AN30)","v":2},{"$f":"SUM(AUT_top:POR_top!AO30)","v":0},{"$f":"SUM(AUT_top:POR_top!AP30)","v":1},{"$f":"SUM(AUT_top:POR_top!AQ30)","v":0},{"$f":"SUM(AUT_top:POR_top!AR30)","v":0},{"$f":"SUM(AUT_top:POR_top!AS30)","v":0},{"$f":"SUM(AUT_top:POR_top!AT30)","v":1},{"$f":"SUM(AUT_top:POR_top!AU30)","v":1},{"$f":"SUM(AUT_top:POR_top!AV30)","v":1},{"$f":"SUM(AUT_top:POR_top!AW30)","v":1},{"$f":"SUM(AUT_top:POR_top!AX30)","v":1},{"$f":"SUM(AUT_top:POR_top!AY30)","v":0},{"$f":"SUM(AUT_top:POR_top!AZ30)","v":0},{"$f":"SUM(AUT_top:POR_top!BA30)","v":1},{"$f":"SUM(AUT_top:POR_top!BB30)","v":1},70,0.17156862745098039]
[null,"Cooling system",{"$f":"Sheet1!O193","v":"New, more efficient heat generator"},{"$f":"SUM(AUT_top:POR_top!D31)","v":3},{"$f":"SUM(AUT_top:POR_top!E31)","v":1},{"$f":"SUM(AUT_top:POR_top!F31)","v":2},{"$f":"SUM(AUT_top:POR_top!G31)","v":0},{"$f":"SUM(AUT_top:POR_top!H31)","v":1},{"$f":"SUM(AUT_top:POR_top!I31)","v":1},{"$f":"SUM(AUT_top:POR_top!J31)","v":1},{"$f":"SUM(AUT_top:POR_top!K31)","v":0},{"$f":"SUM(AUT_top:POR_top!L31)","v":0},{"$f":"SUM(AUT_top:POR_top!M31)","v":0},{"$f":"SUM(AUT_top:POR_top!N31)","v":0},{"$f":"SUM(AUT_top:POR_top!O31)","v":1},{"$f":"SUM(AUT_top:POR_top!P31)","v":7},{"$f":"SUM(AUT_top:POR_top!Q31)","v":2},{"$f":"SUM(AUT_top:POR_top!R31)","v":1},{"$f":"SUM(AUT_top:POR_top!S31)","v":0},{"$f":"SUM(AUT_top:POR_top!T31)","v":0},{"$f":"SUM(AUT_top:POR_top!U31)","v":6},{"$f":"SUM(AUT_top:POR_top!V31)","v":1},{"$f":"SUM(AUT_top:POR_top!W31)","v":4},{"$f":"SUM(AUT_top:POR_top!X31)","v":1},{"$f":"SUM(AUT_top:POR_top!Y31)","v":0},{"$f":"SUM(AUT_top:POR_top!Z31)","v":4},{"$f":"SUM(AUT_top:POR_top!AA31)","v":0},{"$f":"SUM(AUT_top:POR_top!AB31)","v":3},{"$f":"SUM(AUT_top:POR_top!AC31)","v":5},{"$f":"SUM(AUT_top:POR_top!AD31)","v":0},{"$f":"SUM(AUT_top:POR_top!AE31)","v":0},{"$f":"SUM(AUT_top:POR_top!AF31)","v":6},{"$f":"SUM(AUT_top:POR_top!AG31)","v":6},{"$f":"SUM(AUT_top:POR_top!AH31)","v":1},{"$f":"SUM(AUT_top:POR_top!AI31)","v":0},{"$f":"SUM(AUT_top:POR_top!AJ31)","v":2},{"$f":"SUM(AUT_top:POR_top!AK31)","v":0},{"$f":"SUM(AUT_top:POR_top!AL31)","v":1},{"$f":"SUM(AUT_top:POR_top!AM31)","v":5},{"$f":"SUM(AUT_top:POR_top!AN31)","v":2},{"$f":"SUM(AUT_top:POR_top!AO31)","v":0},{"$f":"SUM(AUT_top:POR_top!AP31)","v":2},{"$f":"SUM(AUT_top:POR_top!AQ31)","v":3},{"$f":"SUM(AUT_top:POR_top!AR31)","v":0},{"$f":"SUM(AUT_top:POR_top!AS31)","v":0},{"$f":"SUM(AUT_top:POR_top!AT31)","v":0},{"$f":"SUM(AUT_top:POR_top!AU31)","v":0},{"$f":"SUM(AUT_top:POR_top!AV31)","v":0},{"$f":"SUM(AUT_top:POR_top!AW31)","v":2},{"$f":"SUM(AUT_top:POR_top!AX31)","v":1},{"$f":"SUM(AUT_top:POR_top!AY31)","v":0},{"$f":"SUM(AUT_top:POR_top!AZ31)","v":1},{"$f":"SUM(AUT_top:POR_top!BA31)","v":3},{"$f":"SUM(AUT_top:POR_top!BB31)","v":1},80,0.19607843137254902]
[null,"Cooling system",{"$f":"Sheet1!O194","v":"Energy efficient pumps"},{"$f":"SUM(AUT_top:POR_top!D32)","v":1},{"$f":"SUM(AUT_top:POR_top!E32)","v":0},{"$f":"SUM(AUT_top:POR_top!F32)","v":2},{"$f":"SUM(AUT_top:POR_top!G32)","v":0},{"$f":"SUM(AUT_top:POR_top!H32)","v":1},{"$f":"SUM(AUT_top:POR_top!I32)","v":1},{"$f":"SUM(AUT_top:POR_top!J32)","v":0},{"$f":"SUM(AUT_top:POR_top!K32)","v":0},{"$f":"SUM(AUT_top:POR_top!L32)","v":0},{"$f":"SUM(AUT_top:POR_top!M32)","v":0},{"$f":"SUM(AUT_top:POR_top!N32)","v":0},{"$f":"SUM(AUT_top:POR_top!O32)","v":1},{"$f":"SUM(AUT_top:POR_top!P32)","v":7},{"$f":"SUM(AUT_top:POR_top!Q32)","v":3},{"$f":"SUM(AUT_top:POR_top!R32)","v":1},{"$f":"SUM(AUT_top:POR_top!S32)","v":0},{"$f":"SUM(AUT_top:POR_top!T32)","v":0},{"$f":"SUM(AUT_top:POR_top!U32)","v":6},{"$f":"SUM(AUT_top:POR_top!V32)","v":2},{"$f":"SUM(AUT_top:POR_top!W32)","v":4},{"$f":"SUM(AUT_top:POR_top!X32)","v":1},{"$f":"SUM(AUT_top:POR_top!Y32)","v":0},{"$f":"SUM(AUT_top:POR_top!Z32)","v":4},{"$f":"SUM(AUT_top:POR_top!AA32)","v":0},{"$f":"SUM(AUT_top:POR_top!AB32)","v":1},{"$f":"SUM(AUT_top:POR_top!AC32)","v":5},{"$f":"SUM(AUT_top:POR_top!AD32)","v":0},{"$f":"SUM(AUT_top:POR_top!AE32)","v":0},{"$f":"SUM(AUT_top:POR_top!AF32)","v":6},{"$f":"SUM(AUT_top:POR_top!AG32)","v":6},{"$f":"SUM(AUT_top:POR_top!AH32)","v":1},{"$f":"SUM(AUT_top:POR_top!AI32)","v":0},{"$f":"SUM(AUT_top:POR_top!AJ32)","v":2},{"$f":"SUM(AUT_top:POR_top!AK32)","v":0},{"$f":"SUM(AUT_top:POR_top!AL32)","v":1},{"$f":"SUM(AUT_top:POR_top!AM32)","v":5},{"$f":"SUM(AUT_top:POR_top!AN32)","v":2},{"$f":"SUM(AUT_top:POR_top!AO32)","v":0},{"$f":"SUM(AUT_top:POR_top!AP32)","v":1},{"$f":"SUM(AUT_top:POR_top!AQ32)","v":1},{"$f":"SUM(AUT_top:POR_top!AR32)","v":1},{"$f":"SUM(AUT_top:POR_top!AS32)","v":0},{"$f":"SUM(AUT_top:POR_top!AT32)","v":0},{"$f":"SUM(AUT_top:POR_top!AU32)","v":0},{"$f":"SUM(AUT_top:POR_top!AV32)","v":0},{"$f":"SUM(AUT_top:POR_top!AW32)","v":1},{"$f":"SUM(AUT_top:POR_top!AX32)","v":1},{"$f":"SUM(AUT_top:POR_top!AY32)","v":0},{"$f":"SUM(AUT_top:POR_top!AZ32)","v":0},{"$f":"SUM(AUT_top:POR_top!BA32)","v":1},{"$f":"SUM(AUT_top:POR_top!BB32)","v":0},69,0.16911764705882354]
[null,"Cooling system",{"$f":"Sheet1!O195","v":"Utilisation of free cooling"},{"$f":"SUM(AUT_top:POR_top!D33)","v":3},{"$f":"SUM(AUT_top:POR_top!E33)","v":0},{"$f":"SUM(AUT_top:POR_top!F33)","v":2},{"$f":"SUM(AUT_top:POR_top!G33)","v":0},{"$f":"SUM(AUT_top:POR_top!H33)","v":0},{"$f":"SUM(AUT_top:POR_top!I33)","v":2},{"$f":"SUM(AUT_top:POR_top!J33)","v":1},{"$f":"SUM(AUT_top:POR_top!K33)","v":0},{"$f":"SUM(AUT_top:POR_top!L33)","v":0},{"$f":"SUM(AUT_top:POR_top!M33)","v":1},{"$f":"SUM(AUT_top:POR_top!N33)","v":0},{"$f":"SUM(AUT_top:POR_top!O33)","v":-1},{"$f":"SUM(AUT_top:POR_top!P33)","v":6},{"$f":"SUM(AUT_top:POR_top!Q33)","v":3},{"$f":"SUM(AUT_top:POR_top!R33)","v":1},{"$f":"SUM(AUT_top:POR_top!S33)","v":0},{"$f":"SUM(AUT_top:POR_top!T33)","v":0},{"$f":"SUM(AUT_top:POR_top!U33)","v":7},{"$f":"SUM(AUT_top:POR_top!V33)","v":1},{"$f":"SUM(AUT_top:POR_top!W33)","v":5},{"$f":"SUM(AUT_top:POR_top!X33)","v":1},{"$f":"SUM(AUT_top:POR_top!Y33)","v":0},{"$f":"SUM(AUT_top:POR_top!Z33)","v":4},{"$f":"SUM(AUT_top:POR_top!AA33)","v":0},{"$f":"SUM(AUT_top:POR_top!AB33)","v":2},{"$f":"SUM(AUT_top:POR_top!AC33)","v":5},{"$f":"SUM(AUT_top:POR_top!AD33)","v":0},{"$f":"SUM(AUT_top:POR_top!AE33)","v":0},{"$f":"SUM(AUT_top:POR_top!AF33)","v":5},{"$f":"SUM(AUT_top:POR_top!AG33)","v":6},{"$f":"SUM(AUT_top:POR_top!AH33)","v":1},{"$f":"SUM(AUT_top:POR_top!AI33)","v":0},{"$f":"SUM(AUT_top:POR_top!AJ33)","v":1},{"$f":"SUM(AUT_top:POR_top!AK33)","v":0},{"$f":"SUM(AUT_top:POR_top!AL33)","v":1},{"$f":"SUM(AUT_top:POR_top!AM33)","v":6},{"$f":"SUM(AUT_top:POR_top!AN33)","v":4},{"$f":"SUM(AUT_top:POR_top!AO33)","v":1},{"$f":"SUM(AUT_top:POR_top!AP33)","v":0},{"$f":"SUM(AUT_top:POR_top!AQ33)","v":0},{"$f":"SUM(AUT_top:POR_top!AR33)","v":0},{"$f":"SUM(AUT_top:POR_top!AS33)","v":0},{"$f":"SUM(AUT_top:POR_top!AT33)","v":0},{"$f":"SUM(AUT_top:POR_top!AU33)","v":0},{"$f":"SUM(AUT_top:POR_top!AV33)","v":0},{"$f":"SUM(AUT_top:POR_top!AW33)","v":2},{"$f":"SUM(AUT_top:POR_top!AX33)","v":1},{"$f":"SUM(AUT_top:POR_top!AY33)","v":0},{"$f":"SUM(AUT_top:POR_top!AZ33)","v":0},{"$f":"SUM(AUT_top:POR_top!BA33)","v":2},{"$f":"SUM(AUT_top:POR_top!BB33)","v":0},73,0.17892156862745098]
[null,"Cooling system",{"$f":"Sheet1!O196","v":"Utilising the waste heat from the cooling system for heating&DHW"},{"$f":"SUM(AUT_top:POR_top!D34)","v":1},{"$f":"SUM(AUT_top:POR_top!E34)","v":0},{"$f":"SUM(AUT_top:POR_top!F34)","v":1},{"$f":"SUM(AUT_top:POR_top!G34)","v":0},{"$f":"SUM(AUT_top:POR_top!H34)","v":0},{"$f":"SUM(AUT_top:POR_top!I34)","v":1},{"$f":"SUM(AUT_top:POR_top!J34)","v":1},{"$f":"SUM(AUT_top:POR_top!K34)","v":0},{"$f":"SUM(AUT_top:POR_top!L34)","v":0},{"$f":"SUM(AUT_top:POR_top!M34)","v":0},{"$f":"SUM(AUT_top:POR_top!N34)","v":0},{"$f":"SUM(AUT_top:POR_top!O34)","v":-1},{"$f":"SUM(AUT_top:POR_top!P34)","v":6},{"$f":"SUM(AUT_top:POR_top!Q34)","v":4},{"$f":"SUM(AUT_top:POR_top!R34)","v":1},{"$f":"SUM(AUT_top:POR_top!S34)","v":0},{"$f":"SUM(AUT_top:POR_top!T34)","v":0},{"$f":"SUM(AUT_top:POR_top!U34)","v":6},{"$f":"SUM(AUT_top:POR_top!V34)","v":1},{"$f":"SUM(AUT_top:POR_top!W34)","v":4},{"$f":"SUM(AUT_top:POR_top!X34)","v":1},{"$f":"SUM(AUT_top:POR_top!Y34)","v":0},{"$f":"SUM(AUT_top:POR_top!Z34)","v":4},{"$f":"SUM(AUT_top:POR_top!AA34)","v":0},{"$f":"SUM(AUT_top:POR_top!AB34)","v":-1},{"$f":"SUM(AUT_top:POR_top!AC34)","v":5},{"$f":"SUM(AUT_top:POR_top!AD34)","v":0},{"$f":"SUM(AUT_top:POR_top!AE34)","v":0},{"$f":"SUM(AUT_top:POR_top!AF34)","v":6},{"$f":"SUM(AUT_top:POR_top!AG34)","v":6},{"$f":"SUM(AUT_top:POR_top!AH34)","v":1},{"$f":"SUM(AUT_top:POR_top!AI34)","v":2},{"$f":"SUM(AUT_top:POR_top!AJ34)","v":1},{"$f":"SUM(AUT_top:POR_top!AK34)","v":0},{"$f":"SUM(AUT_top:POR_top!AL34)","v":1},{"$f":"SUM(AUT_top:POR_top!AM34)","v":5},{"$f":"SUM(AUT_top:POR_top!AN34)","v":3},{"$f":"SUM(AUT_top:POR_top!AO34)","v":0},{"$f":"SUM(AUT_top:POR_top!AP34)","v":0},{"$f":"SUM(AUT_top:POR_top!AQ34)","v":-1},{"$f":"SUM(AUT_top:POR_top!AR34)","v":0},{"$f":"SUM(AUT_top:POR_top!AS34)","v":0},{"$f":"SUM(AUT_top:POR_top!AT34)","v":0},{"$f":"SUM(AUT_top:POR_top!AU34)","v":0},{"$f":"SUM(AUT_top:POR_top!AV34)","v":0},{"$f":"SUM(AUT_top:POR_top!AW34)","v":1},{"$f":"SUM(AUT_top:POR_top!AX34)","v":1},{"$f":"SUM(AUT_top:POR_top!AY34)","v":0},{"$f":"SUM(AUT_top:POR_top!AZ34)","v":0},{"$f":"SUM(AUT_top:POR_top!BA34)","v":2},{"$f":"SUM(AUT_top:POR_top!BB34)","v":0},62,0.15196078431372548]
[null,"Ventilation system",{"$f":"Sheet1!O198","v":"Schedule optimisation"},{"$f":"SUM(AUT_top:POR_top!D35)","v":4},{"$f":"SUM(AUT_top:POR_top!E35)","v":0},{"$f":"SUM(AUT_top:POR_top!F35)","v":2},{"$f":"SUM(AUT_top:POR_top!G35)","v":0},{"$f":"SUM(AUT_top:POR_top!H35)","v":2},{"$f":"SUM(AUT_top:POR_top!I35)","v":2},{"$f":"SUM(AUT_top:POR_top!J35)","v":0},{"$f":"SUM(AUT_top:POR_top!K35)","v":1},{"$f":"SUM(AUT_top:POR_top!L35)","v":1},{"$f":"SUM(AUT_top:POR_top!M35)","v":4},{"$f":"SUM(AUT_top:POR_top!N35)","v":0},{"$f":"SUM(AUT_top:POR_top!O35)","v":1},{"$f":"SUM(AUT_top:POR_top!P35)","v":6},{"$f":"SUM(AUT_top:POR_top!Q35)","v":2},{"$f":"SUM(AUT_top:POR_top!R35)","v":3},{"$f":"SUM(AUT_top:POR_top!S35)","v":0},{"$f":"SUM(AUT_top:POR_top!T35)","v":0},{"$f":"SUM(AUT_top:POR_top!U35)","v":6},{"$f":"SUM(AUT_top:POR_top!V35)","v":0},{"$f":"SUM(AUT_top:POR_top!W35)","v":4},{"$f":"SUM(AUT_top:POR_top!X35)","v":1},{"$f":"SUM(AUT_top:POR_top!Y35)","v":0},{"$f":"SUM(AUT_top:POR_top!Z35)","v":4},{"$f":"SUM(AUT_top:POR_top!AA35)","v":0},{"$f":"SUM(AUT_top:POR_top!AB35)","v":3},{"$f":"SUM(AUT_top:POR_top!AC35)","v":5},{"$f":"SUM(AUT_top:POR_top!AD35)","v":0},{"$f":"SUM(AUT_top:POR_top!AE35)","v":0},{"$f":"SUM(AUT_top:POR_top!AF35)","v":4},{"$f":"SUM(AUT_top:POR_top!AG35)","v":6},{"$f":"SUM(AUT_top:POR_top!AH35)","v":1},{"$f":"SUM(AUT_top:POR_top!AI35)","v":0},{"$f":"SUM(AUT_top:POR_top!AJ35)","v":1},{"$f":"SUM(AUT_top:POR_top!AK35)","v":0},{"$f":"SUM(AUT_top:POR_top!AL35)","v":1},{"$f":"SUM(AUT_top:POR_top!AM35)","v":4},{"$f":"SUM(AUT_top:POR_top!AN35)","v":2},{"$f":"SUM(AUT_top:POR_top!AO35)","v":0},{"$f":"SUM(AUT_top:POR_top!AP35)","v":2},{"$f":"SUM(AUT_top:POR_top!AQ35)","v":3},{"$f":"SUM(AUT_top:POR_top!AR35)","v":0},{"$f":"SUM(AUT_top:POR_top!AS35)","v":0},{"$f":"SUM(AUT_top:POR_top!AT35)","v":0},{"$f":"SUM(AUT_top:POR_top!AU35)","v":0},{"$f":"SUM(AUT_top:POR_top!AV35)","v":0},{"$f":"SUM(AUT_top:POR_top!AW35)","v":1},{"$f":"SUM(AUT_top:POR_top!AX35)","v":1},{"$f":"SUM(AUT_top:POR_top!AY35)","v":2},{"$f":"SUM(AUT_top:POR_top!AZ35)","v":1},{"$f":"SUM(AUT_top:POR_top!BA35)","v":2},{"$f":"SUM(AUT_top:POR_top!BB35)","v":0},82,0.20098039215686275]
[null,"Ventilation system",{"$f":"Sheet1!O199","v":"Control optimisation"},{"$f":"SUM(AUT_top:POR_top!D36)","v":5},{"$f":"SUM(AUT_top:POR_top!E36)","v":0},{"$f":"SUM(AUT_top:POR_top!F36)","v":2},{"$f":"SUM(AUT_top:POR_top!G36)","v":0},{"$f":"SUM(AUT_top:POR_top!H36)","v":3},{"$f":"SUM(AUT_top:POR_top!I36)","v":2},{"$f":"SUM(AUT_top:POR_top!J36)","v":0},{"$f":"SUM(AUT_top:POR_top!K36)","v":0},{"$f":"SUM(AUT_top:POR_top!L36)","v":2},{"$f":"SUM(AUT_top:POR_top!M36)","v":4},{"$f":"SUM(AUT_top:POR_top!N36)","v":0},{"$f":"SUM(AUT_top:POR_top!O36)","v":1},{"$f":"SUM(AUT_top:POR_top!P36)","v":6},{"$f":"SUM(AUT_top:POR_top!Q36)","v":2},{"$f":"SUM(AUT_top:POR_top!R36)","v":3},{"$f":"SUM(AUT_top:POR_top!S36)","v":0},{"$f":"SUM(AUT_top:POR_top!T36)","v":0},{"$f":"SUM(AUT_top:POR_top!U36)","v":6},{"$f":"SUM(AUT_top:POR_top!V36)","v":0},{"$f":"SUM(AUT_top:POR_top!W36)","v":4},{"$f":"SUM(AUT_top:POR_top!X36)","v":1},{"$f":"SUM(AUT_top:POR_top!Y36)","v":0},{"$f":"SUM(AUT_top:POR_top!Z36)","v":4},{"$f":"SUM(AUT_top:POR_top!AA36)","v":0},{"$f":"SUM(AUT_top:POR_top!AB36)","v":2},{"$f":"SUM(AUT_top:POR_top!AC36)","v":4},{"$f":"SUM(AUT_top:POR_top!AD36)","v":0},{"$f":"SUM(AUT_top:POR_top!AE36)","v":0},{"$f":"SUM(AUT_top:POR_top!AF36)","v":4},{"$f":"SUM(AUT_top:POR_top!AG36)","v":6},{"$f":"SUM(AUT_top:POR_top!AH36)","v":1},{"$f":"SUM(AUT_top:POR_top!AI36)","v":0},{"$f":"SUM(AUT_top:POR_top!AJ36)","v":1},{"$f":"SUM(AUT_top:POR_top!AK36)","v":0},{"$f":"SUM(AUT_top:POR_top!AL36)","v":1},{"$f":"SUM(AUT_top:POR_top!AM36)","v":4},{"$f":"SUM(AUT_top:POR_top!AN36)","v":2},{"$f":"SUM(AUT_top:POR_top!AO36)","v":0},{"$f":"SUM(AUT_top:POR_top!AP36)","v":3},{"$f":"SUM(AUT_top:POR_top!AQ36)","v":4},{"$f":"SUM(AUT_top:POR_top!AR36)","v":0},{"$f":"SUM(AUT_top:POR_top!AS36)","v":0},{"$f":"SUM(AUT_top:POR_top!AT36)","v":2},{"$f":"SUM(AUT_top:POR_top!AU36)","v":0},{"$f":"SUM(AUT_top:POR_top!AV36)","v":0},{"$f":"SUM(AUT_top:POR_top!AW36)","v":1},{"$f":"SUM(AUT_top:POR_top!AX36)","v":2},{"$f":"SUM(AUT_top:POR_top!AY36)","v":2},{"$f":"SUM(AUT_top:POR_top!AZ36)","v":1},{"$f":"SUM(AUT_top:POR_top!BA36)","v":1},{"$f":"SUM(AUT_top:POR_top!BB36)","v":0},86,0.2107843137254902]
[null,"Ventilation system",{"$f":"Sheet1!O200","v":"Air velocity optimisation"},{"$f":"SUM(AUT_top:POR_top!D37)","v":6},{"$f":"SUM(AUT_top:POR_top!E37)","v":0},{"$f":"SUM(AUT_top:POR_top!F37)","v":2},{"$f":"SUM(AUT_top:POR_top!G37)","v":0},{"$f":"SUM(AUT_top:POR_top!H37)","v":4},{"$f":"SUM(AUT_top:POR_top!I37)","v":3},{"$f":"SUM(AUT_top:POR_top!J37)","v":1},{"$f":"SUM(AUT_top:POR_top!K37)","v":2},{"$f":"SUM(AUT_top:POR_top!L37)","v":5},{"$f":"SUM(AUT_top:POR_top!M37)","v":6},{"$f":"SUM(AUT_top:POR_top!N37)","v":0},{"$f":"SUM(AUT_top:POR_top!O37)","v":1},{"$f":"SUM(AUT_top:POR_top!P37)","v":6},{"$f":"SUM(AUT_top:POR_top!Q37)","v":2},{"$f":"SUM(AUT_top:POR_top!R37)","v":3},{"$f":"SUM(AUT_top:POR_top!S37)","v":0},{"$f":"SUM(AUT_top:POR_top!T37)","v":0},{"$f":"SUM(AUT_top:POR_top!U37)","v":6},{"$f":"SUM(AUT_top:POR_top!V37)","v":1},{"$f":"SUM(AUT_top:POR_top!W37)","v":4},{"$f":"SUM(AUT_top:POR_top!X37)","v":1},{"$f":"SUM(AUT_top:POR_top!Y37)","v":0},{"$f":"SUM(AUT_top:POR_top!Z37)","v":4},{"$f":"SUM(AUT_top:POR_top!AA37)","v":0},{"$f":"SUM(AUT_top:POR_top!AB37)","v":3},{"$f":"SUM(AUT_top:POR_top!AC37)","v":5},{"$f":"SUM(AUT_top:POR_top!AD37)","v":0},{"$f":"SUM(AUT_top:POR_top!AE37)","v":0},{"$f":"SUM(AUT_top:POR_top!AF37)","v":4},{"$f":"SUM(AUT_top:POR_top!AG37)","v":6},{"$f":"SUM(AUT_top:POR_top!AH37)","v":1},{"$f":"SUM(AUT_top:POR_top!AI37)","v":0},{"$f":"SUM(AUT_top:POR_top!AJ37)","v":1},{"$f":"SUM(AUT_top:POR_top!AK37)","v":0},{"$f":"SUM(AUT_top:POR_top!AL37)","v":1},{"$f":"SUM(AUT_top:POR_top!AM37)","v":4},{"$f":"SUM(AUT_top:POR_top!AN37)","v":2},{"$f":"SUM(AUT_top:POR_top!AO37)","v":0},{"$f":"SUM(AUT_top:POR_top!AP37)","v":1},{"$f":"SUM(AUT_top:POR_top!AQ37)","v":2},{"$f":"SUM(AUT_top:POR_top!AR37)","v":0},{"$f":"SUM(AUT_top:POR_top!AS37)","v":0},{"$f":"SUM(AUT_top:POR_top!AT37)","v":0},{"$f":"SUM(AUT_top:POR_top!AU37)","v":0},{"$f":"SUM(AUT_top:POR_top!AV37)","v":0},{"$f":"SUM(AUT_top:POR_top!AW37)","v":1},{"$f":"SUM(AUT_top:POR_top!AX37)","v":2},{"$f":"SUM(AUT_top:POR_top!AY37)","v":1},{"$f":"SUM(AUT_top:POR_top!AZ37)","v":1},{"$f":"SUM(AUT_top:POR_top!BA37)","v":1},{"$f":"SUM(AUT_top:POR_top!BB37)","v":0},93,0.22794117647058823]
[null,"Ventilation system",{"$f":"Sheet1!O201","v":"Inlet air temperature optimisation"},{"$f":"SUM(AUT_top:POR_top!D38)","v":6},{"$f":"SUM(AUT_top:POR_top!E38)","v":0},{"$f":"SUM(AUT_top:POR_top!F38)","v":2},{"$f":"SUM(AUT_top:POR_top!G38)","v":0},{"$f":"SUM(AUT_top:POR_top!H38)","v":4},{"$f":"SUM(AUT_top:POR_top!I38)","v":3},{"$f":"SUM(AUT_top:POR_top!J38)","v":1},{"$f":"SUM(AUT_top:POR_top!K38)","v":2},{"$f":"SUM(AUT_top:POR_top!L38)","v":4},{"$f":"SUM(AUT_top:POR_top!M38)","v":6},{"$f":"SUM(AUT_top:POR_top!N38)","v":0},{"$f":"SUM(AUT_top:POR_top!O38)","v":0},{"$f":"SUM(AUT_top:POR_top!P38)","v":6},{"$f":"SUM(AUT_top:POR_top!Q38)","v":2},{"$f":"SUM(AUT_top:POR_top!R38)","v":3},{"$f":"SUM(AUT_top:POR_top!S38)","v":0},{"$f":"SUM(AUT_top:POR_top!T38)","v":0},{"$f":"SUM(AUT_top:POR_top!U38)","v":6},{"$f":"SUM(AUT_top:POR_top!V38)","v":0},{"$f":"SUM(AUT_top:POR_top!W38)","v":4},{"$f":"SUM(AUT_top:POR_top!X38)","v":1},{"$f":"SUM(AUT_top:POR_top!Y38)","v":0},{"$f":"SUM(AUT_top:POR_top!Z38)","v":4},{"$f":"SUM(AUT_top:POR_top!AA38)","v":0},{"$f":"SUM(AUT_top:POR_top!AB38)","v":2},{"$f":"SUM(AUT_top:POR_top!AC38)","v":4},{"$f":"SUM(AUT_top:POR_top!AD38)","v":0},{"$f":"SUM(AUT_top:POR_top!AE38)","v":0},{"$f":"SUM(AUT_top:POR_top!AF38)","v":4},{"$f":"SUM(AUT_top:POR_top!AG38)","v":6},{"$f":"SUM(AUT_top:POR_top!AH38)","v":1},{"$f":"SUM(AUT_top:POR_top!AI38)","v":0},{"$f":"SUM(AUT_top:POR_top!AJ38)","v":1},{"$f":"SUM(AUT_top:POR_top!AK38)","v":0},{"$f":"SUM(AUT_top:POR_top!AL38)","v":1},{"$f":"SUM(AUT_top:POR_top!AM38)","v":4},{"$f":"SUM(AUT_top:POR_top!AN38)","v":2},{"$f":"SUM(AUT_top:POR_top!AO38)","v":0},{"$f":"SUM(AUT_top:POR_top!AP38)","v":0},{"$f":"SUM(AUT_top:POR_top!AQ38)","v":1},{"$f":"SUM(AUT_top:POR_top!AR38)","v":0},{"$f":"SUM(AUT_top:POR_top!AS38)","v":0},{"$f":"SUM(AUT_top:POR_top!AT38)","v":0},{"$f":"SUM(AUT_top:POR_top!AU38)","v":0},{"$f":"SUM(AUT_top:POR_top!AV38)","v":0},{"$f":"SUM(AUT_top:POR_top!AW38)","v":1},{"$f":"SUM(AUT_top:POR_top!AX38)","v":1},{"$f":"SUM(AUT_top:POR_top!AY38)","v":1},{"$f":"SUM(AUT_top:POR_top!AZ38)","v":1},{"$f":"SUM(AUT_top:POR_top!BA38)","v":1},{"$f":"SUM(AUT_top:POR_top!BB38)","v":0},85,0.20833333333333334]
[null,"Ventilation system",{"$f":"Sheet1!O202","v":"Heat recovery"},{"$f":"SUM(AUT_top:POR_top!D39)","v":2},{"$f":"SUM(AUT_top:POR_top!E39)","v":1},{"$f":"SUM(AUT_top:POR_top!F39)","v":2},{"$f":"SUM(AUT_top:POR_top!G39)","v":0},{"$f":"SUM(AUT_top:POR_top!H39)","v":1},{"$f":"SUM(AUT_top:POR_top!I39)","v":1},{"$f":"SUM(AUT_top:POR_top!J39)","v":0},{"$f":"SUM(AUT_top:POR_top!K39)","v":0},{"$f":"SUM(AUT_top:POR_top!L39)","v":0},{"$f":"SUM(AUT_top:POR_top!M39)","v":0},{"$f":"SUM(AUT_top:POR_top!N39)","v":0},{"$f":"SUM(AUT_top:POR_top!O39)","v":0},{"$f":"SUM(AUT_top:POR_top!P39)","v":6},{"$f":"SUM(AUT_top:POR_top!Q39)","v":3},{"$f":"SUM(AUT_top:POR_top!R39)","v":3},{"$f":"SUM(AUT_top:POR_top!S39)","v":0},{"$f":"SUM(AUT_top:POR_top!T39)","v":0},{"$f":"SUM(AUT_top:POR_top!U39)","v":6},{"$f":"SUM(AUT_top:POR_top!V39)","v":0},{"$f":"SUM(AUT_top:POR_top!W39)","v":4},{"$f":"SUM(AUT_top:POR_top!X39)","v":1},{"$f":"SUM(AUT_top:POR_top!Y39)","v":0},{"$f":"SUM(AUT_top:POR_top!Z39)","v":4},{"$f":"SUM(AUT_top:POR_top!AA39)","v":0},{"$f":"SUM(AUT_top:POR_top!AB39)","v":1},{"$f":"SUM(AUT_top:POR_top!AC39)","v":4},{"$f":"SUM(AUT_top:POR_top!AD39)","v":0},{"$f":"SUM(AUT_top:POR_top!AE39)","v":0},{"$f":"SUM(AUT_top:POR_top!AF39)","v":5},{"$f":"SUM(AUT_top:POR_top!AG39)","v":6},{"$f":"SUM(AUT_top:POR_top!AH39)","v":1},{"$f":"SUM(AUT_top:POR_top!AI39)","v":4},{"$f":"SUM(AUT_top:POR_top!AJ39)","v":1},{"$f":"SUM(AUT_top:POR_top!AK39)","v":0},{"$f":"SUM(AUT_top:POR_top!AL39)","v":1},{"$f":"SUM(AUT_top:POR_top!AM39)","v":4},{"$f":"SUM(AUT_top:POR_top!AN39)","v":3},{"$f":"SUM(AUT_top:POR_top!AO39)","v":0},{"$f":"SUM(AUT_top:POR_top!AP39)","v":0},{"$f":"SUM(AUT_top:POR_top!AQ39)","v":0},{"$f":"SUM(AUT_top:POR_top!AR39)","v":0},{"$f":"SUM(AUT_top:POR_top!AS39)","v":0},{"$f":"SUM(AUT_top:POR_top!AT39)","v":0},{"$f":"SUM(AUT_top:POR_top!AU39)","v":0},{"$f":"SUM(AUT_top:POR_top!AV39)","v":0},{"$f":"SUM(AUT_top:POR_top!AW39)","v":2},{"$f":"SUM(AUT_top:POR_top!AX39)","v":1},{"$f":"SUM(AUT_top:POR_top!AY39)","v":0},{"$f":"SUM(AUT_top:POR_top!AZ39)","v":0},{"$f":"SUM(AUT_top:POR_top!BA39)","v":2},{"$f":"SUM(AUT_top:POR_top!BB39)","v":0},69,0.16911764705882354]
[null,"Ventilation system",{"$f":"Sheet1!O203","v":"Energy efficient fans"},{"$f":"SUM(AUT_top:POR_top!D40)","v":2},{"$f":"SUM(AUT_top:POR_top!E40)","v":1},{"$f":"SUM(AUT_top:POR_top!F40)","v":2},{"$f":"SUM(AUT_top:POR_top!G40)","v":1},{"$f":"SUM(AUT_top:POR_top!H40)","v":1},{"$f":"SUM(AUT_top:POR_top!I40)","v":1},{"$f":"SUM(AUT_top:POR_top!J40)","v":0},{"$f":"SUM(AUT_top:POR_top!K40)","v":0},{"$f":"SUM(AUT_top:POR_top!L40)","v":0},{"$f":"SUM(AUT_top:POR_top!M40)","v":0},{"$f":"SUM(AUT_top:POR_top!N40)","v":0},{"$f":"SUM(AUT_top:POR_top!O40)","v":1},{"$f":"SUM(AUT_top:POR_top!P40)","v":7},{"$f":"SUM(AUT_top:POR_top!Q40)","v":2},{"$f":"SUM(AUT_top:POR_top!R40)","v":3},{"$f":"SUM(AUT_top:POR_top!S40)","v":0},{"$f":"SUM(AUT_top:POR_top!T40)","v":0},{"$f":"SUM(AUT_top:POR_top!U40)","v":6},{"$f":"SUM(AUT_top:POR_top!V40)","v":1},{"$f":"SUM(AUT_top:POR_top!W40)","v":4},{"$f":"SUM(AUT_top:POR_top!X40)","v":1},{"$f":"SUM(AUT_top:POR_top!Y40)","v":0},{"$f":"SUM(AUT_top:POR_top!Z40)","v":4},{"$f":"SUM(AUT_top:POR_top!AA40)","v":0},{"$f":"SUM(AUT_top:POR_top!AB40)","v":2},{"$f":"SUM(AUT_top:POR_top!AC40)","v":4},{"$f":"SUM(AUT_top:POR_top!AD40)","v":0},{"$f":"SUM(AUT_top:POR_top!AE40)","v":0},{"$f":"SUM(AUT_top:POR_top!AF40)","v":5},{"$f":"SUM(AUT_top:POR_top!AG40)","v":6},{"$f":"SUM(AUT_top:POR_top!AH40)","v":1},{"$f":"SUM(AUT_top:POR_top!AI40)","v":0},{"$f":"SUM(AUT_top:POR_top!AJ40)","v":2},{"$f":"SUM(AUT_top:POR_top!AK40)","v":0},{"$f":"SUM(AUT_top:POR_top!AL40)","v":1},{"$f":"SUM(AUT_top:POR_top!AM40)","v":4},{"$f":"SUM(AUT_top:POR_top!AN40)","v":2},{"$f":"SUM(AUT_top:POR_top!AO40)","v":0},{"$f":"SUM(AUT_top:POR_top!AP40)","v":1},{"$f":"SUM(AUT_top:POR_top!AQ40)","v":2},{"$f":"SUM(AUT_top:POR_top!AR40)","v":1},{"$f":"SUM(AUT_top:POR_top!AS40)","v":0},{"$f":"SUM(AUT_top:POR_top!AT40)","v":0},{"$f":"SUM(AUT_top:POR_top!AU40)","v":0},{"$f":"SUM(AUT_top:POR_top!AV40)","v":0},{"$f":"SUM(AUT_top:POR_top!AW40)","v":1},{"$f":"SUM(AUT_top:POR_top!AX40)","v":1},{"$f":"SUM(AUT_top:POR_top!AY40)","v":0},{"$f":"SUM(AUT_top:POR_top!AZ40)","v":0},{"$f":"SUM(AUT_top:POR_top!BA40)","v":2},{"$f":"SUM(AUT_top:POR_top!BB40)","v":0},72,0.17647058823529413]
[null,"Lighting",{"$f":"Sheet1!O205","v":"Energy efficient lights (e.g LED)"},{"$f":"SUM(AUT_top:POR_top!D41)","v":3},{"$f":"SUM(AUT_top:POR_top!E41)","v":1},{"$f":"SUM(AUT_top:POR_top!F41)","v":3},{"$f":"SUM(AUT_top:POR_top!G41)","v":0},{"$f":"SUM(AUT_top:POR_top!H41)","v":0},{"$f":"SUM(AUT_top:POR_top!I41)","v":0},{"$f":"SUM(AUT_top:POR_top!J41)","v":0},{"$f":"SUM(AUT_top:POR_top!K41)","v":0},{"$f":"SUM(AUT_top:POR_top!L41)","v":0},{"$f":"SUM(AUT_top:POR_top!M41)","v":0},{"$f":"SUM(AUT_top:POR_top!N41)","v":5},{"$f":"SUM(AUT_top:POR_top!O41)","v":0},{"$f":"SUM(AUT_top:POR_top!P41)","v":6},{"$f":"SUM(AUT_top:POR_top!Q41)","v":2},{"$f":"SUM(AUT_top:POR_top!R41)","v":3},{"$f":"SUM(AUT_top:POR_top!S41)","v":0},{"$f":"SUM(AUT_top:POR_top!T41)","v":0},{"$f":"SUM(AUT_top:POR_top!U41)","v":4},{"$f":"SUM(AUT_top:POR_top!V41)","v":0},{"$f":"SUM(AUT_top:POR_top!W41)","v":3},{"$f":"SUM(AUT_top:POR_top!X41)","v":1},{"$f":"SUM(AUT_top:POR_top!Y41)","v":0},{"$f":"SUM(AUT_top:POR_top!Z41)","v":4},{"$f":"SUM(AUT_top:POR_top!AA41)","v":0},{"$f":"SUM(AUT_top:POR_top!AB41)","v":4},{"$f":"SUM(AUT_top:POR_top!AC41)","v":4},{"$f":"SUM(AUT_top:POR_top!AD41)","v":0},{"$f":"SUM(AUT_top:POR_top!AE41)","v":0},{"$f":"SUM(AUT_top:POR_top!AF41)","v":6},{"$f":"SUM(AUT_top:POR_top!AG41)","v":6},{"$f":"SUM(AUT_top:POR_top!AH41)","v":1},{"$f":"SUM(AUT_top:POR_top!AI41)","v":0},{"$f":"SUM(AUT_top:POR_top!AJ41)","v":2},{"$f":"SUM(AUT_top:POR_top!AK41)","v":0},{"$f":"SUM(AUT_top:POR_top!AL41)","v":1},{"$f":"SUM(AUT_top:POR_top!AM41)","v":4},{"$f":"SUM(AUT_top:POR_top!AN41)","v":2},{"$f":"SUM(AUT_top:POR_top!AO41)","v":0},{"$f":"SUM(AUT_top:POR_top!AP41)","v":1},{"$f":"SUM(AUT_top:POR_top!AQ41)","v":1},{"$f":"SUM(AUT_top:POR_top!AR41)","v":1},{"$f":"SUM(AUT_top:POR_top!AS41)","v":1},{"$f":"SUM(AUT_top:POR_top!AT41)","v":1},{"$f":"SUM(AUT_top:POR_top!AU41)","v":1},{"$f":"SUM(AUT_top:POR_top!AV41)","v":1},{"$f":"SUM(AUT_top:POR_top!AW41)","v":3},{"$f":"SUM(AUT_top:POR_top!AX41)","v":2},{"$f":"SUM(AUT_top:POR_top!AY41)","v":1},{"$f":"SUM(AUT_top:POR_top!AZ41)","v":0},{"$f":"SUM(AUT_top:POR_top!BA41)","v":2},{"$f":"SUM(AUT_top:POR_top!BB41)","v":1},81,0.19852941176470587]
[null,"Lighting",{"$f":"Sheet1!O206","v":"Level of illumination"},{"$f":"SUM(AUT_top:POR_top!D42)","v":7},{"$f":"SUM(AUT_top:POR_top!E42)","v":0},{"$f":"SUM(AUT_top:POR_top!F42)","v":4},{"$f":"SUM(AUT_top:POR_top!G42)","v":0},{"$f":"SUM(AUT_top:POR_top!H42)","v":5},{"$f":"SUM(AUT_top:POR_top!I42)","v":4},{"$f":"SUM(AUT_top:POR_top!J42)","v":0},{"$f":"SUM(AUT_top:POR_top!K42)","v":2},{"$f":"SUM(AUT_top:POR_top!L42)","v":5},{"$f":"SUM(AUT_top:POR_top!M42)","v":1},{"$f":"SUM(AUT_top:POR_top!N42)","v":6},{"$f":"SUM(AUT_top:POR_top!O42)","v":0},{"$f":"SUM(AUT_top:POR_top!P42)","v":3},{"$f":"SUM(AUT_top:POR_top!Q42)","v":0},{"$f":"SUM(AUT_top:POR_top!R42)","v":0},{"$f":"SUM(AUT_top:POR_top!S42)","v":0},{"$f":"SUM(AUT_top:POR_top!T42)","v":0},{"$f":"SUM(AUT_top:POR_top!U42)","v":3},{"$f":"SUM(AUT_top:POR_top!V42)","v":0},{"$f":"SUM(AUT_top:POR_top!W42)","v":3},{"$f":"SUM(AUT_top:POR_top!X42)","v":2},{"$f":"SUM(AUT_top:POR_top!Y42)","v":0},{"$f":"SUM(AUT_top:POR_top!Z42)","v":4},{"$f":"SUM(AUT_top:POR_top!AA42)","v":1},{"$f":"SUM(AUT_top:POR_top!AB42)","v":0},{"$f":"SUM(AUT_top:POR_top!AC42)","v":4},{"$f":"SUM(AUT_top:POR_top!AD42)","v":0},{"$f":"SUM(AUT_top:POR_top!AE42)","v":1},{"$f":"SUM(AUT_top:POR_top!AF42)","v":3},{"$f":"SUM(AUT_top:POR_top!AG42)","v":3},{"$f":"SUM(AUT_top:POR_top!AH42)","v":1},{"$f":"SUM(AUT_top:POR_top!AI42)","v":0},{"$f":"SUM(AUT_top:POR_top!AJ42)","v":1},{"$f":"SUM(AUT_top:POR_top!AK42)","v":0},{"$f":"SUM(AUT_top:POR_top!AL42)","v":1},{"$f":"SUM(AUT_top:POR_top!AM42)","v":3},{"$f":"SUM(AUT_top:POR_top!AN42)","v":1},{"$f":"SUM(AUT_top:POR_top!AO42)","v":0},{"$f":"SUM(AUT_top:POR_top!AP42)","v":0},{"$f":"SUM(AUT_top:POR_top!AQ42)","v":0},{"$f":"SUM(AUT_top:POR_top!AR42)","v":0},{"$f":"SUM(AUT_top:POR_top!AS42)","v":1},{"$f":"SUM(AUT_top:POR_top!AT42)","v":1},{"$f":"SUM(AUT_top:POR_top!AU42)","v":1},{"$f":"SUM(AUT_top:POR_top!AV42)","v":1},{"$f":"SUM(AUT_top:POR_top!AW42)","v":1},{"$f":"SUM(AUT_top:POR_top!AX42)","v":1},{"$f":"SUM(AUT_top:POR_top!AY42)","v":1},{"$f":"SUM(AUT_top:POR_top!AZ42)","v":3},{"$f":"SUM(AUT_top:POR_top!BA42)","v":1},{"$f":"SUM(AUT_top:POR_top!BB42)","v":1},80,0.19607843137254902]
[null,"Lighting",{"$f":"Sheet1!O207","v":"Schedule optimisation"},{"$f":"SUM(AUT_top:POR_top!D43)","v":4},{"$f":"SUM(AUT_top:POR_top!E43)","v":1},{"$f":"SUM(AUT_top:POR_top!F43)","v":1},{"$f":"SUM(AUT_top:POR_top!G43)","v":0},{"$f":"SUM(AUT_top:POR_top!H43)","v":2},{"$f":"SUM(AUT_top:POR_top!I43)","v":1},{"$f":"SUM(AUT_top:POR_top!J43)","v":0},{"$f":"SUM(AUT_top:POR_top!K43)","v":1},{"$f":"SUM(AUT_top:POR_top!L43)","v":0},{"$f":"SUM(AUT_top:POR_top!M43)","v":0},{"$f":"SUM(AUT_top:POR_top!N43)","v":4},{"$f":"SUM(AUT_top:POR_top!O43)","v":0},{"$f":"SUM(AUT_top:POR_top!P43)","v":5},{"$f":"SUM(AUT_top:POR_top!Q43)","v":2},{"$f":"SUM(AUT_top:POR_top!R43)","v":3},{"$f":"SUM(AUT_top:POR_top!S43)","v":0},{"$f":"SUM(AUT_top:POR_top!T43)","v":0},{"$f":"SUM(AUT_top:POR_top!U43)","v":4},{"$f":"SUM(AUT_top:POR_top!V43)","v":0},{"$f":"SUM(AUT_top:POR_top!W43)","v":3},{"$f":"SUM(AUT_top:POR_top!X43)","v":1},{"$f":"SUM(AUT_top:POR_top!Y43)","v":0},{"$f":"SUM(AUT_top:POR_top!Z43)","v":4},{"$f":"SUM(AUT_top:POR_top!AA43)","v":0},{"$f":"SUM(AUT_top:POR_top!AB43)","v":0},{"$f":"SUM(AUT_top:POR_top!AC43)","v":4},{"$f":"SUM(AUT_top:POR_top!AD43)","v":0},{"$f":"SUM(AUT_top:POR_top!AE43)","v":0},{"$f":"SUM(AUT_top:POR_top!AF43)","v":3},{"$f":"SUM(AUT_top:POR_top!AG43)","v":6},{"$f":"SUM(AUT_top:POR_top!AH43)","v":1},{"$f":"SUM(AUT_top:POR_top!AI43)","v":0},{"$f":"SUM(AUT_top:POR_top!AJ43)","v":1},{"$f":"SUM(AUT_top:POR_top!AK43)","v":0},{"$f":"SUM(AUT_top:POR_top!AL43)","v":1},{"$f":"SUM(AUT_top:POR_top!AM43)","v":4},{"$f":"SUM(AUT_top:POR_top!AN43)","v":2},{"$f":"SUM(AUT_top:POR_top!AO43)","v":0},{"$f":"SUM(AUT_top:POR_top!AP43)","v":0},{"$f":"SUM(AUT_top:POR_top!AQ43)","v":0},{"$f":"SUM(AUT_top:POR_top!AR43)","v":0},{"$f":"SUM(AUT_top:POR_top!AS43)","v":1},{"$f":"SUM(AUT_top:POR_top!AT43)","v":1},{"$f":"SUM(AUT_top:POR_top!AU43)","v":0},{"$f":"SUM(AUT_top:POR_top!AV43)","v":0},{"$f":"SUM(AUT_top:POR_top!AW43)","v":1},{"$f":"SUM(AUT_top:POR_top!AX43)","v":1},{"$f":"SUM(AUT_top:POR_top!AY43)","v":1},{"$f":"SUM(AUT_top:POR_top!AZ43)","v":2},{"$f":"SUM(AUT_top:POR_top!BA43)","v":1},{"$f":"SUM(AUT_top:POR_top!BB43)","v":0},66,0.16176470588235295]
[null,"Lighting",{"$f":"Sheet1!O208","v":"Control optimisation"},{"$f":"SUM(AUT_top:POR_top!D44)","v":4},{"$f":"SUM(AUT_top:POR_top!E44)","v":0},{"$f":"SUM(AUT_top:POR_top!F44)","v":1},{"$f":"SUM(AUT_top:POR_top!G44)","v":0},{"$f":"SUM(AUT_top:POR_top!H44)","v":2},{"$f":"SUM(AUT_top:POR_top!I44)","v":2},{"$f":"SUM(AUT_top:POR_top!J44)","v":0},{"$f":"SUM(AUT_top:POR_top!K44)","v":0},{"$f":"SUM(AUT_top:POR_top!L44)","v":1},{"$f":"SUM(AUT_top:POR_top!M44)","v":0},{"$f":"SUM(AUT_top:POR_top!N44)","v":5},{"$f":"SUM(AUT_top:POR_top!O44)","v":0},{"$f":"SUM(AUT_top:POR_top!P44)","v":5},{"$f":"SUM(AUT_top:POR_top!Q44)","v":2},{"$f":"SUM(AUT_top:POR_top!R44)","v":3},{"$f":"SUM(AUT_top:POR_top!S44)","v":0},{"$f":"SUM(AUT_top:POR_top!T44)","v":0},{"$f":"SUM(AUT_top:POR_top!U44)","v":4},{"$f":"SUM(AUT_top:POR_top!V44)","v":0},{"$f":"SUM(AUT_top:POR_top!W44)","v":3},{"$f":"SUM(AUT_top:POR_top!X44)","v":1},{"$f":"SUM(AUT_top:POR_top!Y44)","v":0},{"$f":"SUM(AUT_top:POR_top!Z44)","v":4},{"$f":"SUM(AUT_top:POR_top!AA44)","v":0},{"$f":"SUM(AUT_top:POR_top!AB44)","v":-1},{"$f":"SUM(AUT_top:POR_top!AC44)","v":4},{"$f":"SUM(AUT_top:POR_top!AD44)","v":0},{"$f":"SUM(AUT_top:POR_top!AE44)","v":1},{"$f":"SUM(AUT_top:POR_top!AF44)","v":4},{"$f":"SUM(AUT_top:POR_top!AG44)","v":6},{"$f":"SUM(AUT_top:POR_top!AH44)","v":1},{"$f":"SUM(AUT_top:POR_top!AI44)","v":0},{"$f":"SUM(AUT_top:POR_top!AJ44)","v":1},{"$f":"SUM(AUT_top:POR_top!AK44)","v":0},{"$f":"SUM(AUT_top:POR_top!AL44)","v":1},{"$f":"SUM(AUT_top:POR_top!AM44)","v":4},{"$f":"SUM(AUT_top:POR_top!AN44)","v":2},{"$f":"SUM(AUT_top:POR_top!AO44)","v":0},{"$f":"SUM(AUT_top:POR_top!AP44)","v":1},{"$f":"SUM(AUT_top:POR_top!AQ44)","v":0},{"$f":"SUM(AUT_top:POR_top!AR44)","v":0},{"$f":"SUM(AUT_top:POR_top!AS44)","v":1},{"$f":"SUM(AUT_top:POR_top!AT44)","v":3},{"$f":"SUM(AUT_top:POR_top!AU44)","v":0},{"$f":"SUM(AUT_top:POR_top!AV44)","v":0},{"$f":"SUM(AUT_top:POR_top!AW44)","v":1},{"$f":"SUM(AUT_top:POR_top!AX44)","v":1},{"$f":"SUM(AUT_top:POR_top!AY44)","v":1},{"$f":"SUM(AUT_top:POR_top!AZ44)","v":2},{"$f":"SUM(AUT_top:POR_top!BA44)","v":1},{"$f":"SUM(AUT_top:POR_top!BB44)","v":0},71,0.17401960784313725]
[null,"Lighting",{"$f":"Sheet1!O209","v":"Utilisation of natural light"},{"$f":"SUM(AUT_top:POR_top!D45)","v":7},{"$f":"SUM(AUT_top:POR_top!E45)","v":1},{"$f":"SUM(AUT_top:POR_top!F45)","v":3},{"$f":"SUM(AUT_top:POR_top!G45)","v":0},{"$f":"SUM(AUT_top:POR_top!H45)","v":2},{"$f":"SUM(AUT_top:POR_top!I45)","v":4},{"$f":"SUM(AUT_top:POR_top!J45)","v":0},{"$f":"SUM(AUT_top:POR_top!K45)","v":2},{"$f":"SUM(AUT_top:POR_top!L45)","v":4},{"$f":"SUM(AUT_top:POR_top!M45)","v":2},{"$f":"SUM(AUT_top:POR_top!N45)","v":6},{"$f":"SUM(AUT_top:POR_top!O45)","v":0},{"$f":"SUM(AUT_top:POR_top!P45)","v":5},{"$f":"SUM(AUT_top:POR_top!Q45)","v":4},{"$f":"SUM(AUT_top:POR_top!R45)","v":3},{"$f":"SUM(AUT_top:POR_top!S45)","v":0},{"$f":"SUM(AUT_top:POR_top!T45)","v":0},{"$f":"SUM(AUT_top:POR_top!U45)","v":4},{"$f":"SUM(AUT_top:POR_top!V45)","v":0},{"$f":"SUM(AUT_top:POR_top!W45)","v":4},{"$f":"SUM(AUT_top:POR_top!X45)","v":1},{"$f":"SUM(AUT_top:POR_top!Y45)","v":0},{"$f":"SUM(AUT_top:POR_top!Z45)","v":4},{"$f":"SUM(AUT_top:POR_top!AA45)","v":1},{"$f":"SUM(AUT_top:POR_top!AB45)","v":2},{"$f":"SUM(AUT_top:POR_top!AC45)","v":4},{"$f":"SUM(AUT_top:POR_top!AD45)","v":0},{"$f":"SUM(AUT_top:POR_top!AE45)","v":1},{"$f":"SUM(AUT_top:POR_top!AF45)","v":4},{"$f":"SUM(AUT_top:POR_top!AG45)","v":5},{"$f":"SUM(AUT_top:POR_top!AH45)","v":1},{"$f":"SUM(AUT_top:POR_top!AI45)","v":0},{"$f":"SUM(AUT_top:POR_top!AJ45)","v":1},{"$f":"SUM(AUT_top:POR_top!AK45)","v":0},{"$f":"SUM(AUT_top:POR_top!AL45)","v":1},{"$f":"SUM(AUT_top:POR_top!AM45)","v":4},{"$f":"SUM(AUT_top:POR_top!AN45)","v":3},{"$f":"SUM(AUT_top:POR_top!AO45)","v":0},{"$f":"SUM(AUT_top:POR_top!AP45)","v":0},{"$f":"SUM(AUT_top:POR_top!AQ45)","v":3},{"$f":"SUM(AUT_top:POR_top!AR45)","v":0},{"$f":"SUM(AUT_top:POR_top!AS45)","v":1},{"$f":"SUM(AUT_top:POR_top!AT45)","v":1},{"$f":"SUM(AUT_top:POR_top!AU45)","v":0},{"$f":"SUM(AUT_top:POR_top!AV45)","v":0},{"$f":"SUM(AUT_top:POR_top!AW45)","v":2},{"$f":"SUM(AUT_top:POR_top!AX45)","v":1},{"$f":"SUM(AUT_top:POR_top!AY45)","v":1},{"$f":"SUM(AUT_top:POR_top!AZ45)","v":2},{"$f":"SUM(AUT_top:POR_top!BA45)","v":2},{"$f":"SUM(AUT_top:POR_top!BB45)","v":1},97,0.23774509803921567]
[null,"Renewable energy",{"$f":"Sheet1!O211","v":"Solar PV"},{"$f":"SUM(AUT_top:POR_top!D46)","v":2},{"$f":"SUM(AUT_top:POR_top!E46)","v":1},{"$f":"SUM(AUT_top:POR_top!F46)","v":4},{"$f":"SUM(AUT_top:POR_top!G46)","v":3},{"$f":"SUM(AUT_top:POR_top!H46)","v":0},{"$f":"SUM(AUT_top:POR_top!I46)","v":0},{"$f":"SUM(AUT_top:POR_top!J46)","v":1},{"$f":"SUM(AUT_top:POR_top!K46)","v":0},{"$f":"SUM(AUT_top:POR_top!L46)","v":0},{"$f":"SUM(AUT_top:POR_top!M46)","v":1},{"$f":"SUM(AUT_top:POR_top!N46)","v":0},{"$f":"SUM(AUT_top:POR_top!O46)","v":1},{"$f":"SUM(AUT_top:POR_top!P46)","v":7},{"$f":"SUM(AUT_top:POR_top!Q46)","v":4},{"$f":"SUM(AUT_top:POR_top!R46)","v":1},{"$f":"SUM(AUT_top:POR_top!S46)","v":0},{"$f":"SUM(AUT_top:POR_top!T46)","v":0},{"$f":"SUM(AUT_top:POR_top!U46)","v":7},{"$f":"SUM(AUT_top:POR_top!V46)","v":1},{"$f":"SUM(AUT_top:POR_top!W46)","v":6},{"$f":"SUM(AUT_top:POR_top!X46)","v":1},{"$f":"SUM(AUT_top:POR_top!Y46)","v":0},{"$f":"SUM(AUT_top:POR_top!Z46)","v":6},{"$f":"SUM(AUT_top:POR_top!AA46)","v":0},{"$f":"SUM(AUT_top:POR_top!AB46)","v":0},{"$f":"SUM(AUT_top:POR_top!AC46)","v":6},{"$f":"SUM(AUT_top:POR_top!AD46)","v":0},{"$f":"SUM(AUT_top:POR_top!AE46)","v":0},{"$f":"SUM(AUT_top:POR_top!AF46)","v":6},{"$f":"SUM(AUT_top:POR_top!AG46)","v":6},{"$f":"SUM(AUT_top:POR_top!AH46)","v":1},{"$f":"SUM(AUT_top:POR_top!AI46)","v":0},{"$f":"SUM(AUT_top:POR_top!AJ46)","v":2},{"$f":"SUM(AUT_top:POR_top!AK46)","v":1},{"$f":"SUM(AUT_top:POR_top!AL46)","v":1},{"$f":"SUM(AUT_top:POR_top!AM46)","v":6},{"$f":"SUM(AUT_top:POR_top!AN46)","v":4},{"$f":"SUM(AUT_top:POR_top!AO46)","v":2},{"$f":"SUM(AUT_top:POR_top!AP46)","v":0},{"$f":"SUM(AUT_top:POR_top!AQ46)","v":1},{"$f":"SUM(AUT_top:POR_top!AR46)","v":-1},{"$f":"SUM(AUT_top:POR_top!AS46)","v":0},{"$f":"SUM(AUT_top:POR_top!AT46)","v":0},{"$f":"SUM(AUT_top:POR_top!AU46)","v":0},{"$f":"SUM(AUT_top:POR_top!AV46)","v":0},{"$f":"SUM(AUT_top:POR_top!AW46)","v":5},{"$f":"SUM(AUT_top:POR_top!AX46)","v":2},{"$f":"SUM(AUT_top:POR_top!AY46)","v":0},{"$f":"SUM(AUT_top:POR_top!AZ46)","v":0},{"$f":"SUM(AUT_top:POR_top!BA46)","v":0},{"$f":"SUM(AUT_top:POR_top!BB46)","v":0},88,0.21568627450980393]
[null,"Renewable energy",{"$f":"Sheet1!O212","v":"Wind turbine"},{"$f":"SUM(AUT_top:POR_top!D47)","v":1},{"$f":"SUM(AUT_top:POR_top!E47)","v":1},{"$f":"SUM(AUT_top:POR_top!F47)","v":1},{"$f":"SUM(AUT_top:POR_top!G47)","v":2},{"$f":"SUM(AUT_top:POR_top!H47)","v":0},{"$f":"SUM(AUT_top:POR_top!I47)","v":0},{"$f":"SUM(AUT_top:POR_top!J47)","v":0},{"$f":"SUM(AUT_top:POR_top!K47)","v":0},{"$f":"SUM(AUT_top:POR_top!L47)","v":0},{"$f":"SUM(AUT_top:POR_top!M47)","v":1},{"$f":"SUM(AUT_top:POR_top!N47)","v":0},{"$f":"SUM(AUT_top:POR_top!O47)","v":-4},{"$f":"SUM(AUT_top:POR_top!P47)","v":7},{"$f":"SUM(AUT_top:POR_top!Q47)","v":4},{"$f":"SUM(AUT_top:POR_top!R47)","v":1},{"$f":"SUM(AUT_top:POR_top!S47)","v":0},{"$f":"SUM(AUT_top:POR_top!T47)","v":0},{"$f":"SUM(AUT_top:POR_top!U47)","v":7},{"$f":"SUM(AUT_top:POR_top!V47)","v":-4},{"$f":"SUM(AUT_top:POR_top!W47)","v":6},{"$f":"SUM(AUT_top:POR_top!X47)","v":1},{"$f":"SUM(AUT_top:POR_top!Y47)","v":0},{"$f":"SUM(AUT_top:POR_top!Z47)","v":5},{"$f":"SUM(AUT_top:POR_top!AA47)","v":0},{"$f":"SUM(AUT_top:POR_top!AB47)","v":-2},{"$f":"SUM(AUT_top:POR_top!AC47)","v":6},{"$f":"SUM(AUT_top:POR_top!AD47)","v":0},{"$f":"SUM(AUT_top:POR_top!AE47)","v":0},{"$f":"SUM(AUT_top:POR_top!AF47)","v":5},{"$f":"SUM(AUT_top:POR_top!AG47)","v":6},{"$f":"SUM(AUT_top:POR_top!AH47)","v":1},{"$f":"SUM(AUT_top:POR_top!AI47)","v":0},{"$f":"SUM(AUT_top:POR_top!AJ47)","v":2},{"$f":"SUM(AUT_top:POR_top!AK47)","v":1},{"$f":"SUM(AUT_top:POR_top!AL47)","v":1},{"$f":"SUM(AUT_top:POR_top!AM47)","v":5},{"$f":"SUM(AUT_top:POR_top!AN47)","v":4},{"$f":"SUM(AUT_top:POR_top!AO47)","v":2},{"$f":"SUM(AUT_top:POR_top!AP47)","v":0},{"$f":"SUM(AUT_top:POR_top!AQ47)","v":-1},{"$f":"SUM(AUT_top:POR_top!AR47)","v":-1},{"$f":"SUM(AUT_top:POR_top!AS47)","v":0},{"$f":"SUM(AUT_top:POR_top!AT47)","v":0},{"$f":"SUM(AUT_top:POR_top!AU47)","v":0},{"$f":"SUM(AUT_top:POR_top!AV47)","v":0},{"$f":"SUM(AUT_top:POR_top!AW47)","v":5},{"$f":"SUM(AUT_top:POR_top!AX47)","v":2},{"$f":"SUM(AUT_top:POR_top!AY47)","v":0},{"$f":"SUM(AUT_top:POR_top!AZ47)","v":0},{"$f":"SUM(AUT_top:POR_top!BA47)","v":0},{"$f":"SUM(AUT_top:POR_top!BB47)","v":0},65,0.15931372549019607]
[null,"Renewable energy",{"$f":"Sheet1!O213","v":"Solar collector system"},{"$f":"SUM(AUT_top:POR_top!D48)","v":2},{"$f":"SUM(AUT_top:POR_top!E48)","v":1},{"$f":"SUM(AUT_top:POR_top!F48)","v":3},{"$f":"SUM(AUT_top:POR_top!G48)","v":2},{"$f":"SUM(AUT_top:POR_top!H48)","v":0},{"$f":"SUM(AUT_top:POR_top!I48)","v":0},{"$f":"SUM(AUT_top:POR_top!J48)","v":1},{"$f":"SUM(AUT_top:POR_top!K48)","v":0},{"$f":"SUM(AUT_top:POR_top!L48)","v":0},{"$f":"SUM(AUT_top:POR_top!M48)","v":1},{"$f":"SUM(AUT_top:POR_top!N48)","v":0},{"$f":"SUM(AUT_top:POR_top!O48)","v":1},{"$f":"SUM(AUT_top:POR_top!P48)","v":7},{"$f":"SUM(AUT_top:POR_top!Q48)","v":5},{"$f":"SUM(AUT_top:POR_top!R48)","v":1},{"$f":"SUM(AUT_top:POR_top!S48)","v":0},{"$f":"SUM(AUT_top:POR_top!T48)","v":0},{"$f":"SUM(AUT_top:POR_top!U48)","v":7},{"$f":"SUM(AUT_top:POR_top!V48)","v":1},{"$f":"SUM(AUT_top:POR_top!W48)","v":6},{"$f":"SUM(AUT_top:POR_top!X48)","v":1},{"$f":"SUM(AUT_top:POR_top!Y48)","v":0},{"$f":"SUM(AUT_top:POR_top!Z48)","v":5},{"$f":"SUM(AUT_top:POR_top!AA48)","v":0},{"$f":"SUM(AUT_top:POR_top!AB48)","v":-2},{"$f":"SUM(AUT_top:POR_top!AC48)","v":6},{"$f":"SUM(AUT_top:POR_top!AD48)","v":0},{"$f":"SUM(AUT_top:POR_top!AE48)","v":0},{"$f":"SUM(AUT_top:POR_top!AF48)","v":6},{"$f":"SUM(AUT_top:POR_top!AG48)","v":6},{"$f":"SUM(AUT_top:POR_top!AH48)","v":1},{"$f":"SUM(AUT_top:POR_top!AI48)","v":0},{"$f":"SUM(AUT_top:POR_top!AJ48)","v":1},{"$f":"SUM(AUT_top:POR_top!AK48)","v":1},{"$f":"SUM(AUT_top:POR_top!AL48)","v":1},{"$f":"SUM(AUT_top:POR_top!AM48)","v":6},{"$f":"SUM(AUT_top:POR_top!AN48)","v":5},{"$f":"SUM(AUT_top:POR_top!AO48)","v":2},{"$f":"SUM(AUT_top:POR_top!AP48)","v":0},{"$f":"SUM(AUT_top:POR_top!AQ48)","v":-1},{"$f":"SUM(AUT_top:POR_top!AR48)","v":0},{"$f":"SUM(AUT_top:POR_top!AS48)","v":0},{"$f":"SUM(AUT_top:POR_top!AT48)","v":0},{"$f":"SUM(AUT_top:POR_top!AU48)","v":0},{"$f":"SUM(AUT_top:POR_top!AV48)","v":0},{"$f":"SUM(AUT_top:POR_top!AW48)","v":5},{"$f":"SUM(AUT_top:POR_top!AX48)","v":2},{"$f":"SUM(AUT_top:POR_top!AY48)","v":0},{"$f":"SUM(AUT_top:POR_top!AZ48)","v":0},{"$f":"SUM(AUT_top:POR_top!BA48)","v":0},{"$f":"SUM(AUT_top:POR_top!BB48)","v":0},83,0.20343137254901961]
[null,"Renewable energy",{"$f":"Sheet1!O214","v":"Geothermal heat pump system"},{"$f":"SUM(AUT_top:POR_top!D49)","v":1},{"$f":"SUM(AUT_top:POR_top!E49)","v":1},{"$f":"SUM(AUT_top:POR_top!F49)","v":3},{"$f":"SUM(AUT_top:POR_top!G49)","v":3},{"$f":"SUM(AUT_top:POR_top!H49)","v":0},{"$f":"SUM(AUT_top:POR_top!I49)","v":0},{"$f":"SUM(AUT_top:POR_top!J49)","v":1},{"$f":"SUM(AUT_top:POR_top!K49)","v":0},{"$f":"SUM(AUT_top:POR_top!L49)","v":0},{"$f":"SUM(AUT_top:POR_top!M49)","v":1},{"$f":"SUM(AUT_top:POR_top!N49)","v":0},{"$f":"SUM(AUT_top:POR_top!O49)","v":1},{"$f":"SUM(AUT_top:POR_top!P49)","v":7},{"$f":"SUM(AUT_top:POR_top!Q49)","v":4},{"$f":"SUM(AUT_top:POR_top!R49)","v":1},{"$f":"SUM(AUT_top:POR_top!S49)","v":0},{"$f":"SUM(AUT_top:POR_top!T49)","v":0},{"$f":"SUM(AUT_top:POR_top!U49)","v":7},{"$f":"SUM(AUT_top:POR_top!V49)","v":1},{"$f":"SUM(AUT_top:POR_top!W49)","v":6},{"$f":"SUM(AUT_top:POR_top!X49)","v":1},{"$f":"SUM(AUT_top:POR_top!Y49)","v":0},{"$f":"SUM(AUT_top:POR_top!Z49)","v":6},{"$f":"SUM(AUT_top:POR_top!AA49)","v":0},{"$f":"SUM(AUT_top:POR_top!AB49)","v":-2},{"$f":"SUM(AUT_top:POR_top!AC49)","v":6},{"$f":"SUM(AUT_top:POR_top!AD49)","v":0},{"$f":"SUM(AUT_top:POR_top!AE49)","v":0},{"$f":"SUM(AUT_top:POR_top!AF49)","v":6},{"$f":"SUM(AUT_top:POR_top!AG49)","v":5},{"$f":"SUM(AUT_top:POR_top!AH49)","v":1},{"$f":"SUM(AUT_top:POR_top!AI49)","v":0},{"$f":"SUM(AUT_top:POR_top!AJ49)","v":1},{"$f":"SUM(AUT_top:POR_top!AK49)","v":0},{"$f":"SUM(AUT_top:POR_top!AL49)","v":1},{"$f":"SUM(AUT_top:POR_top!AM49)","v":6},{"$f":"SUM(AUT_top:POR_top!AN49)","v":3},{"$f":"SUM(AUT_top:POR_top!AO49)","v":2},{"$f":"SUM(AUT_top:POR_top!AP49)","v":0},{"$f":"SUM(AUT_top:POR_top!AQ49)","v":-1},{"$f":"SUM(AUT_top:POR_top!AR49)","v":-1},{"$f":"SUM(AUT_top:POR_top!AS49)","v":0},{"$f":"SUM(AUT_top:POR_top!AT49)","v":0},{"$f":"SUM(AUT_top:POR_top!AU49)","v":0},{"$f":"SUM(AUT_top:POR_top!AV49)","v":0},{"$f":"SUM(AUT_top:POR_top!AW49)","v":5},{"$f":"SUM(AUT_top:POR_top!AX49)","v":2},{"$f":"SUM(AUT_top:POR_top!AY49)","v":0},{"$f":"SUM(AUT_top:POR_top!AZ49)","v":0},{"$f":"SUM(AUT_top:POR_top!BA49)","v":0},{"$f":"SUM(AUT_top:POR_top!BB49)","v":0},78,0.19117647058823528]
[null,"Renewable energy",{"$f":"Sheet1!O215","v":"Passive measures"},{"$f":"SUM(AUT_top:POR_top!D50)","v":1},{"$f":"SUM(AUT_top:POR_top!E50)","v":1},{"$f":"SUM(AUT_top:POR_top!F50)","v":1},{"$f":"SUM(AUT_top:POR_top!G50)","v":1},{"$f":"SUM(AUT_top:POR_top!H50)","v":0},{"$f":"SUM(AUT_top:POR_top!I50)","v":1},{"$f":"SUM(AUT_top:POR_top!J50)","v":1},{"$f":"SUM(AUT_top:POR_top!K50)","v":0},{"$f":"SUM(AUT_top:POR_top!L50)","v":0},{"$f":"SUM(AUT_top:POR_top!M50)","v":1},{"$f":"SUM(AUT_top:POR_top!N50)","v":0},{"$f":"SUM(AUT_top:POR_top!O50)","v":1},{"$f":"SUM(AUT_top:POR_top!P50)","v":7},{"$f":"SUM(AUT_top:POR_top!Q50)","v":3},{"$f":"SUM(AUT_top:POR_top!R50)","v":1},{"$f":"SUM(AUT_top:POR_top!S50)","v":0},{"$f":"SUM(AUT_top:POR_top!T50)","v":0},{"$f":"SUM(AUT_top:POR_top!U50)","v":7},{"$f":"SUM(AUT_top:POR_top!V50)","v":1},{"$f":"SUM(AUT_top:POR_top!W50)","v":5},{"$f":"SUM(AUT_top:POR_top!X50)","v":1},{"$f":"SUM(AUT_top:POR_top!Y50)","v":0},{"$f":"SUM(AUT_top:POR_top!Z50)","v":6},{"$f":"SUM(AUT_top:POR_top!AA50)","v":0},{"$f":"SUM(AUT_top:POR_top!AB50)","v":1},{"$f":"SUM(AUT_top:POR_top!AC50)","v":5},{"$f":"SUM(AUT_top:POR_top!AD50)","v":0},{"$f":"SUM(AUT_top:POR_top!AE50)","v":0},{"$f":"SUM(AUT_top:POR_top!AF50)","v":6},{"$f":"SUM(AUT_top:POR_top!AG50)","v":5},{"$f":"SUM(AUT_top:POR_top!AH50)","v":1},{"$f":"SUM(AUT_top:POR_top!AI50)","v":0},{"$f":"SUM(AUT_top:POR_top!AJ50)","v":1},{"$f":"SUM(AUT_top:POR_top!AK50)","v":0},{"$f":"SUM(AUT_top:POR_top!AL50)","v":1},{"$f":"SUM(AUT_top:POR_top!AM50)","v":6},{"$f":"SUM(AUT_top:POR_top!AN50)","v":4},{"$f":"SUM(AUT_top:POR_top!AO50)","v":2},{"$f":"SUM(AUT_top:POR_top!AP50)","v":0},{"$f":"SUM(AUT_top:POR_top!AQ50)","v":1},{"$f":"SUM(AUT_top:POR_top!AR50)","v":0},{"$f":"SUM(AUT_top:POR_top!AS50)","v":0},{"$f":"SUM(AUT_top:POR_top!AT50)","v":0},{"$f":"SUM(AUT_top:POR_top!AU50)","v":0},{"$f":"SUM(AUT_top:POR_top!AV50)","v":0},{"$f":"SUM(AUT_top:POR_top!AW50)","v":5},{"$f":"SUM(AUT_top:POR_top!AX50)","v":2},{"$f":"SUM(AUT_top:POR_top!AY50)","v":0},{"$f":"SUM(AUT_top:POR_top!AZ50)","v":0},{"$f":"SUM(AUT_top:POR_top!BA50)","v":0},{"$f":"SUM(AUT_top:POR_top!BB50)","v":0},79,0.19362745098039216]
[null,"Appliances",{"$f":"Sheet1!O217","v":"Energy efficient appliances"},{"$f":"SUM(AUT_top:POR_top!D51)","v":1},{"$f":"SUM(AUT_top:POR_top!E51)","v":1},{"$f":"SUM(AUT_top:POR_top!F51)","v":0},{"$f":"SUM(AUT_top:POR_top!G51)","v":0},{"$f":"SUM(AUT_top:POR_top!H51)","v":1},{"$f":"SUM(AUT_top:POR_top!I51)","v":0},{"$f":"SUM(AUT_top:POR_top!J51)","v":1},{"$f":"SUM(AUT_top:POR_top!K51)","v":0},{"$f":"SUM(AUT_top:POR_top!L51)","v":0},{"$f":"SUM(AUT_top:POR_top!M51)","v":0},{"$f":"SUM(AUT_top:POR_top!N51)","v":0},{"$f":"SUM(AUT_top:POR_top!O51)","v":3},{"$f":"SUM(AUT_top:POR_top!P51)","v":7},{"$f":"SUM(AUT_top:POR_top!Q51)","v":2},{"$f":"SUM(AUT_top:POR_top!R51)","v":1},{"$f":"SUM(AUT_top:POR_top!S51)","v":1},{"$f":"SUM(AUT_top:POR_top!T51)","v":1},{"$f":"SUM(AUT_top:POR_top!U51)","v":7},{"$f":"SUM(AUT_top:POR_top!V51)","v":2},{"$f":"SUM(AUT_top:POR_top!W51)","v":4},{"$f":"SUM(AUT_top:POR_top!X51)","v":1},{"$f":"SUM(AUT_top:POR_top!Y51)","v":0},{"$f":"SUM(AUT_top:POR_top!Z51)","v":6},{"$f":"SUM(AUT_top:POR_top!AA51)","v":1},{"$f":"SUM(AUT_top:POR_top!AB51)","v":1},{"$f":"SUM(AUT_top:POR_top!AC51)","v":5},{"$f":"SUM(AUT_top:POR_top!AD51)","v":1},{"$f":"SUM(AUT_top:POR_top!AE51)","v":1},{"$f":"SUM(AUT_top:POR_top!AF51)","v":5},{"$f":"SUM(AUT_top:POR_top!AG51)","v":6},{"$f":"SUM(AUT_top:POR_top!AH51)","v":1},{"$f":"SUM(AUT_top:POR_top!AI51)","v":0},{"$f":"SUM(AUT_top:POR_top!AJ51)","v":2},{"$f":"SUM(AUT_top:POR_top!AK51)","v":0},{"$f":"SUM(AUT_top:POR_top!AL51)","v":1},{"$f":"SUM(AUT_top:POR_top!AM51)","v":4},{"$f":"SUM(AUT_top:POR_top!AN51)","v":2},{"$f":"SUM(AUT_top:POR_top!AO51)","v":0},{"$f":"SUM(AUT_top:POR_top!AP51)","v":1},{"$f":"SUM(AUT_top:POR_top!AQ51)","v":1},{"$f":"SUM(AUT_top:POR_top!AR51)","v":1},{"$f":"SUM(AUT_top:POR_top!AS51)","v":0},{"$f":"SUM(AUT_top:POR_top!AT51)","v":0},{"$f":"SUM(AUT_top:POR_top!AU51)","v":0},{"$f":"SUM(AUT_top:POR_top!AV51)","v":0},{"$f":"SUM(AUT_top:POR_top!AW51)","v":4},{"$f":"SUM(AUT_top:POR_top!AX51)","v":2},{"$f":"SUM(AUT_top:POR_top!AY51)","v":0},{"$f":"SUM(AUT_top:POR_top!AZ51)","v":1},{"$f":"SUM(AUT_top:POR_top!BA51)","v":2},{"$f":"SUM(AUT_top:POR_top!BB51)","v":0},81,0.19852941176470587]
[null,"Appliances",{"$f":"Sheet1!O218","v":"Reducing stand-by consumption"},{"$f":"SUM(AUT_top:POR_top!D52)","v":-1},{"$f":"SUM(AUT_top:POR_top!E52)","v":1},{"$f":"SUM(AUT_top:POR_top!F52)","v":0},{"$f":"SUM(AUT_top:POR_top!G52)","v":0},{"$f":"SUM(AUT_top:POR_top!H52)","v":0},{"$f":"SUM(AUT_top:POR_top!I52)","v":0},{"$f":"SUM(AUT_top:POR_top!J52)","v":1},{"$f":"SUM(AUT_top:POR_top!K52)","v":0},{"$f":"SUM(AUT_top:POR_top!L52)","v":0},{"$f":"SUM(AUT_top:POR_top!M52)","v":0},{"$f":"SUM(AUT_top:POR_top!N52)","v":0},{"$f":"SUM(AUT_top:POR_top!O52)","v":1},{"$f":"SUM(AUT_top:POR_top!P52)","v":7},{"$f":"SUM(AUT_top:POR_top!Q52)","v":2},{"$f":"SUM(AUT_top:POR_top!R52)","v":1},{"$f":"SUM(AUT_top:POR_top!S52)","v":0},{"$f":"SUM(AUT_top:POR_top!T52)","v":0},{"$f":"SUM(AUT_top:POR_top!U52)","v":6},{"$f":"SUM(AUT_top:POR_top!V52)","v":0},{"$f":"SUM(AUT_top:POR_top!W52)","v":4},{"$f":"SUM(AUT_top:POR_top!X52)","v":1},{"$f":"SUM(AUT_top:POR_top!Y52)","v":0},{"$f":"SUM(AUT_top:POR_top!Z52)","v":6},{"$f":"SUM(AUT_top:POR_top!AA52)","v":0},{"$f":"SUM(AUT_top:POR_top!AB52)","v":0},{"$f":"SUM(AUT_top:POR_top!AC52)","v":5},{"$f":"SUM(AUT_top:POR_top!AD52)","v":0},{"$f":"SUM(AUT_top:POR_top!AE52)","v":0},{"$f":"SUM(AUT_top:POR_top!AF52)","v":3},{"$f":"SUM(AUT_top:POR_top!AG52)","v":6},{"$f":"SUM(AUT_top:POR_top!AH52)","v":1},{"$f":"SUM(AUT_top:POR_top!AI52)","v":0},{"$f":"SUM(AUT_top:POR_top!AJ52)","v":1},{"$f":"SUM(AUT_top:POR_top!AK52)","v":0},{"$f":"SUM(AUT_top:POR_top!AL52)","v":1},{"$f":"SUM(AUT_top:POR_top!AM52)","v":4},{"$f":"SUM(AUT_top:POR_top!AN52)","v":2},{"$f":"SUM(AUT_top:POR_top!AO52)","v":0},{"$f":"SUM(AUT_top:POR_top!AP52)","v":0},{"$f":"SUM(AUT_top:POR_top!AQ52)","v":0},{"$f":"SUM(AUT_top:POR_top!AR52)","v":0},{"$f":"SUM(AUT_top:POR_top!AS52)","v":0},{"$f":"SUM(AUT_top:POR_top!AT52)","v":0},{"$f":"SUM(AUT_top:POR_top!AU52)","v":0},{"$f":"SUM(AUT_top:POR_top!AV52)","v":0},{"$f":"SUM(AUT_top:POR_top!AW52)","v":1},{"$f":"SUM(AUT_top:POR_top!AX52)","v":1},{"$f":"SUM(AUT_top:POR_top!AY52)","v":0},{"$f":"SUM(AUT_top:POR_top!AZ52)","v":0},{"$f":"SUM(AUT_top:POR_top!BA52)","v":2},{"$f":"SUM(AUT_top:POR_top!BB52)","v":1},57,0.13970588235294118]
[null,"Appliances",{"$f":"Sheet1!O219","v":"Optimal usage, on demand operation"},{"$f":"SUM(AUT_top:POR_top!D53)","v":0},{"$f":"SUM(AUT_top:POR_top!E53)","v":1},{"$f":"SUM(AUT_top:POR_top!F53)","v":1},{"$f":"SUM(AUT_top:POR_top!G53)","v":0},{"$f":"SUM(AUT_top:POR_top!H53)","v":2},{"$f":"SUM(AUT_top:POR_top!I53)","v":0},{"$f":"SUM(AUT_top:POR_top!J53)","v":1},{"$f":"SUM(AUT_top:POR_top!K53)","v":0},{"$f":"SUM(AUT_top:POR_top!L53)","v":0},{"$f":"SUM(AUT_top:POR_top!M53)","v":0},{"$f":"SUM(AUT_top:POR_top!N53)","v":0},{"$f":"SUM(AUT_top:POR_top!O53)","v":2},{"$f":"SUM(AUT_top:POR_top!P53)","v":7},{"$f":"SUM(AUT_top:POR_top!Q53)","v":2},{"$f":"SUM(AUT_top:POR_top!R53)","v":1},{"$f":"SUM(AUT_top:POR_top!S53)","v":1},{"$f":"SUM(AUT_top:POR_top!T53)","v":1},{"$f":"SUM(AUT_top:POR_top!U53)","v":7},{"$f":"SUM(AUT_top:POR_top!V53)","v":2},{"$f":"SUM(AUT_top:POR_top!W53)","v":4},{"$f":"SUM(AUT_top:POR_top!X53)","v":1},{"$f":"SUM(AUT_top:POR_top!Y53)","v":0},{"$f":"SUM(AUT_top:POR_top!Z53)","v":7},{"$f":"SUM(AUT_top:POR_top!AA53)","v":0},{"$f":"SUM(AUT_top:POR_top!AB53)","v":1},{"$f":"SUM(AUT_top:POR_top!AC53)","v":5},{"$f":"SUM(AUT_top:POR_top!AD53)","v":1},{"$f":"SUM(AUT_top:POR_top!AE53)","v":1},{"$f":"SUM(AUT_top:POR_top!AF53)","v":3},{"$f":"SUM(AUT_top:POR_top!AG53)","v":6},{"$f":"SUM(AUT_top:POR_top!AH53)","v":1},{"$f":"SUM(AUT_top:POR_top!AI53)","v":0},{"$f":"SUM(AUT_top:POR_top!AJ53)","v":1},{"$f":"SUM(AUT_top:POR_top!AK53)","v":0},{"$f":"SUM(AUT_top:POR_top!AL53)","v":1},{"$f":"SUM(AUT_top:POR_top!AM53)","v":4},{"$f":"SUM(AUT_top:POR_top!AN53)","v":2},{"$f":"SUM(AUT_top:POR_top!AO53)","v":0},{"$f":"SUM(AUT_top:POR_top!AP53)","v":0},{"$f":"SUM(AUT_top:POR_top!AQ53)","v":0},{"$f":"SUM(AUT_top:POR_top!AR53)","v":1},{"$f":"SUM(AUT_top:POR_top!AS53)","v":0},{"$f":"SUM(AUT_top:POR_top!AT53)","v":0},{"$f":"SUM(AUT_top:POR_top!AU53)","v":0},{"$f":"SUM(AUT_top:POR_top!AV53)","v":0},{"$f":"SUM(AUT_top:POR_top!AW53)","v":1},{"$f":"SUM(AUT_top:POR_top!AX53)","v":1},{"$f":"SUM(AUT_top:POR_top!AY53)","v":0},{"$f":"SUM(AUT_top:POR_top!AZ53)","v":2},{"$f":"SUM(AUT_top:POR_top!BA53)","v":2},{"$f":"SUM(AUT_top:POR_top!BB53)","v":1},74,0.18137254901960784]
[null,"Building automation",{"$f":"Sheet1!O221","v":"Building automation and management systems"},{"$f":"SUM(AUT_top:POR_top!D54)","v":4},{"$f":"SUM(AUT_top:POR_top!E54)","v":0},{"$f":"SUM(AUT_top:POR_top!F54)","v":1},{"$f":"SUM(AUT_top:POR_top!G54)","v":0},{"$f":"SUM(AUT_top:POR_top!H54)","v":1},{"$f":"SUM(AUT_top:POR_top!I54)","v":2},{"$f":"SUM(AUT_top:POR_top!J54)","v":1},{"$f":"SUM(AUT_top:POR_top!K54)","v":2},{"$f":"SUM(AUT_top:POR_top!L54)","v":3},{"$f":"SUM(AUT_top:POR_top!M54)","v":2},{"$f":"SUM(AUT_top:POR_top!N54)","v":2},{"$f":"SUM(AUT_top:POR_top!O54)","v":1},{"$f":"SUM(AUT_top:POR_top!P54)","v":7},{"$f":"SUM(AUT_top:POR_top!Q54)","v":3},{"$f":"SUM(AUT_top:POR_top!R54)","v":1},{"$f":"SUM(AUT_top:POR_top!S54)","v":1},{"$f":"SUM(AUT_top:POR_top!T54)","v":0},{"$f":"SUM(AUT_top:POR_top!U54)","v":6},{"$f":"SUM(AUT_top:POR_top!V54)","v":0},{"$f":"SUM(AUT_top:POR_top!W54)","v":5},{"$f":"SUM(AUT_top:POR_top!X54)","v":1},{"$f":"SUM(AUT_top:POR_top!Y54)","v":0},{"$f":"SUM(AUT_top:POR_top!Z54)","v":6},{"$f":"SUM(AUT_top:POR_top!AA54)","v":1},{"$f":"SUM(AUT_top:POR_top!AB54)","v":4},{"$f":"SUM(AUT_top:POR_top!AC54)","v":5},{"$f":"SUM(AUT_top:POR_top!AD54)","v":0},{"$f":"SUM(AUT_top:POR_top!AE54)","v":0},{"$f":"SUM(AUT_top:POR_top!AF54)","v":6},{"$f":"SUM(AUT_top:POR_top!AG54)","v":6},{"$f":"SUM(AUT_top:POR_top!AH54)","v":1},{"$f":"SUM(AUT_top:POR_top!AI54)","v":0},{"$f":"SUM(AUT_top:POR_top!AJ54)","v":1},{"$f":"SUM(AUT_top:POR_top!AK54)","v":-1},{"$f":"SUM(AUT_top:POR_top!AL54)","v":1},{"$f":"SUM(AUT_top:POR_top!AM54)","v":5},{"$f":"SUM(AUT_top:POR_top!AN54)","v":3},{"$f":"SUM(AUT_top:POR_top!AO54)","v":0},{"$f":"SUM(AUT_top:POR_top!AP54)","v":2},{"$f":"SUM(AUT_top:POR_top!AQ54)","v":2},{"$f":"SUM(AUT_top:POR_top!AR54)","v":1},{"$f":"SUM(AUT_top:POR_top!AS54)","v":0},{"$f":"SUM(AUT_top:POR_top!AT54)","v":4},{"$f":"SUM(AUT_top:POR_top!AU54)","v":0},{"$f":"SUM(AUT_top:POR_top!AV54)","v":0},{"$f":"SUM(AUT_top:POR_top!AW54)","v":3},{"$f":"SUM(AUT_top:POR_top!AX54)","v":3},{"$f":"SUM(AUT_top:POR_top!AY54)","v":3},{"$f":"SUM(AUT_top:POR_top!AZ54)","v":4},{"$f":"SUM(AUT_top:POR_top!BA54)","v":2},{"$f":"SUM(AUT_top:POR_top!BB54)","v":4},109,0.26715686274509803]
[null,"Building automation",{"$f":"Sheet1!O222","v":"Energy management system"},{"$f":"SUM(AUT_top:POR_top!D55)","v":3},{"$f":"SUM(AUT_top:POR_top!E55)","v":0},{"$f":"SUM(AUT_top:POR_top!F55)","v":2},{"$f":"SUM(AUT_top:POR_top!G55)","v":2},{"$f":"SUM(AUT_top:POR_top!H55)","v":0},{"$f":"SUM(AUT_top:POR_top!I55)","v":1},{"$f":"SUM(AUT_top:POR_top!J55)","v":1},{"$f":"SUM(AUT_top:POR_top!K55)","v":1},{"$f":"SUM(AUT_top:POR_top!L55)","v":1},{"$f":"SUM(AUT_top:POR_top!M55)","v":2},{"$f":"SUM(AUT_top:POR_top!N55)","v":1},{"$f":"SUM(AUT_top:POR_top!O55)","v":1},{"$f":"SUM(AUT_top:POR_top!P55)","v":7},{"$f":"SUM(AUT_top:POR_top!Q55)","v":3},{"$f":"SUM(AUT_top:POR_top!R55)","v":1},{"$f":"SUM(AUT_top:POR_top!S55)","v":0},{"$f":"SUM(AUT_top:POR_top!T55)","v":0},{"$f":"SUM(AUT_top:POR_top!U55)","v":6},{"$f":"SUM(AUT_top:POR_top!V55)","v":0},{"$f":"SUM(AUT_top:POR_top!W55)","v":5},{"$f":"SUM(AUT_top:POR_top!X55)","v":1},{"$f":"SUM(AUT_top:POR_top!Y55)","v":0},{"$f":"SUM(AUT_top:POR_top!Z55)","v":6},{"$f":"SUM(AUT_top:POR_top!AA55)","v":1},{"$f":"SUM(AUT_top:POR_top!AB55)","v":4},{"$f":"SUM(AUT_top:POR_top!AC55)","v":5},{"$f":"SUM(AUT_top:POR_top!AD55)","v":0},{"$f":"SUM(AUT_top:POR_top!AE55)","v":0},{"$f":"SUM(AUT_top:POR_top!AF55)","v":6},{"$f":"SUM(AUT_top:POR_top!AG55)","v":5},{"$f":"SUM(AUT_top:POR_top!AH55)","v":1},{"$f":"SUM(AUT_top:POR_top!AI55)","v":0},{"$f":"SUM(AUT_top:POR_top!AJ55)","v":1},{"$f":"SUM(AUT_top:POR_top!AK55)","v":0},{"$f":"SUM(AUT_top:POR_top!AL55)","v":1},{"$f":"SUM(AUT_top:POR_top!AM55)","v":5},{"$f":"SUM(AUT_top:POR_top!AN55)","v":2},{"$f":"SUM(AUT_top:POR_top!AO55)","v":0},{"$f":"SUM(AUT_top:POR_top!AP55)","v":0},{"$f":"SUM(AUT_top:POR_top!AQ55)","v":1},{"$f":"SUM(AUT_top:POR_top!AR55)","v":0},{"$f":"SUM(AUT_top:POR_top!AS55)","v":0},{"$f":"SUM(AUT_top:POR_top!AT55)","v":3},{"$f":"SUM(AUT_top:POR_top!AU55)","v":0},{"$f":"SUM(AUT_top:POR_top!AV55)","v":0},{"$f":"SUM(AUT_top:POR_top!AW55)","v":3},{"$f":"SUM(AUT_top:POR_top!AX55)","v":4},{"$f":"SUM(AUT_top:POR_top!AY55)","v":4},{"$f":"SUM(AUT_top:POR_top!AZ55)","v":2},{"$f":"SUM(AUT_top:POR_top!BA55)","v":1},{"$f":"SUM(AUT_top:POR_top!BB55)","v":3},96,0.23529411764705882]
[null,"Building automation",{"$f":"Sheet1!O223","v":"Measured consumption"},{"$f":"SUM(AUT_top:POR_top!D56)","v":1},{"$f":"SUM(AUT_top:POR_top!E56)","v":0},{"$f":"SUM(AUT_top:POR_top!F56)","v":0},{"$f":"SUM(AUT_top:POR_top!G56)","v":0},{"$f":"SUM(AUT_top:POR_top!H56)","v":0},{"$f":"SUM(AUT_top:POR_top!I56)","v":0},{"$f":"SUM(AUT_top:POR_top!J56)","v":0},{"$f":"SUM(AUT_top:POR_top!K56)","v":0},{"$f":"SUM(AUT_top:POR_top!L56)","v":0},{"$f":"SUM(AUT_top:POR_top!M56)","v":0},{"$f":"SUM(AUT_top:POR_top!N56)","v":0},{"$f":"SUM(AUT_top:POR_top!O56)","v":0},{"$f":"SUM(AUT_top:POR_top!P56)","v":5},{"$f":"SUM(AUT_top:POR_top!Q56)","v":3},{"$f":"SUM(AUT_top:POR_top!R56)","v":1},{"$f":"SUM(AUT_top:POR_top!S56)","v":1},{"$f":"SUM(AUT_top:POR_top!T56)","v":0},{"$f":"SUM(AUT_top:POR_top!U56)","v":5},{"$f":"SUM(AUT_top:POR_top!V56)","v":0},{"$f":"SUM(AUT_top:POR_top!W56)","v":4},{"$f":"SUM(AUT_top:POR_top!X56)","v":2},{"$f":"SUM(AUT_top:POR_top!Y56)","v":0},{"$f":"SUM(AUT_top:POR_top!Z56)","v":6},{"$f":"SUM(AUT_top:POR_top!AA56)","v":0},{"$f":"SUM(AUT_top:POR_top!AB56)","v":3},{"$f":"SUM(AUT_top:POR_top!AC56)","v":5},{"$f":"SUM(AUT_top:POR_top!AD56)","v":1},{"$f":"SUM(AUT_top:POR_top!AE56)","v":1},{"$f":"SUM(AUT_top:POR_top!AF56)","v":6},{"$f":"SUM(AUT_top:POR_top!AG56)","v":5},{"$f":"SUM(AUT_top:POR_top!AH56)","v":1},{"$f":"SUM(AUT_top:POR_top!AI56)","v":0},{"$f":"SUM(AUT_top:POR_top!AJ56)","v":1},{"$f":"SUM(AUT_top:POR_top!AK56)","v":0},{"$f":"SUM(AUT_top:POR_top!AL56)","v":1},{"$f":"SUM(AUT_top:POR_top!AM56)","v":5},{"$f":"SUM(AUT_top:POR_top!AN56)","v":2},{"$f":"SUM(AUT_top:POR_top!AO56)","v":0},{"$f":"SUM(AUT_top:POR_top!AP56)","v":0},{"$f":"SUM(AUT_top:POR_top!AQ56)","v":0},{"$f":"SUM(AUT_top:POR_top!AR56)","v":0},{"$f":"SUM(AUT_top:POR_top!AS56)","v":0},{"$f":"SUM(AUT_top:POR_top!AT56)","v":4},{"$f":"SUM(AUT_top:POR_top!AU56)","v":0},{"$f":"SUM(AUT_top:POR_top!AV56)","v":0},{"$f":"SUM(AUT_top:POR_top!AW56)","v":1},{"$f":"SUM(AUT_top:POR_top!AX56)","v":2},{"$f":"SUM(AUT_top:POR_top!AY56)","v":1},{"$f":"SUM(AUT_top:POR_top!AZ56)","v":2},{"$f":"SUM(AUT_top:POR_top!BA56)","v":0},{"$f":"SUM(AUT_top:POR_top!BB56)","v":2},71,0.17401960784313725]
[null,"Building automation",{"$f":"Sheet1!O224","v":"Improved smart-readiness"},{"$f":"SUM(AUT_top:POR_top!D57)","v":3},{"$f":"SUM(AUT_top:POR_top!E57)","v":0},{"$f":"SUM(AUT_top:POR_top!F57)","v":2},{"$f":"SUM(AUT_top:POR_top!G57)","v":0},{"$f":"SUM(AUT_top:POR_top!H57)","v":0},{"$f":"SUM(AUT_top:POR_top!I57)","v":2},{"$f":"SUM(AUT_top:POR_top!J57)","v":1},{"$f":"SUM(AUT_top:POR_top!K57)","v":2},{"$f":"SUM(AUT_top:POR_top!L57)","v":2},{"$f":"SUM(AUT_top:POR_top!M57)","v":2},{"$f":"SUM(AUT_top:POR_top!N57)","v":1},{"$f":"SUM(AUT_top:POR_top!O57)","v":1},{"$f":"SUM(AUT_top:POR_top!P57)","v":6},{"$f":"SUM(AUT_top:POR_top!Q57)","v":3},{"$f":"SUM(AUT_top:POR_top!R57)","v":1},{"$f":"SUM(AUT_top:POR_top!S57)","v":0},{"$f":"SUM(AUT_top:POR_top!T57)","v":0},{"$f":"SUM(AUT_top:POR_top!U57)","v":5},{"$f":"SUM(AUT_top:POR_top!V57)","v":0},{"$f":"SUM(AUT_top:POR_top!W57)","v":4},{"$f":"SUM(AUT_top:POR_top!X57)","v":1},{"$f":"SUM(AUT_top:POR_top!Y57)","v":0},{"$f":"SUM(AUT_top:POR_top!Z57)","v":6},{"$f":"SUM(AUT_top:POR_top!AA57)","v":1},{"$f":"SUM(AUT_top:POR_top!AB57)","v":4},{"$f":"SUM(AUT_top:POR_top!AC57)","v":5},{"$f":"SUM(AUT_top:POR_top!AD57)","v":0},{"$f":"SUM(AUT_top:POR_top!AE57)","v":0},{"$f":"SUM(AUT_top:POR_top!AF57)","v":5},{"$f":"SUM(AUT_top:POR_top!AG57)","v":3},{"$f":"SUM(AUT_top:POR_top!AH57)","v":1},{"$f":"SUM(AUT_top:POR_top!AI57)","v":0},{"$f":"SUM(AUT_top:POR_top!AJ57)","v":1},{"$f":"SUM(AUT_top:POR_top!AK57)","v":0},{"$f":"SUM(AUT_top:POR_top!AL57)","v":1},{"$f":"SUM(AUT_top:POR_top!AM57)","v":5},{"$f":"SUM(AUT_top:POR_top!AN57)","v":3},{"$f":"SUM(AUT_top:POR_top!AO57)","v":0},{"$f":"SUM(AUT_top:POR_top!AP57)","v":0},{"$f":"SUM(AUT_top:POR_top!AQ57)","v":1},{"$f":"SUM(AUT_top:POR_top!AR57)","v":0},{"$f":"SUM(AUT_top:POR_top!AS57)","v":0},{"$f":"SUM(AUT_top:POR_top!AT57)","v":2},{"$f":"SUM(AUT_top:POR_top!AU57)","v":0},{"$f":"SUM(AUT_top:POR_top!AV57)","v":0},{"$f":"SUM(AUT_top:POR_top!AW57)","v":2},{"$f":"SUM(AUT_top:POR_top!AX57)","v":1},{"$f":"SUM(AUT_top:POR_top!AY57)","v":0},{"$f":"SUM(AUT_top:POR_top!AZ57)","v":4},{"$f":"SUM(AUT_top:POR_top!BA57)","v":1},{"$f":"SUM(AUT_top:POR_top!BB57)","v":2},84,0.20588235294117646]
["Processes","Compressed air system",{"$f":"Sheet1!O226","v":"Check the required pressure"},{"$f":"SUM(AUT_top:POR_top!D58)","v":1},{"$f":"SUM(AUT_top:POR_top!E58)","v":0},{"$f":"SUM(AUT_top:POR_top!F58)","v":0},{"$f":"SUM(AUT_top:POR_top!G58)","v":0},{"$f":"SUM(AUT_top:POR_top!H58)","v":0},{"$f":"SUM(AUT_top:POR_top!I58)","v":0},{"$f":"SUM(AUT_top:POR_top!J58)","v":2},{"$f":"SUM(AUT_top:POR_top!K58)","v":2},{"$f":"SUM(AUT_top:POR_top!L58)","v":1},{"$f":"SUM(AUT_top:POR_top!M58)","v":0},{"$f":"SUM(AUT_top:POR_top!N58)","v":0},{"$f":"SUM(AUT_top:POR_top!O58)","v":0},{"$f":"SUM(AUT_top:POR_top!P58)","v":7},{"$f":"SUM(AUT_top:POR_top!Q58)","v":2},{"$f":"SUM(AUT_top:POR_top!R58)","v":1},{"$f":"SUM(AUT_top:POR_top!S58)","v":0},{"$f":"SUM(AUT_top:POR_top!T58)","v":0},{"$f":"SUM(AUT_top:POR_top!U58)","v":6},{"$f":"SUM(AUT_top:POR_top!V58)","v":0},{"$f":"SUM(AUT_top:POR_top!W58)","v":3},{"$f":"SUM(AUT_top:POR_top!X58)","v":2},{"$f":"SUM(AUT_top:POR_top!Y58)","v":0},{"$f":"SUM(AUT_top:POR_top!Z58)","v":5},{"$f":"SUM(AUT_top:POR_top!AA58)","v":0},{"$f":"SUM(AUT_top:POR_top!AB58)","v":3},{"$f":"SUM(AUT_top:POR_top!AC58)","v":4},{"$f":"SUM(AUT_top:POR_top!AD58)","v":0},{"$f":"SUM(AUT_top:POR_top!AE58)","v":0},{"$f":"SUM(AUT_top:POR_top!AF58)","v":3},{"$f":"SUM(AUT_top:POR_top!AG58)","v":5},{"$f":"SUM(AUT_top:POR_top!AH58)","v":1},{"$f":"SUM(AUT_top:POR_top!AI58)","v":0},{"$f":"SUM(AUT_top:POR_top!AJ58)","v":1},{"$f":"SUM(AUT_top:POR_top!AK58)","v":0},{"$f":"SUM(AUT_top:POR_top!AL58)","v":1},{"$f":"SUM(AUT_top:POR_top!AM58)","v":4},{"$f":"SUM(AUT_top:POR_top!AN58)","v":2},{"$f":"SUM(AUT_top:POR_top!AO58)","v":0},{"$f":"SUM(AUT_top:POR_top!AP58)","v":3},{"$f":"SUM(AUT_top:POR_top!AQ58)","v":2},{"$f":"SUM(AUT_top:POR_top!AR58)","v":0},{"$f":"SUM(AUT_top:POR_top!AS58)","v":2},{"$f":"SUM(AUT_top:POR_top!AT58)","v":1},{"$f":"SUM(AUT_top:POR_top!AU58)","v":1},{"$f":"SUM(AUT_top:POR_top!AV58)","v":1},{"$f":"SUM(AUT_top:POR_top!AW58)","v":1},{"$f":"SUM(AUT_top:POR_top!AX58)","v":1},{"$f":"SUM(AUT_top:POR_top!AY58)","v":3},{"$f":"SUM(AUT_top:POR_top!AZ58)","v":1},{"$f":"SUM(AUT_top:POR_top!BA58)","v":4},{"$f":"SUM(AUT_top:POR_top!BB58)","v":3},79,0.19362745098039216]
[null,"Compressed air system",{"$f":"Sheet1!O227","v":"Regular check for leakages"},{"$f":"SUM(AUT_top:POR_top!D59)","v":1},{"$f":"SUM(AUT_top:POR_top!E59)","v":0},{"$f":"SUM(AUT_top:POR_top!F59)","v":0},{"$f":"SUM(AUT_top:POR_top!G59)","v":0},{"$f":"SUM(AUT_top:POR_top!H59)","v":0},{"$f":"SUM(AUT_top:POR_top!I59)","v":0},{"$f":"SUM(AUT_top:POR_top!J59)","v":0},{"$f":"SUM(AUT_top:POR_top!K59)","v":1},{"$f":"SUM(AUT_top:POR_top!L59)","v":1},{"$f":"SUM(AUT_top:POR_top!M59)","v":2},{"$f":"SUM(AUT_top:POR_top!N59)","v":0},{"$f":"SUM(AUT_top:POR_top!O59)","v":1},{"$f":"SUM(AUT_top:POR_top!P59)","v":7},{"$f":"SUM(AUT_top:POR_top!Q59)","v":2},{"$f":"SUM(AUT_top:POR_top!R59)","v":1},{"$f":"SUM(AUT_top:POR_top!S59)","v":0},{"$f":"SUM(AUT_top:POR_top!T59)","v":1},{"$f":"SUM(AUT_top:POR_top!U59)","v":7},{"$f":"SUM(AUT_top:POR_top!V59)","v":1},{"$f":"SUM(AUT_top:POR_top!W59)","v":3},{"$f":"SUM(AUT_top:POR_top!X59)","v":1},{"$f":"SUM(AUT_top:POR_top!Y59)","v":0},{"$f":"SUM(AUT_top:POR_top!Z59)","v":5},{"$f":"SUM(AUT_top:POR_top!AA59)","v":0},{"$f":"SUM(AUT_top:POR_top!AB59)","v":4},{"$f":"SUM(AUT_top:POR_top!AC59)","v":4},{"$f":"SUM(AUT_top:POR_top!AD59)","v":0},{"$f":"SUM(AUT_top:POR_top!AE59)","v":0},{"$f":"SUM(AUT_top:POR_top!AF59)","v":3},{"$f":"SUM(AUT_top:POR_top!AG59)","v":5},{"$f":"SUM(AUT_top:POR_top!AH59)","v":1},{"$f":"SUM(AUT_top:POR_top!AI59)","v":0},{"$f":"SUM(AUT_top:POR_top!AJ59)","v":1},{"$f":"SUM(AUT_top:POR_top!AK59)","v":0},{"$f":"SUM(AUT_top:POR_top!AL59)","v":1},{"$f":"SUM(AUT_top:POR_top!AM59)","v":3},{"$f":"SUM(AUT_top:POR_top!AN59)","v":2},{"$f":"SUM(AUT_top:POR_top!AO59)","v":0},{"$f":"SUM(AUT_top:POR_top!AP59)","v":4},{"$f":"SUM(AUT_top:POR_top!AQ59)","v":2},{"$f":"SUM(AUT_top:POR_top!AR59)","v":0},{"$f":"SUM(AUT_top:POR_top!AS59)","v":1},{"$f":"SUM(AUT_top:POR_top!AT59)","v":0},{"$f":"SUM(AUT_top:POR_top!AU59)","v":0},{"$f":"SUM(AUT_top:POR_top!AV59)","v":0},{"$f":"SUM(AUT_top:POR_top!AW59)","v":1},{"$f":"SUM(AUT_top:POR_top!AX59)","v":2},{"$f":"SUM(AUT_top:POR_top!AY59)","v":2},{"$f":"SUM(AUT_top:POR_top!AZ59)","v":3},{"$f":"SUM(AUT_top:POR_top!BA59)","v":3},{"$f":"SUM(AUT_top:POR_top!BB59)","v":2},78,0.19117647058823528]
[null,"Compressed air system",{"$f":"Sheet1!O228","v":"Waste heat recovery "},{"$f":"SUM(AUT_top:POR_top!D60)","v":1},{"$f":"SUM(AUT_top:POR_top!E60)","v":0},{"$f":"SUM(AUT_top:POR_top!F60)","v":0},{"$f":"SUM(AUT_top:POR_top!G60)","v":0},{"$f":"SUM(AUT_top:POR_top!H60)","v":0},{"$f":"SUM(AUT_top:POR_top!I60)","v":0},{"$f":"SUM(AUT_top:POR_top!J60)","v":0},{"$f":"SUM(AUT_top:POR_top!K60)","v":0},{"$f":"SUM(AUT_top:POR_top!L60)","v":0},{"$f":"SUM(AUT_top:POR_top!M60)","v":0},{"$f":"SUM(AUT_top:POR_top!N60)","v":0},{"$f":"SUM(AUT_top:POR_top!O60)","v":0},{"$f":"SUM(AUT_top:POR_top!P60)","v":7},{"$f":"SUM(AUT_top:POR_top!Q60)","v":3},{"$f":"SUM(AUT_top:POR_top!R60)","v":2},{"$f":"SUM(AUT_top:POR_top!S60)","v":0},{"$f":"SUM(AUT_top:POR_top!T60)","v":0},{"$f":"SUM(AUT_top:POR_top!U60)","v":6},{"$f":"SUM(AUT_top:POR_top!V60)","v":0},{"$f":"SUM(AUT_top:POR_top!W60)","v":3},{"$f":"SUM(AUT_top:POR_top!X60)","v":1},{"$f":"SUM(AUT_top:POR_top!Y60)","v":0},{"$f":"SUM(AUT_top:POR_top!Z60)","v":4},{"$f":"SUM(AUT_top:POR_top!AA60)","v":0},{"$f":"SUM(AUT_top:POR_top!AB60)","v":0},{"$f":"SUM(AUT_top:POR_top!AC60)","v":4},{"$f":"SUM(AUT_top:POR_top!AD60)","v":0},{"$f":"SUM(AUT_top:POR_top!AE60)","v":0},{"$f":"SUM(AUT_top:POR_top!AF60)","v":4},{"$f":"SUM(AUT_top:POR_top!AG60)","v":6},{"$f":"SUM(AUT_top:POR_top!AH60)","v":1},{"$f":"SUM(AUT_top:POR_top!AI60)","v":4},{"$f":"SUM(AUT_top:POR_top!AJ60)","v":1},{"$f":"SUM(AUT_top:POR_top!AK60)","v":0},{"$f":"SUM(AUT_top:POR_top!AL60)","v":1},{"$f":"SUM(AUT_top:POR_top!AM60)","v":4},{"$f":"SUM(AUT_top:POR_top!AN60)","v":3},{"$f":"SUM(AUT_top:POR_top!AO60)","v":0},{"$f":"SUM(AUT_top:POR_top!AP60)","v":1},{"$f":"SUM(AUT_top:POR_top!AQ60)","v":1},{"$f":"SUM(AUT_top:POR_top!AR60)","v":0},{"$f":"SUM(AUT_top:POR_top!AS60)","v":0},{"$f":"SUM(AUT_top:POR_top!AT60)","v":0},{"$f":"SUM(AUT_top:POR_top!AU60)","v":0},{"$f":"SUM(AUT_top:POR_top!AV60)","v":0},{"$f":"SUM(AUT_top:POR_top!AW60)","v":2},{"$f":"SUM(AUT_top:POR_top!AX60)","v":1},{"$f":"SUM(AUT_top:POR_top!AY60)","v":0},{"$f":"SUM(AUT_top:POR_top!AZ60)","v":1},{"$f":"SUM(AUT_top:POR_top!BA60)","v":2},{"$f":"SUM(AUT_top:POR_top!BB60)","v":0},63,0.15441176470588236]
[null,"Compressed air system",{"$f":"Sheet1!O229","v":"Regular maintenance of the compressor"},{"$f":"SUM(AUT_top:POR_top!D61)","v":1},{"$f":"SUM(AUT_top:POR_top!E61)","v":0},{"$f":"SUM(AUT_top:POR_top!F61)","v":0},{"$f":"SUM(AUT_top:POR_top!G61)","v":0},{"$f":"SUM(AUT_top:POR_top!H61)","v":1},{"$f":"SUM(AUT_top:POR_top!I61)","v":0},{"$f":"SUM(AUT_top:POR_top!J61)","v":1},{"$f":"SUM(AUT_top:POR_top!K61)","v":0},{"$f":"SUM(AUT_top:POR_top!L61)","v":1},{"$f":"SUM(AUT_top:POR_top!M61)","v":1},{"$f":"SUM(AUT_top:POR_top!N61)","v":0},{"$f":"SUM(AUT_top:POR_top!O61)","v":2},{"$f":"SUM(AUT_top:POR_top!P61)","v":7},{"$f":"SUM(AUT_top:POR_top!Q61)","v":2},{"$f":"SUM(AUT_top:POR_top!R61)","v":1},{"$f":"SUM(AUT_top:POR_top!S61)","v":0},{"$f":"SUM(AUT_top:POR_top!T61)","v":0},{"$f":"SUM(AUT_top:POR_top!U61)","v":6},{"$f":"SUM(AUT_top:POR_top!V61)","v":1},{"$f":"SUM(AUT_top:POR_top!W61)","v":4},{"$f":"SUM(AUT_top:POR_top!X61)","v":2},{"$f":"SUM(AUT_top:POR_top!Y61)","v":0},{"$f":"SUM(AUT_top:POR_top!Z61)","v":7},{"$f":"SUM(AUT_top:POR_top!AA61)","v":0},{"$f":"SUM(AUT_top:POR_top!AB61)","v":5},{"$f":"SUM(AUT_top:POR_top!AC61)","v":4},{"$f":"SUM(AUT_top:POR_top!AD61)","v":2},{"$f":"SUM(AUT_top:POR_top!AE61)","v":2},{"$f":"SUM(AUT_top:POR_top!AF61)","v":2},{"$f":"SUM(AUT_top:POR_top!AG61)","v":4},{"$f":"SUM(AUT_top:POR_top!AH61)","v":1},{"$f":"SUM(AUT_top:POR_top!AI61)","v":0},{"$f":"SUM(AUT_top:POR_top!AJ61)","v":1},{"$f":"SUM(AUT_top:POR_top!AK61)","v":0},{"$f":"SUM(AUT_top:POR_top!AL61)","v":1},{"$f":"SUM(AUT_top:POR_top!AM61)","v":4},{"$f":"SUM(AUT_top:POR_top!AN61)","v":2},{"$f":"SUM(AUT_top:POR_top!AO61)","v":0},{"$f":"SUM(AUT_top:POR_top!AP61)","v":4},{"$f":"SUM(AUT_top:POR_top!AQ61)","v":3},{"$f":"SUM(AUT_top:POR_top!AR61)","v":2},{"$f":"SUM(AUT_top:POR_top!AS61)","v":3},{"$f":"SUM(AUT_top:POR_top!AT61)","v":1},{"$f":"SUM(AUT_top:POR_top!AU61)","v":0},{"$f":"SUM(AUT_top:POR_top!AV61)","v":0},{"$f":"SUM(AUT_top:POR_top!AW61)","v":1},{"$f":"SUM(AUT_top:POR_top!AX61)","v":3},{"$f":"SUM(AUT_top:POR_top!AY61)","v":3},{"$f":"SUM(AUT_top:POR_top!AZ61)","v":3},{"$f":"SUM(AUT_top:POR_top!BA61)","v":5},{"$f":"SUM(AUT_top:POR_top!BB61)","v":5},98,0.24019607843137256]
[null,"Steam system",{"$f":"Sheet1!O231","v":"Check the required pressure"},{"$f":"SUM(AUT_top:POR_top!D62)","v":1},{"$f":"SUM(AUT_top:POR_top!E62)","v":0},{"$f":"SUM(AUT_top:POR_top!F62)","v":0},{"$f":"SUM(AUT_top:POR_top!G62)","v":0},{"$f":"SUM(AUT_top:POR_top!H62)","v":0},{"$f":"SUM(AUT_top:POR_top!I62)","v":0},{"$f":"SUM(AUT_top:POR_top!J62)","v":3},{"$f":"SUM(AUT_top:POR_top!K62)","v":2},{"$f":"SUM(AUT_top:POR_top!L62)","v":1},{"$f":"SUM(AUT_top:POR_top!M62)","v":0},{"$f":"SUM(AUT_top:POR_top!N62)","v":0},{"$f":"SUM(AUT_top:POR_top!O62)","v":0},{"$f":"SUM(AUT_top:POR_top!P62)","v":7},{"$f":"SUM(AUT_top:POR_top!Q62)","v":2},{"$f":"SUM(AUT_top:POR_top!R62)","v":2},{"$f":"SUM(AUT_top:POR_top!S62)","v":2},{"$f":"SUM(AUT_top:POR_top!T62)","v":0},{"$f":"SUM(AUT_top:POR_top!U62)","v":6},{"$f":"SUM(AUT_top:POR_top!V62)","v":0},{"$f":"SUM(AUT_top:POR_top!W62)","v":4},{"$f":"SUM(AUT_top:POR_top!X62)","v":2},{"$f":"SUM(AUT_top:POR_top!Y62)","v":0},{"$f":"SUM(AUT_top:POR_top!Z62)","v":5},{"$f":"SUM(AUT_top:POR_top!AA62)","v":0},{"$f":"SUM(AUT_top:POR_top!AB62)","v":4},{"$f":"SUM(AUT_top:POR_top!AC62)","v":5},{"$f":"SUM(AUT_top:POR_top!AD62)","v":0},{"$f":"SUM(AUT_top:POR_top!AE62)","v":0},{"$f":"SUM(AUT_top:POR_top!AF62)","v":3},{"$f":"SUM(AUT_top:POR_top!AG62)","v":5},{"$f":"SUM(AUT_top:POR_top!AH62)","v":1},{"$f":"SUM(AUT_top:POR_top!AI62)","v":0},{"$f":"SUM(AUT_top:POR_top!AJ62)","v":1},{"$f":"SUM(AUT_top:POR_top!AK62)","v":0},{"$f":"SUM(AUT_top:POR_top!AL62)","v":1},{"$f":"SUM(AUT_top:POR_top!AM62)","v":4},{"$f":"SUM(AUT_top:POR_top!AN62)","v":2},{"$f":"SUM(AUT_top:POR_top!AO62)","v":0},{"$f":"SUM(AUT_top:POR_top!AP62)","v":4},{"$f":"SUM(AUT_top:POR_top!AQ62)","v":1},{"$f":"SUM(AUT_top:POR_top!AR62)","v":0},{"$f":"SUM(AUT_top:POR_top!AS62)","v":2},{"$f":"SUM(AUT_top:POR_top!AT62)","v":0},{"$f":"SUM(AUT_top:POR_top!AU62)","v":0},{"$f":"SUM(AUT_top:POR_top!AV62)","v":0},{"$f":"SUM(AUT_top:POR_top!AW62)","v":1},{"$f":"SUM(AUT_top:POR_top!AX62)","v":1},{"$f":"SUM(AUT_top:POR_top!AY62)","v":2},{"$f":"SUM(AUT_top:POR_top!AZ62)","v":1},{"$f":"SUM(AUT_top:POR_top!BA62)","v":4},{"$f":"SUM(AUT_top:POR_top!BB62)","v":2},81,0.19852941176470587]
[null,"Steam system",{"$f":"Sheet1!O232","v":"Check for leakages"},{"$f":"SUM(AUT_top:POR_top!D63)","v":2},{"$f":"SUM(AUT_top:POR_top!E63)","v":0},{"$f":"SUM(AUT_top:POR_top!F63)","v":1},{"$f":"SUM(AUT_top:POR_top!G63)","v":0},{"$f":"SUM(AUT_top:POR_top!H63)","v":0},{"$f":"SUM(AUT_top:POR_top!I63)","v":1},{"$f":"SUM(AUT_top:POR_top!J63)","v":2},{"$f":"SUM(AUT_top:POR_top!K63)","v":2},{"$f":"SUM(AUT_top:POR_top!L63)","v":2},{"$f":"SUM(AUT_top:POR_top!M63)","v":1},{"$f":"SUM(AUT_top:POR_top!N63)","v":0},{"$f":"SUM(AUT_top:POR_top!O63)","v":2},{"$f":"SUM(AUT_top:POR_top!P63)","v":7},{"$f":"SUM(AUT_top:POR_top!Q63)","v":2},{"$f":"SUM(AUT_top:POR_top!R63)","v":2},{"$f":"SUM(AUT_top:POR_top!S63)","v":3},{"$f":"SUM(AUT_top:POR_top!T63)","v":1},{"$f":"SUM(AUT_top:POR_top!U63)","v":7},{"$f":"SUM(AUT_top:POR_top!V63)","v":1},{"$f":"SUM(AUT_top:POR_top!W63)","v":4},{"$f":"SUM(AUT_top:POR_top!X63)","v":2},{"$f":"SUM(AUT_top:POR_top!Y63)","v":0},{"$f":"SUM(AUT_top:POR_top!Z63)","v":5},{"$f":"SUM(AUT_top:POR_top!AA63)","v":0},{"$f":"SUM(AUT_top:POR_top!AB63)","v":4},{"$f":"SUM(AUT_top:POR_top!AC63)","v":5},{"$f":"SUM(AUT_top:POR_top!AD63)","v":0},{"$f":"SUM(AUT_top:POR_top!AE63)","v":0},{"$f":"SUM(AUT_top:POR_top!AF63)","v":3},{"$f":"SUM(AUT_top:POR_top!AG63)","v":5},{"$f":"SUM(AUT_top:POR_top!AH63)","v":1},{"$f":"SUM(AUT_top:POR_top!AI63)","v":0},{"$f":"SUM(AUT_top:POR_top!AJ63)","v":1},{"$f":"SUM(AUT_top:POR_top!AK63)","v":0},{"$f":"SUM(AUT_top:POR_top!AL63)","v":1},{"$f":"SUM(AUT_top:POR_top!AM63)","v":3},{"$f":"SUM(AUT_top:POR_top!AN63)","v":2},{"$f":"SUM(AUT_top:POR_top!AO63)","v":0},{"$f":"SUM(AUT_top:POR_top!AP63)","v":3},{"$f":"SUM(AUT_top:POR_top!AQ63)","v":2},{"$f":"SUM(AUT_top:POR_top!AR63)","v":0},{"$f":"SUM(AUT_top:POR_top!AS63)","v":3},{"$f":"SUM(AUT_top:POR_top!AT63)","v":0},{"$f":"SUM(AUT_top:POR_top!AU63)","v":0},{"$f":"SUM(AUT_top:POR_top!AV63)","v":0},{"$f":"SUM(AUT_top:POR_top!AW63)","v":1},{"$f":"SUM(AUT_top:POR_top!AX63)","v":1},{"$f":"SUM(AUT_top:POR_top!AY63)","v":2},{"$f":"SUM(AUT_top:POR_top!AZ63)","v":3},{"$f":"SUM(AUT_top:POR_top!BA63)","v":5},{"$f":"SUM(AUT_top:POR_top!BB63)","v":3},95,0.23284313725490197]
[null,"Steam system",{"$f":"Sheet1!O233","v":"Regular maintenance of the boiler"},{"$f":"SUM(AUT_top:POR_top!D64)","v":1},{"$f":"SUM(AUT_top:POR_top!E64)","v":0},{"$f":"SUM(AUT_top:POR_top!F64)","v":0},{"$f":"SUM(AUT_top:POR_top!G64)","v":0},{"$f":"SUM(AUT_top:POR_top!H64)","v":1},{"$f":"SUM(AUT_top:POR_top!I64)","v":0},{"$f":"SUM(AUT_top:POR_top!J64)","v":2},{"$f":"SUM(AUT_top:POR_top!K64)","v":0},{"$f":"SUM(AUT_top:POR_top!L64)","v":1},{"$f":"SUM(AUT_top:POR_top!M64)","v":2},{"$f":"SUM(AUT_top:POR_top!N64)","v":0},{"$f":"SUM(AUT_top:POR_top!O64)","v":1},{"$f":"SUM(AUT_top:POR_top!P64)","v":7},{"$f":"SUM(AUT_top:POR_top!Q64)","v":2},{"$f":"SUM(AUT_top:POR_top!R64)","v":2},{"$f":"SUM(AUT_top:POR_top!S64)","v":1},{"$f":"SUM(AUT_top:POR_top!T64)","v":0},{"$f":"SUM(AUT_top:POR_top!U64)","v":6},{"$f":"SUM(AUT_top:POR_top!V64)","v":1},{"$f":"SUM(AUT_top:POR_top!W64)","v":4},{"$f":"SUM(AUT_top:POR_top!X64)","v":2},{"$f":"SUM(AUT_top:POR_top!Y64)","v":0},{"$f":"SUM(AUT_top:POR_top!Z64)","v":6},{"$f":"SUM(AUT_top:POR_top!AA64)","v":0},{"$f":"SUM(AUT_top:POR_top!AB64)","v":5},{"$f":"SUM(AUT_top:POR_top!AC64)","v":5},{"$f":"SUM(AUT_top:POR_top!AD64)","v":2},{"$f":"SUM(AUT_top:POR_top!AE64)","v":2},{"$f":"SUM(AUT_top:POR_top!AF64)","v":2},{"$f":"SUM(AUT_top:POR_top!AG64)","v":4},{"$f":"SUM(AUT_top:POR_top!AH64)","v":1},{"$f":"SUM(AUT_top:POR_top!AI64)","v":0},{"$f":"SUM(AUT_top:POR_top!AJ64)","v":1},{"$f":"SUM(AUT_top:POR_top!AK64)","v":0},{"$f":"SUM(AUT_top:POR_top!AL64)","v":1},{"$f":"SUM(AUT_top:POR_top!AM64)","v":4},{"$f":"SUM(AUT_top:POR_top!AN64)","v":2},{"$f":"SUM(AUT_top:POR_top!AO64)","v":0},{"$f":"SUM(AUT_top:POR_top!AP64)","v":4},{"$f":"SUM(AUT_top:POR_top!AQ64)","v":3},{"$f":"SUM(AUT_top:POR_top!AR64)","v":2},{"$f":"SUM(AUT_top:POR_top!AS64)","v":3},{"$f":"SUM(AUT_top:POR_top!AT64)","v":1},{"$f":"SUM(AUT_top:POR_top!AU64)","v":0},{"$f":"SUM(AUT_top:POR_top!AV64)","v":0},{"$f":"SUM(AUT_top:POR_top!AW64)","v":1},{"$f":"SUM(AUT_top:POR_top!AX64)","v":2},{"$f":"SUM(AUT_top:POR_top!AY64)","v":3},{"$f":"SUM(AUT_top:POR_top!AZ64)","v":3},{"$f":"SUM(AUT_top:POR_top!BA64)","v":6},{"$f":"SUM(AUT_top:POR_top!BB64)","v":5},101,0.24754901960784315]
[null,"Refrigeration",{"$f":"Sheet1!O235","v":"Optimisation of the required temperatures"},{"$f":"SUM(AUT_top:POR_top!D65)","v":3},{"$f":"SUM(AUT_top:POR_top!E65)","v":0},{"$f":"SUM(AUT_top:POR_top!F65)","v":2},{"$f":"SUM(AUT_top:POR_top!G65)","v":0},{"$f":"SUM(AUT_top:POR_top!H65)","v":1},{"$f":"SUM(AUT_top:POR_top!I65)","v":2},{"$f":"SUM(AUT_top:POR_top!J65)","v":0},{"$f":"SUM(AUT_top:POR_top!K65)","v":0},{"$f":"SUM(AUT_top:POR_top!L65)","v":0},{"$f":"SUM(AUT_top:POR_top!M65)","v":1},{"$f":"SUM(AUT_top:POR_top!N65)","v":0},{"$f":"SUM(AUT_top:POR_top!O65)","v":0},{"$f":"SUM(AUT_top:POR_top!P65)","v":6},{"$f":"SUM(AUT_top:POR_top!Q65)","v":2},{"$f":"SUM(AUT_top:POR_top!R65)","v":1},{"$f":"SUM(AUT_top:POR_top!S65)","v":0},{"$f":"SUM(AUT_top:POR_top!T65)","v":0},{"$f":"SUM(AUT_top:POR_top!U65)","v":6},{"$f":"SUM(AUT_top:POR_top!V65)","v":0},{"$f":"SUM(AUT_top:POR_top!W65)","v":4},{"$f":"SUM(AUT_top:POR_top!X65)","v":1},{"$f":"SUM(AUT_top:POR_top!Y65)","v":0},{"$f":"SUM(AUT_top:POR_top!Z65)","v":5},{"$f":"SUM(AUT_top:POR_top!AA65)","v":1},{"$f":"SUM(AUT_top:POR_top!AB65)","v":3},{"$f":"SUM(AUT_top:POR_top!AC65)","v":5},{"$f":"SUM(AUT_top:POR_top!AD65)","v":0},{"$f":"SUM(AUT_top:POR_top!AE65)","v":0},{"$f":"SUM(AUT_top:POR_top!AF65)","v":3},{"$f":"SUM(AUT_top:POR_top!AG65)","v":6},{"$f":"SUM(AUT_top:POR_top!AH65)","v":1},{"$f":"SUM(AUT_top:POR_top!AI65)","v":0},{"$f":"SUM(AUT_top:POR_top!AJ65)","v":1},{"$f":"SUM(AUT_top:POR_top!AK65)","v":0},{"$f":"SUM(AUT_top:POR_top!AL65)","v":1},{"$f":"SUM(AUT_top:POR_top!AM65)","v":4},{"$f":"SUM(AUT_top:POR_top!AN65)","v":1},{"$f":"SUM(AUT_top:POR_top!AO65)","v":0},{"$f":"SUM(AUT_top:POR_top!AP65)","v":1},{"$f":"SUM(AUT_top:POR_top!AQ65)","v":2},{"$f":"SUM(AUT_top:POR_top!AR65)","v":0},{"$f":"SUM(AUT_top:POR_top!AS65)","v":0},{"$f":"SUM(AUT_top:POR_top!AT65)","v":1},{"$f":"SUM(AUT_top:POR_top!AU65)","v":0},{"$f":"SUM(AUT_top:POR_top!AV65)","v":0},{"$f":"SUM(AUT_top:POR_top!AW65)","v":1},{"$f":"SUM(AUT_top:POR_top!AX65)","v":1},{"$f":"SUM(AUT_top:POR_top!AY65)","v":1},{"$f":"SUM(AUT_top:POR_top!AZ65)","v":2},{"$f":"SUM(AUT_top:POR_top!BA65)","v":4},{"$f":"SUM(AUT_top:POR_top!BB65)","v":0},73,0.17892156862745098]
[null,"Refrigeration",{"$f":"Sheet1!O236","v":"Waste heat recovery "},{"$f":"SUM(AUT_top:POR_top!D66)","v":1},{"$f":"SUM(AUT_top:POR_top!E66)","v":0},{"$f":"SUM(AUT_top:POR_top!F66)","v":1},{"$f":"SUM(AUT_top:POR_top!G66)","v":0},{"$f":"SUM(AUT_top:POR_top!H66)","v":0},{"$f":"SUM(AUT_top:POR_top!I66)","v":1},{"$f":"SUM(AUT_top:POR_top!J66)","v":0},{"$f":"SUM(AUT_top:POR_top!K66)","v":0},{"$f":"SUM(AUT_top:POR_top!L66)","v":0},{"$f":"SUM(AUT_top:POR_top!M66)","v":0},{"$f":"SUM(AUT_top:POR_top!N66)","v":0},{"$f":"SUM(AUT_top:POR_top!O66)","v":0},{"$f":"SUM(AUT_top:POR_top!P66)","v":7},{"$f":"SUM(AUT_top:POR_top!Q66)","v":4},{"$f":"SUM(AUT_top:POR_top!R66)","v":2},{"$f":"SUM(AUT_top:POR_top!S66)","v":0},{"$f":"SUM(AUT_top:POR_top!T66)","v":0},{"$f":"SUM(AUT_top:POR_top!U66)","v":6},{"$f":"SUM(AUT_top:POR_top!V66)","v":0},{"$f":"SUM(AUT_top:POR_top!W66)","v":4},{"$f":"SUM(AUT_top:POR_top!X66)","v":1},{"$f":"SUM(AUT_top:POR_top!Y66)","v":0},{"$f":"SUM(AUT_top:POR_top!Z66)","v":5},{"$f":"SUM(AUT_top:POR_top!AA66)","v":1},{"$f":"SUM(AUT_top:POR_top!AB66)","v":3},{"$f":"SUM(AUT_top:POR_top!AC66)","v":5},{"$f":"SUM(AUT_top:POR_top!AD66)","v":0},{"$f":"SUM(AUT_top:POR_top!AE66)","v":0},{"$f":"SUM(AUT_top:POR_top!AF66)","v":4},{"$f":"SUM(AUT_top:POR_top!AG66)","v":6},{"$f":"SUM(AUT_top:POR_top!AH66)","v":1},{"$f":"SUM(AUT_top:POR_top!AI66)","v":4},{"$f":"SUM(AUT_top:POR_top!AJ66)","v":1},{"$f":"SUM(AUT_top:POR_top!AK66)","v":0},{"$f":"SUM(AUT_top:POR_top!AL66)","v":1},{"$f":"SUM(AUT_top:POR_top!AM66)","v":4},{"$f":"SUM(AUT_top:POR_top!AN66)","v":3},{"$f":"SUM(AUT_top:POR_top!AO66)","v":0},{"$f":"SUM(AUT_top:POR_top!AP66)","v":0},{"$f":"SUM(AUT_top:POR_top!AQ66)","v":0},{"$f":"SUM(AUT_top:POR_top!AR66)","v":0},{"$f":"SUM(AUT_top:POR_top!AS66)","v":0},{"$f":"SUM(AUT_top:POR_top!AT66)","v":0},{"$f":"SUM(AUT_top:POR_top!AU66)","v":0},{"$f":"SUM(AUT_top:POR_top!AV66)","v":0},{"$f":"SUM(AUT_top:POR_top!AW66)","v":2},{"$f":"SUM(AUT_top:POR_top!AX66)","v":1},{"$f":"SUM(AUT_top:POR_top!AY66)","v":0},{"$f":"SUM(AUT_top:POR_top!AZ66)","v":1},{"$f":"SUM(AUT_top:POR_top!BA66)","v":2},{"$f":"SUM(AUT_top:POR_top!BB66)","v":0},71,0.17401960784313725]
[null,"Refrigeration",{"$f":"Sheet1!O237","v":"Install frequency control (i.e. VRF) on chiller compressor."},{"$f":"SUM(AUT_top:POR_top!D67)","v":1},{"$f":"SUM(AUT_top:POR_top!E67)","v":0},{"$f":"SUM(AUT_top:POR_top!F67)","v":1},{"$f":"SUM(AUT_top:POR_top!G67)","v":0},{"$f":"SUM(AUT_top:POR_top!H67)","v":0},{"$f":"SUM(AUT_top:POR_top!I67)","v":1},{"$f":"SUM(AUT_top:POR_top!J67)","v":0},{"$f":"SUM(AUT_top:POR_top!K67)","v":0},{"$f":"SUM(AUT_top:POR_top!L67)","v":0},{"$f":"SUM(AUT_top:POR_top!M67)","v":0},{"$f":"SUM(AUT_top:POR_top!N67)","v":0},{"$f":"SUM(AUT_top:POR_top!O67)","v":1},{"$f":"SUM(AUT_top:POR_top!P67)","v":6},{"$f":"SUM(AUT_top:POR_top!Q67)","v":2},{"$f":"SUM(AUT_top:POR_top!R67)","v":1},{"$f":"SUM(AUT_top:POR_top!S67)","v":0},{"$f":"SUM(AUT_top:POR_top!T67)","v":0},{"$f":"SUM(AUT_top:POR_top!U67)","v":6},{"$f":"SUM(AUT_top:POR_top!V67)","v":1},{"$f":"SUM(AUT_top:POR_top!W67)","v":4},{"$f":"SUM(AUT_top:POR_top!X67)","v":1},{"$f":"SUM(AUT_top:POR_top!Y67)","v":0},{"$f":"SUM(AUT_top:POR_top!Z67)","v":5},{"$f":"SUM(AUT_top:POR_top!AA67)","v":1},{"$f":"SUM(AUT_top:POR_top!AB67)","v":-1},{"$f":"SUM(AUT_top:POR_top!AC67)","v":5},{"$f":"SUM(AUT_top:POR_top!AD67)","v":0},{"$f":"SUM(AUT_top:POR_top!AE67)","v":0},{"$f":"SUM(AUT_top:POR_top!AF67)","v":5},{"$f":"SUM(AUT_top:POR_top!AG67)","v":6},{"$f":"SUM(AUT_top:POR_top!AH67)","v":1},{"$f":"SUM(AUT_top:POR_top!AI67)","v":0},{"$f":"SUM(AUT_top:POR_top!AJ67)","v":2},{"$f":"SUM(AUT_top:POR_top!AK67)","v":0},{"$f":"SUM(AUT_top:POR_top!AL67)","v":1},{"$f":"SUM(AUT_top:POR_top!AM67)","v":4},{"$f":"SUM(AUT_top:POR_top!AN67)","v":2},{"$f":"SUM(AUT_top:POR_top!AO67)","v":0},{"$f":"SUM(AUT_top:POR_top!AP67)","v":0},{"$f":"SUM(AUT_top:POR_top!AQ67)","v":-1},{"$f":"SUM(AUT_top:POR_top!AR67)","v":0},{"$f":"SUM(AUT_top:POR_top!AS67)","v":0},{"$f":"SUM(AUT_top:POR_top!AT67)","v":0},{"$f":"SUM(AUT_top:POR_top!AU67)","v":0},{"$f":"SUM(AUT_top:POR_top!AV67)","v":0},{"$f":"SUM(AUT_top:POR_top!AW67)","v":1},{"$f":"SUM(AUT_top:POR_top!AX67)","v":1},{"$f":"SUM(AUT_top:POR_top!AY67)","v":0},{"$f":"SUM(AUT_top:POR_top!AZ67)","v":1},{"$f":"SUM(AUT_top:POR_top!BA67)","v":2},{"$f":"SUM(AUT_top:POR_top!BB67)","v":0},60,0.14705882352941177]
[null,"Refrigeration",{"$f":"Sheet1!O238","v":"Install high efficiency or 2-rev electromotor on evaporation fan"},{"$f":"SUM(AUT_top:POR_top!D68)","v":1},{"$f":"SUM(AUT_top:POR_top!E68)","v":0},{"$f":"SUM(AUT_top:POR_top!F68)","v":1},{"$f":"SUM(AUT_top:POR_top!G68)","v":0},{"$f":"SUM(AUT_top:POR_top!H68)","v":0},{"$f":"SUM(AUT_top:POR_top!I68)","v":1},{"$f":"SUM(AUT_top:POR_top!J68)","v":0},{"$f":"SUM(AUT_top:POR_top!K68)","v":0},{"$f":"SUM(AUT_top:POR_top!L68)","v":0},{"$f":"SUM(AUT_top:POR_top!M68)","v":0},{"$f":"SUM(AUT_top:POR_top!N68)","v":0},{"$f":"SUM(AUT_top:POR_top!O68)","v":1},{"$f":"SUM(AUT_top:POR_top!P68)","v":7},{"$f":"SUM(AUT_top:POR_top!Q68)","v":2},{"$f":"SUM(AUT_top:POR_top!R68)","v":1},{"$f":"SUM(AUT_top:POR_top!S68)","v":0},{"$f":"SUM(AUT_top:POR_top!T68)","v":0},{"$f":"SUM(AUT_top:POR_top!U68)","v":6},{"$f":"SUM(AUT_top:POR_top!V68)","v":1},{"$f":"SUM(AUT_top:POR_top!W68)","v":4},{"$f":"SUM(AUT_top:POR_top!X68)","v":1},{"$f":"SUM(AUT_top:POR_top!Y68)","v":0},{"$f":"SUM(AUT_top:POR_top!Z68)","v":5},{"$f":"SUM(AUT_top:POR_top!AA68)","v":1},{"$f":"SUM(AUT_top:POR_top!AB68)","v":0},{"$f":"SUM(AUT_top:POR_top!AC68)","v":5},{"$f":"SUM(AUT_top:POR_top!AD68)","v":0},{"$f":"SUM(AUT_top:POR_top!AE68)","v":0},{"$f":"SUM(AUT_top:POR_top!AF68)","v":5},{"$f":"SUM(AUT_top:POR_top!AG68)","v":6},{"$f":"SUM(AUT_top:POR_top!AH68)","v":1},{"$f":"SUM(AUT_top:POR_top!AI68)","v":0},{"$f":"SUM(AUT_top:POR_top!AJ68)","v":2},{"$f":"SUM(AUT_top:POR_top!AK68)","v":0},{"$f":"SUM(AUT_top:POR_top!AL68)","v":1},{"$f":"SUM(AUT_top:POR_top!AM68)","v":4},{"$f":"SUM(AUT_top:POR_top!AN68)","v":2},{"$f":"SUM(AUT_top:POR_top!AO68)","v":0},{"$f":"SUM(AUT_top:POR_top!AP68)","v":0},{"$f":"SUM(AUT_top:POR_top!AQ68)","v":0},{"$f":"SUM(AUT_top:POR_top!AR68)","v":0},{"$f":"SUM(AUT_top:POR_top!AS68)","v":0},{"$f":"SUM(AUT_top:POR_top!AT68)","v":0},{"$f":"SUM(AUT_top:POR_top!AU68)","v":0},{"$f":"SUM(AUT_top:POR_top!AV68)","v":0},{"$f":"SUM(AUT_top:POR_top!AW68)","v":1},{"$f":"SUM(AUT_top:POR_top!AX68)","v":1},{"$f":"SUM(AUT_top:POR_top!AY68)","v":0},{"$f":"SUM(AUT_top:POR_top!AZ68)","v":1},{"$f":"SUM(AUT_top:POR_top!BA68)","v":2},{"$f":"SUM(AUT_top:POR_top!BB68)","v":0},{"$f":"SUM(D68:BB68)","v":63},{"$f":"BC68/(51*8)","v":0.15441176470588236}]
[null,"Refrigeration",{"$f":"Sheet1!O239","v":"Build a cooled front space for refrigeration units."},{"$f":"SUM(AUT_top:POR_top!D69)","v":1},{"$f":"SUM(AUT_top:POR_top!E69)","v":0},{"$f":"SUM(AUT_top:POR_top!F69)","v":1},{"$f":"SUM(AUT_top:POR_top!G69)","v":0},{"$f":"SUM(AUT_top:POR_top!H69)","v":0},{"$f":"SUM(AUT_top:POR_top!I69)","v":1},{"$f":"SUM(AUT_top:POR_top!J69)","v":0},{"$f":"SUM(AUT_top:POR_top!K69)","v":0},{"$f":"SUM(AUT_top:POR_top!L69)","v":0},{"$f":"SUM(AUT_top:POR_top!M69)","v":0},{"$f":"SUM(AUT_top:POR_top!N69)","v":0},{"$f":"SUM(AUT_top:POR_top!O69)","v":0},{"$f":"SUM(AUT_top:POR_top!P69)","v":6},{"$f":"SUM(AUT_top:POR_top!Q69)","v":2},{"$f":"SUM(AUT_top:POR_top!R69)","v":1},{"$f":"SUM(AUT_top:POR_top!S69)","v":0},{"$f":"SUM(AUT_top:POR_top!T69)","v":0},{"$f":"SUM(AUT_top:POR_top!U69)","v":6},{"$f":"SUM(AUT_top:POR_top!V69)","v":0},{"$f":"SUM(AUT_top:POR_top!W69)","v":4},{"$f":"SUM(AUT_top:POR_top!X69)","v":1},{"$f":"SUM(AUT_top:POR_top!Y69)","v":0},{"$f":"SUM(AUT_top:POR_top!Z69)","v":5},{"$f":"SUM(AUT_top:POR_top!AA69)","v":0},{"$f":"SUM(AUT_top:POR_top!AB69)","v":1},{"$f":"SUM(AUT_top:POR_top!AC69)","v":5},{"$f":"SUM(AUT_top:POR_top!AD69)","v":0},{"$f":"SUM(AUT_top:POR_top!AE69)","v":0},{"$f":"SUM(AUT_top:POR_top!AF69)","v":4},{"$f":"SUM(AUT_top:POR_top!AG69)","v":6},{"$f":"SUM(AUT_top:POR_top!AH69)","v":1},{"$f":"SUM(AUT_top:POR_top!AI69)","v":0},{"$f":"SUM(AUT_top:POR_top!AJ69)","v":1},{"$f":"SUM(AUT_top:POR_top!AK69)","v":0},{"$f":"SUM(AUT_top:POR_top!AL69)","v":1},{"$f":"SUM(AUT_top:POR_top!AM69)","v":4},{"$f":"SUM(AUT_top:POR_top!AN69)","v":2},{"$f":"SUM(AUT_top:POR_top!AO69)","v":0},{"$f":"SUM(AUT_top:POR_top!AP69)","v":0},{"$f":"SUM(AUT_top:POR_top!AQ69)","v":0},{"$f":"SUM(AUT_top:POR_top!AR69)","v":0},{"$f":"SUM(AUT_top:POR_top!AS69)","v":0},{"$f":"SUM(AUT_top:POR_top!AT69)","v":0},{"$f":"SUM(AUT_top:POR_top!AU69)","v":0},{"$f":"SUM(AUT_top:POR_top!AV69)","v":0},{"$f":"SUM(AUT_top:POR_top!AW69)","v":1},{"$f":"SUM(AUT_top:POR_top!AX69)","v":1},{"$f":"SUM(AUT_top:POR_top!AY69)","v":0},{"$f":"SUM(AUT_top:POR_top!AZ69)","v":1},{"$f":"SUM(AUT_top:POR_top!BA69)","v":2},{"$f":"SUM(AUT_top:POR_top!BB69)","v":0},58,0.14215686274509803]
[null,"Refrigeration",{"$f":"Sheet1!O240","v":"Use hot refrigerant gas from the compressor for the initial stages of the defrosting cycle."},{"$f":"SUM(AUT_top:POR_top!D70)","v":1},{"$f":"SUM(AUT_top:POR_top!E70)","v":0},{"$f":"SUM(AUT_top:POR_top!F70)","v":1},{"$f":"SUM(AUT_top:POR_top!G70)","v":0},{"$f":"SUM(AUT_top:POR_top!H70)","v":0},{"$f":"SUM(AUT_top:POR_top!I70)","v":1},{"$f":"SUM(AUT_top:POR_top!J70)","v":0},{"$f":"SUM(AUT_top:POR_top!K70)","v":0},{"$f":"SUM(AUT_top:POR_top!L70)","v":0},{"$f":"SUM(AUT_top:POR_top!M70)","v":0},{"$f":"SUM(AUT_top:POR_top!N70)","v":0},{"$f":"SUM(AUT_top:POR_top!O70)","v":0},{"$f":"SUM(AUT_top:POR_top!P70)","v":6},{"$f":"SUM(AUT_top:POR_top!Q70)","v":3},{"$f":"SUM(AUT_top:POR_top!R70)","v":1},{"$f":"SUM(AUT_top:POR_top!S70)","v":0},{"$f":"SUM(AUT_top:POR_top!T70)","v":0},{"$f":"SUM(AUT_top:POR_top!U70)","v":6},{"$f":"SUM(AUT_top:POR_top!V70)","v":0},{"$f":"SUM(AUT_top:POR_top!W70)","v":4},{"$f":"SUM(AUT_top:POR_top!X70)","v":1},{"$f":"SUM(AUT_top:POR_top!Y70)","v":0},{"$f":"SUM(AUT_top:POR_top!Z70)","v":5},{"$f":"SUM(AUT_top:POR_top!AA70)","v":0},{"$f":"SUM(AUT_top:POR_top!AB70)","v":-1},{"$f":"SUM(AUT_top:POR_top!AC70)","v":5},{"$f":"SUM(AUT_top:POR_top!AD70)","v":0},{"$f":"SUM(AUT_top:POR_top!AE70)","v":0},{"$f":"SUM(AUT_top:POR_top!AF70)","v":3},{"$f":"SUM(AUT_top:POR_top!AG70)","v":6},{"$f":"SUM(AUT_top:POR_top!AH70)","v":1},{"$f":"SUM(AUT_top:POR_top!AI70)","v":2},{"$f":"SUM(AUT_top:POR_top!AJ70)","v":1},{"$f":"SUM(AUT_top:POR_top!AK70)","v":0},{"$f":"SUM(AUT_top:POR_top!AL70)","v":1},{"$f":"SUM(AUT_top:POR_top!AM70)","v":4},{"$f":"SUM(AUT_top:POR_top!AN70)","v":3},{"$f":"SUM(AUT_top:POR_top!AO70)","v":0},{"$f":"SUM(AUT_top:POR_top!AP70)","v":0},{"$f":"SUM(AUT_top:POR_top!AQ70)","v":-1},{"$f":"SUM(AUT_top:POR_top!AR70)","v":0},{"$f":"SUM(AUT_top:POR_top!AS70)","v":0},{"$f":"SUM(AUT_top:POR_top!AT70)","v":0},{"$f":"SUM(AUT_top:POR_top!AU70)","v":0},{"$f":"SUM(AUT_top:POR_top!AV70)","v":0},{"$f":"SUM(AUT_top:POR_top!AW70)","v":1},{"$f":"SUM(AUT_top:POR_top!AX70)","v":1},{"$f":"SUM(AUT_top:POR_top!AY70)","v":0},{"$f":"SUM(AUT_top:POR_top!AZ70)","v":1},{"$f":"SUM(AUT_top:POR_top!BA70)","v":1},{"$f":"SUM(AUT_top:POR_top!BB70)","v":0},57,0.13970588235294118]
[null,"Refrigeration",{"$f":"Sheet1!O241","v":"Use excess heat from other production processes for the production of cooling using adsorption/absorption cooling."},{"$f":"SUM(AUT_top:POR_top!D71)","v":1},{"$f":"SUM(AUT_top:POR_top!E71)","v":0},{"$f":"SUM(AUT_top:POR_top!F71)","v":1},{"$f":"SUM(AUT_top:POR_top!G71)","v":0},{"$f":"SUM(AUT_top:POR_top!H71)","v":0},{"$f":"SUM(AUT_top:POR_top!I71)","v":1},{"$f":"SUM(AUT_top:POR_top!J71)","v":0},{"$f":"SUM(AUT_top:POR_top!K71)","v":0},{"$f":"SUM(AUT_top:POR_top!L71)","v":0},{"$f":"SUM(AUT_top:POR_top!M71)","v":0},{"$f":"SUM(AUT_top:POR_top!N71)","v":0},{"$f":"SUM(AUT_top:POR_top!O71)","v":0},{"$f":"SUM(AUT_top:POR_top!P71)","v":6},{"$f":"SUM(AUT_top:POR_top!Q71)","v":4},{"$f":"SUM(AUT_top:POR_top!R71)","v":1},{"$f":"SUM(AUT_top:POR_top!S71)","v":0},{"$f":"SUM(AUT_top:POR_top!T71)","v":0},{"$f":"SUM(AUT_top:POR_top!U71)","v":7},{"$f":"SUM(AUT_top:POR_top!V71)","v":0},{"$f":"SUM(AUT_top:POR_top!W71)","v":4},{"$f":"SUM(AUT_top:POR_top!X71)","v":1},{"$f":"SUM(AUT_top:POR_top!Y71)","v":0},{"$f":"SUM(AUT_top:POR_top!Z71)","v":5},{"$f":"SUM(AUT_top:POR_top!AA71)","v":1},{"$f":"SUM(AUT_top:POR_top!AB71)","v":-1},{"$f":"SUM(AUT_top:POR_top!AC71)","v":5},{"$f":"SUM(AUT_top:POR_top!AD71)","v":0},{"$f":"SUM(AUT_top:POR_top!AE71)","v":0},{"$f":"SUM(AUT_top:POR_top!AF71)","v":4},{"$f":"SUM(AUT_top:POR_top!AG71)","v":6},{"$f":"SUM(AUT_top:POR_top!AH71)","v":1},{"$f":"SUM(AUT_top:POR_top!AI71)","v":1},{"$f":"SUM(AUT_top:POR_top!AJ71)","v":1},{"$f":"SUM(AUT_top:POR_top!AK71)","v":0},{"$f":"SUM(AUT_top:POR_top!AL71)","v":1},{"$f":"SUM(AUT_top:POR_top!AM71)","v":5},{"$f":"SUM(AUT_top:POR_top!AN71)","v":4},{"$f":"SUM(AUT_top:POR_top!AO71)","v":1},{"$f":"SUM(AUT_top:POR_top!AP71)","v":0},{"$f":"SUM(AUT_top:POR_top!AQ71)","v":-1},{"$f":"SUM(AUT_top:POR_top!AR71)","v":0},{"$f":"SUM(AUT_top:POR_top!AS71)","v":0},{"$f":"SUM(AUT_top:POR_top!AT71)","v":0},{"$f":"SUM(AUT_top:POR_top!AU71)","v":0},{"$f":"SUM(AUT_top:POR_top!AV71)","v":0},{"$f":"SUM(AUT_top:POR_top!AW71)","v":1},{"$f":"SUM(AUT_top:POR_top!AX71)","v":1},{"$f":"SUM(AUT_top:POR_top!AY71)","v":0},{"$f":"SUM(AUT_top:POR_top!AZ71)","v":1},{"$f":"SUM(AUT_top:POR_top!BA71)","v":1},{"$f":"SUM(AUT_top:POR_top!BB71)","v":0},63,0.15441176470588236]
[null,"Refrigeration",{"$f":"Sheet1!O242","v":"Utilisation of free cooling"},{"$f":"SUM(AUT_top:POR_top!D72)","v":1},{"$f":"SUM(AUT_top:POR_top!E72)","v":0},{"$f":"SUM(AUT_top:POR_top!F72)","v":1},{"$f":"SUM(AUT_top:POR_top!G72)","v":0},{"$f":"SUM(AUT_top:POR_top!H72)","v":0},{"$f":"SUM(AUT_top:POR_top!I72)","v":1},{"$f":"SUM(AUT_top:POR_top!J72)","v":0},{"$f":"SUM(AUT_top:POR_top!K72)","v":0},{"$f":"SUM(AUT_top:POR_top!L72)","v":0},{"$f":"SUM(AUT_top:POR_top!M72)","v":0},{"$f":"SUM(AUT_top:POR_top!N72)","v":0},{"$f":"SUM(AUT_top:POR_top!O72)","v":1},{"$f":"SUM(AUT_top:POR_top!P72)","v":6},{"$f":"SUM(AUT_top:POR_top!Q72)","v":4},{"$f":"SUM(AUT_top:POR_top!R72)","v":1},{"$f":"SUM(AUT_top:POR_top!S72)","v":0},{"$f":"SUM(AUT_top:POR_top!T72)","v":0},{"$f":"SUM(AUT_top:POR_top!U72)","v":7},{"$f":"SUM(AUT_top:POR_top!V72)","v":1},{"$f":"SUM(AUT_top:POR_top!W72)","v":5},{"$f":"SUM(AUT_top:POR_top!X72)","v":1},{"$f":"SUM(AUT_top:POR_top!Y72)","v":0},{"$f":"SUM(AUT_top:POR_top!Z72)","v":5},{"$f":"SUM(AUT_top:POR_top!AA72)","v":0},{"$f":"SUM(AUT_top:POR_top!AB72)","v":-1},{"$f":"SUM(AUT_top:POR_top!AC72)","v":5},{"$f":"SUM(AUT_top:POR_top!AD72)","v":0},{"$f":"SUM(AUT_top:POR_top!AE72)","v":0},{"$f":"SUM(AUT_top:POR_top!AF72)","v":4},{"$f":"SUM(AUT_top:POR_top!AG72)","v":6},{"$f":"SUM(AUT_top:POR_top!AH72)","v":1},{"$f":"SUM(AUT_top:POR_top!AI72)","v":0},{"$f":"SUM(AUT_top:POR_top!AJ72)","v":1},{"$f":"SUM(AUT_top:POR_top!AK72)","v":0},{"$f":"SUM(AUT_top:POR_top!AL72)","v":1},{"$f":"SUM(AUT_top:POR_top!AM72)","v":5},{"$f":"SUM(AUT_top:POR_top!AN72)","v":4},{"$f":"SUM(AUT_top:POR_top!AO72)","v":1},{"$f":"SUM(AUT_top:POR_top!AP72)","v":0},{"$f":"SUM(AUT_top:POR_top!AQ72)","v":-1},{"$f":"SUM(AUT_top:POR_top!AR72)","v":0},{"$f":"SUM(AUT_top:POR_top!AS72)","v":0},{"$f":"SUM(AUT_top:POR_top!AT72)","v":0},{"$f":"SUM(AUT_top:POR_top!AU72)","v":0},{"$f":"SUM(AUT_top:POR_top!AV72)","v":0},{"$f":"SUM(AUT_top:POR_top!AW72)","v":2},{"$f":"SUM(AUT_top:POR_top!AX72)","v":1},{"$f":"SUM(AUT_top:POR_top!AY72)","v":0},{"$f":"SUM(AUT_top:POR_top!AZ72)","v":1},{"$f":"SUM(AUT_top:POR_top!BA72)","v":2},{"$f":"SUM(AUT_top:POR_top!BB72)","v":0},66,0.16176470588235295]
[null,"Refrigeration",{"$f":"Sheet1!O243","v":"Replacement of the equipment."},{"$f":"SUM(AUT_top:POR_top!D73)","v":3},{"$f":"SUM(AUT_top:POR_top!E73)","v":0},{"$f":"SUM(AUT_top:POR_top!F73)","v":1},{"$f":"SUM(AUT_top:POR_top!G73)","v":0},{"$f":"SUM(AUT_top:POR_top!H73)","v":0},{"$f":"SUM(AUT_top:POR_top!I73)","v":1},{"$f":"SUM(AUT_top:POR_top!J73)","v":0},{"$f":"SUM(AUT_top:POR_top!K73)","v":0},{"$f":"SUM(AUT_top:POR_top!L73)","v":0},{"$f":"SUM(AUT_top:POR_top!M73)","v":0},{"$f":"SUM(AUT_top:POR_top!N73)","v":0},{"$f":"SUM(AUT_top:POR_top!O73)","v":3},{"$f":"SUM(AUT_top:POR_top!P73)","v":7},{"$f":"SUM(AUT_top:POR_top!Q73)","v":2},{"$f":"SUM(AUT_top:POR_top!R73)","v":1},{"$f":"SUM(AUT_top:POR_top!S73)","v":0},{"$f":"SUM(AUT_top:POR_top!T73)","v":0},{"$f":"SUM(AUT_top:POR_top!U73)","v":7},{"$f":"SUM(AUT_top:POR_top!V73)","v":2},{"$f":"SUM(AUT_top:POR_top!W73)","v":4},{"$f":"SUM(AUT_top:POR_top!X73)","v":1},{"$f":"SUM(AUT_top:POR_top!Y73)","v":0},{"$f":"SUM(AUT_top:POR_top!Z73)","v":5},{"$f":"SUM(AUT_top:POR_top!AA73)","v":1},{"$f":"SUM(AUT_top:POR_top!AB73)","v":6},{"$f":"SUM(AUT_top:POR_top!AC73)","v":5},{"$f":"SUM(AUT_top:POR_top!AD73)","v":1},{"$f":"SUM(AUT_top:POR_top!AE73)","v":0},{"$f":"SUM(AUT_top:POR_top!AF73)","v":5},{"$f":"SUM(AUT_top:POR_top!AG73)","v":6},{"$f":"SUM(AUT_top:POR_top!AH73)","v":1},{"$f":"SUM(AUT_top:POR_top!AI73)","v":0},{"$f":"SUM(AUT_top:POR_top!AJ73)","v":2},{"$f":"SUM(AUT_top:POR_top!AK73)","v":0},{"$f":"SUM(AUT_top:POR_top!AL73)","v":1},{"$f":"SUM(AUT_top:POR_top!AM73)","v":4},{"$f":"SUM(AUT_top:POR_top!AN73)","v":2},{"$f":"SUM(AUT_top:POR_top!AO73)","v":0},{"$f":"SUM(AUT_top:POR_top!AP73)","v":3},{"$f":"SUM(AUT_top:POR_top!AQ73)","v":3},{"$f":"SUM(AUT_top:POR_top!AR73)","v":3},{"$f":"SUM(AUT_top:POR_top!AS73)","v":0},{"$f":"SUM(AUT_top:POR_top!AT73)","v":0},{"$f":"SUM(AUT_top:POR_top!AU73)","v":0},{"$f":"SUM(AUT_top:POR_top!AV73)","v":0},{"$f":"SUM(AUT_top:POR_top!AW73)","v":1},{"$f":"SUM(AUT_top:POR_top!AX73)","v":1},{"$f":"SUM(AUT_top:POR_top!AY73)","v":3},{"$f":"SUM(AUT_top:POR_top!AZ73)","v":3},{"$f":"SUM(AUT_top:POR_top!BA73)","v":4},{"$f":"SUM(AUT_top:POR_top!BB73)","v":3},95,0.23284313725490197]
[null,"Water systems",{"$f":"Sheet1!O245","v":"Efficient pumps for the Water treatment system (if any)"},{"$f":"SUM(AUT_top:POR_top!D74)","v":1},{"$f":"SUM(AUT_top:POR_top!E74)","v":0},{"$f":"SUM(AUT_top:POR_top!F74)","v":1},{"$f":"SUM(AUT_top:POR_top!G74)","v":0},{"$f":"SUM(AUT_top:POR_top!H74)","v":0},{"$f":"SUM(AUT_top:POR_top!I74)","v":1},{"$f":"SUM(AUT_top:POR_top!J74)","v":0},{"$f":"SUM(AUT_top:POR_top!K74)","v":0},{"$f":"SUM(AUT_top:POR_top!L74)","v":0},{"$f":"SUM(AUT_top:POR_top!M74)","v":0},{"$f":"SUM(AUT_top:POR_top!N74)","v":0},{"$f":"SUM(AUT_top:POR_top!O74)","v":2},{"$f":"SUM(AUT_top:POR_top!P74)","v":5},{"$f":"SUM(AUT_top:POR_top!Q74)","v":1},{"$f":"SUM(AUT_top:POR_top!R74)","v":3},{"$f":"SUM(AUT_top:POR_top!S74)","v":2},{"$f":"SUM(AUT_top:POR_top!T74)","v":0},{"$f":"SUM(AUT_top:POR_top!U74)","v":4},{"$f":"SUM(AUT_top:POR_top!V74)","v":2},{"$f":"SUM(AUT_top:POR_top!W74)","v":3},{"$f":"SUM(AUT_top:POR_top!X74)","v":1},{"$f":"SUM(AUT_top:POR_top!Y74)","v":0},{"$f":"SUM(AUT_top:POR_top!Z74)","v":5},{"$f":"SUM(AUT_top:POR_top!AA74)","v":0},{"$f":"SUM(AUT_top:POR_top!AB74)","v":2},{"$f":"SUM(AUT_top:POR_top!AC74)","v":4},{"$f":"SUM(AUT_top:POR_top!AD74)","v":0},{"$f":"SUM(AUT_top:POR_top!AE74)","v":0},{"$f":"SUM(AUT_top:POR_top!AF74)","v":5},{"$f":"SUM(AUT_top:POR_top!AG74)","v":5},{"$f":"SUM(AUT_top:POR_top!AH74)","v":2},{"$f":"SUM(AUT_top:POR_top!AI74)","v":1},{"$f":"SUM(AUT_top:POR_top!AJ74)","v":1},{"$f":"SUM(AUT_top:POR_top!AK74)","v":0},{"$f":"SUM(AUT_top:POR_top!AL74)","v":1},{"$f":"SUM(AUT_top:POR_top!AM74)","v":3},{"$f":"SUM(AUT_top:POR_top!AN74)","v":1},{"$f":"SUM(AUT_top:POR_top!AO74)","v":0},{"$f":"SUM(AUT_top:POR_top!AP74)","v":1},{"$f":"SUM(AUT_top:POR_top!AQ74)","v":1},{"$f":"SUM(AUT_top:POR_top!AR74)","v":1},{"$f":"SUM(AUT_top:POR_top!AS74)","v":0},{"$f":"SUM(AUT_top:POR_top!AT74)","v":0},{"$f":"SUM(AUT_top:POR_top!AU74)","v":0},{"$f":"SUM(AUT_top:POR_top!AV74)","v":0},{"$f":"SUM(AUT_top:POR_top!AW74)","v":2},{"$f":"SUM(AUT_top:POR_top!AX74)","v":1},{"$f":"SUM(AUT_top:POR_top!AY74)","v":0},{"$f":"SUM(AUT_top:POR_top!AZ74)","v":2},{"$f":"SUM(AUT_top:POR_top!BA74)","v":1},{"$f":"SUM(AUT_top:POR_top!BB74)","v":0},65,0.15931372549019607]
[null,"Water systems",{"$f":"Sheet1!O246","v":"Advanced process of water recovery "},{"$f":"SUM(AUT_top:POR_top!D75)","v":1},{"$f":"SUM(AUT_top:POR_top!E75)","v":0},{"$f":"SUM(AUT_top:POR_top!F75)","v":2},{"$f":"SUM(AUT_top:POR_top!G75)","v":0},{"$f":"SUM(AUT_top:POR_top!H75)","v":0},{"$f":"SUM(AUT_top:POR_top!I75)","v":1},{"$f":"SUM(AUT_top:POR_top!J75)","v":0},{"$f":"SUM(AUT_top:POR_top!K75)","v":0},{"$f":"SUM(AUT_top:POR_top!L75)","v":1},{"$f":"SUM(AUT_top:POR_top!M75)","v":0},{"$f":"SUM(AUT_top:POR_top!N75)","v":0},{"$f":"SUM(AUT_top:POR_top!O75)","v":0},{"$f":"SUM(AUT_top:POR_top!P75)","v":3},{"$f":"SUM(AUT_top:POR_top!Q75)","v":0},{"$f":"SUM(AUT_top:POR_top!R75)","v":3},{"$f":"SUM(AUT_top:POR_top!S75)","v":5},{"$f":"SUM(AUT_top:POR_top!T75)","v":1},{"$f":"SUM(AUT_top:POR_top!U75)","v":3},{"$f":"SUM(AUT_top:POR_top!V75)","v":0},{"$f":"SUM(AUT_top:POR_top!W75)","v":3},{"$f":"SUM(AUT_top:POR_top!X75)","v":1},{"$f":"SUM(AUT_top:POR_top!Y75)","v":2},{"$f":"SUM(AUT_top:POR_top!Z75)","v":4},{"$f":"SUM(AUT_top:POR_top!AA75)","v":1},{"$f":"SUM(AUT_top:POR_top!AB75)","v":-1},{"$f":"SUM(AUT_top:POR_top!AC75)","v":4},{"$f":"SUM(AUT_top:POR_top!AD75)","v":0},{"$f":"SUM(AUT_top:POR_top!AE75)","v":0},{"$f":"SUM(AUT_top:POR_top!AF75)","v":3},{"$f":"SUM(AUT_top:POR_top!AG75)","v":4},{"$f":"SUM(AUT_top:POR_top!AH75)","v":2},{"$f":"SUM(AUT_top:POR_top!AI75)","v":3},{"$f":"SUM(AUT_top:POR_top!AJ75)","v":1},{"$f":"SUM(AUT_top:POR_top!AK75)","v":0},{"$f":"SUM(AUT_top:POR_top!AL75)","v":0},{"$f":"SUM(AUT_top:POR_top!AM75)","v":2},{"$f":"SUM(AUT_top:POR_top!AN75)","v":0},{"$f":"SUM(AUT_top:POR_top!AO75)","v":0},{"$f":"SUM(AUT_top:POR_top!AP75)","v":1},{"$f":"SUM(AUT_top:POR_top!AQ75)","v":0},{"$f":"SUM(AUT_top:POR_top!AR75)","v":0},{"$f":"SUM(AUT_top:POR_top!AS75)","v":1},{"$f":"SUM(AUT_top:POR_top!AT75)","v":0},{"$f":"SUM(AUT_top:POR_top!AU75)","v":0},{"$f":"SUM(AUT_top:POR_top!AV75)","v":0},{"$f":"SUM(AUT_top:POR_top!AW75)","v":3},{"$f":"SUM(AUT_top:POR_top!AX75)","v":1},{"$f":"SUM(AUT_top:POR_top!AY75)","v":0},{"$f":"SUM(AUT_top:POR_top!AZ75)","v":2},{"$f":"SUM(AUT_top:POR_top!BA75)","v":1},{"$f":"SUM(AUT_top:POR_top!BB75)","v":0},58,0.14215686274509803]
[null,"Production line",{"$f":"Sheet1!O248","v":"Optimisation of the production process and workflow"},{"$f":"SUM(AUT_top:POR_top!D76)","v":5},{"$f":"SUM(AUT_top:POR_top!E76)","v":0},{"$f":"SUM(AUT_top:POR_top!F76)","v":2},{"$f":"SUM(AUT_top:POR_top!G76)","v":1},{"$f":"SUM(AUT_top:POR_top!H76)","v":4},{"$f":"SUM(AUT_top:POR_top!I76)","v":4},{"$f":"SUM(AUT_top:POR_top!J76)","v":1},{"$f":"SUM(AUT_top:POR_top!K76)","v":1},{"$f":"SUM(AUT_top:POR_top!L76)","v":5},{"$f":"SUM(AUT_top:POR_top!M76)","v":3},{"$f":"SUM(AUT_top:POR_top!N76)","v":2},{"$f":"SUM(AUT_top:POR_top!O76)","v":3},{"$f":"SUM(AUT_top:POR_top!P76)","v":7},{"$f":"SUM(AUT_top:POR_top!Q76)","v":2},{"$f":"SUM(AUT_top:POR_top!R76)","v":2},{"$f":"SUM(AUT_top:POR_top!S76)","v":3},{"$f":"SUM(AUT_top:POR_top!T76)","v":4},{"$f":"SUM(AUT_top:POR_top!U76)","v":5},{"$f":"SUM(AUT_top:POR_top!V76)","v":1},{"$f":"SUM(AUT_top:POR_top!W76)","v":5},{"$f":"SUM(AUT_top:POR_top!X76)","v":2},{"$f":"SUM(AUT_top:POR_top!Y76)","v":3},{"$f":"SUM(AUT_top:POR_top!Z76)","v":8},{"$f":"SUM(AUT_top:POR_top!AA76)","v":2},{"$f":"SUM(AUT_top:POR_top!AB76)","v":4},{"$f":"SUM(AUT_top:POR_top!AC76)","v":7},{"$f":"SUM(AUT_top:POR_top!AD76)","v":6},{"$f":"SUM(AUT_top:POR_top!AE76)","v":6},{"$f":"SUM(AUT_top:POR_top!AF76)","v":2},{"$f":"SUM(AUT_top:POR_top!AG76)","v":6},{"$f":"SUM(AUT_top:POR_top!AH76)","v":3},{"$f":"SUM(AUT_top:POR_top!AI76)","v":2},{"$f":"SUM(AUT_top:POR_top!AJ76)","v":2},{"$f":"SUM(AUT_top:POR_top!AK76)","v":0},{"$f":"SUM(AUT_top:POR_top!AL76)","v":2},{"$f":"SUM(AUT_top:POR_top!AM76)","v":4},{"$f":"SUM(AUT_top:POR_top!AN76)","v":2},{"$f":"SUM(AUT_top:POR_top!AO76)","v":0},{"$f":"SUM(AUT_top:POR_top!AP76)","v":1},{"$f":"SUM(AUT_top:POR_top!AQ76)","v":2},{"$f":"SUM(AUT_top:POR_top!AR76)","v":1},{"$f":"SUM(AUT_top:POR_top!AS76)","v":2},{"$f":"SUM(AUT_top:POR_top!AT76)","v":3},{"$f":"SUM(AUT_top:POR_top!AU76)","v":5},{"$f":"SUM(AUT_top:POR_top!AV76)","v":6},{"$f":"SUM(AUT_top:POR_top!AW76)","v":3},{"$f":"SUM(AUT_top:POR_top!AX76)","v":1},{"$f":"SUM(AUT_top:POR_top!AY76)","v":3},{"$f":"SUM(AUT_top:POR_top!AZ76)","v":8},{"$f":"SUM(AUT_top:POR_top!BA76)","v":1},{"$f":"SUM(AUT_top:POR_top!BB76)","v":2},159,0.38970588235294118]
[null,"Production line",{"$f":"Sheet1!O249","v":"Waste reduction & recycling in the production line "},{"$f":"SUM(AUT_top:POR_top!D77)","v":2},{"$f":"SUM(AUT_top:POR_top!E77)","v":0},{"$f":"SUM(AUT_top:POR_top!F77)","v":1},{"$f":"SUM(AUT_top:POR_top!G77)","v":1},{"$f":"SUM(AUT_top:POR_top!H77)","v":1},{"$f":"SUM(AUT_top:POR_top!I77)","v":3},{"$f":"SUM(AUT_top:POR_top!J77)","v":1},{"$f":"SUM(AUT_top:POR_top!K77)","v":1},{"$f":"SUM(AUT_top:POR_top!L77)","v":1},{"$f":"SUM(AUT_top:POR_top!M77)","v":1},{"$f":"SUM(AUT_top:POR_top!N77)","v":1},{"$f":"SUM(AUT_top:POR_top!O77)","v":1},{"$f":"SUM(AUT_top:POR_top!P77)","v":8},{"$f":"SUM(AUT_top:POR_top!Q77)","v":2},{"$f":"SUM(AUT_top:POR_top!R77)","v":2},{"$f":"SUM(AUT_top:POR_top!S77)","v":4},{"$f":"SUM(AUT_top:POR_top!T77)","v":7},{"$f":"SUM(AUT_top:POR_top!U77)","v":6},{"$f":"SUM(AUT_top:POR_top!V77)","v":1},{"$f":"SUM(AUT_top:POR_top!W77)","v":5},{"$f":"SUM(AUT_top:POR_top!X77)","v":3},{"$f":"SUM(AUT_top:POR_top!Y77)","v":6},{"$f":"SUM(AUT_top:POR_top!Z77)","v":7},{"$f":"SUM(AUT_top:POR_top!AA77)","v":2},{"$f":"SUM(AUT_top:POR_top!AB77)","v":2},{"$f":"SUM(AUT_top:POR_top!AC77)","v":8},{"$f":"SUM(AUT_top:POR_top!AD77)","v":1},{"$f":"SUM(AUT_top:POR_top!AE77)","v":1},{"$f":"SUM(AUT_top:POR_top!AF77)","v":3},{"$f":"SUM(AUT_top:POR_top!AG77)","v":7},{"$f":"SUM(AUT_top:POR_top!AH77)","v":3},{"$f":"SUM(AUT_top:POR_top!AI77)","v":6},{"$f":"SUM(AUT_top:POR_top!AJ77)","v":2},{"$f":"SUM(AUT_top:POR_top!AK77)","v":1},{"$f":"SUM(AUT_top:POR_top!AL77)","v":2},{"$f":"SUM(AUT_top:POR_top!AM77)","v":3},{"$f":"SUM(AUT_top:POR_top!AN77)","v":1},{"$f":"SUM(AUT_top:POR_top!AO77)","v":0},{"$f":"SUM(AUT_top:POR_top!AP77)","v":0},{"$f":"SUM(AUT_top:POR_top!AQ77)","v":0},{"$f":"SUM(AUT_top:POR_top!AR77)","v":0},{"$f":"SUM(AUT_top:POR_top!AS77)","v":0},{"$f":"SUM(AUT_top:POR_top!AT77)","v":1},{"$f":"SUM(AUT_top:POR_top!AU77)","v":2},{"$f":"SUM(AUT_top:POR_top!AV77)","v":1},{"$f":"SUM(AUT_top:POR_top!AW77)","v":5},{"$f":"SUM(AUT_top:POR_top!AX77)","v":2},{"$f":"SUM(AUT_top:POR_top!AY77)","v":1},{"$f":"SUM(AUT_top:POR_top!AZ77)","v":3},{"$f":"SUM(AUT_top:POR_top!BA77)","v":0},{"$f":"SUM(AUT_top:POR_top!BB77)","v":0},122,0.29901960784313725]
[null,"Production line",{"$f":"Sheet1!O250","v":"Optimization of motor driven systems "},{"$f":"SUM(AUT_top:POR_top!D78)","v":1},{"$f":"SUM(AUT_top:POR_top!E78)","v":0},{"$f":"SUM(AUT_top:POR_top!F78)","v":1},{"$f":"SUM(AUT_top:POR_top!G78)","v":0},{"$f":"SUM(AUT_top:POR_top!H78)","v":0},{"$f":"SUM(AUT_top:POR_top!I78)","v":2},{"$f":"SUM(AUT_top:POR_top!J78)","v":1},{"$f":"SUM(AUT_top:POR_top!K78)","v":1},{"$f":"SUM(AUT_top:POR_top!L78)","v":1},{"$f":"SUM(AUT_top:POR_top!M78)","v":1},{"$f":"SUM(AUT_top:POR_top!N78)","v":1},{"$f":"SUM(AUT_top:POR_top!O78)","v":3},{"$f":"SUM(AUT_top:POR_top!P78)","v":7},{"$f":"SUM(AUT_top:POR_top!Q78)","v":2},{"$f":"SUM(AUT_top:POR_top!R78)","v":1},{"$f":"SUM(AUT_top:POR_top!S78)","v":0},{"$f":"SUM(AUT_top:POR_top!T78)","v":0},{"$f":"SUM(AUT_top:POR_top!U78)","v":6},{"$f":"SUM(AUT_top:POR_top!V78)","v":2},{"$f":"SUM(AUT_top:POR_top!W78)","v":4},{"$f":"SUM(AUT_top:POR_top!X78)","v":1},{"$f":"SUM(AUT_top:POR_top!Y78)","v":0},{"$f":"SUM(AUT_top:POR_top!Z78)","v":7},{"$f":"SUM(AUT_top:POR_top!AA78)","v":1},{"$f":"SUM(AUT_top:POR_top!AB78)","v":4},{"$f":"SUM(AUT_top:POR_top!AC78)","v":5},{"$f":"SUM(AUT_top:POR_top!AD78)","v":3},{"$f":"SUM(AUT_top:POR_top!AE78)","v":3},{"$f":"SUM(AUT_top:POR_top!AF78)","v":4},{"$f":"SUM(AUT_top:POR_top!AG78)","v":7},{"$f":"SUM(AUT_top:POR_top!AH78)","v":2},{"$f":"SUM(AUT_top:POR_top!AI78)","v":1},{"$f":"SUM(AUT_top:POR_top!AJ78)","v":2},{"$f":"SUM(AUT_top:POR_top!AK78)","v":1},{"$f":"SUM(AUT_top:POR_top!AL78)","v":2},{"$f":"SUM(AUT_top:POR_top!AM78)","v":5},{"$f":"SUM(AUT_top:POR_top!AN78)","v":2},{"$f":"SUM(AUT_top:POR_top!AO78)","v":0},{"$f":"SUM(AUT_top:POR_top!AP78)","v":2},{"$f":"SUM(AUT_top:POR_top!AQ78)","v":2},{"$f":"SUM(AUT_top:POR_top!AR78)","v":2},{"$f":"SUM(AUT_top:POR_top!AS78)","v":1},{"$f":"SUM(AUT_top:POR_top!AT78)","v":2},{"$f":"SUM(AUT_top:POR_top!AU78)","v":1},{"$f":"SUM(AUT_top:POR_top!AV78)","v":3},{"$f":"SUM(AUT_top:POR_top!AW78)","v":2},{"$f":"SUM(AUT_top:POR_top!AX78)","v":2},{"$f":"SUM(AUT_top:POR_top!AY78)","v":1},{"$f":"SUM(AUT_top:POR_top!AZ78)","v":4},{"$f":"SUM(AUT_top:POR_top!BA78)","v":4},{"$f":"SUM(AUT_top:POR_top!BB78)","v":3},113,0.27696078431372551]
[null,"Production line",{"$f":"Sheet1!O251","v":"High efficient transmission system"},{"$f":"SUM(AUT_top:POR_top!D79)","v":1},{"$f":"SUM(AUT_top:POR_top!E79)","v":0},{"$f":"SUM(AUT_top:POR_top!F79)","v":1},{"$f":"SUM(AUT_top:POR_top!G79)","v":0},{"$f":"SUM(AUT_top:POR_top!H79)","v":0},{"$f":"SUM(AUT_top:POR_top!I79)","v":2},{"$f":"SUM(AUT_top:POR_top!J79)","v":1},{"$f":"SUM(AUT_top:POR_top!K79)","v":1},{"$f":"SUM(AUT_top:POR_top!L79)","v":1},{"$f":"SUM(AUT_top:POR_top!M79)","v":1},{"$f":"SUM(AUT_top:POR_top!N79)","v":1},{"$f":"SUM(AUT_top:POR_top!O79)","v":2},{"$f":"SUM(AUT_top:POR_top!P79)","v":6},{"$f":"SUM(AUT_top:POR_top!Q79)","v":2},{"$f":"SUM(AUT_top:POR_top!R79)","v":1},{"$f":"SUM(AUT_top:POR_top!S79)","v":0},{"$f":"SUM(AUT_top:POR_top!T79)","v":0},{"$f":"SUM(AUT_top:POR_top!U79)","v":5},{"$f":"SUM(AUT_top:POR_top!V79)","v":0},{"$f":"SUM(AUT_top:POR_top!W79)","v":4},{"$f":"SUM(AUT_top:POR_top!X79)","v":1},{"$f":"SUM(AUT_top:POR_top!Y79)","v":0},{"$f":"SUM(AUT_top:POR_top!Z79)","v":7},{"$f":"SUM(AUT_top:POR_top!AA79)","v":0},{"$f":"SUM(AUT_top:POR_top!AB79)","v":2},{"$f":"SUM(AUT_top:POR_top!AC79)","v":5},{"$f":"SUM(AUT_top:POR_top!AD79)","v":3},{"$f":"SUM(AUT_top:POR_top!AE79)","v":3},{"$f":"SUM(AUT_top:POR_top!AF79)","v":4},{"$f":"SUM(AUT_top:POR_top!AG79)","v":7},{"$f":"SUM(AUT_top:POR_top!AH79)","v":3},{"$f":"SUM(AUT_top:POR_top!AI79)","v":1},{"$f":"SUM(AUT_top:POR_top!AJ79)","v":3},{"$f":"SUM(AUT_top:POR_top!AK79)","v":1},{"$f":"SUM(AUT_top:POR_top!AL79)","v":2},{"$f":"SUM(AUT_top:POR_top!AM79)","v":4},{"$f":"SUM(AUT_top:POR_top!AN79)","v":2},{"$f":"SUM(AUT_top:POR_top!AO79)","v":0},{"$f":"SUM(AUT_top:POR_top!AP79)","v":1},{"$f":"SUM(AUT_top:POR_top!AQ79)","v":0},{"$f":"SUM(AUT_top:POR_top!AR79)","v":0},{"$f":"SUM(AUT_top:POR_top!AS79)","v":0},{"$f":"SUM(AUT_top:POR_top!AT79)","v":0},{"$f":"SUM(AUT_top:POR_top!AU79)","v":1},{"$f":"SUM(AUT_top:POR_top!AV79)","v":2},{"$f":"SUM(AUT_top:POR_top!AW79)","v":2},{"$f":"SUM(AUT_top:POR_top!AX79)","v":1},{"$f":"SUM(AUT_top:POR_top!AY79)","v":1},{"$f":"SUM(AUT_top:POR_top!AZ79)","v":5},{"$f":"SUM(AUT_top:POR_top!BA79)","v":2},{"$f":"SUM(AUT_top:POR_top!BB79)","v":1},93,0.22794117647058823]
[null,"Production line",{"$f":"Sheet1!O252","v":"Reduction of the mAnnual labor"},{"$f":"SUM(AUT_top:POR_top!D80)","v":5},{"$f":"SUM(AUT_top:POR_top!E80)","v":0},{"$f":"SUM(AUT_top:POR_top!F80)","v":2},{"$f":"SUM(AUT_top:POR_top!G80)","v":0},{"$f":"SUM(AUT_top:POR_top!H80)","v":3},{"$f":"SUM(AUT_top:POR_top!I80)","v":4},{"$f":"SUM(AUT_top:POR_top!J80)","v":2},{"$f":"SUM(AUT_top:POR_top!K80)","v":3},{"$f":"SUM(AUT_top:POR_top!L80)","v":6},{"$f":"SUM(AUT_top:POR_top!M80)","v":1},{"$f":"SUM(AUT_top:POR_top!N80)","v":1},{"$f":"SUM(AUT_top:POR_top!O80)","v":0},{"$f":"SUM(AUT_top:POR_top!P80)","v":2},{"$f":"SUM(AUT_top:POR_top!Q80)","v":0},{"$f":"SUM(AUT_top:POR_top!R80)","v":0},{"$f":"SUM(AUT_top:POR_top!S80)","v":0},{"$f":"SUM(AUT_top:POR_top!T80)","v":2},{"$f":"SUM(AUT_top:POR_top!U80)","v":2},{"$f":"SUM(AUT_top:POR_top!V80)","v":-1},{"$f":"SUM(AUT_top:POR_top!W80)","v":3},{"$f":"SUM(AUT_top:POR_top!X80)","v":1},{"$f":"SUM(AUT_top:POR_top!Y80)","v":0},{"$f":"SUM(AUT_top:POR_top!Z80)","v":5},{"$f":"SUM(AUT_top:POR_top!AA80)","v":1},{"$f":"SUM(AUT_top:POR_top!AB80)","v":1},{"$f":"SUM(AUT_top:POR_top!AC80)","v":4},{"$f":"SUM(AUT_top:POR_top!AD80)","v":4},{"$f":"SUM(AUT_top:POR_top!AE80)","v":4},{"$f":"SUM(AUT_top:POR_top!AF80)","v":2},{"$f":"SUM(AUT_top:POR_top!AG80)","v":6},{"$f":"SUM(AUT_top:POR_top!AH80)","v":3},{"$f":"SUM(AUT_top:POR_top!AI80)","v":1},{"$f":"SUM(AUT_top:POR_top!AJ80)","v":2},{"$f":"SUM(AUT_top:POR_top!AK80)","v":-1},{"$f":"SUM(AUT_top:POR_top!AL80)","v":1},{"$f":"SUM(AUT_top:POR_top!AM80)","v":1},{"$f":"SUM(AUT_top:POR_top!AN80)","v":1},{"$f":"SUM(AUT_top:POR_top!AO80)","v":0},{"$f":"SUM(AUT_top:POR_top!AP80)","v":2},{"$f":"SUM(AUT_top:POR_top!AQ80)","v":0},{"$f":"SUM(AUT_top:POR_top!AR80)","v":0},{"$f":"SUM(AUT_top:POR_top!AS80)","v":1},{"$f":"SUM(AUT_top:POR_top!AT80)","v":0},{"$f":"SUM(AUT_top:POR_top!AU80)","v":2},{"$f":"SUM(AUT_top:POR_top!AV80)","v":5},{"$f":"SUM(AUT_top:POR_top!AW80)","v":1},{"$f":"SUM(AUT_top:POR_top!AX80)","v":1},{"$f":"SUM(AUT_top:POR_top!AY80)","v":5},{"$f":"SUM(AUT_top:POR_top!AZ80)","v":7},{"$f":"SUM(AUT_top:POR_top!BA80)","v":1},{"$f":"SUM(AUT_top:POR_top!BB80)","v":1},97,0.23774509803921567]
[null,"Production line",{"$f":"Sheet1!O253","v":"Regular maintenance of the equipment"},{"$f":"SUM(AUT_top:POR_top!D81)","v":3},{"$f":"SUM(AUT_top:POR_top!E81)","v":0},{"$f":"SUM(AUT_top:POR_top!F81)","v":1},{"$f":"SUM(AUT_top:POR_top!G81)","v":0},{"$f":"SUM(AUT_top:POR_top!H81)","v":2},{"$f":"SUM(AUT_top:POR_top!I81)","v":3},{"$f":"SUM(AUT_top:POR_top!J81)","v":2},{"$f":"SUM(AUT_top:POR_top!K81)","v":3},{"$f":"SUM(AUT_top:POR_top!L81)","v":4},{"$f":"SUM(AUT_top:POR_top!M81)","v":1},{"$f":"SUM(AUT_top:POR_top!N81)","v":1},{"$f":"SUM(AUT_top:POR_top!O81)","v":4},{"$f":"SUM(AUT_top:POR_top!P81)","v":7},{"$f":"SUM(AUT_top:POR_top!Q81)","v":2},{"$f":"SUM(AUT_top:POR_top!R81)","v":1},{"$f":"SUM(AUT_top:POR_top!S81)","v":0},{"$f":"SUM(AUT_top:POR_top!T81)","v":3},{"$f":"SUM(AUT_top:POR_top!U81)","v":7},{"$f":"SUM(AUT_top:POR_top!V81)","v":3},{"$f":"SUM(AUT_top:POR_top!W81)","v":5},{"$f":"SUM(AUT_top:POR_top!X81)","v":1},{"$f":"SUM(AUT_top:POR_top!Y81)","v":1},{"$f":"SUM(AUT_top:POR_top!Z81)","v":8},{"$f":"SUM(AUT_top:POR_top!AA81)","v":0},{"$f":"SUM(AUT_top:POR_top!AB81)","v":5},{"$f":"SUM(AUT_top:POR_top!AC81)","v":5},{"$f":"SUM(AUT_top:POR_top!AD81)","v":3},{"$f":"SUM(AUT_top:POR_top!AE81)","v":3},{"$f":"SUM(AUT_top:POR_top!AF81)","v":3},{"$f":"SUM(AUT_top:POR_top!AG81)","v":6},{"$f":"SUM(AUT_top:POR_top!AH81)","v":2},{"$f":"SUM(AUT_top:POR_top!AI81)","v":1},{"$f":"SUM(AUT_top:POR_top!AJ81)","v":2},{"$f":"SUM(AUT_top:POR_top!AK81)","v":2},{"$f":"SUM(AUT_top:POR_top!AL81)","v":2},{"$f":"SUM(AUT_top:POR_top!AM81)","v":5},{"$f":"SUM(AUT_top:POR_top!AN81)","v":2},{"$f":"SUM(AUT_top:POR_top!AO81)","v":1},{"$f":"SUM(AUT_top:POR_top!AP81)","v":5},{"$f":"SUM(AUT_top:POR_top!AQ81)","v":3},{"$f":"SUM(AUT_top:POR_top!AR81)","v":3},{"$f":"SUM(AUT_top:POR_top!AS81)","v":3},{"$f":"SUM(AUT_top:POR_top!AT81)","v":2},{"$f":"SUM(AUT_top:POR_top!AU81)","v":4},{"$f":"SUM(AUT_top:POR_top!AV81)","v":7},{"$f":"SUM(AUT_top:POR_top!AW81)","v":2},{"$f":"SUM(AUT_top:POR_top!AX81)","v":3},{"$f":"SUM(AUT_top:POR_top!AY81)","v":7},{"$f":"SUM(AUT_top:POR_top!AZ81)","v":5},{"$f":"SUM(AUT_top:POR_top!BA81)","v":7},{"$f":"SUM(AUT_top:POR_top!BB81)","v":5},160,0.39215686274509803]
[null,"Production line",{"$f":"Sheet1!O254","v":"Replacement of the equipment"},{"$f":"SUM(AUT_top:POR_top!D82)","v":3},{"$f":"SUM(AUT_top:POR_top!E82)","v":0},{"$f":"SUM(AUT_top:POR_top!F82)","v":1},{"$f":"SUM(AUT_top:POR_top!G82)","v":0},{"$f":"SUM(AUT_top:POR_top!H82)","v":3},{"$f":"SUM(AUT_top:POR_top!I82)","v":3},{"$f":"SUM(AUT_top:POR_top!J82)","v":1},{"$f":"SUM(AUT_top:POR_top!K82)","v":1},{"$f":"SUM(AUT_top:POR_top!L82)","v":1},{"$f":"SUM(AUT_top:POR_top!M82)","v":2},{"$f":"SUM(AUT_top:POR_top!N82)","v":1},{"$f":"SUM(AUT_top:POR_top!O82)","v":4},{"$f":"SUM(AUT_top:POR_top!P82)","v":6},{"$f":"SUM(AUT_top:POR_top!Q82)","v":1},{"$f":"SUM(AUT_top:POR_top!R82)","v":2},{"$f":"SUM(AUT_top:POR_top!S82)","v":0},{"$f":"SUM(AUT_top:POR_top!T82)","v":2},{"$f":"SUM(AUT_top:POR_top!U82)","v":6},{"$f":"SUM(AUT_top:POR_top!V82)","v":3},{"$f":"SUM(AUT_top:POR_top!W82)","v":4},{"$f":"SUM(AUT_top:POR_top!X82)","v":1},{"$f":"SUM(AUT_top:POR_top!Y82)","v":-1},{"$f":"SUM(AUT_top:POR_top!Z82)","v":6},{"$f":"SUM(AUT_top:POR_top!AA82)","v":1},{"$f":"SUM(AUT_top:POR_top!AB82)","v":5},{"$f":"SUM(AUT_top:POR_top!AC82)","v":5},{"$f":"SUM(AUT_top:POR_top!AD82)","v":4},{"$f":"SUM(AUT_top:POR_top!AE82)","v":4},{"$f":"SUM(AUT_top:POR_top!AF82)","v":6},{"$f":"SUM(AUT_top:POR_top!AG82)","v":6},{"$f":"SUM(AUT_top:POR_top!AH82)","v":2},{"$f":"SUM(AUT_top:POR_top!AI82)","v":1},{"$f":"SUM(AUT_top:POR_top!AJ82)","v":2},{"$f":"SUM(AUT_top:POR_top!AK82)","v":1},{"$f":"SUM(AUT_top:POR_top!AL82)","v":2},{"$f":"SUM(AUT_top:POR_top!AM82)","v":3},{"$f":"SUM(AUT_top:POR_top!AN82)","v":1},{"$f":"SUM(AUT_top:POR_top!AO82)","v":0},{"$f":"SUM(AUT_top:POR_top!AP82)","v":3},{"$f":"SUM(AUT_top:POR_top!AQ82)","v":3},{"$f":"SUM(AUT_top:POR_top!AR82)","v":1},{"$f":"SUM(AUT_top:POR_top!AS82)","v":2},{"$f":"SUM(AUT_top:POR_top!AT82)","v":0},{"$f":"SUM(AUT_top:POR_top!AU82)","v":3},{"$f":"SUM(AUT_top:POR_top!AV82)","v":5},{"$f":"SUM(AUT_top:POR_top!AW82)","v":2},{"$f":"SUM(AUT_top:POR_top!AX82)","v":2},{"$f":"SUM(AUT_top:POR_top!AY82)","v":7},{"$f":"SUM(AUT_top:POR_top!AZ82)","v":5},{"$f":"SUM(AUT_top:POR_top!BA82)","v":3},{"$f":"SUM(AUT_top:POR_top!BB82)","v":4},133,0.32598039215686275]
[null,"Production line",{"$f":"Sheet1!O255","v":"Waste heat recovery "},{"$f":"SUM(AUT_top:POR_top!D83)","v":1},{"$f":"SUM(AUT_top:POR_top!E83)","v":0},{"$f":"SUM(AUT_top:POR_top!F83)","v":2},{"$f":"SUM(AUT_top:POR_top!G83)","v":0},{"$f":"SUM(AUT_top:POR_top!H83)","v":0},{"$f":"SUM(AUT_top:POR_top!I83)","v":1},{"$f":"SUM(AUT_top:POR_top!J83)","v":0},{"$f":"SUM(AUT_top:POR_top!K83)","v":0},{"$f":"SUM(AUT_top:POR_top!L83)","v":0},{"$f":"SUM(AUT_top:POR_top!M83)","v":1},{"$f":"SUM(AUT_top:POR_top!N83)","v":0},{"$f":"SUM(AUT_top:POR_top!O83)","v":0},{"$f":"SUM(AUT_top:POR_top!P83)","v":7},{"$f":"SUM(AUT_top:POR_top!Q83)","v":5},{"$f":"SUM(AUT_top:POR_top!R83)","v":3},{"$f":"SUM(AUT_top:POR_top!S83)","v":0},{"$f":"SUM(AUT_top:POR_top!T83)","v":1},{"$f":"SUM(AUT_top:POR_top!U83)","v":6},{"$f":"SUM(AUT_top:POR_top!V83)","v":1},{"$f":"SUM(AUT_top:POR_top!W83)","v":4},{"$f":"SUM(AUT_top:POR_top!X83)","v":1},{"$f":"SUM(AUT_top:POR_top!Y83)","v":2},{"$f":"SUM(AUT_top:POR_top!Z83)","v":7},{"$f":"SUM(AUT_top:POR_top!AA83)","v":0},{"$f":"SUM(AUT_top:POR_top!AB83)","v":0},{"$f":"SUM(AUT_top:POR_top!AC83)","v":6},{"$f":"SUM(AUT_top:POR_top!AD83)","v":1},{"$f":"SUM(AUT_top:POR_top!AE83)","v":2},{"$f":"SUM(AUT_top:POR_top!AF83)","v":4},{"$f":"SUM(AUT_top:POR_top!AG83)","v":7},{"$f":"SUM(AUT_top:POR_top!AH83)","v":2},{"$f":"SUM(AUT_top:POR_top!AI83)","v":5},{"$f":"SUM(AUT_top:POR_top!AJ83)","v":2},{"$f":"SUM(AUT_top:POR_top!AK83)","v":1},{"$f":"SUM(AUT_top:POR_top!AL83)","v":2},{"$f":"SUM(AUT_top:POR_top!AM83)","v":4},{"$f":"SUM(AUT_top:POR_top!AN83)","v":3},{"$f":"SUM(AUT_top:POR_top!AO83)","v":1},{"$f":"SUM(AUT_top:POR_top!AP83)","v":0},{"$f":"SUM(AUT_top:POR_top!AQ83)","v":0},{"$f":"SUM(AUT_top:POR_top!AR83)","v":0},{"$f":"SUM(AUT_top:POR_top!AS83)","v":0},{"$f":"SUM(AUT_top:POR_top!AT83)","v":0},{"$f":"SUM(AUT_top:POR_top!AU83)","v":0},{"$f":"SUM(AUT_top:POR_top!AV83)","v":1},{"$f":"SUM(AUT_top:POR_top!AW83)","v":3},{"$f":"SUM(AUT_top:POR_top!AX83)","v":1},{"$f":"SUM(AUT_top:POR_top!AY83)","v":0},{"$f":"SUM(AUT_top:POR_top!AZ83)","v":1},{"$f":"SUM(AUT_top:POR_top!BA83)","v":1},{"$f":"SUM(AUT_top:POR_top!BB83)","v":0},89,0.21813725490196079]
[null,"Production line",{"$f":"Sheet1!O256","v":"Low-carbon packaging "},{"$f":"SUM(AUT_top:POR_top!D84)","v":1},{"$f":"SUM(AUT_top:POR_top!E84)","v":1},{"$f":"SUM(AUT_top:POR_top!F84)","v":4},{"$f":"SUM(AUT_top:POR_top!G84)","v":3},{"$f":"SUM(AUT_top:POR_top!H84)","v":0},{"$f":"SUM(AUT_top:POR_top!I84)","v":2},{"$f":"SUM(AUT_top:POR_top!J84)","v":1},{"$f":"SUM(AUT_top:POR_top!K84)","v":1},{"$f":"SUM(AUT_top:POR_top!L84)","v":1},{"$f":"SUM(AUT_top:POR_top!M84)","v":1},{"$f":"SUM(AUT_top:POR_top!N84)","v":1},{"$f":"SUM(AUT_top:POR_top!O84)","v":1},{"$f":"SUM(AUT_top:POR_top!P84)","v":6},{"$f":"SUM(AUT_top:POR_top!Q84)","v":2},{"$f":"SUM(AUT_top:POR_top!R84)","v":2},{"$f":"SUM(AUT_top:POR_top!S84)","v":0},{"$f":"SUM(AUT_top:POR_top!T84)","v":3},{"$f":"SUM(AUT_top:POR_top!U84)","v":5},{"$f":"SUM(AUT_top:POR_top!V84)","v":1},{"$f":"SUM(AUT_top:POR_top!W84)","v":4},{"$f":"SUM(AUT_top:POR_top!X84)","v":1},{"$f":"SUM(AUT_top:POR_top!Y84)","v":0},{"$f":"SUM(AUT_top:POR_top!Z84)","v":6},{"$f":"SUM(AUT_top:POR_top!AA84)","v":2},{"$f":"SUM(AUT_top:POR_top!AB84)","v":0},{"$f":"SUM(AUT_top:POR_top!AC84)","v":6},{"$f":"SUM(AUT_top:POR_top!AD84)","v":0},{"$f":"SUM(AUT_top:POR_top!AE84)","v":-1},{"$f":"SUM(AUT_top:POR_top!AF84)","v":1},{"$f":"SUM(AUT_top:POR_top!AG84)","v":1},{"$f":"SUM(AUT_top:POR_top!AH84)","v":1},{"$f":"SUM(AUT_top:POR_top!AI84)","v":1},{"$f":"SUM(AUT_top:POR_top!AJ84)","v":2},{"$f":"SUM(AUT_top:POR_top!AK84)","v":0},{"$f":"SUM(AUT_top:POR_top!AL84)","v":1},{"$f":"SUM(AUT_top:POR_top!AM84)","v":2},{"$f":"SUM(AUT_top:POR_top!AN84)","v":1},{"$f":"SUM(AUT_top:POR_top!AO84)","v":0},{"$f":"SUM(AUT_top:POR_top!AP84)","v":0},{"$f":"SUM(AUT_top:POR_top!AQ84)","v":0},{"$f":"SUM(AUT_top:POR_top!AR84)","v":0},{"$f":"SUM(AUT_top:POR_top!AS84)","v":0},{"$f":"SUM(AUT_top:POR_top!AT84)","v":0},{"$f":"SUM(AUT_top:POR_top!AU84)","v":0},{"$f":"SUM(AUT_top:POR_top!AV84)","v":3},{"$f":"SUM(AUT_top:POR_top!AW84)","v":5},{"$f":"SUM(AUT_top:POR_top!AX84)","v":2},{"$f":"SUM(AUT_top:POR_top!AY84)","v":0},{"$f":"SUM(AUT_top:POR_top!AZ84)","v":1},{"$f":"SUM(AUT_top:POR_top!BA84)","v":0},{"$f":"SUM(AUT_top:POR_top!BB84)","v":0},75,0.18382352941176472]
["Transport","Transport of goods",{"$f":"Sheet1!O258","v":"Optimisation of timetables"},{"$f":"SUM(AUT_top:POR_top!D85)","v":3},{"$f":"SUM(AUT_top:POR_top!E85)","v":0},{"$f":"SUM(AUT_top:POR_top!F85)","v":6},{"$f":"SUM(AUT_top:POR_top!G85)","v":4},{"$f":"SUM(AUT_top:POR_top!H85)","v":4},{"$f":"SUM(AUT_top:POR_top!I85)","v":4},{"$f":"SUM(AUT_top:POR_top!J85)","v":2},{"$f":"SUM(AUT_top:POR_top!K85)","v":1},{"$f":"SUM(AUT_top:POR_top!L85)","v":2},{"$f":"SUM(AUT_top:POR_top!M85)","v":1},{"$f":"SUM(AUT_top:POR_top!N85)","v":0},{"$f":"SUM(AUT_top:POR_top!O85)","v":0},{"$f":"SUM(AUT_top:POR_top!P85)","v":7},{"$f":"SUM(AUT_top:POR_top!Q85)","v":2},{"$f":"SUM(AUT_top:POR_top!R85)","v":1},{"$f":"SUM(AUT_top:POR_top!S85)","v":0},{"$f":"SUM(AUT_top:POR_top!T85)","v":1},{"$f":"SUM(AUT_top:POR_top!U85)","v":7},{"$f":"SUM(AUT_top:POR_top!V85)","v":1},{"$f":"SUM(AUT_top:POR_top!W85)","v":4},{"$f":"SUM(AUT_top:POR_top!X85)","v":1},{"$f":"SUM(AUT_top:POR_top!Y85)","v":0},{"$f":"SUM(AUT_top:POR_top!Z85)","v":8},{"$f":"SUM(AUT_top:POR_top!AA85)","v":1},{"$f":"SUM(AUT_top:POR_top!AB85)","v":2},{"$f":"SUM(AUT_top:POR_top!AC85)","v":4},{"$f":"SUM(AUT_top:POR_top!AD85)","v":0},{"$f":"SUM(AUT_top:POR_top!AE85)","v":2},{"$f":"SUM(AUT_top:POR_top!AF85)","v":0},{"$f":"SUM(AUT_top:POR_top!AG85)","v":7},{"$f":"SUM(AUT_top:POR_top!AH85)","v":1},{"$f":"SUM(AUT_top:POR_top!AI85)","v":0},{"$f":"SUM(AUT_top:POR_top!AJ85)","v":2},{"$f":"SUM(AUT_top:POR_top!AK85)","v":-1},{"$f":"SUM(AUT_top:POR_top!AL85)","v":1},{"$f":"SUM(AUT_top:POR_top!AM85)","v":4},{"$f":"SUM(AUT_top:POR_top!AN85)","v":1},{"$f":"SUM(AUT_top:POR_top!AO85)","v":0},{"$f":"SUM(AUT_top:POR_top!AP85)","v":0},{"$f":"SUM(AUT_top:POR_top!AQ85)","v":0},{"$f":"SUM(AUT_top:POR_top!AR85)","v":0},{"$f":"SUM(AUT_top:POR_top!AS85)","v":0},{"$f":"SUM(AUT_top:POR_top!AT85)","v":2},{"$f":"SUM(AUT_top:POR_top!AU85)","v":1},{"$f":"SUM(AUT_top:POR_top!AV85)","v":1},{"$f":"SUM(AUT_top:POR_top!AW85)","v":2},{"$f":"SUM(AUT_top:POR_top!AX85)","v":1},{"$f":"SUM(AUT_top:POR_top!AY85)","v":0},{"$f":"SUM(AUT_top:POR_top!AZ85)","v":6},{"$f":"SUM(AUT_top:POR_top!BA85)","v":0},{"$f":"SUM(AUT_top:POR_top!BB85)","v":0},96,0.23529411764705882]
[null,"Transport of goods",{"$f":"Sheet1!O259","v":"Optimisation of routes"},{"$f":"SUM(AUT_top:POR_top!D86)","v":3},{"$f":"SUM(AUT_top:POR_top!E86)","v":0},{"$f":"SUM(AUT_top:POR_top!F86)","v":6},{"$f":"SUM(AUT_top:POR_top!G86)","v":4},{"$f":"SUM(AUT_top:POR_top!H86)","v":4},{"$f":"SUM(AUT_top:POR_top!I86)","v":3},{"$f":"SUM(AUT_top:POR_top!J86)","v":1},{"$f":"SUM(AUT_top:POR_top!K86)","v":1},{"$f":"SUM(AUT_top:POR_top!L86)","v":1},{"$f":"SUM(AUT_top:POR_top!M86)","v":1},{"$f":"SUM(AUT_top:POR_top!N86)","v":0},{"$f":"SUM(AUT_top:POR_top!O86)","v":0},{"$f":"SUM(AUT_top:POR_top!P86)","v":7},{"$f":"SUM(AUT_top:POR_top!Q86)","v":3},{"$f":"SUM(AUT_top:POR_top!R86)","v":0},{"$f":"SUM(AUT_top:POR_top!S86)","v":0},{"$f":"SUM(AUT_top:POR_top!T86)","v":0},{"$f":"SUM(AUT_top:POR_top!U86)","v":8},{"$f":"SUM(AUT_top:POR_top!V86)","v":1},{"$f":"SUM(AUT_top:POR_top!W86)","v":5},{"$f":"SUM(AUT_top:POR_top!X86)","v":1},{"$f":"SUM(AUT_top:POR_top!Y86)","v":0},{"$f":"SUM(AUT_top:POR_top!Z86)","v":8},{"$f":"SUM(AUT_top:POR_top!AA86)","v":1},{"$f":"SUM(AUT_top:POR_top!AB86)","v":2},{"$f":"SUM(AUT_top:POR_top!AC86)","v":4},{"$f":"SUM(AUT_top:POR_top!AD86)","v":0},{"$f":"SUM(AUT_top:POR_top!AE86)","v":2},{"$f":"SUM(AUT_top:POR_top!AF86)","v":0},{"$f":"SUM(AUT_top:POR_top!AG86)","v":7},{"$f":"SUM(AUT_top:POR_top!AH86)","v":1},{"$f":"SUM(AUT_top:POR_top!AI86)","v":0},{"$f":"SUM(AUT_top:POR_top!AJ86)","v":2},{"$f":"SUM(AUT_top:POR_top!AK86)","v":0},{"$f":"SUM(AUT_top:POR_top!AL86)","v":1},{"$f":"SUM(AUT_top:POR_top!AM86)","v":4},{"$f":"SUM(AUT_top:POR_top!AN86)","v":1},{"$f":"SUM(AUT_top:POR_top!AO86)","v":0},{"$f":"SUM(AUT_top:POR_top!AP86)","v":0},{"$f":"SUM(AUT_top:POR_top!AQ86)","v":0},{"$f":"SUM(AUT_top:POR_top!AR86)","v":0},{"$f":"SUM(AUT_top:POR_top!AS86)","v":0},{"$f":"SUM(AUT_top:POR_top!AT86)","v":1},{"$f":"SUM(AUT_top:POR_top!AU86)","v":1},{"$f":"SUM(AUT_top:POR_top!AV86)","v":1},{"$f":"SUM(AUT_top:POR_top!AW86)","v":2},{"$f":"SUM(AUT_top:POR_top!AX86)","v":1},{"$f":"SUM(AUT_top:POR_top!AY86)","v":0},{"$f":"SUM(AUT_top:POR_top!AZ86)","v":4},{"$f":"SUM(AUT_top:POR_top!BA86)","v":0},{"$f":"SUM(AUT_top:POR_top!BB86)","v":0},92,0.22549019607843138]
[null,"Transport of goods",{"$f":"Sheet1!O260","v":"Optimisation of loads"},{"$f":"SUM(AUT_top:POR_top!D87)","v":3},{"$f":"SUM(AUT_top:POR_top!E87)","v":0},{"$f":"SUM(AUT_top:POR_top!F87)","v":5},{"$f":"SUM(AUT_top:POR_top!G87)","v":4},{"$f":"SUM(AUT_top:POR_top!H87)","v":3},{"$f":"SUM(AUT_top:POR_top!I87)","v":1},{"$f":"SUM(AUT_top:POR_top!J87)","v":1},{"$f":"SUM(AUT_top:POR_top!K87)","v":0},{"$f":"SUM(AUT_top:POR_top!L87)","v":1},{"$f":"SUM(AUT_top:POR_top!M87)","v":1},{"$f":"SUM(AUT_top:POR_top!N87)","v":0},{"$f":"SUM(AUT_top:POR_top!O87)","v":0},{"$f":"SUM(AUT_top:POR_top!P87)","v":7},{"$f":"SUM(AUT_top:POR_top!Q87)","v":3},{"$f":"SUM(AUT_top:POR_top!R87)","v":-1},{"$f":"SUM(AUT_top:POR_top!S87)","v":0},{"$f":"SUM(AUT_top:POR_top!T87)","v":1},{"$f":"SUM(AUT_top:POR_top!U87)","v":7},{"$f":"SUM(AUT_top:POR_top!V87)","v":1},{"$f":"SUM(AUT_top:POR_top!W87)","v":5},{"$f":"SUM(AUT_top:POR_top!X87)","v":1},{"$f":"SUM(AUT_top:POR_top!Y87)","v":0},{"$f":"SUM(AUT_top:POR_top!Z87)","v":8},{"$f":"SUM(AUT_top:POR_top!AA87)","v":1},{"$f":"SUM(AUT_top:POR_top!AB87)","v":2},{"$f":"SUM(AUT_top:POR_top!AC87)","v":4},{"$f":"SUM(AUT_top:POR_top!AD87)","v":0},{"$f":"SUM(AUT_top:POR_top!AE87)","v":2},{"$f":"SUM(AUT_top:POR_top!AF87)","v":0},{"$f":"SUM(AUT_top:POR_top!AG87)","v":7},{"$f":"SUM(AUT_top:POR_top!AH87)","v":1},{"$f":"SUM(AUT_top:POR_top!AI87)","v":0},{"$f":"SUM(AUT_top:POR_top!AJ87)","v":2},{"$f":"SUM(AUT_top:POR_top!AK87)","v":0},{"$f":"SUM(AUT_top:POR_top!AL87)","v":1},{"$f":"SUM(AUT_top:POR_top!AM87)","v":4},{"$f":"SUM(AUT_top:POR_top!AN87)","v":1},{"$f":"SUM(AUT_top:POR_top!AO87)","v":0},{"$f":"SUM(AUT_top:POR_top!AP87)","v":0},{"$f":"SUM(AUT_top:POR_top!AQ87)","v":0},{"$f":"SUM(AUT_top:POR_top!AR87)","v":0},{"$f":"SUM(AUT_top:POR_top!AS87)","v":0},{"$f":"SUM(AUT_top:POR_top!AT87)","v":1},{"$f":"SUM(AUT_top:POR_top!AU87)","v":1},{"$f":"SUM(AUT_top:POR_top!AV87)","v":1},{"$f":"SUM(AUT_top:POR_top!AW87)","v":2},{"$f":"SUM(AUT_top:POR_top!AX87)","v":1},{"$f":"SUM(AUT_top:POR_top!AY87)","v":0},{"$f":"SUM(AUT_top:POR_top!AZ87)","v":4},{"$f":"SUM(AUT_top:POR_top!BA87)","v":0},{"$f":"SUM(AUT_top:POR_top!BB87)","v":0},86,0.2107843137254902]
[null,"Transport of goods",{"$f":"Sheet1!O261","v":"Optimisation of the fleet"},{"$f":"SUM(AUT_top:POR_top!D88)","v":3},{"$f":"SUM(AUT_top:POR_top!E88)","v":0},{"$f":"SUM(AUT_top:POR_top!F88)","v":3},{"$f":"SUM(AUT_top:POR_top!G88)","v":4},{"$f":"SUM(AUT_top:POR_top!H88)","v":3},{"$f":"SUM(AUT_top:POR_top!I88)","v":1},{"$f":"SUM(AUT_top:POR_top!J88)","v":1},{"$f":"SUM(AUT_top:POR_top!K88)","v":0},{"$f":"SUM(AUT_top:POR_top!L88)","v":1},{"$f":"SUM(AUT_top:POR_top!M88)","v":2},{"$f":"SUM(AUT_top:POR_top!N88)","v":0},{"$f":"SUM(AUT_top:POR_top!O88)","v":0},{"$f":"SUM(AUT_top:POR_top!P88)","v":7},{"$f":"SUM(AUT_top:POR_top!Q88)","v":2},{"$f":"SUM(AUT_top:POR_top!R88)","v":0},{"$f":"SUM(AUT_top:POR_top!S88)","v":0},{"$f":"SUM(AUT_top:POR_top!T88)","v":0},{"$f":"SUM(AUT_top:POR_top!U88)","v":7},{"$f":"SUM(AUT_top:POR_top!V88)","v":1},{"$f":"SUM(AUT_top:POR_top!W88)","v":4},{"$f":"SUM(AUT_top:POR_top!X88)","v":1},{"$f":"SUM(AUT_top:POR_top!Y88)","v":0},{"$f":"SUM(AUT_top:POR_top!Z88)","v":8},{"$f":"SUM(AUT_top:POR_top!AA88)","v":1},{"$f":"SUM(AUT_top:POR_top!AB88)","v":3},{"$f":"SUM(AUT_top:POR_top!AC88)","v":4},{"$f":"SUM(AUT_top:POR_top!AD88)","v":0},{"$f":"SUM(AUT_top:POR_top!AE88)","v":2},{"$f":"SUM(AUT_top:POR_top!AF88)","v":1},{"$f":"SUM(AUT_top:POR_top!AG88)","v":7},{"$f":"SUM(AUT_top:POR_top!AH88)","v":1},{"$f":"SUM(AUT_top:POR_top!AI88)","v":0},{"$f":"SUM(AUT_top:POR_top!AJ88)","v":2},{"$f":"SUM(AUT_top:POR_top!AK88)","v":-1},{"$f":"SUM(AUT_top:POR_top!AL88)","v":1},{"$f":"SUM(AUT_top:POR_top!AM88)","v":4},{"$f":"SUM(AUT_top:POR_top!AN88)","v":1},{"$f":"SUM(AUT_top:POR_top!AO88)","v":0},{"$f":"SUM(AUT_top:POR_top!AP88)","v":0},{"$f":"SUM(AUT_top:POR_top!AQ88)","v":1},{"$f":"SUM(AUT_top:POR_top!AR88)","v":0},{"$f":"SUM(AUT_top:POR_top!AS88)","v":0},{"$f":"SUM(AUT_top:POR_top!AT88)","v":1},{"$f":"SUM(AUT_top:POR_top!AU88)","v":1},{"$f":"SUM(AUT_top:POR_top!AV88)","v":1},{"$f":"SUM(AUT_top:POR_top!AW88)","v":2},{"$f":"SUM(AUT_top:POR_top!AX88)","v":1},{"$f":"SUM(AUT_top:POR_top!AY88)","v":0},{"$f":"SUM(AUT_top:POR_top!AZ88)","v":4},{"$f":"SUM(AUT_top:POR_top!BA88)","v":0},{"$f":"SUM(AUT_top:POR_top!BB88)","v":0},85,0.20833333333333334]
[null,"Transport of goods",{"$f":"Sheet1!O262","v":"Promote electromobility"},{"$f":"SUM(AUT_top:POR_top!D89)","v":5},{"$f":"SUM(AUT_top:POR_top!E89)","v":0},{"$f":"SUM(AUT_top:POR_top!F89)","v":4},{"$f":"SUM(AUT_top:POR_top!G89)","v":2},{"$f":"SUM(AUT_top:POR_top!H89)","v":2},{"$f":"SUM(AUT_top:POR_top!I89)","v":2},{"$f":"SUM(AUT_top:POR_top!J89)","v":1},{"$f":"SUM(AUT_top:POR_top!K89)","v":0},{"$f":"SUM(AUT_top:POR_top!L89)","v":1},{"$f":"SUM(AUT_top:POR_top!M89)","v":3},{"$f":"SUM(AUT_top:POR_top!N89)","v":0},{"$f":"SUM(AUT_top:POR_top!O89)","v":3},{"$f":"SUM(AUT_top:POR_top!P89)","v":8},{"$f":"SUM(AUT_top:POR_top!Q89)","v":5},{"$f":"SUM(AUT_top:POR_top!R89)","v":0},{"$f":"SUM(AUT_top:POR_top!S89)","v":0},{"$f":"SUM(AUT_top:POR_top!T89)","v":0},{"$f":"SUM(AUT_top:POR_top!U89)","v":8},{"$f":"SUM(AUT_top:POR_top!V89)","v":4},{"$f":"SUM(AUT_top:POR_top!W89)","v":6},{"$f":"SUM(AUT_top:POR_top!X89)","v":1},{"$f":"SUM(AUT_top:POR_top!Y89)","v":-1},{"$f":"SUM(AUT_top:POR_top!Z89)","v":6},{"$f":"SUM(AUT_top:POR_top!AA89)","v":2},{"$f":"SUM(AUT_top:POR_top!AB89)","v":4},{"$f":"SUM(AUT_top:POR_top!AC89)","v":5},{"$f":"SUM(AUT_top:POR_top!AD89)","v":0},{"$f":"SUM(AUT_top:POR_top!AE89)","v":1},{"$f":"SUM(AUT_top:POR_top!AF89)","v":0},{"$f":"SUM(AUT_top:POR_top!AG89)","v":5},{"$f":"SUM(AUT_top:POR_top!AH89)","v":1},{"$f":"SUM(AUT_top:POR_top!AI89)","v":0},{"$f":"SUM(AUT_top:POR_top!AJ89)","v":2},{"$f":"SUM(AUT_top:POR_top!AK89)","v":0},{"$f":"SUM(AUT_top:POR_top!AL89)","v":1},{"$f":"SUM(AUT_top:POR_top!AM89)","v":4},{"$f":"SUM(AUT_top:POR_top!AN89)","v":1},{"$f":"SUM(AUT_top:POR_top!AO89)","v":0},{"$f":"SUM(AUT_top:POR_top!AP89)","v":0},{"$f":"SUM(AUT_top:POR_top!AQ89)","v":2},{"$f":"SUM(AUT_top:POR_top!AR89)","v":-1},{"$f":"SUM(AUT_top:POR_top!AS89)","v":0},{"$f":"SUM(AUT_top:POR_top!AT89)","v":0},{"$f":"SUM(AUT_top:POR_top!AU89)","v":0},{"$f":"SUM(AUT_top:POR_top!AV89)","v":0},{"$f":"SUM(AUT_top:POR_top!AW89)","v":3},{"$f":"SUM(AUT_top:POR_top!AX89)","v":2},{"$f":"SUM(AUT_top:POR_top!AY89)","v":0},{"$f":"SUM(AUT_top:POR_top!AZ89)","v":1},{"$f":"SUM(AUT_top:POR_top!BA89)","v":0},{"$f":"SUM(AUT_top:POR_top!BB89)","v":0},93,0.22794117647058823]
[null,"Transport of goods",{"$f":"Sheet1!O263","v":"Promotion of modal shift for freight"},{"$f":"SUM(AUT_top:POR_top!D90)","v":3},{"$f":"SUM(AUT_top:POR_top!E90)","v":0},{"$f":"SUM(AUT_top:POR_top!F90)","v":3},{"$f":"SUM(AUT_top:POR_top!G90)","v":2},{"$f":"SUM(AUT_top:POR_top!H90)","v":3},{"$f":"SUM(AUT_top:POR_top!I90)","v":1},{"$f":"SUM(AUT_top:POR_top!J90)","v":1},{"$f":"SUM(AUT_top:POR_top!K90)","v":0},{"$f":"SUM(AUT_top:POR_top!L90)","v":1},{"$f":"SUM(AUT_top:POR_top!M90)","v":3},{"$f":"SUM(AUT_top:POR_top!N90)","v":0},{"$f":"SUM(AUT_top:POR_top!O90)","v":0},{"$f":"SUM(AUT_top:POR_top!P90)","v":8},{"$f":"SUM(AUT_top:POR_top!Q90)","v":3},{"$f":"SUM(AUT_top:POR_top!R90)","v":0},{"$f":"SUM(AUT_top:POR_top!S90)","v":0},{"$f":"SUM(AUT_top:POR_top!T90)","v":0},{"$f":"SUM(AUT_top:POR_top!U90)","v":8},{"$f":"SUM(AUT_top:POR_top!V90)","v":1},{"$f":"SUM(AUT_top:POR_top!W90)","v":6},{"$f":"SUM(AUT_top:POR_top!X90)","v":1},{"$f":"SUM(AUT_top:POR_top!Y90)","v":0},{"$f":"SUM(AUT_top:POR_top!Z90)","v":6},{"$f":"SUM(AUT_top:POR_top!AA90)","v":1},{"$f":"SUM(AUT_top:POR_top!AB90)","v":1},{"$f":"SUM(AUT_top:POR_top!AC90)","v":4},{"$f":"SUM(AUT_top:POR_top!AD90)","v":0},{"$f":"SUM(AUT_top:POR_top!AE90)","v":1},{"$f":"SUM(AUT_top:POR_top!AF90)","v":0},{"$f":"SUM(AUT_top:POR_top!AG90)","v":5},{"$f":"SUM(AUT_top:POR_top!AH90)","v":1},{"$f":"SUM(AUT_top:POR_top!AI90)","v":0},{"$f":"SUM(AUT_top:POR_top!AJ90)","v":2},{"$f":"SUM(AUT_top:POR_top!AK90)","v":0},{"$f":"SUM(AUT_top:POR_top!AL90)","v":1},{"$f":"SUM(AUT_top:POR_top!AM90)","v":4},{"$f":"SUM(AUT_top:POR_top!AN90)","v":1},{"$f":"SUM(AUT_top:POR_top!AO90)","v":0},{"$f":"SUM(AUT_top:POR_top!AP90)","v":0},{"$f":"SUM(AUT_top:POR_top!AQ90)","v":0},{"$f":"SUM(AUT_top:POR_top!AR90)","v":0},{"$f":"SUM(AUT_top:POR_top!AS90)","v":0},{"$f":"SUM(AUT_top:POR_top!AT90)","v":0},{"$f":"SUM(AUT_top:POR_top!AU90)","v":0},{"$f":"SUM(AUT_top:POR_top!AV90)","v":0},{"$f":"SUM(AUT_top:POR_top!AW90)","v":3},{"$f":"SUM(AUT_top:POR_top!AX90)","v":1},{"$f":"SUM(AUT_top:POR_top!AY90)","v":0},{"$f":"SUM(AUT_top:POR_top!AZ90)","v":1},{"$f":"SUM(AUT_top:POR_top!BA90)","v":0},{"$f":"SUM(AUT_top:POR_top!BB90)","v":1},77,0.18872549019607843]
[null,"Transport of goods",{"$f":"Sheet1!O264","v":"Regular maintenance"},{"$f":"SUM(AUT_top:POR_top!D91)","v":4},{"$f":"SUM(AUT_top:POR_top!E91)","v":0},{"$f":"SUM(AUT_top:POR_top!F91)","v":2},{"$f":"SUM(AUT_top:POR_top!G91)","v":2},{"$f":"SUM(AUT_top:POR_top!H91)","v":4},{"$f":"SUM(AUT_top:POR_top!I91)","v":1},{"$f":"SUM(AUT_top:POR_top!J91)","v":2},{"$f":"SUM(AUT_top:POR_top!K91)","v":1},{"$f":"SUM(AUT_top:POR_top!L91)","v":3},{"$f":"SUM(AUT_top:POR_top!M91)","v":1},{"$f":"SUM(AUT_top:POR_top!N91)","v":0},{"$f":"SUM(AUT_top:POR_top!O91)","v":3},{"$f":"SUM(AUT_top:POR_top!P91)","v":7},{"$f":"SUM(AUT_top:POR_top!Q91)","v":2},{"$f":"SUM(AUT_top:POR_top!R91)","v":0},{"$f":"SUM(AUT_top:POR_top!S91)","v":0},{"$f":"SUM(AUT_top:POR_top!T91)","v":0},{"$f":"SUM(AUT_top:POR_top!U91)","v":8},{"$f":"SUM(AUT_top:POR_top!V91)","v":3},{"$f":"SUM(AUT_top:POR_top!W91)","v":5},{"$f":"SUM(AUT_top:POR_top!X91)","v":1},{"$f":"SUM(AUT_top:POR_top!Y91)","v":1},{"$f":"SUM(AUT_top:POR_top!Z91)","v":8},{"$f":"SUM(AUT_top:POR_top!AA91)","v":0},{"$f":"SUM(AUT_top:POR_top!AB91)","v":5},{"$f":"SUM(AUT_top:POR_top!AC91)","v":5},{"$f":"SUM(AUT_top:POR_top!AD91)","v":0},{"$f":"SUM(AUT_top:POR_top!AE91)","v":2},{"$f":"SUM(AUT_top:POR_top!AF91)","v":0},{"$f":"SUM(AUT_top:POR_top!AG91)","v":4},{"$f":"SUM(AUT_top:POR_top!AH91)","v":1},{"$f":"SUM(AUT_top:POR_top!AI91)","v":0},{"$f":"SUM(AUT_top:POR_top!AJ91)","v":2},{"$f":"SUM(AUT_top:POR_top!AK91)","v":0},{"$f":"SUM(AUT_top:POR_top!AL91)","v":1},{"$f":"SUM(AUT_top:POR_top!AM91)","v":5},{"$f":"SUM(AUT_top:POR_top!AN91)","v":1},{"$f":"SUM(AUT_top:POR_top!AO91)","v":0},{"$f":"SUM(AUT_top:POR_top!AP91)","v":3},{"$f":"SUM(AUT_top:POR_top!AQ91)","v":2},{"$f":"SUM(AUT_top:POR_top!AR91)","v":1},{"$f":"SUM(AUT_top:POR_top!AS91)","v":1},{"$f":"SUM(AUT_top:POR_top!AT91)","v":1},{"$f":"SUM(AUT_top:POR_top!AU91)","v":1},{"$f":"SUM(AUT_top:POR_top!AV91)","v":0},{"$f":"SUM(AUT_top:POR_top!AW91)","v":2},{"$f":"SUM(AUT_top:POR_top!AX91)","v":1},{"$f":"SUM(AUT_top:POR_top!AY91)","v":1},{"$f":"SUM(AUT_top:POR_top!AZ91)","v":3},{"$f":"SUM(AUT_top:POR_top!BA91)","v":2},{"$f":"SUM(AUT_top:POR_top!BB91)","v":1},103,0.25245098039215685]
[null,"Transport of goods",{"$f":"Sheet1!O265","v":"Driver training"},{"$f":"SUM(AUT_top:POR_top!D92)","v":6},{"$f":"SUM(AUT_top:POR_top!E92)","v":0},{"$f":"SUM(AUT_top:POR_top!F92)","v":4},{"$f":"SUM(AUT_top:POR_top!G92)","v":2},{"$f":"SUM(AUT_top:POR_top!H92)","v":5},{"$f":"SUM(AUT_top:POR_top!I92)","v":2},{"$f":"SUM(AUT_top:POR_top!J92)","v":3},{"$f":"SUM(AUT_top:POR_top!K92)","v":1},{"$f":"SUM(AUT_top:POR_top!L92)","v":3},{"$f":"SUM(AUT_top:POR_top!M92)","v":1},{"$f":"SUM(AUT_top:POR_top!N92)","v":0},{"$f":"SUM(AUT_top:POR_top!O92)","v":0},{"$f":"SUM(AUT_top:POR_top!P92)","v":6},{"$f":"SUM(AUT_top:POR_top!Q92)","v":3},{"$f":"SUM(AUT_top:POR_top!R92)","v":0},{"$f":"SUM(AUT_top:POR_top!S92)","v":0},{"$f":"SUM(AUT_top:POR_top!T92)","v":0},{"$f":"SUM(AUT_top:POR_top!U92)","v":7},{"$f":"SUM(AUT_top:POR_top!V92)","v":1},{"$f":"SUM(AUT_top:POR_top!W92)","v":5},{"$f":"SUM(AUT_top:POR_top!X92)","v":3},{"$f":"SUM(AUT_top:POR_top!Y92)","v":0},{"$f":"SUM(AUT_top:POR_top!Z92)","v":7},{"$f":"SUM(AUT_top:POR_top!AA92)","v":1},{"$f":"SUM(AUT_top:POR_top!AB92)","v":3},{"$f":"SUM(AUT_top:POR_top!AC92)","v":4},{"$f":"SUM(AUT_top:POR_top!AD92)","v":0},{"$f":"SUM(AUT_top:POR_top!AE92)","v":2},{"$f":"SUM(AUT_top:POR_top!AF92)","v":0},{"$f":"SUM(AUT_top:POR_top!AG92)","v":5},{"$f":"SUM(AUT_top:POR_top!AH92)","v":1},{"$f":"SUM(AUT_top:POR_top!AI92)","v":0},{"$f":"SUM(AUT_top:POR_top!AJ92)","v":2},{"$f":"SUM(AUT_top:POR_top!AK92)","v":0},{"$f":"SUM(AUT_top:POR_top!AL92)","v":1},{"$f":"SUM(AUT_top:POR_top!AM92)","v":5},{"$f":"SUM(AUT_top:POR_top!AN92)","v":1},{"$f":"SUM(AUT_top:POR_top!AO92)","v":0},{"$f":"SUM(AUT_top:POR_top!AP92)","v":4},{"$f":"SUM(AUT_top:POR_top!AQ92)","v":3},{"$f":"SUM(AUT_top:POR_top!AR92)","v":0},{"$f":"SUM(AUT_top:POR_top!AS92)","v":5},{"$f":"SUM(AUT_top:POR_top!AT92)","v":0},{"$f":"SUM(AUT_top:POR_top!AU92)","v":0},{"$f":"SUM(AUT_top:POR_top!AV92)","v":0},{"$f":"SUM(AUT_top:POR_top!AW92)","v":2},{"$f":"SUM(AUT_top:POR_top!AX92)","v":1},{"$f":"SUM(AUT_top:POR_top!AY92)","v":1},{"$f":"SUM(AUT_top:POR_top!AZ92)","v":4},{"$f":"SUM(AUT_top:POR_top!BA92)","v":0},{"$f":"SUM(AUT_top:POR_top!BB92)","v":0},104,0.25490196078431371]
["Management & Maintenance measures","Management & Maintenance measures",{"$f":"Sheet1!O267","v":"Green supply chain management"},{"$f":"SUM(AUT_top:POR_top!D93)","v":2},{"$f":"SUM(AUT_top:POR_top!E93)","v":0},{"$f":"SUM(AUT_top:POR_top!F93)","v":4},{"$f":"SUM(AUT_top:POR_top!G93)","v":4},{"$f":"SUM(AUT_top:POR_top!H93)","v":2},{"$f":"SUM(AUT_top:POR_top!I93)","v":4},{"$f":"SUM(AUT_top:POR_top!J93)","v":0},{"$f":"SUM(AUT_top:POR_top!K93)","v":0},{"$f":"SUM(AUT_top:POR_top!L93)","v":0},{"$f":"SUM(AUT_top:POR_top!M93)","v":1},{"$f":"SUM(AUT_top:POR_top!N93)","v":0},{"$f":"SUM(AUT_top:POR_top!O93)","v":0},{"$f":"SUM(AUT_top:POR_top!P93)","v":7},{"$f":"SUM(AUT_top:POR_top!Q93)","v":3},{"$f":"SUM(AUT_top:POR_top!R93)","v":3},{"$f":"SUM(AUT_top:POR_top!S93)","v":3},{"$f":"SUM(AUT_top:POR_top!T93)","v":4},{"$f":"SUM(AUT_top:POR_top!U93)","v":8},{"$f":"SUM(AUT_top:POR_top!V93)","v":1},{"$f":"SUM(AUT_top:POR_top!W93)","v":5},{"$f":"SUM(AUT_top:POR_top!X93)","v":1},{"$f":"SUM(AUT_top:POR_top!Y93)","v":3},{"$f":"SUM(AUT_top:POR_top!Z93)","v":7},{"$f":"SUM(AUT_top:POR_top!AA93)","v":2},{"$f":"SUM(AUT_top:POR_top!AB93)","v":2},{"$f":"SUM(AUT_top:POR_top!AC93)","v":5},{"$f":"SUM(AUT_top:POR_top!AD93)","v":1},{"$f":"SUM(AUT_top:POR_top!AE93)","v":1},{"$f":"SUM(AUT_top:POR_top!AF93)","v":0},{"$f":"SUM(AUT_top:POR_top!AG93)","v":3},{"$f":"SUM(AUT_top:POR_top!AH93)","v":1},{"$f":"SUM(AUT_top:POR_top!AI93)","v":2},{"$f":"SUM(AUT_top:POR_top!AJ93)","v":1},{"$f":"SUM(AUT_top:POR_top!AK93)","v":0},{"$f":"SUM(AUT_top:POR_top!AL93)","v":1},{"$f":"SUM(AUT_top:POR_top!AM93)","v":3},{"$f":"SUM(AUT_top:POR_top!AN93)","v":1},{"$f":"SUM(AUT_top:POR_top!AO93)","v":4},{"$f":"SUM(AUT_top:POR_top!AP93)","v":0},{"$f":"SUM(AUT_top:POR_top!AQ93)","v":1},{"$f":"SUM(AUT_top:POR_top!AR93)","v":0},{"$f":"SUM(AUT_top:POR_top!AS93)","v":0},{"$f":"SUM(AUT_top:POR_top!AT93)","v":0},{"$f":"SUM(AUT_top:POR_top!AU93)","v":0},{"$f":"SUM(AUT_top:POR_top!AV93)","v":1},{"$f":"SUM(AUT_top:POR_top!AW93)","v":5},{"$f":"SUM(AUT_top:POR_top!AX93)","v":1},{"$f":"SUM(AUT_top:POR_top!AY93)","v":0},{"$f":"SUM(AUT_top:POR_top!AZ93)","v":3},{"$f":"SUM(AUT_top:POR_top!BA93)","v":0},{"$f":"SUM(AUT_top:POR_top!BB93)","v":0},100,0.24509803921568626]
[null,"Management & Maintenance measures",{"$f":"Sheet1!O268","v":"Improved energy management"},{"$f":"SUM(AUT_top:POR_top!D94)","v":2},{"$f":"SUM(AUT_top:POR_top!E94)","v":0},{"$f":"SUM(AUT_top:POR_top!F94)","v":4},{"$f":"SUM(AUT_top:POR_top!G94)","v":3},{"$f":"SUM(AUT_top:POR_top!H94)","v":1},{"$f":"SUM(AUT_top:POR_top!I94)","v":3},{"$f":"SUM(AUT_top:POR_top!J94)","v":0},{"$f":"SUM(AUT_top:POR_top!K94)","v":0},{"$f":"SUM(AUT_top:POR_top!L94)","v":0},{"$f":"SUM(AUT_top:POR_top!M94)","v":2},{"$f":"SUM(AUT_top:POR_top!N94)","v":2},{"$f":"SUM(AUT_top:POR_top!O94)","v":1},{"$f":"SUM(AUT_top:POR_top!P94)","v":8},{"$f":"SUM(AUT_top:POR_top!Q94)","v":3},{"$f":"SUM(AUT_top:POR_top!R94)","v":2},{"$f":"SUM(AUT_top:POR_top!S94)","v":2},{"$f":"SUM(AUT_top:POR_top!T94)","v":1},{"$f":"SUM(AUT_top:POR_top!U94)","v":7},{"$f":"SUM(AUT_top:POR_top!V94)","v":1},{"$f":"SUM(AUT_top:POR_top!W94)","v":6},{"$f":"SUM(AUT_top:POR_top!X94)","v":3},{"$f":"SUM(AUT_top:POR_top!Y94)","v":1},{"$f":"SUM(AUT_top:POR_top!Z94)","v":8},{"$f":"SUM(AUT_top:POR_top!AA94)","v":1},{"$f":"SUM(AUT_top:POR_top!AB94)","v":2},{"$f":"SUM(AUT_top:POR_top!AC94)","v":7},{"$f":"SUM(AUT_top:POR_top!AD94)","v":0},{"$f":"SUM(AUT_top:POR_top!AE94)","v":1},{"$f":"SUM(AUT_top:POR_top!AF94)","v":1},{"$f":"SUM(AUT_top:POR_top!AG94)","v":6},{"$f":"SUM(AUT_top:POR_top!AH94)","v":2},{"$f":"SUM(AUT_top:POR_top!AI94)","v":0},{"$f":"SUM(AUT_top:POR_top!AJ94)","v":1},{"$f":"SUM(AUT_top:POR_top!AK94)","v":0},{"$f":"SUM(AUT_top:POR_top!AL94)","v":1},{"$f":"SUM(AUT_top:POR_top!AM94)","v":4},{"$f":"SUM(AUT_top:POR_top!AN94)","v":3},{"$f":"SUM(AUT_top:POR_top!AO94)","v":0},{"$f":"SUM(AUT_top:POR_top!AP94)","v":0},{"$f":"SUM(AUT_top:POR_top!AQ94)","v":1},{"$f":"SUM(AUT_top:POR_top!AR94)","v":0},{"$f":"SUM(AUT_top:POR_top!AS94)","v":0},{"$f":"SUM(AUT_top:POR_top!AT94)","v":3},{"$f":"SUM(AUT_top:POR_top!AU94)","v":0},{"$f":"SUM(AUT_top:POR_top!AV94)","v":0},{"$f":"SUM(AUT_top:POR_top!AW94)","v":4},{"$f":"SUM(AUT_top:POR_top!AX94)","v":2},{"$f":"SUM(AUT_top:POR_top!AY94)","v":1},{"$f":"SUM(AUT_top:POR_top!AZ94)","v":2},{"$f":"SUM(AUT_top:POR_top!BA94)","v":3},{"$f":"SUM(AUT_top:POR_top!BB94)","v":2},107,0.26225490196078433]
[null,"Management & Maintenance measures",{"$f":"Sheet1!O269","v":"Improved environmental awareness at the management level"},{"$f":"SUM(AUT_top:POR_top!D95)","v":5},{"$f":"SUM(AUT_top:POR_top!E95)","v":0},{"$f":"SUM(AUT_top:POR_top!F95)","v":3},{"$f":"SUM(AUT_top:POR_top!G95)","v":2},{"$f":"SUM(AUT_top:POR_top!H95)","v":1},{"$f":"SUM(AUT_top:POR_top!I95)","v":3},{"$f":"SUM(AUT_top:POR_top!J95)","v":0},{"$f":"SUM(AUT_top:POR_top!K95)","v":0},{"$f":"SUM(AUT_top:POR_top!L95)","v":0},{"$f":"SUM(AUT_top:POR_top!M95)","v":2},{"$f":"SUM(AUT_top:POR_top!N95)","v":1},{"$f":"SUM(AUT_top:POR_top!O95)","v":1},{"$f":"SUM(AUT_top:POR_top!P95)","v":8},{"$f":"SUM(AUT_top:POR_top!Q95)","v":3},{"$f":"SUM(AUT_top:POR_top!R95)","v":2},{"$f":"SUM(AUT_top:POR_top!S95)","v":2},{"$f":"SUM(AUT_top:POR_top!T95)","v":2},{"$f":"SUM(AUT_top:POR_top!U95)","v":6},{"$f":"SUM(AUT_top:POR_top!V95)","v":1},{"$f":"SUM(AUT_top:POR_top!W95)","v":5},{"$f":"SUM(AUT_top:POR_top!X95)","v":3},{"$f":"SUM(AUT_top:POR_top!Y95)","v":2},{"$f":"SUM(AUT_top:POR_top!Z95)","v":7},{"$f":"SUM(AUT_top:POR_top!AA95)","v":2},{"$f":"SUM(AUT_top:POR_top!AB95)","v":2},{"$f":"SUM(AUT_top:POR_top!AC95)","v":6},{"$f":"SUM(AUT_top:POR_top!AD95)","v":1},{"$f":"SUM(AUT_top:POR_top!AE95)","v":2},{"$f":"SUM(AUT_top:POR_top!AF95)","v":1},{"$f":"SUM(AUT_top:POR_top!AG95)","v":5},{"$f":"SUM(AUT_top:POR_top!AH95)","v":2},{"$f":"SUM(AUT_top:POR_top!AI95)","v":3},{"$f":"SUM(AUT_top:POR_top!AJ95)","v":2},{"$f":"SUM(AUT_top:POR_top!AK95)","v":1},{"$f":"SUM(AUT_top:POR_top!AL95)","v":1},{"$f":"SUM(AUT_top:POR_top!AM95)","v":4},{"$f":"SUM(AUT_top:POR_top!AN95)","v":2},{"$f":"SUM(AUT_top:POR_top!AO95)","v":0},{"$f":"SUM(AUT_top:POR_top!AP95)","v":0},{"$f":"SUM(AUT_top:POR_top!AQ95)","v":1},{"$f":"SUM(AUT_top:POR_top!AR95)","v":0},{"$f":"SUM(AUT_top:POR_top!AS95)","v":0},{"$f":"SUM(AUT_top:POR_top!AT95)","v":0},{"$f":"SUM(AUT_top:POR_top!AU95)","v":0},{"$f":"SUM(AUT_top:POR_top!AV95)","v":0},{"$f":"SUM(AUT_top:POR_top!AW95)","v":5},{"$f":"SUM(AUT_top:POR_top!AX95)","v":1},{"$f":"SUM(AUT_top:POR_top!AY95)","v":0},{"$f":"SUM(AUT_top:POR_top!AZ95)","v":2},{"$f":"SUM(AUT_top:POR_top!BA95)","v":0},{"$f":"SUM(AUT_top:POR_top!BB95)","v":0},102,0.25]
["Occupant behaviour","Occupant behaviour",{"$f":"Sheet1!O271","v":"Employee engagement and training"},{"$f":"SUM(AUT_top:POR_top!D96)","v":7},{"$f":"SUM(AUT_top:POR_top!E96)","v":0},{"$f":"SUM(AUT_top:POR_top!F96)","v":4},{"$f":"SUM(AUT_top:POR_top!G96)","v":1},{"$f":"SUM(AUT_top:POR_top!H96)","v":4},{"$f":"SUM(AUT_top:POR_top!I96)","v":3},{"$f":"SUM(AUT_top:POR_top!J96)","v":1},{"$f":"SUM(AUT_top:POR_top!K96)","v":1},{"$f":"SUM(AUT_top:POR_top!L96)","v":3},{"$f":"SUM(AUT_top:POR_top!M96)","v":2},{"$f":"SUM(AUT_top:POR_top!N96)","v":2},{"$f":"SUM(AUT_top:POR_top!O96)","v":2},{"$f":"SUM(AUT_top:POR_top!P96)","v":7},{"$f":"SUM(AUT_top:POR_top!Q96)","v":2},{"$f":"SUM(AUT_top:POR_top!R96)","v":0},{"$f":"SUM(AUT_top:POR_top!S96)","v":3},{"$f":"SUM(AUT_top:POR_top!T96)","v":4},{"$f":"SUM(AUT_top:POR_top!U96)","v":7},{"$f":"SUM(AUT_top:POR_top!V96)","v":2},{"$f":"SUM(AUT_top:POR_top!W96)","v":4},{"$f":"SUM(AUT_top:POR_top!X96)","v":2},{"$f":"SUM(AUT_top:POR_top!Y96)","v":4},{"$f":"SUM(AUT_top:POR_top!Z96)","v":7},{"$f":"SUM(AUT_top:POR_top!AA96)","v":2},{"$f":"SUM(AUT_top:POR_top!AB96)","v":4},{"$f":"SUM(AUT_top:POR_top!AC96)","v":5},{"$f":"SUM(AUT_top:POR_top!AD96)","v":4},{"$f":"SUM(AUT_top:POR_top!AE96)","v":4},{"$f":"SUM(AUT_top:POR_top!AF96)","v":0},{"$f":"SUM(AUT_top:POR_top!AG96)","v":7},{"$f":"SUM(AUT_top:POR_top!AH96)","v":2},{"$f":"SUM(AUT_top:POR_top!AI96)","v":2},{"$f":"SUM(AUT_top:POR_top!AJ96)","v":1},{"$f":"SUM(AUT_top:POR_top!AK96)","v":1},{"$f":"SUM(AUT_top:POR_top!AL96)","v":0},{"$f":"SUM(AUT_top:POR_top!AM96)","v":4},{"$f":"SUM(AUT_top:POR_top!AN96)","v":1},{"$f":"SUM(AUT_top:POR_top!AO96)","v":0},{"$f":"SUM(AUT_top:POR_top!AP96)","v":4},{"$f":"SUM(AUT_top:POR_top!AQ96)","v":3},{"$f":"SUM(AUT_top:POR_top!AR96)","v":3},{"$f":"SUM(AUT_top:POR_top!AS96)","v":4},{"$f":"SUM(AUT_top:POR_top!AT96)","v":1},{"$f":"SUM(AUT_top:POR_top!AU96)","v":3},{"$f":"SUM(AUT_top:POR_top!AV96)","v":4},{"$f":"SUM(AUT_top:POR_top!AW96)","v":6},{"$f":"SUM(AUT_top:POR_top!AX96)","v":2},{"$f":"SUM(AUT_top:POR_top!AY96)","v":4},{"$f":"SUM(AUT_top:POR_top!AZ96)","v":7},{"$f":"SUM(AUT_top:POR_top!BA96)","v":3},{"$f":"SUM(AUT_top:POR_top!BB96)","v":3},156,0.38235294117647056]
[null,"Occupant behaviour",{"$f":"Sheet1!O272","v":"Motivation"},{"$f":"SUM(AUT_top:POR_top!D97)","v":7},{"$f":"SUM(AUT_top:POR_top!E97)","v":0},{"$f":"SUM(AUT_top:POR_top!F97)","v":3},{"$f":"SUM(AUT_top:POR_top!G97)","v":1},{"$f":"SUM(AUT_top:POR_top!H97)","v":4},{"$f":"SUM(AUT_top:POR_top!I97)","v":4},{"$f":"SUM(AUT_top:POR_top!J97)","v":1},{"$f":"SUM(AUT_top:POR_top!K97)","v":1},{"$f":"SUM(AUT_top:POR_top!L97)","v":1},{"$f":"SUM(AUT_top:POR_top!M97)","v":0},{"$f":"SUM(AUT_top:POR_top!N97)","v":0},{"$f":"SUM(AUT_top:POR_top!O97)","v":0},{"$f":"SUM(AUT_top:POR_top!P97)","v":7},{"$f":"SUM(AUT_top:POR_top!Q97)","v":2},{"$f":"SUM(AUT_top:POR_top!R97)","v":0},{"$f":"SUM(AUT_top:POR_top!S97)","v":2},{"$f":"SUM(AUT_top:POR_top!T97)","v":2},{"$f":"SUM(AUT_top:POR_top!U97)","v":7},{"$f":"SUM(AUT_top:POR_top!V97)","v":1},{"$f":"SUM(AUT_top:POR_top!W97)","v":4},{"$f":"SUM(AUT_top:POR_top!X97)","v":2},{"$f":"SUM(AUT_top:POR_top!Y97)","v":4},{"$f":"SUM(AUT_top:POR_top!Z97)","v":7},{"$f":"SUM(AUT_top:POR_top!AA97)","v":2},{"$f":"SUM(AUT_top:POR_top!AB97)","v":3},{"$f":"SUM(AUT_top:POR_top!AC97)","v":5},{"$f":"SUM(AUT_top:POR_top!AD97)","v":4},{"$f":"SUM(AUT_top:POR_top!AE97)","v":4},{"$f":"SUM(AUT_top:POR_top!AF97)","v":0},{"$f":"SUM(AUT_top:POR_top!AG97)","v":6},{"$f":"SUM(AUT_top:POR_top!AH97)","v":2},{"$f":"SUM(AUT_top:POR_top!AI97)","v":2},{"$f":"SUM(AUT_top:POR_top!AJ97)","v":1},{"$f":"SUM(AUT_top:POR_top!AK97)","v":1},{"$f":"SUM(AUT_top:POR_top!AL97)","v":1},{"$f":"SUM(AUT_top:POR_top!AM97)","v":4},{"$f":"SUM(AUT_top:POR_top!AN97)","v":1},{"$f":"SUM(AUT_top:POR_top!AO97)","v":0},{"$f":"SUM(AUT_top:POR_top!AP97)","v":3},{"$f":"SUM(AUT_top:POR_top!AQ97)","v":2},{"$f":"SUM(AUT_top:POR_top!AR97)","v":1},{"$f":"SUM(AUT_top:POR_top!AS97)","v":2},{"$f":"SUM(AUT_top:POR_top!AT97)","v":1},{"$f":"SUM(AUT_top:POR_top!AU97)","v":2},{"$f":"SUM(AUT_top:POR_top!AV97)","v":4},{"$f":"SUM(AUT_top:POR_top!AW97)","v":4},{"$f":"SUM(AUT_top:POR_top!AX97)","v":2},{"$f":"SUM(AUT_top:POR_top!AY97)","v":3},{"$f":"SUM(AUT_top:POR_top!AZ97)","v":7},{"$f":"SUM(AUT_top:POR_top!BA97)","v":3},{"$f":"SUM(AUT_top:POR_top!BB97)","v":2},132,0.3235294117647059]
[null,null,null,{"$f":"SUM(D3:D97)","v":258},{"$f":"SUM(E3:E97)","v":40},178,58,124,155,59,57,107,99,47,95,617,239,117,50,46,580,91,417,114,31,496,43,173,458,43,62,385,529,127,52,142,9,106,421,205,21,81,87,26,42,60,36,54,198,139,89,163,158,75]
[null,null,null,{"$f":"D98/(95*8)","v":0.33947368421052632},{"$f":"E98/(95*8)","v":5.2631578947368418E-2},0.23421052631578948,7.6315789473684212E-2,0.16315789473684211,0.20394736842105263,7.7631578947368426E-2,7.4999999999999997E-2,0.14078947368421052,0.13026315789473683,6.1842105263157893E-2,0.125,0.81184210526315792,0.31447368421052629,0.15394736842105264,6.5789473684210523E-2,6.0526315789473685E-2,0.76315789473684215,0.11973684210526316,0.54868421052631577,0.15,4.0789473684210528E-2,0.65263157894736845,5.6578947368421055E-2,0.22763157894736843,0.60263157894736841,5.6578947368421055E-2,8.1578947368421056E-2,0.50657894736842102,0.69605263157894737,0.16710526315789473,6.8421052631578952E-2,0.18684210526315789,1.1842105263157895E-2,0.13947368421052631,0.55394736842105263,0.26973684210526316,2.763157894736842E-2,0.10657894736842105,0.11447368421052631,3.4210526315789476E-2,5.526315789473684E-2,7.8947368421052627E-2,4.736842105263158E-2,7.1052631578947367E-2,0.26052631578947366,0.18289473684210528,0.11710526315789474,0.21447368421052632,0.20789473684210527,9.8684210526315791E-2]

{"sheet":"EMP","index":16,"n_rows":99,"n_cols":56,"rows_kept":99,"cut":false,"hidden":true,"merged":[[84,0,91,0],[92,0,94,0],[95,0,96,0],[57,0,83,0],[0,51,0,53],[2,0,56,0],[0,3,0,7],[0,8,0,14],[0,15,0,24],[0,25,0,37],[0,38,0,44],[0,45,0,50]]}
[null,null,null,"Social",null,null,null,null,"Health",null,null,null,null,null,null,"Environment",null,null,null,null,null,null,null,null,null,"Economic",null,null,null,null,null,null,null,null,null,null,null,null,"Security & Safety",null,null,null,null,null,null,"Quality",null,null,null,null,null,"Time"]
[null,null,"EEM/NEB","Employee satisfaction","Alleviation of energy poverty","Customers (new, satisfaction, etc.)","Improved supply chain relationships","Work performance","Health and well-being","(avoided) mortality","Disease burden \"daly\"","Sickness & absenteeism","Improved air quality","Improved lighting","Reduced noise","Emission reduction","Impact of EE on RES target achievement ","Ecosystem degradation","Reduced water use ","Reduced material consumption","Reduced emissions (dust, CO2, chemical agents etc.)","Reduced noise pollution","Reduced use of non-renewable resources ","Reduced litigations risks","Reduced waste","Improvement of compatitiveness","Innovation impacts","Reduction of (maintenance) costs","Reduction of emission or disposal fees","Shorter production cycle","Increased production yields","Increased real estate value","Reduction of (operating) costs","Macro economy","Usage of waste streams","Turnover of energy efficiency goods ","Employment effects","Impact on public budgets","Energy security","Security of supply / self sufficiency","Supplier diversity ","Operation safety of equipment","Less maintenance","Electrical safety","Reduced injuries","Accurate monitoring","Right First Time","Increased quality of products","Increased corporate image","Increased regulatory compliance","Risk reduction","Increased productivity","Increased equipment lifetime","Reduced time of fault detection"]
["Building","Envelope",{"$f":"Sheet1!O162","v":"Improvement to visible building envelope elements"},{"$f":"SUM(AUT_emp:POR_emp!D3)","v":6},{"$f":"SUM(AUT_emp:POR_emp!E3)","v":0},{"$f":"SUM(AUT_emp:POR_emp!F3)","v":2},{"$f":"SUM(AUT_emp:POR_emp!G3)","v":2},{"$f":"SUM(AUT_emp:POR_emp!H3)","v":2},{"$f":"SUM(AUT_emp:POR_emp!I3)","v":2},{"$f":"SUM(AUT_emp:POR_emp!J3)","v":1},{"$f":"SUM(AUT_emp:POR_emp!K3)","v":2},{"$f":"SUM(AUT_emp:POR_emp!L3)","v":3},{"$f":"SUM(AUT_emp:POR_emp!M3)","v":3},{"$f":"SUM(AUT_emp:POR_emp!N3)","v":3},{"$f":"SUM(AUT_emp:POR_emp!O3)","v":3},{"$f":"SUM(AUT_emp:POR_emp!P3)","v":4},{"$f":"SUM(AUT_emp:POR_emp!Q3)","v":1},{"$f":"SUM(AUT_emp:POR_emp!R3)","v":2},{"$f":"SUM(AUT_emp:POR_emp!S3)","v":0},{"$f":"SUM(AUT_emp:POR_emp!T3)","v":0},{"$f":"SUM(AUT_emp:POR_emp!U3)","v":3},{"$f":"SUM(AUT_emp:POR_emp!V3)","v":2},{"$f":"SUM(AUT_emp:POR_emp!W3)","v":1},{"$f":"SUM(AUT_emp:POR_emp!X3)","v":0},{"$f":"SUM(AUT_emp:POR_emp!Y3)","v":0},{"$f":"SUM(AUT_emp:POR_emp!Z3)","v":2},{"$f":"SUM(AUT_emp:POR_emp!AA3)","v":0},{"$f":"SUM(AUT_emp:POR_emp!AB3)","v":0},{"$f":"SUM(AUT_emp:POR_emp!AC3)","v":1},{"$f":"SUM(AUT_emp:POR_emp!AD3)","v":0},{"$f":"SUM(AUT_emp:POR_emp!AE3)","v":0},{"$f":"SUM(AUT_emp:POR_emp!AF3)","v":2},{"$f":"SUM(AUT_emp:POR_emp!AG3)","v":1},{"$f":"SUM(AUT_emp:POR_emp!AH3)","v":0},{"$f":"SUM(AUT_emp:POR_emp!AI3)","v":0},{"$f":"SUM(AUT_emp:POR_emp!AJ3)","v":0},{"$f":"SUM(AUT_emp:POR_emp!AK3)","v":1},{"$f":"SUM(AUT_emp:POR_emp!AL3)","v":1},{"$f":"SUM(AUT_emp:POR_emp!AM3)","v":1},{"$f":"SUM(AUT_emp:POR_emp!AN3)","v":0},{"$f":"SUM(AUT_emp:POR_emp!AO3)","v":0},{"$f":"SUM(AUT_emp:POR_emp!AP3)","v":1},{"$f":"SUM(AUT_emp:POR_emp!AQ3)","v":1},{"$f":"SUM(AUT_emp:POR_emp!AR3)","v":1},{"$f":"SUM(AUT_emp:POR_emp!AS3)","v":1},{"$f":"SUM(AUT_emp:POR_emp!AT3)","v":0},{"$f":"SUM(AUT_emp:POR_emp!AU3)","v":0},{"$f":"SUM(AUT_emp:POR_emp!AV3)","v":1},{"$f":"SUM(AUT_emp:POR_emp!AW3)","v":3},{"$f":"SUM(AUT_emp:POR_emp!AX3)","v":1},{"$f":"SUM(AUT_emp:POR_emp!AY3)","v":1},{"$f":"SUM(AUT_emp:POR_emp!AZ3)","v":2},{"$f":"SUM(AUT_emp:POR_emp!BA3)","v":1},{"$f":"SUM(AUT_emp:POR_emp!BB3)","v":0},{"$f":"SUM(D3:BB3)","v":64},{"$f":"BC3/(51*8)","v":0.15686274509803921}]
[null,"Envelope",{"$f":"Sheet1!O163","v":"Improvements to non-visible building envelope elements"},{"$f":"SUM(AUT_emp:POR_emp!D4)","v":4},{"$f":"SUM(AUT_emp:POR_emp!E4)","v":1},{"$f":"SUM(AUT_emp:POR_emp!F4)","v":1},{"$f":"SUM(AUT_emp:POR_emp!G4)","v":0},{"$f":"SUM(AUT_emp:POR_emp!H4)","v":2},{"$f":"SUM(AUT_emp:POR_emp!I4)","v":3},{"$f":"SUM(AUT_emp:POR_emp!J4)","v":1},{"$f":"SUM(AUT_emp:POR_emp!K4)","v":3},{"$f":"SUM(AUT_emp:POR_emp!L4)","v":3},{"$f":"SUM(AUT_emp:POR_emp!M4)","v":3},{"$f":"SUM(AUT_emp:POR_emp!N4)","v":1},{"$f":"SUM(AUT_emp:POR_emp!O4)","v":3},{"$f":"SUM(AUT_emp:POR_emp!P4)","v":4},{"$f":"SUM(AUT_emp:POR_emp!Q4)","v":0},{"$f":"SUM(AUT_emp:POR_emp!R4)","v":2},{"$f":"SUM(AUT_emp:POR_emp!S4)","v":0},{"$f":"SUM(AUT_emp:POR_emp!T4)","v":0},{"$f":"SUM(AUT_emp:POR_emp!U4)","v":3},{"$f":"SUM(AUT_emp:POR_emp!V4)","v":2},{"$f":"SUM(AUT_emp:POR_emp!W4)","v":1},{"$f":"SUM(AUT_emp:POR_emp!X4)","v":0},{"$f":"SUM(AUT_emp:POR_emp!Y4)","v":0},{"$f":"SUM(AUT_emp:POR_emp!Z4)","v":2},{"$f":"SUM(AUT_emp:POR_emp!AA4)","v":0},{"$f":"SUM(AUT_emp:POR_emp!AB4)","v":0},{"$f":"SUM(AUT_emp:POR_emp!AC4)","v":1},{"$f":"SUM(AUT_emp:POR_emp!AD4)","v":0},{"$f":"SUM(AUT_emp:POR_emp!AE4)","v":0},{"$f":"SUM(AUT_emp:POR_emp!AF4)","v":2},{"$f":"SUM(AUT_emp:POR_emp!AG4)","v":0},{"$f":"SUM(AUT_emp:POR_emp!AH4)","v":0},{"$f":"SUM(AUT_emp:POR_emp!AI4)","v":0},{"$f":"SUM(AUT_emp:POR_emp!AJ4)","v":0},{"$f":"SUM(AUT_emp:POR_emp!AK4)","v":1},{"$f":"SUM(AUT_emp:POR_emp!AL4)","v":1},{"$f":"SUM(AUT_emp:POR_emp!AM4)","v":1},{"$f":"SUM(AUT_emp:POR_emp!AN4)","v":0},{"$f":"SUM(AUT_emp:POR_emp!AO4)","v":0},{"$f":"SUM(AUT_emp:POR_emp!AP4)","v":1},{"$f":"SUM(AUT_emp:POR_emp!AQ4)","v":1},{"$f":"SUM(AUT_emp:POR_emp!AR4)","v":1},{"$f":"SUM(AUT_emp:POR_emp!AS4)","v":1},{"$f":"SUM(AUT_emp:POR_emp!AT4)","v":0},{"$f":"SUM(AUT_emp:POR_emp!AU4)","v":0},{"$f":"SUM(AUT_emp:POR_emp!AV4)","v":1},{"$f":"SUM(AUT_emp:POR_emp!AW4)","v":1},{"$f":"SUM(AUT_emp:POR_emp!AX4)","v":1},{"$f":"SUM(AUT_emp:POR_emp!AY4)","v":1},{"$f":"SUM(AUT_emp:POR_emp!AZ4)","v":1},{"$f":"SUM(AUT_emp:POR_emp!BA4)","v":1},{"$f":"SUM(AUT_emp:POR_emp!BB4)","v":0},{"$f":"SUM(D4:BB4)","v":55},{"$f":"BC4/(51*8)","v":0.13480392156862744}]
[null,"Envelope",{"$f":"Sheet1!O164","v":"Replacemert of windows"},{"$f":"SUM(AUT_emp:POR_emp!D5)","v":7},{"$f":"SUM(AUT_emp:POR_emp!E5)","v":1},{"$f":"SUM(AUT_emp:POR_emp!F5)","v":3},{"$f":"SUM(AUT_emp:POR_emp!G5)","v":0},{"$f":"SUM(AUT_emp:POR_emp!H5)","v":2},{"$f":"SUM(AUT_emp:POR_emp!I5)","v":4},{"$f":"SUM(AUT_emp:POR_emp!J5)","v":1},{"$f":"SUM(AUT_emp:POR_emp!K5)","v":3},{"$f":"SUM(AUT_emp:POR_emp!L5)","v":4},{"$f":"SUM(AUT_emp:POR_emp!M5)","v":4},{"$f":"SUM(AUT_emp:POR_emp!N5)","v":4},{"$f":"SUM(AUT_emp:POR_emp!O5)","v":5},{"$f":"SUM(AUT_emp:POR_emp!P5)","v":4},{"$f":"SUM(AUT_emp:POR_emp!Q5)","v":0},{"$f":"SUM(AUT_emp:POR_emp!R5)","v":1},{"$f":"SUM(AUT_emp:POR_emp!S5)","v":0},{"$f":"SUM(AUT_emp:POR_emp!T5)","v":0},{"$f":"SUM(AUT_emp:POR_emp!U5)","v":3},{"$f":"SUM(AUT_emp:POR_emp!V5)","v":2},{"$f":"SUM(AUT_emp:POR_emp!W5)","v":1},{"$f":"SUM(AUT_emp:POR_emp!X5)","v":0},{"$f":"SUM(AUT_emp:POR_emp!Y5)","v":0},{"$f":"SUM(AUT_emp:POR_emp!Z5)","v":2},{"$f":"SUM(AUT_emp:POR_emp!AA5)","v":0},{"$f":"SUM(AUT_emp:POR_emp!AB5)","v":0},{"$f":"SUM(AUT_emp:POR_emp!AC5)","v":1},{"$f":"SUM(AUT_emp:POR_emp!AD5)","v":0},{"$f":"SUM(AUT_emp:POR_emp!AE5)","v":0},{"$f":"SUM(AUT_emp:POR_emp!AF5)","v":2},{"$f":"SUM(AUT_emp:POR_emp!AG5)","v":1},{"$f":"SUM(AUT_emp:POR_emp!AH5)","v":0},{"$f":"SUM(AUT_emp:POR_emp!AI5)","v":0},{"$f":"SUM(AUT_emp:POR_emp!AJ5)","v":0},{"$f":"SUM(AUT_emp:POR_emp!AK5)","v":1},{"$f":"SUM(AUT_emp:POR_emp!AL5)","v":1},{"$f":"SUM(AUT_emp:POR_emp!AM5)","v":1},{"$f":"SUM(AUT_emp:POR_emp!AN5)","v":0},{"$f":"SUM(AUT_emp:POR_emp!AO5)","v":0},{"$f":"SUM(AUT_emp:POR_emp!AP5)","v":1},{"$f":"SUM(AUT_emp:POR_emp!AQ5)","v":1},{"$f":"SUM(AUT_emp:POR_emp!AR5)","v":1},{"$f":"SUM(AUT_emp:POR_emp!AS5)","v":1},{"$f":"SUM(AUT_emp:POR_emp!AT5)","v":0},{"$f":"SUM(AUT_emp:POR_emp!AU5)","v":0},{"$f":"SUM(AUT_emp:POR_emp!AV5)","v":1},{"$f":"SUM(AUT_emp:POR_emp!AW5)","v":2},{"$f":"SUM(AUT_emp:POR_emp!AX5)","v":1},{"$f":"SUM(AUT_emp:POR_emp!AY5)","v":1},{"$f":"SUM(AUT_emp:POR_emp!AZ5)","v":2},{"$f":"SUM(AUT_emp:POR_emp!BA5)","v":1},{"$f":"SUM(AUT_emp:POR_emp!BB5)","v":0},70,0.17156862745098039]
[null,"Envelope",{"$f":"Sheet1!O165","v":"Increasing the air-tightness of the building"},{"$f":"SUM(AUT_emp:POR_emp!D6)","v":4},{"$f":"SUM(AUT_emp:POR_emp!E6)","v":0},{"$f":"SUM(AUT_emp:POR_emp!F6)","v":2},{"$f":"SUM(AUT_emp:POR_emp!G6)","v":0},{"$f":"SUM(AUT_emp:POR_emp!H6)","v":2},{"$f":"SUM(AUT_emp:POR_emp!I6)","v":4},{"$f":"SUM(AUT_emp:POR_emp!J6)","v":1},{"$f":"SUM(AUT_emp:POR_emp!K6)","v":3},{"$f":"SUM(AUT_emp:POR_emp!L6)","v":4},{"$f":"SUM(AUT_emp:POR_emp!M6)","v":3},{"$f":"SUM(AUT_emp:POR_emp!N6)","v":1},{"$f":"SUM(AUT_emp:POR_emp!O6)","v":3},{"$f":"SUM(AUT_emp:POR_emp!P6)","v":3},{"$f":"SUM(AUT_emp:POR_emp!Q6)","v":0},{"$f":"SUM(AUT_emp:POR_emp!R6)","v":2},{"$f":"SUM(AUT_emp:POR_emp!S6)","v":0},{"$f":"SUM(AUT_emp:POR_emp!T6)","v":0},{"$f":"SUM(AUT_emp:POR_emp!U6)","v":2},{"$f":"SUM(AUT_emp:POR_emp!V6)","v":1},{"$f":"SUM(AUT_emp:POR_emp!W6)","v":1},{"$f":"SUM(AUT_emp:POR_emp!X6)","v":0},{"$f":"SUM(AUT_emp:POR_emp!Y6)","v":0},{"$f":"SUM(AUT_emp:POR_emp!Z6)","v":2},{"$f":"SUM(AUT_emp:POR_emp!AA6)","v":0},{"$f":"SUM(AUT_emp:POR_emp!AB6)","v":0},{"$f":"SUM(AUT_emp:POR_emp!AC6)","v":1},{"$f":"SUM(AUT_emp:POR_emp!AD6)","v":0},{"$f":"SUM(AUT_emp:POR_emp!AE6)","v":0},{"$f":"SUM(AUT_emp:POR_emp!AF6)","v":1},{"$f":"SUM(AUT_emp:POR_emp!AG6)","v":1},{"$f":"SUM(AUT_emp:POR_emp!AH6)","v":0},{"$f":"SUM(AUT_emp:POR_emp!AI6)","v":0},{"$f":"SUM(AUT_emp:POR_emp!AJ6)","v":0},{"$f":"SUM(AUT_emp:POR_emp!AK6)","v":0},{"$f":"SUM(AUT_emp:POR_emp!AL6)","v":1},{"$f":"SUM(AUT_emp:POR_emp!AM6)","v":1},{"$f":"SUM(AUT_emp:POR_emp!AN6)","v":0},{"$f":"SUM(AUT_emp:POR_emp!AO6)","v":0},{"$f":"SUM(AUT_emp:POR_emp!AP6)","v":0},{"$f":"SUM(AUT_emp:POR_emp!AQ6)","v":0},{"$f":"SUM(AUT_emp:POR_emp!AR6)","v":0},{"$f":"SUM(AUT_emp:POR_emp!AS6)","v":0},{"$f":"SUM(AUT_emp:POR_emp!AT6)","v":0},{"$f":"SUM(AUT_emp:POR_emp!AU6)","v":0},{"$f":"SUM(AUT_emp:POR_emp!AV6)","v":1},{"$f":"SUM(AUT_emp:POR_emp!AW6)","v":0},{"$f":"SUM(AUT_emp:POR_emp!AX6)","v":1},{"$f":"SUM(AUT_emp:POR_emp!AY6)","v":1},{"$f":"SUM(AUT_emp:POR_emp!AZ6)","v":2},{"$f":"SUM(AUT_emp:POR_emp!BA6)","v":1},{"$f":"SUM(AUT_emp:POR_emp!BB6)","v":0},49,0.12009803921568628]
[null,"Envelope",{"$f":"Sheet1!O166","v":"Shading to reduce summer heat gains"},{"$f":"SUM(AUT_emp:POR_emp!D7)","v":7},{"$f":"SUM(AUT_emp:POR_emp!E7)","v":1},{"$f":"SUM(AUT_emp:POR_emp!F7)","v":2},{"$f":"SUM(AUT_emp:POR_emp!G7)","v":0},{"$f":"SUM(AUT_emp:POR_emp!H7)","v":4},{"$f":"SUM(AUT_emp:POR_emp!I7)","v":5},{"$f":"SUM(AUT_emp:POR_emp!J7)","v":1},{"$f":"SUM(AUT_emp:POR_emp!K7)","v":3},{"$f":"SUM(AUT_emp:POR_emp!L7)","v":5},{"$f":"SUM(AUT_emp:POR_emp!M7)","v":3},{"$f":"SUM(AUT_emp:POR_emp!N7)","v":4},{"$f":"SUM(AUT_emp:POR_emp!O7)","v":1},{"$f":"SUM(AUT_emp:POR_emp!P7)","v":3},{"$f":"SUM(AUT_emp:POR_emp!Q7)","v":0},{"$f":"SUM(AUT_emp:POR_emp!R7)","v":2},{"$f":"SUM(AUT_emp:POR_emp!S7)","v":0},{"$f":"SUM(AUT_emp:POR_emp!T7)","v":0},{"$f":"SUM(AUT_emp:POR_emp!U7)","v":2},{"$f":"SUM(AUT_emp:POR_emp!V7)","v":0},{"$f":"SUM(AUT_emp:POR_emp!W7)","v":1},{"$f":"SUM(AUT_emp:POR_emp!X7)","v":0},{"$f":"SUM(AUT_emp:POR_emp!Y7)","v":0},{"$f":"SUM(AUT_emp:POR_emp!Z7)","v":2},{"$f":"SUM(AUT_emp:POR_emp!AA7)","v":0},{"$f":"SUM(AUT_emp:POR_emp!AB7)","v":0},{"$f":"SUM(AUT_emp:POR_emp!AC7)","v":1},{"$f":"SUM(AUT_emp:POR_emp!AD7)","v":0},{"$f":"SUM(AUT_emp:POR_emp!AE7)","v":0},{"$f":"SUM(AUT_emp:POR_emp!AF7)","v":2},{"$f":"SUM(AUT_emp:POR_emp!AG7)","v":1},{"$f":"SUM(AUT_emp:POR_emp!AH7)","v":0},{"$f":"SUM(AUT_emp:POR_emp!AI7)","v":0},{"$f":"SUM(AUT_emp:POR_emp!AJ7)","v":0},{"$f":"SUM(AUT_emp:POR_emp!AK7)","v":0},{"$f":"SUM(AUT_emp:POR_emp!AL7)","v":1},{"$f":"SUM(AUT_emp:POR_emp!AM7)","v":1},{"$f":"SUM(AUT_emp:POR_emp!AN7)","v":0},{"$f":"SUM(AUT_emp:POR_emp!AO7)","v":0},{"$f":"SUM(AUT_emp:POR_emp!AP7)","v":1},{"$f":"SUM(AUT_emp:POR_emp!AQ7)","v":0},{"$f":"SUM(AUT_emp:POR_emp!AR7)","v":0},{"$f":"SUM(AUT_emp:POR_emp!AS7)","v":1},{"$f":"SUM(AUT_emp:POR_emp!AT7)","v":0},{"$f":"SUM(AUT_emp:POR_emp!AU7)","v":0},{"$f":"SUM(AUT_emp:POR_emp!AV7)","v":1},{"$f":"SUM(AUT_emp:POR_emp!AW7)","v":1},{"$f":"SUM(AUT_emp:POR_emp!AX7)","v":1},{"$f":"SUM(AUT_emp:POR_emp!AY7)","v":1},{"$f":"SUM(AUT_emp:POR_emp!AZ7)","v":2},{"$f":"SUM(AUT_emp:POR_emp!BA7)","v":1},{"$f":"SUM(AUT_emp:POR_emp!BB7)","v":0},61,0.14950980392156862]
[null,"Heating system",{"$f":"Sheet1!O168","v":"Roomwise temperature control"},{"$f":"SUM(AUT_emp:POR_emp!D8)","v":7},{"$f":"SUM(AUT_emp:POR_emp!E8)","v":0},{"$f":"SUM(AUT_emp:POR_emp!F8)","v":1},{"$f":"SUM(AUT_emp:POR_emp!G8)","v":0},{"$f":"SUM(AUT_emp:POR_emp!H8)","v":3},{"$f":"SUM(AUT_emp:POR_emp!I8)","v":5},{"$f":"SUM(AUT_emp:POR_emp!J8)","v":1},{"$f":"SUM(AUT_emp:POR_emp!K8)","v":3},{"$f":"SUM(AUT_emp:POR_emp!L8)","v":5},{"$f":"SUM(AUT_emp:POR_emp!M8)","v":4},{"$f":"SUM(AUT_emp:POR_emp!N8)","v":0},{"$f":"SUM(AUT_emp:POR_emp!O8)","v":0},{"$f":"SUM(AUT_emp:POR_emp!P8)","v":4},{"$f":"SUM(AUT_emp:POR_emp!Q8)","v":1},{"$f":"SUM(AUT_emp:POR_emp!R8)","v":2},{"$f":"SUM(AUT_emp:POR_emp!S8)","v":0},{"$f":"SUM(AUT_emp:POR_emp!T8)","v":0},{"$f":"SUM(AUT_emp:POR_emp!U8)","v":3},{"$f":"SUM(AUT_emp:POR_emp!V8)","v":0},{"$f":"SUM(AUT_emp:POR_emp!W8)","v":1},{"$f":"SUM(AUT_emp:POR_emp!X8)","v":0},{"$f":"SUM(AUT_emp:POR_emp!Y8)","v":0},{"$f":"SUM(AUT_emp:POR_emp!Z8)","v":2},{"$f":"SUM(AUT_emp:POR_emp!AA8)","v":1},{"$f":"SUM(AUT_emp:POR_emp!AB8)","v":0},{"$f":"SUM(AUT_emp:POR_emp!AC8)","v":1},{"$f":"SUM(AUT_emp:POR_emp!AD8)","v":0},{"$f":"SUM(AUT_emp:POR_emp!AE8)","v":0},{"$f":"SUM(AUT_emp:POR_emp!AF8)","v":0},{"$f":"SUM(AUT_emp:POR_emp!AG8)","v":1},{"$f":"SUM(AUT_emp:POR_emp!AH8)","v":0},{"$f":"SUM(AUT_emp:POR_emp!AI8)","v":0},{"$f":"SUM(AUT_emp:POR_emp!AJ8)","v":0},{"$f":"SUM(AUT_emp:POR_emp!AK8)","v":0},{"$f":"SUM(AUT_emp:POR_emp!AL8)","v":1},{"$f":"SUM(AUT_emp:POR_emp!AM8)","v":1},{"$f":"SUM(AUT_emp:POR_emp!AN8)","v":0},{"$f":"SUM(AUT_emp:POR_emp!AO8)","v":0},{"$f":"SUM(AUT_emp:POR_emp!AP8)","v":1},{"$f":"SUM(AUT_emp:POR_emp!AQ8)","v":1},{"$f":"SUM(AUT_emp:POR_emp!AR8)","v":0},{"$f":"SUM(AUT_emp:POR_emp!AS8)","v":1},{"$f":"SUM(AUT_emp:POR_emp!AT8)","v":1},{"$f":"SUM(AUT_emp:POR_emp!AU8)","v":0},{"$f":"SUM(AUT_emp:POR_emp!AV8)","v":0},{"$f":"SUM(AUT_emp:POR_emp!AW8)","v":0},{"$f":"SUM(AUT_emp:POR_emp!AX8)","v":0},{"$f":"SUM(AUT_emp:POR_emp!AY8)","v":0},{"$f":"SUM(AUT_emp:POR_emp!AZ8)","v":1},{"$f":"SUM(AUT_emp:POR_emp!BA8)","v":1},{"$f":"SUM(AUT_emp:POR_emp!BB8)","v":0},53,0.12990196078431374]
[null,"Heating system",{"$f":"Sheet1!O169","v":"Zoning optimisation of the building"},{"$f":"SUM(AUT_emp:POR_emp!D9)","v":0},{"$f":"SUM(AUT_emp:POR_emp!E9)","v":0},{"$f":"SUM(AUT_emp:POR_emp!F9)","v":1},{"$f":"SUM(AUT_emp:POR_emp!G9)","v":0},{"$f":"SUM(AUT_emp:POR_emp!H9)","v":1},{"$f":"SUM(AUT_emp:POR_emp!I9)","v":2},{"$f":"SUM(AUT_emp:POR_emp!J9)","v":0},{"$f":"SUM(AUT_emp:POR_emp!K9)","v":2},{"$f":"SUM(AUT_emp:POR_emp!L9)","v":2},{"$f":"SUM(AUT_emp:POR_emp!M9)","v":1},{"$f":"SUM(AUT_emp:POR_emp!N9)","v":1},{"$f":"SUM(AUT_emp:POR_emp!O9)","v":1},{"$f":"SUM(AUT_emp:POR_emp!P9)","v":3},{"$f":"SUM(AUT_emp:POR_emp!Q9)","v":0},{"$f":"SUM(AUT_emp:POR_emp!R9)","v":2},{"$f":"SUM(AUT_emp:POR_emp!S9)","v":0},{"$f":"SUM(AUT_emp:POR_emp!T9)","v":0},{"$f":"SUM(AUT_emp:POR_emp!U9)","v":2},{"$f":"SUM(AUT_emp:POR_emp!V9)","v":0},{"$f":"SUM(AUT_emp:POR_emp!W9)","v":1},{"$f":"SUM(AUT_emp:POR_emp!X9)","v":0},{"$f":"SUM(AUT_emp:POR_emp!Y9)","v":0},{"$f":"SUM(AUT_emp:POR_emp!Z9)","v":1},{"$f":"SUM(AUT_emp:POR_emp!AA9)","v":1},{"$f":"SUM(AUT_emp:POR_emp!AB9)","v":2},{"$f":"SUM(AUT_emp:POR_emp!AC9)","v":1},{"$f":"SUM(AUT_emp:POR_emp!AD9)","v":0},{"$f":"SUM(AUT_emp:POR_emp!AE9)","v":0},{"$f":"SUM(AUT_emp:POR_emp!AF9)","v":0},{"$f":"SUM(AUT_emp:POR_emp!AG9)","v":0},{"$f":"SUM(AUT_emp:POR_emp!AH9)","v":0},{"$f":"SUM(AUT_emp:POR_emp!AI9)","v":0},{"$f":"SUM(AUT_emp:POR_emp!AJ9)","v":0},{"$f":"SUM(AUT_emp:POR_emp!AK9)","v":0},{"$f":"SUM(AUT_emp:POR_emp!AL9)","v":1},{"$f":"SUM(AUT_emp:POR_emp!AM9)","v":0},{"$f":"SUM(AUT_emp:POR_emp!AN9)","v":0},{"$f":"SUM(AUT_emp:POR_emp!AO9)","v":0},{"$f":"SUM(AUT_emp:POR_emp!AP9)","v":0},{"$f":"SUM(AUT_emp:POR_emp!AQ9)","v":1},{"$f":"SUM(AUT_emp:POR_emp!AR9)","v":0},{"$f":"SUM(AUT_emp:POR_emp!AS9)","v":1},{"$f":"SUM(AUT_emp:POR_emp!AT9)","v":0},{"$f":"SUM(AUT_emp:POR_emp!AU9)","v":0},{"$f":"SUM(AUT_emp:POR_emp!AV9)","v":0},{"$f":"SUM(AUT_emp:POR_emp!AW9)","v":0},{"$f":"SUM(AUT_emp:POR_emp!AX9)","v":0},{"$f":"SUM(AUT_emp:POR_emp!AY9)","v":0},{"$f":"SUM(AUT_emp:POR_emp!AZ9)","v":1},{"$f":"SUM(AUT_emp:POR_emp!BA9)","v":1},{"$f":"SUM(AUT_emp:POR_emp!BB9)","v":0},29,7.1078431372549017E-2]
[null,"Heating system",{"$f":"Sheet1!O170","v":"Optimisation of the heating schedule"},{"$f":"SUM(AUT_emp:POR_emp!D10)","v":3},{"$f":"SUM(AUT_emp:POR_emp!E10)","v":0},{"$f":"SUM(AUT_emp:POR_emp!F10)","v":2},{"$f":"SUM(AUT_emp:POR_emp!G10)","v":0},{"$f":"SUM(AUT_emp:POR_emp!H10)","v":1},{"$f":"SUM(AUT_emp:POR_emp!I10)","v":3},{"$f":"SUM(AUT_emp:POR_emp!J10)","v":0},{"$f":"SUM(AUT_emp:POR_emp!K10)","v":2},{"$f":"SUM(AUT_emp:POR_emp!L10)","v":2},{"$f":"SUM(AUT_emp:POR_emp!M10)","v":0},{"$f":"SUM(AUT_emp:POR_emp!N10)","v":0},{"$f":"SUM(AUT_emp:POR_emp!O10)","v":0},{"$f":"SUM(AUT_emp:POR_emp!P10)","v":4},{"$f":"SUM(AUT_emp:POR_emp!Q10)","v":0},{"$f":"SUM(AUT_emp:POR_emp!R10)","v":1},{"$f":"SUM(AUT_emp:POR_emp!S10)","v":0},{"$f":"SUM(AUT_emp:POR_emp!T10)","v":0},{"$f":"SUM(AUT_emp:POR_emp!U10)","v":2},{"$f":"SUM(AUT_emp:POR_emp!V10)","v":0},{"$f":"SUM(AUT_emp:POR_emp!W10)","v":1},{"$f":"SUM(AUT_emp:POR_emp!X10)","v":0},{"$f":"SUM(AUT_emp:POR_emp!Y10)","v":0},{"$f":"SUM(AUT_emp:POR_emp!Z10)","v":2},{"$f":"SUM(AUT_emp:POR_emp!AA10)","v":1},{"$f":"SUM(AUT_emp:POR_emp!AB10)","v":2},{"$f":"SUM(AUT_emp:POR_emp!AC10)","v":1},{"$f":"SUM(AUT_emp:POR_emp!AD10)","v":0},{"$f":"SUM(AUT_emp:POR_emp!AE10)","v":0},{"$f":"SUM(AUT_emp:POR_emp!AF10)","v":0},{"$f":"SUM(AUT_emp:POR_emp!AG10)","v":0},{"$f":"SUM(AUT_emp:POR_emp!AH10)","v":0},{"$f":"SUM(AUT_emp:POR_emp!AI10)","v":0},{"$f":"SUM(AUT_emp:POR_emp!AJ10)","v":0},{"$f":"SUM(AUT_emp:POR_emp!AK10)","v":0},{"$f":"SUM(AUT_emp:POR_emp!AL10)","v":1},{"$f":"SUM(AUT_emp:POR_emp!AM10)","v":0},{"$f":"SUM(AUT_emp:POR_emp!AN10)","v":0},{"$f":"SUM(AUT_emp:POR_emp!AO10)","v":0},{"$f":"SUM(AUT_emp:POR_emp!AP10)","v":0},{"$f":"SUM(AUT_emp:POR_emp!AQ10)","v":1},{"$f":"SUM(AUT_emp:POR_emp!AR10)","v":0},{"$f":"SUM(AUT_emp:POR_emp!AS10)","v":1},{"$f":"SUM(AUT_emp:POR_emp!AT10)","v":1},{"$f":"SUM(AUT_emp:POR_emp!AU10)","v":0},{"$f":"SUM(AUT_emp:POR_emp!AV10)","v":0},{"$f":"SUM(AUT_emp:POR_emp!AW10)","v":0},{"$f":"SUM(AUT_emp:POR_emp!AX10)","v":0},{"$f":"SUM(AUT_emp:POR_emp!AY10)","v":0},{"$f":"SUM(AUT_emp:POR_emp!AZ10)","v":0},{"$f":"SUM(AUT_emp:POR_emp!BA10)","v":2},{"$f":"SUM(AUT_emp:POR_emp!BB10)","v":0},33,8.0882352941176475E-2]
[null,"Heating system",{"$f":"Sheet1!O171","v":"Lowering setpoint temperature"},{"$f":"SUM(AUT_emp:POR_emp!D11)","v":-6},{"$f":"SUM(AUT_emp:POR_emp!E11)","v":0},{"$f":"SUM(AUT_emp:POR_emp!F11)","v":-1},{"$f":"SUM(AUT_emp:POR_emp!G11)","v":0},{"$f":"SUM(AUT_emp:POR_emp!H11)","v":-1},{"$f":"SUM(AUT_emp:POR_emp!I11)","v":-4},{"$f":"SUM(AUT_emp:POR_emp!J11)","v":0},{"$f":"SUM(AUT_emp:POR_emp!K11)","v":-2},{"$f":"SUM(AUT_emp:POR_emp!L11)","v":-4},{"$f":"SUM(AUT_emp:POR_emp!M11)","v":-1},{"$f":"SUM(AUT_emp:POR_emp!N11)","v":0},{"$f":"SUM(AUT_emp:POR_emp!O11)","v":0},{"$f":"SUM(AUT_emp:POR_emp!P11)","v":4},{"$f":"SUM(AUT_emp:POR_emp!Q11)","v":1},{"$f":"SUM(AUT_emp:POR_emp!R11)","v":1},{"$f":"SUM(AUT_emp:POR_emp!S11)","v":0},{"$f":"SUM(AUT_emp:POR_emp!T11)","v":0},{"$f":"SUM(AUT_emp:POR_emp!U11)","v":3},{"$f":"SUM(AUT_emp:POR_emp!V11)","v":0},{"$f":"SUM(AUT_emp:POR_emp!W11)","v":1},{"$f":"SUM(AUT_emp:POR_emp!X11)","v":0},{"$f":"SUM(AUT_emp:POR_emp!Y11)","v":0},{"$f":"SUM(AUT_emp:POR_emp!Z11)","v":1},{"$f":"SUM(AUT_emp:POR_emp!AA11)","v":0},{"$f":"SUM(AUT_emp:POR_emp!AB11)","v":1},{"$f":"SUM(AUT_emp:POR_emp!AC11)","v":1},{"$f":"SUM(AUT_emp:POR_emp!AD11)","v":0},{"$f":"SUM(AUT_emp:POR_emp!AE11)","v":0},{"$f":"SUM(AUT_emp:POR_emp!AF11)","v":0},{"$f":"SUM(AUT_emp:POR_emp!AG11)","v":1},{"$f":"SUM(AUT_emp:POR_emp!AH11)","v":0},{"$f":"SUM(AUT_emp:POR_emp!AI11)","v":0},{"$f":"SUM(AUT_emp:POR_emp!AJ11)","v":0},{"$f":"SUM(AUT_emp:POR_emp!AK11)","v":0},{"$f":"SUM(AUT_emp:POR_emp!AL11)","v":1},{"$f":"SUM(AUT_emp:POR_emp!AM11)","v":1},{"$f":"SUM(AUT_emp:POR_emp!AN11)","v":1},{"$f":"SUM(AUT_emp:POR_emp!AO11)","v":0},{"$f":"SUM(AUT_emp:POR_emp!AP11)","v":-1},{"$f":"SUM(AUT_emp:POR_emp!AQ11)","v":0},{"$f":"SUM(AUT_emp:POR_emp!AR11)","v":0},{"$f":"SUM(AUT_emp:POR_emp!AS11)","v":-1},{"$f":"SUM(AUT_emp:POR_emp!AT11)","v":0},{"$f":"SUM(AUT_emp:POR_emp!AU11)","v":0},{"$f":"SUM(AUT_emp:POR_emp!AV11)","v":0},{"$f":"SUM(AUT_emp:POR_emp!AW11)","v":0},{"$f":"SUM(AUT_emp:POR_emp!AX11)","v":0},{"$f":"SUM(AUT_emp:POR_emp!AY11)","v":0},{"$f":"SUM(AUT_emp:POR_emp!AZ11)","v":-2},{"$f":"SUM(AUT_emp:POR_emp!BA11)","v":0},{"$f":"SUM(AUT_emp:POR_emp!BB11)","v":0},-6,-1.4705882352941176E-2]
[null,"Heating system",{"$f":"Sheet1!O172","v":"Control optimisation"},{"$f":"SUM(AUT_emp:POR_emp!D12)","v":2},{"$f":"SUM(AUT_emp:POR_emp!E12)","v":0},{"$f":"SUM(AUT_emp:POR_emp!F12)","v":1},{"$f":"SUM(AUT_emp:POR_emp!G12)","v":0},{"$f":"SUM(AUT_emp:POR_emp!H12)","v":2},{"$f":"SUM(AUT_emp:POR_emp!I12)","v":2},{"$f":"SUM(AUT_emp:POR_emp!J12)","v":0},{"$f":"SUM(AUT_emp:POR_emp!K12)","v":1},{"$f":"SUM(AUT_emp:POR_emp!L12)","v":2},{"$f":"SUM(AUT_emp:POR_emp!M12)","v":2},{"$f":"SUM(AUT_emp:POR_emp!N12)","v":0},{"$f":"SUM(AUT_emp:POR_emp!O12)","v":0},{"$f":"SUM(AUT_emp:POR_emp!P12)","v":3},{"$f":"SUM(AUT_emp:POR_emp!Q12)","v":0},{"$f":"SUM(AUT_emp:POR_emp!R12)","v":1},{"$f":"SUM(AUT_emp:POR_emp!S12)","v":0},{"$f":"SUM(AUT_emp:POR_emp!T12)","v":0},{"$f":"SUM(AUT_emp:POR_emp!U12)","v":3},{"$f":"SUM(AUT_emp:POR_emp!V12)","v":0},{"$f":"SUM(AUT_emp:POR_emp!W12)","v":1},{"$f":"SUM(AUT_emp:POR_emp!X12)","v":0},{"$f":"SUM(AUT_emp:POR_emp!Y12)","v":0},{"$f":"SUM(AUT_emp:POR_emp!Z12)","v":1},{"$f":"SUM(AUT_emp:POR_emp!AA12)","v":1},{"$f":"SUM(AUT_emp:POR_emp!AB12)","v":2},{"$f":"SUM(AUT_emp:POR_emp!AC12)","v":1},{"$f":"SUM(AUT_emp:POR_emp!AD12)","v":1},{"$f":"SUM(AUT_emp:POR_emp!AE12)","v":0},{"$f":"SUM(AUT_emp:POR_emp!AF12)","v":0},{"$f":"SUM(AUT_emp:POR_emp!AG12)","v":2},{"$f":"SUM(AUT_emp:POR_emp!AH12)","v":0},{"$f":"SUM(AUT_emp:POR_emp!AI12)","v":0},{"$f":"SUM(AUT_emp:POR_emp!AJ12)","v":0},{"$f":"SUM(AUT_emp:POR_emp!AK12)","v":0},{"$f":"SUM(AUT_emp:POR_emp!AL12)","v":1},{"$f":"SUM(AUT_emp:POR_emp!AM12)","v":0},{"$f":"SUM(AUT_emp:POR_emp!AN12)","v":0},{"$f":"SUM(AUT_emp:POR_emp!AO12)","v":0},{"$f":"SUM(AUT_emp:POR_emp!AP12)","v":1},{"$f":"SUM(AUT_emp:POR_emp!AQ12)","v":2},{"$f":"SUM(AUT_emp:POR_emp!AR12)","v":0},{"$f":"SUM(AUT_emp:POR_emp!AS12)","v":1},{"$f":"SUM(AUT_emp:POR_emp!AT12)","v":1},{"$f":"SUM(AUT_emp:POR_emp!AU12)","v":0},{"$f":"SUM(AUT_emp:POR_emp!AV12)","v":0},{"$f":"SUM(AUT_emp:POR_emp!AW12)","v":0},{"$f":"SUM(AUT_emp:POR_emp!AX12)","v":1},{"$f":"SUM(AUT_emp:POR_emp!AY12)","v":2},{"$f":"SUM(AUT_emp:POR_emp!AZ12)","v":0},{"$f":"SUM(AUT_emp:POR_emp!BA12)","v":1},{"$f":"SUM(AUT_emp:POR_emp!BB12)","v":1},39,9.5588235294117641E-2]
[null,"Heating system",{"$f":"Sheet1!O173","v":"Insulation of the distribution network"},{"$f":"SUM(AUT_emp:POR_emp!D13)","v":0},{"$f":"SUM(AUT_emp:POR_emp!E13)","v":0},{"$f":"SUM(AUT_emp:POR_emp!F13)","v":0},{"$f":"SUM(AUT_emp:POR_emp!G13)","v":0},{"$f":"SUM(AUT_emp:POR_emp!H13)","v":0},{"$f":"SUM(AUT_emp:POR_emp!I13)","v":1},{"$f":"SUM(AUT_emp:POR_emp!J13)","v":0},{"$f":"SUM(AUT_emp:POR_emp!K13)","v":1},{"$f":"SUM(AUT_emp:POR_emp!L13)","v":1},{"$f":"SUM(AUT_emp:POR_emp!M13)","v":0},{"$f":"SUM(AUT_emp:POR_emp!N13)","v":0},{"$f":"SUM(AUT_emp:POR_emp!O13)","v":0},{"$f":"SUM(AUT_emp:POR_emp!P13)","v":4},{"$f":"SUM(AUT_emp:POR_emp!Q13)","v":0},{"$f":"SUM(AUT_emp:POR_emp!R13)","v":2},{"$f":"SUM(AUT_emp:POR_emp!S13)","v":0},{"$f":"SUM(AUT_emp:POR_emp!T13)","v":0},{"$f":"SUM(AUT_emp:POR_emp!U13)","v":3},{"$f":"SUM(AUT_emp:POR_emp!V13)","v":1},{"$f":"SUM(AUT_emp:POR_emp!W13)","v":2},{"$f":"SUM(AUT_emp:POR_emp!X13)","v":1},{"$f":"SUM(AUT_emp:POR_emp!Y13)","v":1},{"$f":"SUM(AUT_emp:POR_emp!Z13)","v":1},{"$f":"SUM(AUT_emp:POR_emp!AA13)","v":0},{"$f":"SUM(AUT_emp:POR_emp!AB13)","v":0},{"$f":"SUM(AUT_emp:POR_emp!AC13)","v":1},{"$f":"SUM(AUT_emp:POR_emp!AD13)","v":0},{"$f":"SUM(AUT_emp:POR_emp!AE13)","v":0},{"$f":"SUM(AUT_emp:POR_emp!AF13)","v":1},{"$f":"SUM(AUT_emp:POR_emp!AG13)","v":2},{"$f":"SUM(AUT_emp:POR_emp!AH13)","v":0},{"$f":"SUM(AUT_emp:POR_emp!AI13)","v":0},{"$f":"SUM(AUT_emp:POR_emp!AJ13)","v":0},{"$f":"SUM(AUT_emp:POR_emp!AK13)","v":0},{"$f":"SUM(AUT_emp:POR_emp!AL13)","v":1},{"$f":"SUM(AUT_emp:POR_emp!AM13)","v":0},{"$f":"SUM(AUT_emp:POR_emp!AN13)","v":0},{"$f":"SUM(AUT_emp:POR_emp!AO13)","v":0},{"$f":"SUM(AUT_emp:POR_emp!AP13)","v":1},{"$f":"SUM(AUT_emp:POR_emp!AQ13)","v":1},{"$f":"SUM(AUT_emp:POR_emp!AR13)","v":1},{"$f":"SUM(AUT_emp:POR_emp!AS13)","v":1},{"$f":"SUM(AUT_emp:POR_emp!AT13)","v":0},{"$f":"SUM(AUT_emp:POR_emp!AU13)","v":0},{"$f":"SUM(AUT_emp:POR_emp!AV13)","v":0},{"$f":"SUM(AUT_emp:POR_emp!AW13)","v":0},{"$f":"SUM(AUT_emp:POR_emp!AX13)","v":0},{"$f":"SUM(AUT_emp:POR_emp!AY13)","v":0},{"$f":"SUM(AUT_emp:POR_emp!AZ13)","v":0},{"$f":"SUM(AUT_emp:POR_emp!BA13)","v":1},{"$f":"SUM(AUT_emp:POR_emp!BB13)","v":0},28,6.8627450980392163E-2]
[null,"Heating system",{"$f":"Sheet1!O174","v":"Hydraulic balancing of the distribution network"},{"$f":"SUM(AUT_emp:POR_emp!D14)","v":2},{"$f":"SUM(AUT_emp:POR_emp!E14)","v":0},{"$f":"SUM(AUT_emp:POR_emp!F14)","v":0},{"$f":"SUM(AUT_emp:POR_emp!G14)","v":0},{"$f":"SUM(AUT_emp:POR_emp!H14)","v":0},{"$f":"SUM(AUT_emp:POR_emp!I14)","v":0},{"$f":"SUM(AUT_emp:POR_emp!J14)","v":0},{"$f":"SUM(AUT_emp:POR_emp!K14)","v":0},{"$f":"SUM(AUT_emp:POR_emp!L14)","v":1},{"$f":"SUM(AUT_emp:POR_emp!M14)","v":0},{"$f":"SUM(AUT_emp:POR_emp!N14)","v":0},{"$f":"SUM(AUT_emp:POR_emp!O14)","v":1},{"$f":"SUM(AUT_emp:POR_emp!P14)","v":2},{"$f":"SUM(AUT_emp:POR_emp!Q14)","v":0},{"$f":"SUM(AUT_emp:POR_emp!R14)","v":1},{"$f":"SUM(AUT_emp:POR_emp!S14)","v":1},{"$f":"SUM(AUT_emp:POR_emp!T14)","v":0},{"$f":"SUM(AUT_emp:POR_emp!U14)","v":1},{"$f":"SUM(AUT_emp:POR_emp!V14)","v":0},{"$f":"SUM(AUT_emp:POR_emp!W14)","v":1},{"$f":"SUM(AUT_emp:POR_emp!X14)","v":0},{"$f":"SUM(AUT_emp:POR_emp!Y14)","v":0},{"$f":"SUM(AUT_emp:POR_emp!Z14)","v":1},{"$f":"SUM(AUT_emp:POR_emp!AA14)","v":0},{"$f":"SUM(AUT_emp:POR_emp!AB14)","v":1},{"$f":"SUM(AUT_emp:POR_emp!AC14)","v":0},{"$f":"SUM(AUT_emp:POR_emp!AD14)","v":0},{"$f":"SUM(AUT_emp:POR_emp!AE14)","v":0},{"$f":"SUM(AUT_emp:POR_emp!AF14)","v":0},{"$f":"SUM(AUT_emp:POR_emp!AG14)","v":1},{"$f":"SUM(AUT_emp:POR_emp!AH14)","v":0},{"$f":"SUM(AUT_emp:POR_emp!AI14)","v":0},{"$f":"SUM(AUT_emp:POR_emp!AJ14)","v":0},{"$f":"SUM(AUT_emp:POR_emp!AK14)","v":0},{"$f":"SUM(AUT_emp:POR_emp!AL14)","v":1},{"$f":"SUM(AUT_emp:POR_emp!AM14)","v":0},{"$f":"SUM(AUT_emp:POR_emp!AN14)","v":0},{"$f":"SUM(AUT_emp:POR_emp!AO14)","v":0},{"$f":"SUM(AUT_emp:POR_emp!AP14)","v":1},{"$f":"SUM(AUT_emp:POR_emp!AQ14)","v":1},{"$f":"SUM(AUT_emp:POR_emp!AR14)","v":1},{"$f":"SUM(AUT_emp:POR_emp!AS14)","v":1},{"$f":"SUM(AUT_emp:POR_emp!AT14)","v":0},{"$f":"SUM(AUT_emp:POR_emp!AU14)","v":0},{"$f":"SUM(AUT_emp:POR_emp!AV14)","v":0},{"$f":"SUM(AUT_emp:POR_emp!AW14)","v":0},{"$f":"SUM(AUT_emp:POR_emp!AX14)","v":0},{"$f":"SUM(AUT_emp:POR_emp!AY14)","v":0},{"$f":"SUM(AUT_emp:POR_emp!AZ14)","v":0},{"$f":"SUM(AUT_emp:POR_emp!BA14)","v":2},{"$f":"SUM(AUT_emp:POR_emp!BB14)","v":0},20,4.9019607843137254E-2]
[null,"Heating system",{"$f":"Sheet1!O175","v":"New, more efficient heat generator"},{"$f":"SUM(AUT_emp:POR_emp!D15)","v":0},{"$f":"SUM(AUT_emp:POR_emp!E15)","v":0},{"$f":"SUM(AUT_emp:POR_emp!F15)","v":0},{"$f":"SUM(AUT_emp:POR_emp!G15)","v":0},{"$f":"SUM(AUT_emp:POR_emp!H15)","v":0},{"$f":"SUM(AUT_emp:POR_emp!I15)","v":0},{"$f":"SUM(AUT_emp:POR_emp!J15)","v":0},{"$f":"SUM(AUT_emp:POR_emp!K15)","v":0},{"$f":"SUM(AUT_emp:POR_emp!L15)","v":0},{"$f":"SUM(AUT_emp:POR_emp!M15)","v":0},{"$f":"SUM(AUT_emp:POR_emp!N15)","v":0},{"$f":"SUM(AUT_emp:POR_emp!O15)","v":2},{"$f":"SUM(AUT_emp:POR_emp!P15)","v":3},{"$f":"SUM(AUT_emp:POR_emp!Q15)","v":0},{"$f":"SUM(AUT_emp:POR_emp!R15)","v":1},{"$f":"SUM(AUT_emp:POR_emp!S15)","v":0},{"$f":"SUM(AUT_emp:POR_emp!T15)","v":0},{"$f":"SUM(AUT_emp:POR_emp!U15)","v":3},{"$f":"SUM(AUT_emp:POR_emp!V15)","v":2},{"$f":"SUM(AUT_emp:POR_emp!W15)","v":1},{"$f":"SUM(AUT_emp:POR_emp!X15)","v":0},{"$f":"SUM(AUT_emp:POR_emp!Y15)","v":0},{"$f":"SUM(AUT_emp:POR_emp!Z15)","v":1},{"$f":"SUM(AUT_emp:POR_emp!AA15)","v":1},{"$f":"SUM(AUT_emp:POR_emp!AB15)","v":2},{"$f":"SUM(AUT_emp:POR_emp!AC15)","v":1},{"$f":"SUM(AUT_emp:POR_emp!AD15)","v":0},{"$f":"SUM(AUT_emp:POR_emp!AE15)","v":0},{"$f":"SUM(AUT_emp:POR_emp!AF15)","v":0},{"$f":"SUM(AUT_emp:POR_emp!AG15)","v":2},{"$f":"SUM(AUT_emp:POR_emp!AH15)","v":0},{"$f":"SUM(AUT_emp:POR_emp!AI15)","v":0},{"$f":"SUM(AUT_emp:POR_emp!AJ15)","v":0},{"$f":"SUM(AUT_emp:POR_emp!AK15)","v":0},{"$f":"SUM(AUT_emp:POR_emp!AL15)","v":1},{"$f":"SUM(AUT_emp:POR_emp!AM15)","v":0},{"$f":"SUM(AUT_emp:POR_emp!AN15)","v":0},{"$f":"SUM(AUT_emp:POR_emp!AO15)","v":0},{"$f":"SUM(AUT_emp:POR_emp!AP15)","v":1},{"$f":"SUM(AUT_emp:POR_emp!AQ15)","v":2},{"$f":"SUM(AUT_emp:POR_emp!AR15)","v":1},{"$f":"SUM(AUT_emp:POR_emp!AS15)","v":1},{"$f":"SUM(AUT_emp:POR_emp!AT15)","v":0},{"$f":"SUM(AUT_emp:POR_emp!AU15)","v":0},{"$f":"SUM(AUT_emp:POR_emp!AV15)","v":0},{"$f":"SUM(AUT_emp:POR_emp!AW15)","v":0},{"$f":"SUM(AUT_emp:POR_emp!AX15)","v":0},{"$f":"SUM(AUT_emp:POR_emp!AY15)","v":0},{"$f":"SUM(AUT_emp:POR_emp!AZ15)","v":0},{"$f":"SUM(AUT_emp:POR_emp!BA15)","v":0},{"$f":"SUM(AUT_emp:POR_emp!BB15)","v":0},25,6.1274509803921566E-2]
[null,"Heating system",{"$f":"Sheet1!O176","v":"Including a renewable based heat source"},{"$f":"SUM(AUT_emp:POR_emp!D16)","v":1},{"$f":"SUM(AUT_emp:POR_emp!E16)","v":0},{"$f":"SUM(AUT_emp:POR_emp!F16)","v":0},{"$f":"SUM(AUT_emp:POR_emp!G16)","v":0},{"$f":"SUM(AUT_emp:POR_emp!H16)","v":0},{"$f":"SUM(AUT_emp:POR_emp!I16)","v":0},{"$f":"SUM(AUT_emp:POR_emp!J16)","v":0},{"$f":"SUM(AUT_emp:POR_emp!K16)","v":0},{"$f":"SUM(AUT_emp:POR_emp!L16)","v":0},{"$f":"SUM(AUT_emp:POR_emp!M16)","v":0},{"$f":"SUM(AUT_emp:POR_emp!N16)","v":0},{"$f":"SUM(AUT_emp:POR_emp!O16)","v":0},{"$f":"SUM(AUT_emp:POR_emp!P16)","v":4},{"$f":"SUM(AUT_emp:POR_emp!Q16)","v":0},{"$f":"SUM(AUT_emp:POR_emp!R16)","v":1},{"$f":"SUM(AUT_emp:POR_emp!S16)","v":0},{"$f":"SUM(AUT_emp:POR_emp!T16)","v":0},{"$f":"SUM(AUT_emp:POR_emp!U16)","v":4},{"$f":"SUM(AUT_emp:POR_emp!V16)","v":0},{"$f":"SUM(AUT_emp:POR_emp!W16)","v":3},{"$f":"SUM(AUT_emp:POR_emp!X16)","v":0},{"$f":"SUM(AUT_emp:POR_emp!Y16)","v":0},{"$f":"SUM(AUT_emp:POR_emp!Z16)","v":1},{"$f":"SUM(AUT_emp:POR_emp!AA16)","v":1},{"$f":"SUM(AUT_emp:POR_emp!AB16)","v":0},{"$f":"SUM(AUT_emp:POR_emp!AC16)","v":1},{"$f":"SUM(AUT_emp:POR_emp!AD16)","v":0},{"$f":"SUM(AUT_emp:POR_emp!AE16)","v":0},{"$f":"SUM(AUT_emp:POR_emp!AF16)","v":0},{"$f":"SUM(AUT_emp:POR_emp!AG16)","v":0},{"$f":"SUM(AUT_emp:POR_emp!AH16)","v":0},{"$f":"SUM(AUT_emp:POR_emp!AI16)","v":0},{"$f":"SUM(AUT_emp:POR_emp!AJ16)","v":0},{"$f":"SUM(AUT_emp:POR_emp!AK16)","v":0},{"$f":"SUM(AUT_emp:POR_emp!AL16)","v":1},{"$f":"SUM(AUT_emp:POR_emp!AM16)","v":1},{"$f":"SUM(AUT_emp:POR_emp!AN16)","v":1},{"$f":"SUM(AUT_emp:POR_emp!AO16)","v":1},{"$f":"SUM(AUT_emp:POR_emp!AP16)","v":0},{"$f":"SUM(AUT_emp:POR_emp!AQ16)","v":-1},{"$f":"SUM(AUT_emp:POR_emp!AR16)","v":0},{"$f":"SUM(AUT_emp:POR_emp!AS16)","v":0},{"$f":"SUM(AUT_emp:POR_emp!AT16)","v":0},{"$f":"SUM(AUT_emp:POR_emp!AU16)","v":0},{"$f":"SUM(AUT_emp:POR_emp!AV16)","v":0},{"$f":"SUM(AUT_emp:POR_emp!AW16)","v":3},{"$f":"SUM(AUT_emp:POR_emp!AX16)","v":0},{"$f":"SUM(AUT_emp:POR_emp!AY16)","v":0},{"$f":"SUM(AUT_emp:POR_emp!AZ16)","v":0},{"$f":"SUM(AUT_emp:POR_emp!BA16)","v":0},{"$f":"SUM(AUT_emp:POR_emp!BB16)","v":0},22,5.3921568627450983E-2]
[null,"Heating system",{"$f":"Sheet1!O177","v":"Energy efficient pumps"},{"$f":"SUM(AUT_emp:POR_emp!D17)","v":0},{"$f":"SUM(AUT_emp:POR_emp!E17)","v":0},{"$f":"SUM(AUT_emp:POR_emp!F17)","v":0},{"$f":"SUM(AUT_emp:POR_emp!G17)","v":0},{"$f":"SUM(AUT_emp:POR_emp!H17)","v":0},{"$f":"SUM(AUT_emp:POR_emp!I17)","v":0},{"$f":"SUM(AUT_emp:POR_emp!J17)","v":0},{"$f":"SUM(AUT_emp:POR_emp!K17)","v":0},{"$f":"SUM(AUT_emp:POR_emp!L17)","v":0},{"$f":"SUM(AUT_emp:POR_emp!M17)","v":1},{"$f":"SUM(AUT_emp:POR_emp!N17)","v":0},{"$f":"SUM(AUT_emp:POR_emp!O17)","v":3},{"$f":"SUM(AUT_emp:POR_emp!P17)","v":3},{"$f":"SUM(AUT_emp:POR_emp!Q17)","v":0},{"$f":"SUM(AUT_emp:POR_emp!R17)","v":1},{"$f":"SUM(AUT_emp:POR_emp!S17)","v":0},{"$f":"SUM(AUT_emp:POR_emp!T17)","v":0},{"$f":"SUM(AUT_emp:POR_emp!U17)","v":2},{"$f":"SUM(AUT_emp:POR_emp!V17)","v":1},{"$f":"SUM(AUT_emp:POR_emp!W17)","v":1},{"$f":"SUM(AUT_emp:POR_emp!X17)","v":0},{"$f":"SUM(AUT_emp:POR_emp!Y17)","v":0},{"$f":"SUM(AUT_emp:POR_emp!Z17)","v":1},{"$f":"SUM(AUT_emp:POR_emp!AA17)","v":1},{"$f":"SUM(AUT_emp:POR_emp!AB17)","v":1},{"$f":"SUM(AUT_emp:POR_emp!AC17)","v":1},{"$f":"SUM(AUT_emp:POR_emp!AD17)","v":0},{"$f":"SUM(AUT_emp:POR_emp!AE17)","v":0},{"$f":"SUM(AUT_emp:POR_emp!AF17)","v":0},{"$f":"SUM(AUT_emp:POR_emp!AG17)","v":2},{"$f":"SUM(AUT_emp:POR_emp!AH17)","v":0},{"$f":"SUM(AUT_emp:POR_emp!AI17)","v":0},{"$f":"SUM(AUT_emp:POR_emp!AJ17)","v":0},{"$f":"SUM(AUT_emp:POR_emp!AK17)","v":0},{"$f":"SUM(AUT_emp:POR_emp!AL17)","v":1},{"$f":"SUM(AUT_emp:POR_emp!AM17)","v":0},{"$f":"SUM(AUT_emp:POR_emp!AN17)","v":0},{"$f":"SUM(AUT_emp:POR_emp!AO17)","v":0},{"$f":"SUM(AUT_emp:POR_emp!AP17)","v":0},{"$f":"SUM(AUT_emp:POR_emp!AQ17)","v":1},{"$f":"SUM(AUT_emp:POR_emp!AR17)","v":0},{"$f":"SUM(AUT_emp:POR_emp!AS17)","v":0},{"$f":"SUM(AUT_emp:POR_emp!AT17)","v":0},{"$f":"SUM(AUT_emp:POR_emp!AU17)","v":0},{"$f":"SUM(AUT_emp:POR_emp!AV17)","v":0},{"$f":"SUM(AUT_emp:POR_emp!AW17)","v":0},{"$f":"SUM(AUT_emp:POR_emp!AX17)","v":1},{"$f":"SUM(AUT_emp:POR_emp!AY17)","v":0},{"$f":"SUM(AUT_emp:POR_emp!AZ17)","v":0},{"$f":"SUM(AUT_emp:POR_emp!BA17)","v":0},{"$f":"SUM(AUT_emp:POR_emp!BB17)","v":0},21,5.1470588235294115E-2]
[null,"DHW system",{"$f":"Sheet1!O179","v":"Reducing the DHW demand"},{"$f":"SUM(AUT_emp:POR_emp!D18)","v":-3},{"$f":"SUM(AUT_emp:POR_emp!E18)","v":0},{"$f":"SUM(AUT_emp:POR_emp!F18)","v":0},{"$f":"SUM(AUT_emp:POR_emp!G18)","v":0},{"$f":"SUM(AUT_emp:POR_emp!H18)","v":0},{"$f":"SUM(AUT_emp:POR_emp!I18)","v":0},{"$f":"SUM(AUT_emp:POR_emp!J18)","v":0},{"$f":"SUM(AUT_emp:POR_emp!K18)","v":0},{"$f":"SUM(AUT_emp:POR_emp!L18)","v":0},{"$f":"SUM(AUT_emp:POR_emp!M18)","v":0},{"$f":"SUM(AUT_emp:POR_emp!N18)","v":0},{"$f":"SUM(AUT_emp:POR_emp!O18)","v":0},{"$f":"SUM(AUT_emp:POR_emp!P18)","v":3},{"$f":"SUM(AUT_emp:POR_emp!Q18)","v":0},{"$f":"SUM(AUT_emp:POR_emp!R18)","v":1},{"$f":"SUM(AUT_emp:POR_emp!S18)","v":3},{"$f":"SUM(AUT_emp:POR_emp!T18)","v":0},{"$f":"SUM(AUT_emp:POR_emp!U18)","v":2},{"$f":"SUM(AUT_emp:POR_emp!V18)","v":0},{"$f":"SUM(AUT_emp:POR_emp!W18)","v":1},{"$f":"SUM(AUT_emp:POR_emp!X18)","v":0},{"$f":"SUM(AUT_emp:POR_emp!Y18)","v":1},{"$f":"SUM(AUT_emp:POR_emp!Z18)","v":1},{"$f":"SUM(AUT_emp:POR_emp!AA18)","v":0},{"$f":"SUM(AUT_emp:POR_emp!AB18)","v":0},{"$f":"SUM(AUT_emp:POR_emp!AC18)","v":1},{"$f":"SUM(AUT_emp:POR_emp!AD18)","v":0},{"$f":"SUM(AUT_emp:POR_emp!AE18)","v":0},{"$f":"SUM(AUT_emp:POR_emp!AF18)","v":0},{"$f":"SUM(AUT_emp:POR_emp!AG18)","v":1},{"$f":"SUM(AUT_emp:POR_emp!AH18)","v":0},{"$f":"SUM(AUT_emp:POR_emp!AI18)","v":0},{"$f":"SUM(AUT_emp:POR_emp!AJ18)","v":0},{"$f":"SUM(AUT_emp:POR_emp!AK18)","v":0},{"$f":"SUM(AUT_emp:POR_emp!AL18)","v":1},{"$f":"SUM(AUT_emp:POR_emp!AM18)","v":0},{"$f":"SUM(AUT_emp:POR_emp!AN18)","v":0},{"$f":"SUM(AUT_emp:POR_emp!AO18)","v":0},{"$f":"SUM(AUT_emp:POR_emp!AP18)","v":0},{"$f":"SUM(AUT_emp:POR_emp!AQ18)","v":0},{"$f":"SUM(AUT_emp:POR_emp!AR18)","v":0},{"$f":"SUM(AUT_emp:POR_emp!AS18)","v":0},{"$f":"SUM(AUT_emp:POR_emp!AT18)","v":0},{"$f":"SUM(AUT_emp:POR_emp!AU18)","v":0},{"$f":"SUM(AUT_emp:POR_emp!AV18)","v":0},{"$f":"SUM(AUT_emp:POR_emp!AW18)","v":0},{"$f":"SUM(AUT_emp:POR_emp!AX18)","v":0},{"$f":"SUM(AUT_emp:POR_emp!AY18)","v":0},{"$f":"SUM(AUT_emp:POR_emp!AZ18)","v":0},{"$f":"SUM(AUT_emp:POR_emp!BA18)","v":0},{"$f":"SUM(AUT_emp:POR_emp!BB18)","v":0},12,2.9411764705882353E-2]
[null,"DHW system",{"$f":"Sheet1!O180","v":"Insulation of the distribution network"},{"$f":"SUM(AUT_emp:POR_emp!D19)","v":1},{"$f":"SUM(AUT_emp:POR_emp!E19)","v":0},{"$f":"SUM(AUT_emp:POR_emp!F19)","v":0},{"$f":"SUM(AUT_emp:POR_emp!G19)","v":0},{"$f":"SUM(AUT_emp:POR_emp!H19)","v":0},{"$f":"SUM(AUT_emp:POR_emp!I19)","v":0},{"$f":"SUM(AUT_emp:POR_emp!J19)","v":0},{"$f":"SUM(AUT_emp:POR_emp!K19)","v":0},{"$f":"SUM(AUT_emp:POR_emp!L19)","v":0},{"$f":"SUM(AUT_emp:POR_emp!M19)","v":0},{"$f":"SUM(AUT_emp:POR_emp!N19)","v":0},{"$f":"SUM(AUT_emp:POR_emp!O19)","v":0},{"$f":"SUM(AUT_emp:POR_emp!P19)","v":4},{"$f":"SUM(AUT_emp:POR_emp!Q19)","v":0},{"$f":"SUM(AUT_emp:POR_emp!R19)","v":2},{"$f":"SUM(AUT_emp:POR_emp!S19)","v":1},{"$f":"SUM(AUT_emp:POR_emp!T19)","v":0},{"$f":"SUM(AUT_emp:POR_emp!U19)","v":3},{"$f":"SUM(AUT_emp:POR_emp!V19)","v":1},{"$f":"SUM(AUT_emp:POR_emp!W19)","v":2},{"$f":"SUM(AUT_emp:POR_emp!X19)","v":1},{"$f":"SUM(AUT_emp:POR_emp!Y19)","v":1},{"$f":"SUM(AUT_emp:POR_emp!Z19)","v":1},{"$f":"SUM(AUT_emp:POR_emp!AA19)","v":0},{"$f":"SUM(AUT_emp:POR_emp!AB19)","v":0},{"$f":"SUM(AUT_emp:POR_emp!AC19)","v":1},{"$f":"SUM(AUT_emp:POR_emp!AD19)","v":0},{"$f":"SUM(AUT_emp:POR_emp!AE19)","v":0},{"$f":"SUM(AUT_emp:POR_emp!AF19)","v":1},{"$f":"SUM(AUT_emp:POR_emp!AG19)","v":1},{"$f":"SUM(AUT_emp:POR_emp!AH19)","v":0},{"$f":"SUM(AUT_emp:POR_emp!AI19)","v":0},{"$f":"SUM(AUT_emp:POR_emp!AJ19)","v":0},{"$f":"SUM(AUT_emp:POR_emp!AK19)","v":0},{"$f":"SUM(AUT_emp:POR_emp!AL19)","v":1},{"$f":"SUM(AUT_emp:POR_emp!AM19)","v":0},{"$f":"SUM(AUT_emp:POR_emp!AN19)","v":0},{"$f":"SUM(AUT_emp:POR_emp!AO19)","v":0},{"$f":"SUM(AUT_emp:POR_emp!AP19)","v":1},{"$f":"SUM(AUT_emp:POR_emp!AQ19)","v":2},{"$f":"SUM(AUT_emp:POR_emp!AR19)","v":1},{"$f":"SUM(AUT_emp:POR_emp!AS19)","v":2},{"$f":"SUM(AUT_emp:POR_emp!AT19)","v":0},{"$f":"SUM(AUT_emp:POR_emp!AU19)","v":0},{"$f":"SUM(AUT_emp:POR_emp!AV19)","v":0},{"$f":"SUM(AUT_emp:POR_emp!AW19)","v":0},{"$f":"SUM(AUT_emp:POR_emp!AX19)","v":0},{"$f":"SUM(AUT_emp:POR_emp!AY19)","v":0},{"$f":"SUM(AUT_emp:POR_emp!AZ19)","v":0},{"$f":"SUM(AUT_emp:POR_emp!BA19)","v":0},{"$f":"SUM(AUT_emp:POR_emp!BB19)","v":0},27,6.6176470588235295E-2]
[null,"DHW system",{"$f":"Sheet1!O181","v":"Lowering setpoint temperature"},{"$f":"SUM(AUT_emp:POR_emp!D20)","v":-5},{"$f":"SUM(AUT_emp:POR_emp!E20)","v":0},{"$f":"SUM(AUT_emp:POR_emp!F20)","v":0},{"$f":"SUM(AUT_emp:POR_emp!G20)","v":0},{"$f":"SUM(AUT_emp:POR_emp!H20)","v":0},{"$f":"SUM(AUT_emp:POR_emp!I20)","v":-3},{"$f":"SUM(AUT_emp:POR_emp!J20)","v":-1},{"$f":"SUM(AUT_emp:POR_emp!K20)","v":-2},{"$f":"SUM(AUT_emp:POR_emp!L20)","v":-4},{"$f":"SUM(AUT_emp:POR_emp!M20)","v":0},{"$f":"SUM(AUT_emp:POR_emp!N20)","v":0},{"$f":"SUM(AUT_emp:POR_emp!O20)","v":0},{"$f":"SUM(AUT_emp:POR_emp!P20)","v":4},{"$f":"SUM(AUT_emp:POR_emp!Q20)","v":1},{"$f":"SUM(AUT_emp:POR_emp!R20)","v":1},{"$f":"SUM(AUT_emp:POR_emp!S20)","v":0},{"$f":"SUM(AUT_emp:POR_emp!T20)","v":0},{"$f":"SUM(AUT_emp:POR_emp!U20)","v":3},{"$f":"SUM(AUT_emp:POR_emp!V20)","v":0},{"$f":"SUM(AUT_emp:POR_emp!W20)","v":1},{"$f":"SUM(AUT_emp:POR_emp!X20)","v":0},{"$f":"SUM(AUT_emp:POR_emp!Y20)","v":0},{"$f":"SUM(AUT_emp:POR_emp!Z20)","v":1},{"$f":"SUM(AUT_emp:POR_emp!AA20)","v":0},{"$f":"SUM(AUT_emp:POR_emp!AB20)","v":1},{"$f":"SUM(AUT_emp:POR_emp!AC20)","v":1},{"$f":"SUM(AUT_emp:POR_emp!AD20)","v":0},{"$f":"SUM(AUT_emp:POR_emp!AE20)","v":0},{"$f":"SUM(AUT_emp:POR_emp!AF20)","v":0},{"$f":"SUM(AUT_emp:POR_emp!AG20)","v":1},{"$f":"SUM(AUT_emp:POR_emp!AH20)","v":0},{"$f":"SUM(AUT_emp:POR_emp!AI20)","v":0},{"$f":"SUM(AUT_emp:POR_emp!AJ20)","v":0},{"$f":"SUM(AUT_emp:POR_emp!AK20)","v":0},{"$f":"SUM(AUT_emp:POR_emp!AL20)","v":1},{"$f":"SUM(AUT_emp:POR_emp!AM20)","v":0},{"$f":"SUM(AUT_emp:POR_emp!AN20)","v":0},{"$f":"SUM(AUT_emp:POR_emp!AO20)","v":0},{"$f":"SUM(AUT_emp:POR_emp!AP20)","v":0},{"$f":"SUM(AUT_emp:POR_emp!AQ20)","v":0},{"$f":"SUM(AUT_emp:POR_emp!AR20)","v":0},{"$f":"SUM(AUT_emp:POR_emp!AS20)","v":0},{"$f":"SUM(AUT_emp:POR_emp!AT20)","v":0},{"$f":"SUM(AUT_emp:POR_emp!AU20)","v":0},{"$f":"SUM(AUT_emp:POR_emp!AV20)","v":0},{"$f":"SUM(AUT_emp:POR_emp!AW20)","v":0},{"$f":"SUM(AUT_emp:POR_emp!AX20)","v":0},{"$f":"SUM(AUT_emp:POR_emp!AY20)","v":0},{"$f":"SUM(AUT_emp:POR_emp!AZ20)","v":-1},{"$f":"SUM(AUT_emp:POR_emp!BA20)","v":0},{"$f":"SUM(AUT_emp:POR_emp!BB20)","v":0},-1,-2.4509803921568627E-3]
[null,"DHW system",{"$f":"Sheet1!O182","v":"Circulation network optimisation, decentralisation of DHW production"},{"$f":"SUM(AUT_emp:POR_emp!D21)","v":1},{"$f":"SUM(AUT_emp:POR_emp!E21)","v":0},{"$f":"SUM(AUT_emp:POR_emp!F21)","v":0},{"$f":"SUM(AUT_emp:POR_emp!G21)","v":0},{"$f":"SUM(AUT_emp:POR_emp!H21)","v":0},{"$f":"SUM(AUT_emp:POR_emp!I21)","v":0},{"$f":"SUM(AUT_emp:POR_emp!J21)","v":0},{"$f":"SUM(AUT_emp:POR_emp!K21)","v":0},{"$f":"SUM(AUT_emp:POR_emp!L21)","v":0},{"$f":"SUM(AUT_emp:POR_emp!M21)","v":0},{"$f":"SUM(AUT_emp:POR_emp!N21)","v":0},{"$f":"SUM(AUT_emp:POR_emp!O21)","v":0},{"$f":"SUM(AUT_emp:POR_emp!P21)","v":3},{"$f":"SUM(AUT_emp:POR_emp!Q21)","v":0},{"$f":"SUM(AUT_emp:POR_emp!R21)","v":2},{"$f":"SUM(AUT_emp:POR_emp!S21)","v":1},{"$f":"SUM(AUT_emp:POR_emp!T21)","v":0},{"$f":"SUM(AUT_emp:POR_emp!U21)","v":2},{"$f":"SUM(AUT_emp:POR_emp!V21)","v":0},{"$f":"SUM(AUT_emp:POR_emp!W21)","v":1},{"$f":"SUM(AUT_emp:POR_emp!X21)","v":0},{"$f":"SUM(AUT_emp:POR_emp!Y21)","v":1},{"$f":"SUM(AUT_emp:POR_emp!Z21)","v":1},{"$f":"SUM(AUT_emp:POR_emp!AA21)","v":1},{"$f":"SUM(AUT_emp:POR_emp!AB21)","v":1},{"$f":"SUM(AUT_emp:POR_emp!AC21)","v":0},{"$f":"SUM(AUT_emp:POR_emp!AD21)","v":0},{"$f":"SUM(AUT_emp:POR_emp!AE21)","v":0},{"$f":"SUM(AUT_emp:POR_emp!AF21)","v":0},{"$f":"SUM(AUT_emp:POR_emp!AG21)","v":1},{"$f":"SUM(AUT_emp:POR_emp!AH21)","v":0},{"$f":"SUM(AUT_emp:POR_emp!AI21)","v":1},{"$f":"SUM(AUT_emp:POR_emp!AJ21)","v":0},{"$f":"SUM(AUT_emp:POR_emp!AK21)","v":0},{"$f":"SUM(AUT_emp:POR_emp!AL21)","v":1},{"$f":"SUM(AUT_emp:POR_emp!AM21)","v":0},{"$f":"SUM(AUT_emp:POR_emp!AN21)","v":0},{"$f":"SUM(AUT_emp:POR_emp!AO21)","v":0},{"$f":"SUM(AUT_emp:POR_emp!AP21)","v":0},{"$f":"SUM(AUT_emp:POR_emp!AQ21)","v":0},{"$f":"SUM(AUT_emp:POR_emp!AR21)","v":1},{"$f":"SUM(AUT_emp:POR_emp!AS21)","v":0},{"$f":"SUM(AUT_emp:POR_emp!AT21)","v":0},{"$f":"SUM(AUT_emp:POR_emp!AU21)","v":0},{"$f":"SUM(AUT_emp:POR_emp!AV21)","v":0},{"$f":"SUM(AUT_emp:POR_emp!AW21)","v":0},{"$f":"SUM(AUT_emp:POR_emp!AX21)","v":1},{"$f":"SUM(AUT_emp:POR_emp!AY21)","v":1},{"$f":"SUM(AUT_emp:POR_emp!AZ21)","v":0},{"$f":"SUM(AUT_emp:POR_emp!BA21)","v":1},{"$f":"SUM(AUT_emp:POR_emp!BB21)","v":0},21,5.1470588235294115E-2]
[null,"DHW system",{"$f":"Sheet1!O183","v":"New, more efficient heat generator"},{"$f":"SUM(AUT_emp:POR_emp!D22)","v":0},{"$f":"SUM(AUT_emp:POR_emp!E22)","v":0},{"$f":"SUM(AUT_emp:POR_emp!F22)","v":0},{"$f":"SUM(AUT_emp:POR_emp!G22)","v":0},{"$f":"SUM(AUT_emp:POR_emp!H22)","v":0},{"$f":"SUM(AUT_emp:POR_emp!I22)","v":0},{"$f":"SUM(AUT_emp:POR_emp!J22)","v":0},{"$f":"SUM(AUT_emp:POR_emp!K22)","v":0},{"$f":"SUM(AUT_emp:POR_emp!L22)","v":0},{"$f":"SUM(AUT_emp:POR_emp!M22)","v":0},{"$f":"SUM(AUT_emp:POR_emp!N22)","v":0},{"$f":"SUM(AUT_emp:POR_emp!O22)","v":2},{"$f":"SUM(AUT_emp:POR_emp!P22)","v":3},{"$f":"SUM(AUT_emp:POR_emp!Q22)","v":0},{"$f":"SUM(AUT_emp:POR_emp!R22)","v":1},{"$f":"SUM(AUT_emp:POR_emp!S22)","v":0},{"$f":"SUM(AUT_emp:POR_emp!T22)","v":0},{"$f":"SUM(AUT_emp:POR_emp!U22)","v":3},{"$f":"SUM(AUT_emp:POR_emp!V22)","v":2},{"$f":"SUM(AUT_emp:POR_emp!W22)","v":1},{"$f":"SUM(AUT_emp:POR_emp!X22)","v":0},{"$f":"SUM(AUT_emp:POR_emp!Y22)","v":0},{"$f":"SUM(AUT_emp:POR_emp!Z22)","v":1},{"$f":"SUM(AUT_emp:POR_emp!AA22)","v":1},{"$f":"SUM(AUT_emp:POR_emp!AB22)","v":3},{"$f":"SUM(AUT_emp:POR_emp!AC22)","v":1},{"$f":"SUM(AUT_emp:POR_emp!AD22)","v":0},{"$f":"SUM(AUT_emp:POR_emp!AE22)","v":0},{"$f":"SUM(AUT_emp:POR_emp!AF22)","v":0},{"$f":"SUM(AUT_emp:POR_emp!AG22)","v":1},{"$f":"SUM(AUT_emp:POR_emp!AH22)","v":0},{"$f":"SUM(AUT_emp:POR_emp!AI22)","v":0},{"$f":"SUM(AUT_emp:POR_emp!AJ22)","v":0},{"$f":"SUM(AUT_emp:POR_emp!AK22)","v":0},{"$f":"SUM(AUT_emp:POR_emp!AL22)","v":1},{"$f":"SUM(AUT_emp:POR_emp!AM22)","v":0},{"$f":"SUM(AUT_emp:POR_emp!AN22)","v":0},{"$f":"SUM(AUT_emp:POR_emp!AO22)","v":0},{"$f":"SUM(AUT_emp:POR_emp!AP22)","v":1},{"$f":"SUM(AUT_emp:POR_emp!AQ22)","v":1},{"$f":"SUM(AUT_emp:POR_emp!AR22)","v":1},{"$f":"SUM(AUT_emp:POR_emp!AS22)","v":1},{"$f":"SUM(AUT_emp:POR_emp!AT22)","v":0},{"$f":"SUM(AUT_emp:POR_emp!AU22)","v":0},{"$f":"SUM(AUT_emp:POR_emp!AV22)","v":0},{"$f":"SUM(AUT_emp:POR_emp!AW22)","v":2},{"$f":"SUM(AUT_emp:POR_emp!AX22)","v":0},{"$f":"SUM(AUT_emp:POR_emp!AY22)","v":0},{"$f":"SUM(AUT_emp:POR_emp!AZ22)","v":0},{"$f":"SUM(AUT_emp:POR_emp!BA22)","v":0},{"$f":"SUM(AUT_emp:POR_emp!BB22)","v":0},26,6.3725490196078427E-2]
[null,"DHW system",{"$f":"Sheet1!O184","v":"Including a renewable based heat source"},{"$f":"SUM(AUT_emp:POR_emp!D23)","v":0},{"$f":"SUM(AUT_emp:POR_emp!E23)","v":0},{"$f":"SUM(AUT_emp:POR_emp!F23)","v":0},{"$f":"SUM(AUT_emp:POR_emp!G23)","v":0},{"$f":"SUM(AUT_emp:POR_emp!H23)","v":0},{"$f":"SUM(AUT_emp:POR_emp!I23)","v":0},{"$f":"SUM(AUT_emp:POR_emp!J23)","v":0},{"$f":"SUM(AUT_emp:POR_emp!K23)","v":0},{"$f":"SUM(AUT_emp:POR_emp!L23)","v":0},{"$f":"SUM(AUT_emp:POR_emp!M23)","v":0},{"$f":"SUM(AUT_emp:POR_emp!N23)","v":0},{"$f":"SUM(AUT_emp:POR_emp!O23)","v":0},{"$f":"SUM(AUT_emp:POR_emp!P23)","v":5},{"$f":"SUM(AUT_emp:POR_emp!Q23)","v":0},{"$f":"SUM(AUT_emp:POR_emp!R23)","v":1},{"$f":"SUM(AUT_emp:POR_emp!S23)","v":0},{"$f":"SUM(AUT_emp:POR_emp!T23)","v":0},{"$f":"SUM(AUT_emp:POR_emp!U23)","v":4},{"$f":"SUM(AUT_emp:POR_emp!V23)","v":0},{"$f":"SUM(AUT_emp:POR_emp!W23)","v":3},{"$f":"SUM(AUT_emp:POR_emp!X23)","v":0},{"$f":"SUM(AUT_emp:POR_emp!Y23)","v":0},{"$f":"SUM(AUT_emp:POR_emp!Z23)","v":1},{"$f":"SUM(AUT_emp:POR_emp!AA23)","v":1},{"$f":"SUM(AUT_emp:POR_emp!AB23)","v":0},{"$f":"SUM(AUT_emp:POR_emp!AC23)","v":1},{"$f":"SUM(AUT_emp:POR_emp!AD23)","v":0},{"$f":"SUM(AUT_emp:POR_emp!AE23)","v":0},{"$f":"SUM(AUT_emp:POR_emp!AF23)","v":0},{"$f":"SUM(AUT_emp:POR_emp!AG23)","v":0},{"$f":"SUM(AUT_emp:POR_emp!AH23)","v":0},{"$f":"SUM(AUT_emp:POR_emp!AI23)","v":0},{"$f":"SUM(AUT_emp:POR_emp!AJ23)","v":0},{"$f":"SUM(AUT_emp:POR_emp!AK23)","v":0},{"$f":"SUM(AUT_emp:POR_emp!AL23)","v":1},{"$f":"SUM(AUT_emp:POR_emp!AM23)","v":1},{"$f":"SUM(AUT_emp:POR_emp!AN23)","v":1},{"$f":"SUM(AUT_emp:POR_emp!AO23)","v":1},{"$f":"SUM(AUT_emp:POR_emp!AP23)","v":0},{"$f":"SUM(AUT_emp:POR_emp!AQ23)","v":-1},{"$f":"SUM(AUT_emp:POR_emp!AR23)","v":0},{"$f":"SUM(AUT_emp:POR_emp!AS23)","v":0},{"$f":"SUM(AUT_emp:POR_emp!AT23)","v":0},{"$f":"SUM(AUT_emp:POR_emp!AU23)","v":0},{"$f":"SUM(AUT_emp:POR_emp!AV23)","v":0},{"$f":"SUM(AUT_emp:POR_emp!AW23)","v":2},{"$f":"SUM(AUT_emp:POR_emp!AX23)","v":0},{"$f":"SUM(AUT_emp:POR_emp!AY23)","v":0},{"$f":"SUM(AUT_emp:POR_emp!AZ23)","v":0},{"$f":"SUM(AUT_emp:POR_emp!BA23)","v":0},{"$f":"SUM(AUT_emp:POR_emp!BB23)","v":0},21,5.1470588235294115E-2]
[null,"Cooling system",{"$f":"Sheet1!O186","v":"Roomwise temperature control"},{"$f":"SUM(AUT_emp:POR_emp!D24)","v":7},{"$f":"SUM(AUT_emp:POR_emp!E24)","v":0},{"$f":"SUM(AUT_emp:POR_emp!F24)","v":1},{"$f":"SUM(AUT_emp:POR_emp!G24)","v":0},{"$f":"SUM(AUT_emp:POR_emp!H24)","v":3},{"$f":"SUM(AUT_emp:POR_emp!I24)","v":5},{"$f":"SUM(AUT_emp:POR_emp!J24)","v":0},{"$f":"SUM(AUT_emp:POR_emp!K24)","v":1},{"$f":"SUM(AUT_emp:POR_emp!L24)","v":3},{"$f":"SUM(AUT_emp:POR_emp!M24)","v":3},{"$f":"SUM(AUT_emp:POR_emp!N24)","v":0},{"$f":"SUM(AUT_emp:POR_emp!O24)","v":0},{"$f":"SUM(AUT_emp:POR_emp!P24)","v":4},{"$f":"SUM(AUT_emp:POR_emp!Q24)","v":1},{"$f":"SUM(AUT_emp:POR_emp!R24)","v":1},{"$f":"SUM(AUT_emp:POR_emp!S24)","v":0},{"$f":"SUM(AUT_emp:POR_emp!T24)","v":0},{"$f":"SUM(AUT_emp:POR_emp!U24)","v":3},{"$f":"SUM(AUT_emp:POR_emp!V24)","v":0},{"$f":"SUM(AUT_emp:POR_emp!W24)","v":1},{"$f":"SUM(AUT_emp:POR_emp!X24)","v":0},{"$f":"SUM(AUT_emp:POR_emp!Y24)","v":0},{"$f":"SUM(AUT_emp:POR_emp!Z24)","v":2},{"$f":"SUM(AUT_emp:POR_emp!AA24)","v":1},{"$f":"SUM(AUT_emp:POR_emp!AB24)","v":0},{"$f":"SUM(AUT_emp:POR_emp!AC24)","v":0},{"$f":"SUM(AUT_emp:POR_emp!AD24)","v":0},{"$f":"SUM(AUT_emp:POR_emp!AE24)","v":0},{"$f":"SUM(AUT_emp:POR_emp!AF24)","v":0},{"$f":"SUM(AUT_emp:POR_emp!AG24)","v":1},{"$f":"SUM(AUT_emp:POR_emp!AH24)","v":0},{"$f":"SUM(AUT_emp:POR_emp!AI24)","v":0},{"$f":"SUM(AUT_emp:POR_emp!AJ24)","v":0},{"$f":"SUM(AUT_emp:POR_emp!AK24)","v":0},{"$f":"SUM(AUT_emp:POR_emp!AL24)","v":1},{"$f":"SUM(AUT_emp:POR_emp!AM24)","v":1},{"$f":"SUM(AUT_emp:POR_emp!AN24)","v":0},{"$f":"SUM(AUT_emp:POR_emp!AO24)","v":0},{"$f":"SUM(AUT_emp:POR_emp!AP24)","v":1},{"$f":"SUM(AUT_emp:POR_emp!AQ24)","v":1},{"$f":"SUM(AUT_emp:POR_emp!AR24)","v":0},{"$f":"SUM(AUT_emp:POR_emp!AS24)","v":1},{"$f":"SUM(AUT_emp:POR_emp!AT24)","v":0},{"$f":"SUM(AUT_emp:POR_emp!AU24)","v":0},{"$f":"SUM(AUT_emp:POR_emp!AV24)","v":0},{"$f":"SUM(AUT_emp:POR_emp!AW24)","v":0},{"$f":"SUM(AUT_emp:POR_emp!AX24)","v":0},{"$f":"SUM(AUT_emp:POR_emp!AY24)","v":0},{"$f":"SUM(AUT_emp:POR_emp!AZ24)","v":1},{"$f":"SUM(AUT_emp:POR_emp!BA24)","v":0},{"$f":"SUM(AUT_emp:POR_emp!BB24)","v":0},43,0.1053921568627451]
[null,"Cooling system",{"$f":"Sheet1!O187","v":"Zoning optimisation of the building"},{"$f":"SUM(AUT_emp:POR_emp!D25)","v":2},{"$f":"SUM(AUT_emp:POR_emp!E25)","v":0},{"$f":"SUM(AUT_emp:POR_emp!F25)","v":1},{"$f":"SUM(AUT_emp:POR_emp!G25)","v":0},{"$f":"SUM(AUT_emp:POR_emp!H25)","v":1},{"$f":"SUM(AUT_emp:POR_emp!I25)","v":2},{"$f":"SUM(AUT_emp:POR_emp!J25)","v":0},{"$f":"SUM(AUT_emp:POR_emp!K25)","v":1},{"$f":"SUM(AUT_emp:POR_emp!L25)","v":1},{"$f":"SUM(AUT_emp:POR_emp!M25)","v":1},{"$f":"SUM(AUT_emp:POR_emp!N25)","v":1},{"$f":"SUM(AUT_emp:POR_emp!O25)","v":1},{"$f":"SUM(AUT_emp:POR_emp!P25)","v":3},{"$f":"SUM(AUT_emp:POR_emp!Q25)","v":0},{"$f":"SUM(AUT_emp:POR_emp!R25)","v":1},{"$f":"SUM(AUT_emp:POR_emp!S25)","v":0},{"$f":"SUM(AUT_emp:POR_emp!T25)","v":0},{"$f":"SUM(AUT_emp:POR_emp!U25)","v":2},{"$f":"SUM(AUT_emp:POR_emp!V25)","v":0},{"$f":"SUM(AUT_emp:POR_emp!W25)","v":1},{"$f":"SUM(AUT_emp:POR_emp!X25)","v":0},{"$f":"SUM(AUT_emp:POR_emp!Y25)","v":0},{"$f":"SUM(AUT_emp:POR_emp!Z25)","v":1},{"$f":"SUM(AUT_emp:POR_emp!AA25)","v":1},{"$f":"SUM(AUT_emp:POR_emp!AB25)","v":1},{"$f":"SUM(AUT_emp:POR_emp!AC25)","v":0},{"$f":"SUM(AUT_emp:POR_emp!AD25)","v":0},{"$f":"SUM(AUT_emp:POR_emp!AE25)","v":0},{"$f":"SUM(AUT_emp:POR_emp!AF25)","v":0},{"$f":"SUM(AUT_emp:POR_emp!AG25)","v":0},{"$f":"SUM(AUT_emp:POR_emp!AH25)","v":0},{"$f":"SUM(AUT_emp:POR_emp!AI25)","v":0},{"$f":"SUM(AUT_emp:POR_emp!AJ25)","v":0},{"$f":"SUM(AUT_emp:POR_emp!AK25)","v":0},{"$f":"SUM(AUT_emp:POR_emp!AL25)","v":1},{"$f":"SUM(AUT_emp:POR_emp!AM25)","v":0},{"$f":"SUM(AUT_emp:POR_emp!AN25)","v":0},{"$f":"SUM(AUT_emp:POR_emp!AO25)","v":0},{"$f":"SUM(AUT_emp:POR_emp!AP25)","v":0},{"$f":"SUM(AUT_emp:POR_emp!AQ25)","v":1},{"$f":"SUM(AUT_emp:POR_emp!AR25)","v":0},{"$f":"SUM(AUT_emp:POR_emp!AS25)","v":1},{"$f":"SUM(AUT_emp:POR_emp!AT25)","v":0},{"$f":"SUM(AUT_emp:POR_emp!AU25)","v":0},{"$f":"SUM(AUT_emp:POR_emp!AV25)","v":0},{"$f":"SUM(AUT_emp:POR_emp!AW25)","v":0},{"$f":"SUM(AUT_emp:POR_emp!AX25)","v":0},{"$f":"SUM(AUT_emp:POR_emp!AY25)","v":0},{"$f":"SUM(AUT_emp:POR_emp!AZ25)","v":1},{"$f":"SUM(AUT_emp:POR_emp!BA25)","v":0},{"$f":"SUM(AUT_emp:POR_emp!BB25)","v":0},25,6.1274509803921566E-2]
[null,"Cooling system",{"$f":"Sheet1!O188","v":"Optimisation of the cooling schedule"},{"$f":"SUM(AUT_emp:POR_emp!D26)","v":1},{"$f":"SUM(AUT_emp:POR_emp!E26)","v":0},{"$f":"SUM(AUT_emp:POR_emp!F26)","v":-1},{"$f":"SUM(AUT_emp:POR_emp!G26)","v":0},{"$f":"SUM(AUT_emp:POR_emp!H26)","v":1},{"$f":"SUM(AUT_emp:POR_emp!I26)","v":0},{"$f":"SUM(AUT_emp:POR_emp!J26)","v":0},{"$f":"SUM(AUT_emp:POR_emp!K26)","v":1},{"$f":"SUM(AUT_emp:POR_emp!L26)","v":1},{"$f":"SUM(AUT_emp:POR_emp!M26)","v":1},{"$f":"SUM(AUT_emp:POR_emp!N26)","v":0},{"$f":"SUM(AUT_emp:POR_emp!O26)","v":0},{"$f":"SUM(AUT_emp:POR_emp!P26)","v":4},{"$f":"SUM(AUT_emp:POR_emp!Q26)","v":1},{"$f":"SUM(AUT_emp:POR_emp!R26)","v":1},{"$f":"SUM(AUT_emp:POR_emp!S26)","v":0},{"$f":"SUM(AUT_emp:POR_emp!T26)","v":0},{"$f":"SUM(AUT_emp:POR_emp!U26)","v":3},{"$f":"SUM(AUT_emp:POR_emp!V26)","v":0},{"$f":"SUM(AUT_emp:POR_emp!W26)","v":1},{"$f":"SUM(AUT_emp:POR_emp!X26)","v":0},{"$f":"SUM(AUT_emp:POR_emp!Y26)","v":0},{"$f":"SUM(AUT_emp:POR_emp!Z26)","v":1},{"$f":"SUM(AUT_emp:POR_emp!AA26)","v":1},{"$f":"SUM(AUT_emp:POR_emp!AB26)","v":1},{"$f":"SUM(AUT_emp:POR_emp!AC26)","v":0},{"$f":"SUM(AUT_emp:POR_emp!AD26)","v":0},{"$f":"SUM(AUT_emp:POR_emp!AE26)","v":0},{"$f":"SUM(AUT_emp:POR_emp!AF26)","v":0},{"$f":"SUM(AUT_emp:POR_emp!AG26)","v":0},{"$f":"SUM(AUT_emp:POR_emp!AH26)","v":0},{"$f":"SUM(AUT_emp:POR_emp!AI26)","v":0},{"$f":"SUM(AUT_emp:POR_emp!AJ26)","v":0},{"$f":"SUM(AUT_emp:POR_emp!AK26)","v":0},{"$f":"SUM(AUT_emp:POR_emp!AL26)","v":1},{"$f":"SUM(AUT_emp:POR_emp!AM26)","v":0},{"$f":"SUM(AUT_emp:POR_emp!AN26)","v":0},{"$f":"SUM(AUT_emp:POR_emp!AO26)","v":0},{"$f":"SUM(AUT_emp:POR_emp!AP26)","v":0},{"$f":"SUM(AUT_emp:POR_emp!AQ26)","v":1},{"$f":"SUM(AUT_emp:POR_emp!AR26)","v":0},{"$f":"SUM(AUT_emp:POR_emp!AS26)","v":1},{"$f":"SUM(AUT_emp:POR_emp!AT26)","v":0},{"$f":"SUM(AUT_emp:POR_emp!AU26)","v":0},{"$f":"SUM(AUT_emp:POR_emp!AV26)","v":0},{"$f":"SUM(AUT_emp:POR_emp!AW26)","v":0},{"$f":"SUM(AUT_emp:POR_emp!AX26)","v":0},{"$f":"SUM(AUT_emp:POR_emp!AY26)","v":0},{"$f":"SUM(AUT_emp:POR_emp!AZ26)","v":0},{"$f":"SUM(AUT_emp:POR_emp!BA26)","v":1},{"$f":"SUM(AUT_emp:POR_emp!BB26)","v":0},21,5.1470588235294115E-2]
[null,"Cooling system",{"$f":"Sheet1!O189","v":"Increasing setpoint temperature"},{"$f":"SUM(AUT_emp:POR_emp!D27)","v":-6},{"$f":"SUM(AUT_emp:POR_emp!E27)","v":0},{"$f":"SUM(AUT_emp:POR_emp!F27)","v":-1},{"$f":"SUM(AUT_emp:POR_emp!G27)","v":0},{"$f":"SUM(AUT_emp:POR_emp!H27)","v":-1},{"$f":"SUM(AUT_emp:POR_emp!I27)","v":-4},{"$f":"SUM(AUT_emp:POR_emp!J27)","v":0},{"$f":"SUM(AUT_emp:POR_emp!K27)","v":-1},{"$f":"SUM(AUT_emp:POR_emp!L27)","v":-3},{"$f":"SUM(AUT_emp:POR_emp!M27)","v":-1},{"$f":"SUM(AUT_emp:POR_emp!N27)","v":0},{"$f":"SUM(AUT_emp:POR_emp!O27)","v":1},{"$f":"SUM(AUT_emp:POR_emp!P27)","v":4},{"$f":"SUM(AUT_emp:POR_emp!Q27)","v":1},{"$f":"SUM(AUT_emp:POR_emp!R27)","v":1},{"$f":"SUM(AUT_emp:POR_emp!S27)","v":0},{"$f":"SUM(AUT_emp:POR_emp!T27)","v":0},{"$f":"SUM(AUT_emp:POR_emp!U27)","v":3},{"$f":"SUM(AUT_emp:POR_emp!V27)","v":0},{"$f":"SUM(AUT_emp:POR_emp!W27)","v":1},{"$f":"SUM(AUT_emp:POR_emp!X27)","v":0},{"$f":"SUM(AUT_emp:POR_emp!Y27)","v":0},{"$f":"SUM(AUT_emp:POR_emp!Z27)","v":1},{"$f":"SUM(AUT_emp:POR_emp!AA27)","v":0},{"$f":"SUM(AUT_emp:POR_emp!AB27)","v":1},{"$f":"SUM(AUT_emp:POR_emp!AC27)","v":0},{"$f":"SUM(AUT_emp:POR_emp!AD27)","v":0},{"$f":"SUM(AUT_emp:POR_emp!AE27)","v":0},{"$f":"SUM(AUT_emp:POR_emp!AF27)","v":0},{"$f":"SUM(AUT_emp:POR_emp!AG27)","v":1},{"$f":"SUM(AUT_emp:POR_emp!AH27)","v":0},{"$f":"SUM(AUT_emp:POR_emp!AI27)","v":0},{"$f":"SUM(AUT_emp:POR_emp!AJ27)","v":0},{"$f":"SUM(AUT_emp:POR_emp!AK27)","v":0},{"$f":"SUM(AUT_emp:POR_emp!AL27)","v":1},{"$f":"SUM(AUT_emp:POR_emp!AM27)","v":1},{"$f":"SUM(AUT_emp:POR_emp!AN27)","v":1},{"$f":"SUM(AUT_emp:POR_emp!AO27)","v":0},{"$f":"SUM(AUT_emp:POR_emp!AP27)","v":-1},{"$f":"SUM(AUT_emp:POR_emp!AQ27)","v":0},{"$f":"SUM(AUT_emp:POR_emp!AR27)","v":0},{"$f":"SUM(AUT_emp:POR_emp!AS27)","v":-1},{"$f":"SUM(AUT_emp:POR_emp!AT27)","v":0},{"$f":"SUM(AUT_emp:POR_emp!AU27)","v":0},{"$f":"SUM(AUT_emp:POR_emp!AV27)","v":0},{"$f":"SUM(AUT_emp:POR_emp!AW27)","v":0},{"$f":"SUM(AUT_emp:POR_emp!AX27)","v":0},{"$f":"SUM(AUT_emp:POR_emp!AY27)","v":0},{"$f":"SUM(AUT_emp:POR_emp!AZ27)","v":-1},{"$f":"SUM(AUT_emp:POR_emp!BA27)","v":0},{"$f":"SUM(AUT_emp:POR_emp!BB27)","v":0},-3,-7.3529411764705881E-3]
[null,"Cooling system",{"$f":"Sheet1!O190","v":"Control optimisation"},{"$f":"SUM(AUT_emp:POR_emp!D28)","v":2},{"$f":"SUM(AUT_emp:POR_emp!E28)","v":0},{"$f":"SUM(AUT_emp:POR_emp!F28)","v":1},{"$f":"SUM(AUT_emp:POR_emp!G28)","v":0},{"$f":"SUM(AUT_emp:POR_emp!H28)","v":1},{"$f":"SUM(AUT_emp:POR_emp!I28)","v":1},{"$f":"SUM(AUT_emp:POR_emp!J28)","v":0},{"$f":"SUM(AUT_emp:POR_emp!K28)","v":0},{"$f":"SUM(AUT_emp:POR_emp!L28)","v":1},{"$f":"SUM(AUT_emp:POR_emp!M28)","v":3},{"$f":"SUM(AUT_emp:POR_emp!N28)","v":0},{"$f":"SUM(AUT_emp:POR_emp!O28)","v":1},{"$f":"SUM(AUT_emp:POR_emp!P28)","v":4},{"$f":"SUM(AUT_emp:POR_emp!Q28)","v":1},{"$f":"SUM(AUT_emp:POR_emp!R28)","v":1},{"$f":"SUM(AUT_emp:POR_emp!S28)","v":0},{"$f":"SUM(AUT_emp:POR_emp!T28)","v":0},{"$f":"SUM(AUT_emp:POR_emp!U28)","v":2},{"$f":"SUM(AUT_emp:POR_emp!V28)","v":0},{"$f":"SUM(AUT_emp:POR_emp!W28)","v":1},{"$f":"SUM(AUT_emp:POR_emp!X28)","v":0},{"$f":"SUM(AUT_emp:POR_emp!Y28)","v":0},{"$f":"SUM(AUT_emp:POR_emp!Z28)","v":1},{"$f":"SUM(AUT_emp:POR_emp!AA28)","v":1},{"$f":"SUM(AUT_emp:POR_emp!AB28)","v":2},{"$f":"SUM(AUT_emp:POR_emp!AC28)","v":0},{"$f":"SUM(AUT_emp:POR_emp!AD28)","v":1},{"$f":"SUM(AUT_emp:POR_emp!AE28)","v":1},{"$f":"SUM(AUT_emp:POR_emp!AF28)","v":0},{"$f":"SUM(AUT_emp:POR_emp!AG28)","v":1},{"$f":"SUM(AUT_emp:POR_emp!AH28)","v":0},{"$f":"SUM(AUT_emp:POR_emp!AI28)","v":0},{"$f":"SUM(AUT_emp:POR_emp!AJ28)","v":0},{"$f":"SUM(AUT_emp:POR_emp!AK28)","v":0},{"$f":"SUM(AUT_emp:POR_emp!AL28)","v":1},{"$f":"SUM(AUT_emp:POR_emp!AM28)","v":0},{"$f":"SUM(AUT_emp:POR_emp!AN28)","v":0},{"$f":"SUM(AUT_emp:POR_emp!AO28)","v":0},{"$f":"SUM(AUT_emp:POR_emp!AP28)","v":1},{"$f":"SUM(AUT_emp:POR_emp!AQ28)","v":2},{"$f":"SUM(AUT_emp:POR_emp!AR28)","v":0},{"$f":"SUM(AUT_emp:POR_emp!AS28)","v":0},{"$f":"SUM(AUT_emp:POR_emp!AT28)","v":1},{"$f":"SUM(AUT_emp:POR_emp!AU28)","v":0},{"$f":"SUM(AUT_emp:POR_emp!AV28)","v":0},{"$f":"SUM(AUT_emp:POR_emp!AW28)","v":0},{"$f":"SUM(AUT_emp:POR_emp!AX28)","v":1},{"$f":"SUM(AUT_emp:POR_emp!AY28)","v":1},{"$f":"SUM(AUT_emp:POR_emp!AZ28)","v":0},{"$f":"SUM(AUT_emp:POR_emp!BA28)","v":1},{"$f":"SUM(AUT_emp:POR_emp!BB28)","v":1},35,8.5784313725490197E-2]
[null,"Cooling system",{"$f":"Sheet1!O191","v":"Insulation of the distribution network"},{"$f":"SUM(AUT_emp:POR_emp!D29)","v":1},{"$f":"SUM(AUT_emp:POR_emp!E29)","v":0},{"$f":"SUM(AUT_emp:POR_emp!F29)","v":1},{"$f":"SUM(AUT_emp:POR_emp!G29)","v":0},{"$f":"SUM(AUT_emp:POR_emp!H29)","v":0},{"$f":"SUM(AUT_emp:POR_emp!I29)","v":1},{"$f":"SUM(AUT_emp:POR_emp!J29)","v":0},{"$f":"SUM(AUT_emp:POR_emp!K29)","v":0},{"$f":"SUM(AUT_emp:POR_emp!L29)","v":0},{"$f":"SUM(AUT_emp:POR_emp!M29)","v":0},{"$f":"SUM(AUT_emp:POR_emp!N29)","v":0},{"$f":"SUM(AUT_emp:POR_emp!O29)","v":0},{"$f":"SUM(AUT_emp:POR_emp!P29)","v":4},{"$f":"SUM(AUT_emp:POR_emp!Q29)","v":0},{"$f":"SUM(AUT_emp:POR_emp!R29)","v":2},{"$f":"SUM(AUT_emp:POR_emp!S29)","v":0},{"$f":"SUM(AUT_emp:POR_emp!T29)","v":0},{"$f":"SUM(AUT_emp:POR_emp!U29)","v":3},{"$f":"SUM(AUT_emp:POR_emp!V29)","v":1},{"$f":"SUM(AUT_emp:POR_emp!W29)","v":2},{"$f":"SUM(AUT_emp:POR_emp!X29)","v":1},{"$f":"SUM(AUT_emp:POR_emp!Y29)","v":1},{"$f":"SUM(AUT_emp:POR_emp!Z29)","v":1},{"$f":"SUM(AUT_emp:POR_emp!AA29)","v":0},{"$f":"SUM(AUT_emp:POR_emp!AB29)","v":1},{"$f":"SUM(AUT_emp:POR_emp!AC29)","v":0},{"$f":"SUM(AUT_emp:POR_emp!AD29)","v":0},{"$f":"SUM(AUT_emp:POR_emp!AE29)","v":0},{"$f":"SUM(AUT_emp:POR_emp!AF29)","v":0},{"$f":"SUM(AUT_emp:POR_emp!AG29)","v":1},{"$f":"SUM(AUT_emp:POR_emp!AH29)","v":0},{"$f":"SUM(AUT_emp:POR_emp!AI29)","v":0},{"$f":"SUM(AUT_emp:POR_emp!AJ29)","v":0},{"$f":"SUM(AUT_emp:POR_emp!AK29)","v":0},{"$f":"SUM(AUT_emp:POR_emp!AL29)","v":1},{"$f":"SUM(AUT_emp:POR_emp!AM29)","v":0},{"$f":"SUM(AUT_emp:POR_emp!AN29)","v":0},{"$f":"SUM(AUT_emp:POR_emp!AO29)","v":0},{"$f":"SUM(AUT_emp:POR_emp!AP29)","v":1},{"$f":"SUM(AUT_emp:POR_emp!AQ29)","v":1},{"$f":"SUM(AUT_emp:POR_emp!AR29)","v":1},{"$f":"SUM(AUT_emp:POR_emp!AS29)","v":1},{"$f":"SUM(AUT_emp:POR_emp!AT29)","v":0},{"$f":"SUM(AUT_emp:POR_emp!AU29)","v":0},{"$f":"SUM(AUT_emp:POR_emp!AV29)","v":0},{"$f":"SUM(AUT_emp:POR_emp!AW29)","v":0},{"$f":"SUM(AUT_emp:POR_emp!AX29)","v":0},{"$f":"SUM(AUT_emp:POR_emp!AY29)","v":0},{"$f":"SUM(AUT_emp:POR_emp!AZ29)","v":0},{"$f":"SUM(AUT_emp:POR_emp!BA29)","v":1},{"$f":"SUM(AUT_emp:POR_emp!BB29)","v":0},26,6.3725490196078427E-2]
[null,"Cooling system",{"$f":"Sheet1!O192","v":"Hydraulic balancing of the distribution network"},{"$f":"SUM(AUT_emp:POR_emp!D30)","v":1},{"$f":"SUM(AUT_emp:POR_emp!E30)","v":0},{"$f":"SUM(AUT_emp:POR_emp!F30)","v":0},{"$f":"SUM(AUT_emp:POR_emp!G30)","v":0},{"$f":"SUM(AUT_emp:POR_emp!H30)","v":0},{"$f":"SUM(AUT_emp:POR_emp!I30)","v":0},{"$f":"SUM(AUT_emp:POR_emp!J30)","v":0},{"$f":"SUM(AUT_emp:POR_emp!K30)","v":0},{"$f":"SUM(AUT_emp:POR_emp!L30)","v":1},{"$f":"SUM(AUT_emp:POR_emp!M30)","v":0},{"$f":"SUM(AUT_emp:POR_emp!N30)","v":0},{"$f":"SUM(AUT_emp:POR_emp!O30)","v":2},{"$f":"SUM(AUT_emp:POR_emp!P30)","v":2},{"$f":"SUM(AUT_emp:POR_emp!Q30)","v":0},{"$f":"SUM(AUT_emp:POR_emp!R30)","v":1},{"$f":"SUM(AUT_emp:POR_emp!S30)","v":1},{"$f":"SUM(AUT_emp:POR_emp!T30)","v":0},{"$f":"SUM(AUT_emp:POR_emp!U30)","v":1},{"$f":"SUM(AUT_emp:POR_emp!V30)","v":1},{"$f":"SUM(AUT_emp:POR_emp!W30)","v":1},{"$f":"SUM(AUT_emp:POR_emp!X30)","v":0},{"$f":"SUM(AUT_emp:POR_emp!Y30)","v":0},{"$f":"SUM(AUT_emp:POR_emp!Z30)","v":1},{"$f":"SUM(AUT_emp:POR_emp!AA30)","v":1},{"$f":"SUM(AUT_emp:POR_emp!AB30)","v":1},{"$f":"SUM(AUT_emp:POR_emp!AC30)","v":0},{"$f":"SUM(AUT_emp:POR_emp!AD30)","v":0},{"$f":"SUM(AUT_emp:POR_emp!AE30)","v":0},{"$f":"SUM(AUT_emp:POR_emp!AF30)","v":0},{"$f":"SUM(AUT_emp:POR_emp!AG30)","v":0},{"$f":"SUM(AUT_emp:POR_emp!AH30)","v":0},{"$f":"SUM(AUT_emp:POR_emp!AI30)","v":0},{"$f":"SUM(AUT_emp:POR_emp!AJ30)","v":0},{"$f":"SUM(AUT_emp:POR_emp!AK30)","v":0},{"$f":"SUM(AUT_emp:POR_emp!AL30)","v":1},{"$f":"SUM(AUT_emp:POR_emp!AM30)","v":0},{"$f":"SUM(AUT_emp:POR_emp!AN30)","v":0},{"$f":"SUM(AUT_emp:POR_emp!AO30)","v":0},{"$f":"SUM(AUT_emp:POR_emp!AP30)","v":1},{"$f":"SUM(AUT_emp:POR_emp!AQ30)","v":2},{"$f":"SUM(AUT_emp:POR_emp!AR30)","v":1},{"$f":"SUM(AUT_emp:POR_emp!AS30)","v":1},{"$f":"SUM(AUT_emp:POR_emp!AT30)","v":0},{"$f":"SUM(AUT_emp:POR_emp!AU30)","v":0},{"$f":"SUM(AUT_emp:POR_emp!AV30)","v":0},{"$f":"SUM(AUT_emp:POR_emp!AW30)","v":0},{"$f":"SUM(AUT_emp:POR_emp!AX30)","v":0},{"$f":"SUM(AUT_emp:POR_emp!AY30)","v":0},{"$f":"SUM(AUT_emp:POR_emp!AZ30)","v":0},{"$f":"SUM(AUT_emp:POR_emp!BA30)","v":1},{"$f":"SUM(AUT_emp:POR_emp!BB30)","v":0},21,5.1470588235294115E-2]
[null,"Cooling system",{"$f":"Sheet1!O193","v":"New, more efficient heat generator"},{"$f":"SUM(AUT_emp:POR_emp!D31)","v":0},{"$f":"SUM(AUT_emp:POR_emp!E31)","v":0},{"$f":"SUM(AUT_emp:POR_emp!F31)","v":0},{"$f":"SUM(AUT_emp:POR_emp!G31)","v":0},{"$f":"SUM(AUT_emp:POR_emp!H31)","v":0},{"$f":"SUM(AUT_emp:POR_emp!I31)","v":0},{"$f":"SUM(AUT_emp:POR_emp!J31)","v":0},{"$f":"SUM(AUT_emp:POR_emp!K31)","v":0},{"$f":"SUM(AUT_emp:POR_emp!L31)","v":0},{"$f":"SUM(AUT_emp:POR_emp!M31)","v":0},{"$f":"SUM(AUT_emp:POR_emp!N31)","v":0},{"$f":"SUM(AUT_emp:POR_emp!O31)","v":2},{"$f":"SUM(AUT_emp:POR_emp!P31)","v":3},{"$f":"SUM(AUT_emp:POR_emp!Q31)","v":0},{"$f":"SUM(AUT_emp:POR_emp!R31)","v":1},{"$f":"SUM(AUT_emp:POR_emp!S31)","v":0},{"$f":"SUM(AUT_emp:POR_emp!T31)","v":0},{"$f":"SUM(AUT_emp:POR_emp!U31)","v":3},{"$f":"SUM(AUT_emp:POR_emp!V31)","v":2},{"$f":"SUM(AUT_emp:POR_emp!W31)","v":1},{"$f":"SUM(AUT_emp:POR_emp!X31)","v":0},{"$f":"SUM(AUT_emp:POR_emp!Y31)","v":0},{"$f":"SUM(AUT_emp:POR_emp!Z31)","v":1},{"$f":"SUM(AUT_emp:POR_emp!AA31)","v":1},{"$f":"SUM(AUT_emp:POR_emp!AB31)","v":2},{"$f":"SUM(AUT_emp:POR_emp!AC31)","v":0},{"$f":"SUM(AUT_emp:POR_emp!AD31)","v":0},{"$f":"SUM(AUT_emp:POR_emp!AE31)","v":0},{"$f":"SUM(AUT_emp:POR_emp!AF31)","v":0},{"$f":"SUM(AUT_emp:POR_emp!AG31)","v":2},{"$f":"SUM(AUT_emp:POR_emp!AH31)","v":0},{"$f":"SUM(AUT_emp:POR_emp!AI31)","v":0},{"$f":"SUM(AUT_emp:POR_emp!AJ31)","v":0},{"$f":"SUM(AUT_emp:POR_emp!AK31)","v":0},{"$f":"SUM(AUT_emp:POR_emp!AL31)","v":1},{"$f":"SUM(AUT_emp:POR_emp!AM31)","v":0},{"$f":"SUM(AUT_emp:POR_emp!AN31)","v":0},{"$f":"SUM(AUT_emp:POR_emp!AO31)","v":0},{"$f":"SUM(AUT_emp:POR_emp!AP31)","v":1},{"$f":"SUM(AUT_emp:POR_emp!AQ31)","v":2},{"$f":"SUM(AUT_emp:POR_emp!AR31)","v":1},{"$f":"SUM(AUT_emp:POR_emp!AS31)","v":1},{"$f":"SUM(AUT_emp:POR_emp!AT31)","v":0},{"$f":"SUM(AUT_emp:POR_emp!AU31)","v":0},{"$f":"SUM(AUT_emp:POR_emp!AV31)","v":0},{"$f":"SUM(AUT_emp:POR_emp!AW31)","v":1},{"$f":"SUM(AUT_emp:POR_emp!AX31)","v":0},{"$f":"SUM(AUT_emp:POR_emp!AY31)","v":0},{"$f":"SUM(AUT_emp:POR_emp!AZ31)","v":0},{"$f":"SUM(AUT_emp:POR_emp!BA31)","v":0},{"$f":"SUM(AUT_emp:POR_emp!BB31)","v":0},25,6.1274509803921566E-2]
[null,"Cooling system",{"$f":"Sheet1!O194","v":"Energy efficient pumps"},{"$f":"SUM(AUT_emp:POR_emp!D32)","v":0},{"$f":"SUM(AUT_emp:POR_emp!E32)","v":0},{"$f":"SUM(AUT_emp:POR_emp!F32)","v":0},{"$f":"SUM(AUT_emp:POR_emp!G32)","v":0},{"$f":"SUM(AUT_emp:POR_emp!H32)","v":0},{"$f":"SUM(AUT_emp:POR_emp!I32)","v":0},{"$f":"SUM(AUT_emp:POR_emp!J32)","v":0},{"$f":"SUM(AUT_emp:POR_emp!K32)","v":0},{"$f":"SUM(AUT_emp:POR_emp!L32)","v":0},{"$f":"SUM(AUT_emp:POR_emp!M32)","v":1},{"$f":"SUM(AUT_emp:POR_emp!N32)","v":0},{"$f":"SUM(AUT_emp:POR_emp!O32)","v":2},{"$f":"SUM(AUT_emp:POR_emp!P32)","v":3},{"$f":"SUM(AUT_emp:POR_emp!Q32)","v":0},{"$f":"SUM(AUT_emp:POR_emp!R32)","v":1},{"$f":"SUM(AUT_emp:POR_emp!S32)","v":0},{"$f":"SUM(AUT_emp:POR_emp!T32)","v":0},{"$f":"SUM(AUT_emp:POR_emp!U32)","v":2},{"$f":"SUM(AUT_emp:POR_emp!V32)","v":2},{"$f":"SUM(AUT_emp:POR_emp!W32)","v":1},{"$f":"SUM(AUT_emp:POR_emp!X32)","v":0},{"$f":"SUM(AUT_emp:POR_emp!Y32)","v":0},{"$f":"SUM(AUT_emp:POR_emp!Z32)","v":1},{"$f":"SUM(AUT_emp:POR_emp!AA32)","v":1},{"$f":"SUM(AUT_emp:POR_emp!AB32)","v":1},{"$f":"SUM(AUT_emp:POR_emp!AC32)","v":0},{"$f":"SUM(AUT_emp:POR_emp!AD32)","v":0},{"$f":"SUM(AUT_emp:POR_emp!AE32)","v":0},{"$f":"SUM(AUT_emp:POR_emp!AF32)","v":0},{"$f":"SUM(AUT_emp:POR_emp!AG32)","v":2},{"$f":"SUM(AUT_emp:POR_emp!AH32)","v":0},{"$f":"SUM(AUT_emp:POR_emp!AI32)","v":0},{"$f":"SUM(AUT_emp:POR_emp!AJ32)","v":0},{"$f":"SUM(AUT_emp:POR_emp!AK32)","v":0},{"$f":"SUM(AUT_emp:POR_emp!AL32)","v":1},{"$f":"SUM(AUT_emp:POR_emp!AM32)","v":0},{"$f":"SUM(AUT_emp:POR_emp!AN32)","v":0},{"$f":"SUM(AUT_emp:POR_emp!AO32)","v":0},{"$f":"SUM(AUT_emp:POR_emp!AP32)","v":0},{"$f":"SUM(AUT_emp:POR_emp!AQ32)","v":2},{"$f":"SUM(AUT_emp:POR_emp!AR32)","v":0},{"$f":"SUM(AUT_emp:POR_emp!AS32)","v":0},{"$f":"SUM(AUT_emp:POR_emp!AT32)","v":0},{"$f":"SUM(AUT_emp:POR_emp!AU32)","v":0},{"$f":"SUM(AUT_emp:POR_emp!AV32)","v":0},{"$f":"SUM(AUT_emp:POR_emp!AW32)","v":0},{"$f":"SUM(AUT_emp:POR_emp!AX32)","v":0},{"$f":"SUM(AUT_emp:POR_emp!AY32)","v":0},{"$f":"SUM(AUT_emp:POR_emp!AZ32)","v":0},{"$f":"SUM(AUT_emp:POR_emp!BA32)","v":0},{"$f":"SUM(AUT_emp:POR_emp!BB32)","v":0},20,4.9019607843137254E-2]
[null,"Cooling system",{"$f":"Sheet1!O195","v":"Utilisation of free cooling"},{"$f":"SUM(AUT_emp:POR_emp!D33)","v":0},{"$f":"SUM(AUT_emp:POR_emp!E33)","v":0},{"$f":"SUM(AUT_emp:POR_emp!F33)","v":0},{"$f":"SUM(AUT_emp:POR_emp!G33)","v":0},{"$f":"SUM(AUT_emp:POR_emp!H33)","v":0},{"$f":"SUM(AUT_emp:POR_emp!I33)","v":1},{"$f":"SUM(AUT_emp:POR_emp!J33)","v":0},{"$f":"SUM(AUT_emp:POR_emp!K33)","v":1},{"$f":"SUM(AUT_emp:POR_emp!L33)","v":1},{"$f":"SUM(AUT_emp:POR_emp!M33)","v":2},{"$f":"SUM(AUT_emp:POR_emp!N33)","v":0},{"$f":"SUM(AUT_emp:POR_emp!O33)","v":1},{"$f":"SUM(AUT_emp:POR_emp!P33)","v":4},{"$f":"SUM(AUT_emp:POR_emp!Q33)","v":0},{"$f":"SUM(AUT_emp:POR_emp!R33)","v":1},{"$f":"SUM(AUT_emp:POR_emp!S33)","v":0},{"$f":"SUM(AUT_emp:POR_emp!T33)","v":0},{"$f":"SUM(AUT_emp:POR_emp!U33)","v":3},{"$f":"SUM(AUT_emp:POR_emp!V33)","v":0},{"$f":"SUM(AUT_emp:POR_emp!W33)","v":3},{"$f":"SUM(AUT_emp:POR_emp!X33)","v":0},{"$f":"SUM(AUT_emp:POR_emp!Y33)","v":0},{"$f":"SUM(AUT_emp:POR_emp!Z33)","v":1},{"$f":"SUM(AUT_emp:POR_emp!AA33)","v":1},{"$f":"SUM(AUT_emp:POR_emp!AB33)","v":0},{"$f":"SUM(AUT_emp:POR_emp!AC33)","v":0},{"$f":"SUM(AUT_emp:POR_emp!AD33)","v":0},{"$f":"SUM(AUT_emp:POR_emp!AE33)","v":0},{"$f":"SUM(AUT_emp:POR_emp!AF33)","v":0},{"$f":"SUM(AUT_emp:POR_emp!AG33)","v":1},{"$f":"SUM(AUT_emp:POR_emp!AH33)","v":0},{"$f":"SUM(AUT_emp:POR_emp!AI33)","v":0},{"$f":"SUM(AUT_emp:POR_emp!AJ33)","v":0},{"$f":"SUM(AUT_emp:POR_emp!AK33)","v":0},{"$f":"SUM(AUT_emp:POR_emp!AL33)","v":1},{"$f":"SUM(AUT_emp:POR_emp!AM33)","v":0},{"$f":"SUM(AUT_emp:POR_emp!AN33)","v":1},{"$f":"SUM(AUT_emp:POR_emp!AO33)","v":0},{"$f":"SUM(AUT_emp:POR_emp!AP33)","v":0},{"$f":"SUM(AUT_emp:POR_emp!AQ33)","v":-1},{"$f":"SUM(AUT_emp:POR_emp!AR33)","v":0},{"$f":"SUM(AUT_emp:POR_emp!AS33)","v":0},{"$f":"SUM(AUT_emp:POR_emp!AT33)","v":0},{"$f":"SUM(AUT_emp:POR_emp!AU33)","v":0},{"$f":"SUM(AUT_emp:POR_emp!AV33)","v":0},{"$f":"SUM(AUT_emp:POR_emp!AW33)","v":1},{"$f":"SUM(AUT_emp:POR_emp!AX33)","v":0},{"$f":"SUM(AUT_emp:POR_emp!AY33)","v":0},{"$f":"SUM(AUT_emp:POR_emp!AZ33)","v":0},{"$f":"SUM(AUT_emp:POR_emp!BA33)","v":0},{"$f":"SUM(AUT_emp:POR_emp!BB33)","v":0},22,5.3921568627450983E-2]
[null,"Cooling system",{"$f":"Sheet1!O196","v":"Utilising the waste heat from the cooling system for heating&DHW"},{"$f":"SUM(AUT_emp:POR_emp!D34)","v":0},{"$f":"SUM(AUT_emp:POR_emp!E34)","v":0},{"$f":"SUM(AUT_emp:POR_emp!F34)","v":0},{"$f":"SUM(AUT_emp:POR_emp!G34)","v":0},{"$f":"SUM(AUT_emp:POR_emp!H34)","v":0},{"$f":"SUM(AUT_emp:POR_emp!I34)","v":0},{"$f":"SUM(AUT_emp:POR_emp!J34)","v":0},{"$f":"SUM(AUT_emp:POR_emp!K34)","v":0},{"$f":"SUM(AUT_emp:POR_emp!L34)","v":1},{"$f":"SUM(AUT_emp:POR_emp!M34)","v":1},{"$f":"SUM(AUT_emp:POR_emp!N34)","v":0},{"$f":"SUM(AUT_emp:POR_emp!O34)","v":0},{"$f":"SUM(AUT_emp:POR_emp!P34)","v":4},{"$f":"SUM(AUT_emp:POR_emp!Q34)","v":0},{"$f":"SUM(AUT_emp:POR_emp!R34)","v":1},{"$f":"SUM(AUT_emp:POR_emp!S34)","v":0},{"$f":"SUM(AUT_emp:POR_emp!T34)","v":0},{"$f":"SUM(AUT_emp:POR_emp!U34)","v":3},{"$f":"SUM(AUT_emp:POR_emp!V34)","v":0},{"$f":"SUM(AUT_emp:POR_emp!W34)","v":1},{"$f":"SUM(AUT_emp:POR_emp!X34)","v":0},{"$f":"SUM(AUT_emp:POR_emp!Y34)","v":0},{"$f":"SUM(AUT_emp:POR_emp!Z34)","v":1},{"$f":"SUM(AUT_emp:POR_emp!AA34)","v":1},{"$f":"SUM(AUT_emp:POR_emp!AB34)","v":-1},{"$f":"SUM(AUT_emp:POR_emp!AC34)","v":0},{"$f":"SUM(AUT_emp:POR_emp!AD34)","v":0},{"$f":"SUM(AUT_emp:POR_emp!AE34)","v":0},{"$f":"SUM(AUT_emp:POR_emp!AF34)","v":0},{"$f":"SUM(AUT_emp:POR_emp!AG34)","v":1},{"$f":"SUM(AUT_emp:POR_emp!AH34)","v":0},{"$f":"SUM(AUT_emp:POR_emp!AI34)","v":2},{"$f":"SUM(AUT_emp:POR_emp!AJ34)","v":0},{"$f":"SUM(AUT_emp:POR_emp!AK34)","v":0},{"$f":"SUM(AUT_emp:POR_emp!AL34)","v":1},{"$f":"SUM(AUT_emp:POR_emp!AM34)","v":0},{"$f":"SUM(AUT_emp:POR_emp!AN34)","v":1},{"$f":"SUM(AUT_emp:POR_emp!AO34)","v":0},{"$f":"SUM(AUT_emp:POR_emp!AP34)","v":0},{"$f":"SUM(AUT_emp:POR_emp!AQ34)","v":-1},{"$f":"SUM(AUT_emp:POR_emp!AR34)","v":0},{"$f":"SUM(AUT_emp:POR_emp!AS34)","v":0},{"$f":"SUM(AUT_emp:POR_emp!AT34)","v":0},{"$f":"SUM(AUT_emp:POR_emp!AU34)","v":0},{"$f":"SUM(AUT_emp:POR_emp!AV34)","v":0},{"$f":"SUM(AUT_emp:POR_emp!AW34)","v":1},{"$f":"SUM(AUT_emp:POR_emp!AX34)","v":0},{"$f":"SUM(AUT_emp:POR_emp!AY34)","v":0},{"$f":"SUM(AUT_emp:POR_emp!AZ34)","v":0},{"$f":"SUM(AUT_emp:POR_emp!BA34)","v":0},{"$f":"SUM(AUT_emp:POR_emp!BB34)","v":0},17,4.1666666666666664E-2]
[null,"Ventilation system",{"$f":"Sheet1!O198","v":"Schedule optimisation"},{"$f":"SUM(AUT_emp:POR_emp!D35)","v":0},{"$f":"SUM(AUT_emp:POR_emp!E35)","v":0},{"$f":"SUM(AUT_emp:POR_emp!F35)","v":-1},{"$f":"SUM(AUT_emp:POR_emp!G35)","v":0},{"$f":"SUM(AUT_emp:POR_emp!H35)","v":0},{"$f":"SUM(AUT_emp:POR_emp!I35)","v":-1},{"$f":"SUM(AUT_emp:POR_emp!J35)","v":0},{"$f":"SUM(AUT_emp:POR_emp!K35)","v":1},{"$f":"SUM(AUT_emp:POR_emp!L35)","v":1},{"$f":"SUM(AUT_emp:POR_emp!M35)","v":3},{"$f":"SUM(AUT_emp:POR_emp!N35)","v":0},{"$f":"SUM(AUT_emp:POR_emp!O35)","v":1},{"$f":"SUM(AUT_emp:POR_emp!P35)","v":3},{"$f":"SUM(AUT_emp:POR_emp!Q35)","v":0},{"$f":"SUM(AUT_emp:POR_emp!R35)","v":1},{"$f":"SUM(AUT_emp:POR_emp!S35)","v":0},{"$f":"SUM(AUT_emp:POR_emp!T35)","v":0},{"$f":"SUM(AUT_emp:POR_emp!U35)","v":2},{"$f":"SUM(AUT_emp:POR_emp!V35)","v":0},{"$f":"SUM(AUT_emp:POR_emp!W35)","v":1},{"$f":"SUM(AUT_emp:POR_emp!X35)","v":0},{"$f":"SUM(AUT_emp:POR_emp!Y35)","v":0},{"$f":"SUM(AUT_emp:POR_emp!Z35)","v":2},{"$f":"SUM(AUT_emp:POR_emp!AA35)","v":0},{"$f":"SUM(AUT_emp:POR_emp!AB35)","v":2},{"$f":"SUM(AUT_emp:POR_emp!AC35)","v":1},{"$f":"SUM(AUT_emp:POR_emp!AD35)","v":0},{"$f":"SUM(AUT_emp:POR_emp!AE35)","v":0},{"$f":"SUM(AUT_emp:POR_emp!AF35)","v":0},{"$f":"SUM(AUT_emp:POR_emp!AG35)","v":2},{"$f":"SUM(AUT_emp:POR_emp!AH35)","v":0},{"$f":"SUM(AUT_emp:POR_emp!AI35)","v":0},{"$f":"SUM(AUT_emp:POR_emp!AJ35)","v":0},{"$f":"SUM(AUT_emp:POR_emp!AK35)","v":0},{"$f":"SUM(AUT_emp:POR_emp!AL35)","v":1},{"$f":"SUM(AUT_emp:POR_emp!AM35)","v":0},{"$f":"SUM(AUT_emp:POR_emp!AN35)","v":0},{"$f":"SUM(AUT_emp:POR_emp!AO35)","v":0},{"$f":"SUM(AUT_emp:POR_emp!AP35)","v":1},{"$f":"SUM(AUT_emp:POR_emp!AQ35)","v":2},{"$f":"SUM(AUT_emp:POR_emp!AR35)","v":0},{"$f":"SUM(AUT_emp:POR_emp!AS35)","v":0},{"$f":"SUM(AUT_emp:POR_emp!AT35)","v":0},{"$f":"SUM(AUT_emp:POR_emp!AU35)","v":0},{"$f":"SUM(AUT_emp:POR_emp!AV35)","v":0},{"$f":"SUM(AUT_emp:POR_emp!AW35)","v":0},{"$f":"SUM(AUT_emp:POR_emp!AX35)","v":0},{"$f":"SUM(AUT_emp:POR_emp!AY35)","v":1},{"$f":"SUM(AUT_emp:POR_emp!AZ35)","v":0},{"$f":"SUM(AUT_emp:POR_emp!BA35)","v":1},{"$f":"SUM(AUT_emp:POR_emp!BB35)","v":0},24,5.8823529411764705E-2]
[null,"Ventilation system",{"$f":"Sheet1!O199","v":"Control optimisation"},{"$f":"SUM(AUT_emp:POR_emp!D36)","v":1},{"$f":"SUM(AUT_emp:POR_emp!E36)","v":0},{"$f":"SUM(AUT_emp:POR_emp!F36)","v":1},{"$f":"SUM(AUT_emp:POR_emp!G36)","v":0},{"$f":"SUM(AUT_emp:POR_emp!H36)","v":1},{"$f":"SUM(AUT_emp:POR_emp!I36)","v":0},{"$f":"SUM(AUT_emp:POR_emp!J36)","v":0},{"$f":"SUM(AUT_emp:POR_emp!K36)","v":1},{"$f":"SUM(AUT_emp:POR_emp!L36)","v":2},{"$f":"SUM(AUT_emp:POR_emp!M36)","v":5},{"$f":"SUM(AUT_emp:POR_emp!N36)","v":0},{"$f":"SUM(AUT_emp:POR_emp!O36)","v":2},{"$f":"SUM(AUT_emp:POR_emp!P36)","v":3},{"$f":"SUM(AUT_emp:POR_emp!Q36)","v":0},{"$f":"SUM(AUT_emp:POR_emp!R36)","v":1},{"$f":"SUM(AUT_emp:POR_emp!S36)","v":0},{"$f":"SUM(AUT_emp:POR_emp!T36)","v":0},{"$f":"SUM(AUT_emp:POR_emp!U36)","v":3},{"$f":"SUM(AUT_emp:POR_emp!V36)","v":0},{"$f":"SUM(AUT_emp:POR_emp!W36)","v":1},{"$f":"SUM(AUT_emp:POR_emp!X36)","v":0},{"$f":"SUM(AUT_emp:POR_emp!Y36)","v":0},{"$f":"SUM(AUT_emp:POR_emp!Z36)","v":1},{"$f":"SUM(AUT_emp:POR_emp!AA36)","v":0},{"$f":"SUM(AUT_emp:POR_emp!AB36)","v":2},{"$f":"SUM(AUT_emp:POR_emp!AC36)","v":1},{"$f":"SUM(AUT_emp:POR_emp!AD36)","v":1},{"$f":"SUM(AUT_emp:POR_emp!AE36)","v":1},{"$f":"SUM(AUT_emp:POR_emp!AF36)","v":0},{"$f":"SUM(AUT_emp:POR_emp!AG36)","v":2},{"$f":"SUM(AUT_emp:POR_emp!AH36)","v":0},{"$f":"SUM(AUT_emp:POR_emp!AI36)","v":0},{"$f":"SUM(AUT_emp:POR_emp!AJ36)","v":0},{"$f":"SUM(AUT_emp:POR_emp!AK36)","v":0},{"$f":"SUM(AUT_emp:POR_emp!AL36)","v":1},{"$f":"SUM(AUT_emp:POR_emp!AM36)","v":0},{"$f":"SUM(AUT_emp:POR_emp!AN36)","v":0},{"$f":"SUM(AUT_emp:POR_emp!AO36)","v":0},{"$f":"SUM(AUT_emp:POR_emp!AP36)","v":1},{"$f":"SUM(AUT_emp:POR_emp!AQ36)","v":2},{"$f":"SUM(AUT_emp:POR_emp!AR36)","v":0},{"$f":"SUM(AUT_emp:POR_emp!AS36)","v":0},{"$f":"SUM(AUT_emp:POR_emp!AT36)","v":1},{"$f":"SUM(AUT_emp:POR_emp!AU36)","v":0},{"$f":"SUM(AUT_emp:POR_emp!AV36)","v":0},{"$f":"SUM(AUT_emp:POR_emp!AW36)","v":0},{"$f":"SUM(AUT_emp:POR_emp!AX36)","v":0},{"$f":"SUM(AUT_emp:POR_emp!AY36)","v":1},{"$f":"SUM(AUT_emp:POR_emp!AZ36)","v":0},{"$f":"SUM(AUT_emp:POR_emp!BA36)","v":2},{"$f":"SUM(AUT_emp:POR_emp!BB36)","v":1},38,9.3137254901960786E-2]
[null,"Ventilation system",{"$f":"Sheet1!O200","v":"Air velocity optimisation"},{"$f":"SUM(AUT_emp:POR_emp!D37)","v":5},{"$f":"SUM(AUT_emp:POR_emp!E37)","v":0},{"$f":"SUM(AUT_emp:POR_emp!F37)","v":2},{"$f":"SUM(AUT_emp:POR_emp!G37)","v":0},{"$f":"SUM(AUT_emp:POR_emp!H37)","v":1},{"$f":"SUM(AUT_emp:POR_emp!I37)","v":4},{"$f":"SUM(AUT_emp:POR_emp!J37)","v":0},{"$f":"SUM(AUT_emp:POR_emp!K37)","v":3},{"$f":"SUM(AUT_emp:POR_emp!L37)","v":5},{"$f":"SUM(AUT_emp:POR_emp!M37)","v":4},{"$f":"SUM(AUT_emp:POR_emp!N37)","v":0},{"$f":"SUM(AUT_emp:POR_emp!O37)","v":4},{"$f":"SUM(AUT_emp:POR_emp!P37)","v":4},{"$f":"SUM(AUT_emp:POR_emp!Q37)","v":1},{"$f":"SUM(AUT_emp:POR_emp!R37)","v":1},{"$f":"SUM(AUT_emp:POR_emp!S37)","v":0},{"$f":"SUM(AUT_emp:POR_emp!T37)","v":0},{"$f":"SUM(AUT_emp:POR_emp!U37)","v":3},{"$f":"SUM(AUT_emp:POR_emp!V37)","v":1},{"$f":"SUM(AUT_emp:POR_emp!W37)","v":1},{"$f":"SUM(AUT_emp:POR_emp!X37)","v":0},{"$f":"SUM(AUT_emp:POR_emp!Y37)","v":0},{"$f":"SUM(AUT_emp:POR_emp!Z37)","v":1},{"$f":"SUM(AUT_emp:POR_emp!AA37)","v":0},{"$f":"SUM(AUT_emp:POR_emp!AB37)","v":1},{"$f":"SUM(AUT_emp:POR_emp!AC37)","v":1},{"$f":"SUM(AUT_emp:POR_emp!AD37)","v":0},{"$f":"SUM(AUT_emp:POR_emp!AE37)","v":0},{"$f":"SUM(AUT_emp:POR_emp!AF37)","v":0},{"$f":"SUM(AUT_emp:POR_emp!AG37)","v":3},{"$f":"SUM(AUT_emp:POR_emp!AH37)","v":0},{"$f":"SUM(AUT_emp:POR_emp!AI37)","v":0},{"$f":"SUM(AUT_emp:POR_emp!AJ37)","v":0},{"$f":"SUM(AUT_emp:POR_emp!AK37)","v":0},{"$f":"SUM(AUT_emp:POR_emp!AL37)","v":1},{"$f":"SUM(AUT_emp:POR_emp!AM37)","v":0},{"$f":"SUM(AUT_emp:POR_emp!AN37)","v":0},{"$f":"SUM(AUT_emp:POR_emp!AO37)","v":0},{"$f":"SUM(AUT_emp:POR_emp!AP37)","v":1},{"$f":"SUM(AUT_emp:POR_emp!AQ37)","v":2},{"$f":"SUM(AUT_emp:POR_emp!AR37)","v":0},{"$f":"SUM(AUT_emp:POR_emp!AS37)","v":0},{"$f":"SUM(AUT_emp:POR_emp!AT37)","v":0},{"$f":"SUM(AUT_emp:POR_emp!AU37)","v":0},{"$f":"SUM(AUT_emp:POR_emp!AV37)","v":0},{"$f":"SUM(AUT_emp:POR_emp!AW37)","v":0},{"$f":"SUM(AUT_emp:POR_emp!AX37)","v":0},{"$f":"SUM(AUT_emp:POR_emp!AY37)","v":0},{"$f":"SUM(AUT_emp:POR_emp!AZ37)","v":0},{"$f":"SUM(AUT_emp:POR_emp!BA37)","v":0},{"$f":"SUM(AUT_emp:POR_emp!BB37)","v":0},49,0.12009803921568628]
[null,"Ventilation system",{"$f":"Sheet1!O201","v":"Inlet air temperature optimisation"},{"$f":"SUM(AUT_emp:POR_emp!D38)","v":4},{"$f":"SUM(AUT_emp:POR_emp!E38)","v":1},{"$f":"SUM(AUT_emp:POR_emp!F38)","v":1},{"$f":"SUM(AUT_emp:POR_emp!G38)","v":0},{"$f":"SUM(AUT_emp:POR_emp!H38)","v":1},{"$f":"SUM(AUT_emp:POR_emp!I38)","v":2},{"$f":"SUM(AUT_emp:POR_emp!J38)","v":0},{"$f":"SUM(AUT_emp:POR_emp!K38)","v":2},{"$f":"SUM(AUT_emp:POR_emp!L38)","v":4},{"$f":"SUM(AUT_emp:POR_emp!M38)","v":4},{"$f":"SUM(AUT_emp:POR_emp!N38)","v":0},{"$f":"SUM(AUT_emp:POR_emp!O38)","v":2},{"$f":"SUM(AUT_emp:POR_emp!P38)","v":3},{"$f":"SUM(AUT_emp:POR_emp!Q38)","v":0},{"$f":"SUM(AUT_emp:POR_emp!R38)","v":1},{"$f":"SUM(AUT_emp:POR_emp!S38)","v":0},{"$f":"SUM(AUT_emp:POR_emp!T38)","v":0},{"$f":"SUM(AUT_emp:POR_emp!U38)","v":2},{"$f":"SUM(AUT_emp:POR_emp!V38)","v":0},{"$f":"SUM(AUT_emp:POR_emp!W38)","v":1},{"$f":"SUM(AUT_emp:POR_emp!X38)","v":0},{"$f":"SUM(AUT_emp:POR_emp!Y38)","v":0},{"$f":"SUM(AUT_emp:POR_emp!Z38)","v":1},{"$f":"SUM(AUT_emp:POR_emp!AA38)","v":0},{"$f":"SUM(AUT_emp:POR_emp!AB38)","v":1},{"$f":"SUM(AUT_emp:POR_emp!AC38)","v":1},{"$f":"SUM(AUT_emp:POR_emp!AD38)","v":0},{"$f":"SUM(AUT_emp:POR_emp!AE38)","v":0},{"$f":"SUM(AUT_emp:POR_emp!AF38)","v":0},{"$f":"SUM(AUT_emp:POR_emp!AG38)","v":2},{"$f":"SUM(AUT_emp:POR_emp!AH38)","v":0},{"$f":"SUM(AUT_emp:POR_emp!AI38)","v":0},{"$f":"SUM(AUT_emp:POR_emp!AJ38)","v":0},{"$f":"SUM(AUT_emp:POR_emp!AK38)","v":0},{"$f":"SUM(AUT_emp:POR_emp!AL38)","v":1},{"$f":"SUM(AUT_emp:POR_emp!AM38)","v":0},{"$f":"SUM(AUT_emp:POR_emp!AN38)","v":0},{"$f":"SUM(AUT_emp:POR_emp!AO38)","v":0},{"$f":"SUM(AUT_emp:POR_emp!AP38)","v":1},{"$f":"SUM(AUT_emp:POR_emp!AQ38)","v":1},{"$f":"SUM(AUT_emp:POR_emp!AR38)","v":0},{"$f":"SUM(AUT_emp:POR_emp!AS38)","v":0},{"$f":"SUM(AUT_emp:POR_emp!AT38)","v":0},{"$f":"SUM(AUT_emp:POR_emp!AU38)","v":0},{"$f":"SUM(AUT_emp:POR_emp!AV38)","v":0},{"$f":"SUM(AUT_emp:POR_emp!AW38)","v":0},{"$f":"SUM(AUT_emp:POR_emp!AX38)","v":0},{"$f":"SUM(AUT_emp:POR_emp!AY38)","v":0},{"$f":"SUM(AUT_emp:POR_emp!AZ38)","v":0},{"$f":"SUM(AUT_emp:POR_emp!BA38)","v":0},{"$f":"SUM(AUT_emp:POR_emp!BB38)","v":0},36,8.8235294117647065E-2]
[null,"Ventilation system",{"$f":"Sheet1!O202","v":"Heat recovery"},{"$f":"SUM(AUT_emp:POR_emp!D39)","v":1},{"$f":"SUM(AUT_emp:POR_emp!E39)","v":1},{"$f":"SUM(AUT_emp:POR_emp!F39)","v":1},{"$f":"SUM(AUT_emp:POR_emp!G39)","v":0},{"$f":"SUM(AUT_emp:POR_emp!H39)","v":0},{"$f":"SUM(AUT_emp:POR_emp!I39)","v":0},{"$f":"SUM(AUT_emp:POR_emp!J39)","v":0},{"$f":"SUM(AUT_emp:POR_emp!K39)","v":1},{"$f":"SUM(AUT_emp:POR_emp!L39)","v":1},{"$f":"SUM(AUT_emp:POR_emp!M39)","v":1},{"$f":"SUM(AUT_emp:POR_emp!N39)","v":0},{"$f":"SUM(AUT_emp:POR_emp!O39)","v":0},{"$f":"SUM(AUT_emp:POR_emp!P39)","v":3},{"$f":"SUM(AUT_emp:POR_emp!Q39)","v":0},{"$f":"SUM(AUT_emp:POR_emp!R39)","v":1},{"$f":"SUM(AUT_emp:POR_emp!S39)","v":0},{"$f":"SUM(AUT_emp:POR_emp!T39)","v":0},{"$f":"SUM(AUT_emp:POR_emp!U39)","v":2},{"$f":"SUM(AUT_emp:POR_emp!V39)","v":0},{"$f":"SUM(AUT_emp:POR_emp!W39)","v":2},{"$f":"SUM(AUT_emp:POR_emp!X39)","v":0},{"$f":"SUM(AUT_emp:POR_emp!Y39)","v":0},{"$f":"SUM(AUT_emp:POR_emp!Z39)","v":1},{"$f":"SUM(AUT_emp:POR_emp!AA39)","v":0},{"$f":"SUM(AUT_emp:POR_emp!AB39)","v":-1},{"$f":"SUM(AUT_emp:POR_emp!AC39)","v":1},{"$f":"SUM(AUT_emp:POR_emp!AD39)","v":0},{"$f":"SUM(AUT_emp:POR_emp!AE39)","v":0},{"$f":"SUM(AUT_emp:POR_emp!AF39)","v":0},{"$f":"SUM(AUT_emp:POR_emp!AG39)","v":1},{"$f":"SUM(AUT_emp:POR_emp!AH39)","v":0},{"$f":"SUM(AUT_emp:POR_emp!AI39)","v":1},{"$f":"SUM(AUT_emp:POR_emp!AJ39)","v":0},{"$f":"SUM(AUT_emp:POR_emp!AK39)","v":0},{"$f":"SUM(AUT_emp:POR_emp!AL39)","v":1},{"$f":"SUM(AUT_emp:POR_emp!AM39)","v":0},{"$f":"SUM(AUT_emp:POR_emp!AN39)","v":0},{"$f":"SUM(AUT_emp:POR_emp!AO39)","v":0},{"$f":"SUM(AUT_emp:POR_emp!AP39)","v":0},{"$f":"SUM(AUT_emp:POR_emp!AQ39)","v":-2},{"$f":"SUM(AUT_emp:POR_emp!AR39)","v":0},{"$f":"SUM(AUT_emp:POR_emp!AS39)","v":0},{"$f":"SUM(AUT_emp:POR_emp!AT39)","v":0},{"$f":"SUM(AUT_emp:POR_emp!AU39)","v":0},{"$f":"SUM(AUT_emp:POR_emp!AV39)","v":0},{"$f":"SUM(AUT_emp:POR_emp!AW39)","v":1},{"$f":"SUM(AUT_emp:POR_emp!AX39)","v":0},{"$f":"SUM(AUT_emp:POR_emp!AY39)","v":0},{"$f":"SUM(AUT_emp:POR_emp!AZ39)","v":0},{"$f":"SUM(AUT_emp:POR_emp!BA39)","v":0},{"$f":"SUM(AUT_emp:POR_emp!BB39)","v":0},17,4.1666666666666664E-2]
[null,"Ventilation system",{"$f":"Sheet1!O203","v":"Energy efficient fans"},{"$f":"SUM(AUT_emp:POR_emp!D40)","v":0},{"$f":"SUM(AUT_emp:POR_emp!E40)","v":0},{"$f":"SUM(AUT_emp:POR_emp!F40)","v":0},{"$f":"SUM(AUT_emp:POR_emp!G40)","v":0},{"$f":"SUM(AUT_emp:POR_emp!H40)","v":0},{"$f":"SUM(AUT_emp:POR_emp!I40)","v":0},{"$f":"SUM(AUT_emp:POR_emp!J40)","v":0},{"$f":"SUM(AUT_emp:POR_emp!K40)","v":0},{"$f":"SUM(AUT_emp:POR_emp!L40)","v":0},{"$f":"SUM(AUT_emp:POR_emp!M40)","v":1},{"$f":"SUM(AUT_emp:POR_emp!N40)","v":0},{"$f":"SUM(AUT_emp:POR_emp!O40)","v":3},{"$f":"SUM(AUT_emp:POR_emp!P40)","v":3},{"$f":"SUM(AUT_emp:POR_emp!Q40)","v":0},{"$f":"SUM(AUT_emp:POR_emp!R40)","v":1},{"$f":"SUM(AUT_emp:POR_emp!S40)","v":0},{"$f":"SUM(AUT_emp:POR_emp!T40)","v":0},{"$f":"SUM(AUT_emp:POR_emp!U40)","v":2},{"$f":"SUM(AUT_emp:POR_emp!V40)","v":2},{"$f":"SUM(AUT_emp:POR_emp!W40)","v":1},{"$f":"SUM(AUT_emp:POR_emp!X40)","v":0},{"$f":"SUM(AUT_emp:POR_emp!Y40)","v":0},{"$f":"SUM(AUT_emp:POR_emp!Z40)","v":1},{"$f":"SUM(AUT_emp:POR_emp!AA40)","v":0},{"$f":"SUM(AUT_emp:POR_emp!AB40)","v":1},{"$f":"SUM(AUT_emp:POR_emp!AC40)","v":1},{"$f":"SUM(AUT_emp:POR_emp!AD40)","v":0},{"$f":"SUM(AUT_emp:POR_emp!AE40)","v":0},{"$f":"SUM(AUT_emp:POR_emp!AF40)","v":0},{"$f":"SUM(AUT_emp:POR_emp!AG40)","v":1},{"$f":"SUM(AUT_emp:POR_emp!AH40)","v":0},{"$f":"SUM(AUT_emp:POR_emp!AI40)","v":0},{"$f":"SUM(AUT_emp:POR_emp!AJ40)","v":0},{"$f":"SUM(AUT_emp:POR_emp!AK40)","v":0},{"$f":"SUM(AUT_emp:POR_emp!AL40)","v":1},{"$f":"SUM(AUT_emp:POR_emp!AM40)","v":0},{"$f":"SUM(AUT_emp:POR_emp!AN40)","v":0},{"$f":"SUM(AUT_emp:POR_emp!AO40)","v":0},{"$f":"SUM(AUT_emp:POR_emp!AP40)","v":0},{"$f":"SUM(AUT_emp:POR_emp!AQ40)","v":1},{"$f":"SUM(AUT_emp:POR_emp!AR40)","v":0},{"$f":"SUM(AUT_emp:POR_emp!AS40)","v":0},{"$f":"SUM(AUT_emp:POR_emp!AT40)","v":0},{"$f":"SUM(AUT_emp:POR_emp!AU40)","v":0},{"$f":"SUM(AUT_emp:POR_emp!AV40)","v":0},{"$f":"SUM(AUT_emp:POR_emp!AW40)","v":0},{"$f":"SUM(AUT_emp:POR_emp!AX40)","v":0},{"$f":"SUM(AUT_emp:POR_emp!AY40)","v":0},{"$f":"SUM(AUT_emp:POR_emp!AZ40)","v":0},{"$f":"SUM(AUT_emp:POR_emp!BA40)","v":1},{"$f":"SUM(AUT_emp:POR_emp!BB40)","v":0},20,4.9019607843137254E-2]
[null,"Lighting",{"$f":"Sheet1!O205","v":"Energy efficient lights (e.g LED)"},{"$f":"SUM(AUT_emp:POR_emp!D41)","v":2},{"$f":"SUM(AUT_emp:POR_emp!E41)","v":0},{"$f":"SUM(AUT_emp:POR_emp!F41)","v":0},{"$f":"SUM(AUT_emp:POR_emp!G41)","v":0},{"$f":"SUM(AUT_emp:POR_emp!H41)","v":0},{"$f":"SUM(AUT_emp:POR_emp!I41)","v":0},{"$f":"SUM(AUT_emp:POR_emp!J41)","v":0},{"$f":"SUM(AUT_emp:POR_emp!K41)","v":0},{"$f":"SUM(AUT_emp:POR_emp!L41)","v":0},{"$f":"SUM(AUT_emp:POR_emp!M41)","v":0},{"$f":"SUM(AUT_emp:POR_emp!N41)","v":3},{"$f":"SUM(AUT_emp:POR_emp!O41)","v":0},{"$f":"SUM(AUT_emp:POR_emp!P41)","v":4},{"$f":"SUM(AUT_emp:POR_emp!Q41)","v":1},{"$f":"SUM(AUT_emp:POR_emp!R41)","v":1},{"$f":"SUM(AUT_emp:POR_emp!S41)","v":0},{"$f":"SUM(AUT_emp:POR_emp!T41)","v":0},{"$f":"SUM(AUT_emp:POR_emp!U41)","v":2},{"$f":"SUM(AUT_emp:POR_emp!V41)","v":0},{"$f":"SUM(AUT_emp:POR_emp!W41)","v":2},{"$f":"SUM(AUT_emp:POR_emp!X41)","v":0},{"$f":"SUM(AUT_emp:POR_emp!Y41)","v":0},{"$f":"SUM(AUT_emp:POR_emp!Z41)","v":2},{"$f":"SUM(AUT_emp:POR_emp!AA41)","v":0},{"$f":"SUM(AUT_emp:POR_emp!AB41)","v":0},{"$f":"SUM(AUT_emp:POR_emp!AC41)","v":2},{"$f":"SUM(AUT_emp:POR_emp!AD41)","v":0},{"$f":"SUM(AUT_emp:POR_emp!AE41)","v":0},{"$f":"SUM(AUT_emp:POR_emp!AF41)","v":0},{"$f":"SUM(AUT_emp:POR_emp!AG41)","v":3},{"$f":"SUM(AUT_emp:POR_emp!AH41)","v":0},{"$f":"SUM(AUT_emp:POR_emp!AI41)","v":0},{"$f":"SUM(AUT_emp:POR_emp!AJ41)","v":0},{"$f":"SUM(AUT_emp:POR_emp!AK41)","v":0},{"$f":"SUM(AUT_emp:POR_emp!AL41)","v":1},{"$f":"SUM(AUT_emp:POR_emp!AM41)","v":1},{"$f":"SUM(AUT_emp:POR_emp!AN41)","v":0},{"$f":"SUM(AUT_emp:POR_emp!AO41)","v":0},{"$f":"SUM(AUT_emp:POR_emp!AP41)","v":0},{"$f":"SUM(AUT_emp:POR_emp!AQ41)","v":1},{"$f":"SUM(AUT_emp:POR_emp!AR41)","v":0},{"$f":"SUM(AUT_emp:POR_emp!AS41)","v":1},{"$f":"SUM(AUT_emp:POR_emp!AT41)","v":0},{"$f":"SUM(AUT_emp:POR_emp!AU41)","v":0},{"$f":"SUM(AUT_emp:POR_emp!AV41)","v":0},{"$f":"SUM(AUT_emp:POR_emp!AW41)","v":2},{"$f":"SUM(AUT_emp:POR_emp!AX41)","v":0},{"$f":"SUM(AUT_emp:POR_emp!AY41)","v":0},{"$f":"SUM(AUT_emp:POR_emp!AZ41)","v":0},{"$f":"SUM(AUT_emp:POR_emp!BA41)","v":0},{"$f":"SUM(AUT_emp:POR_emp!BB41)","v":0},28,6.8627450980392163E-2]
[null,"Lighting",{"$f":"Sheet1!O206","v":"Level of illumination"},{"$f":"SUM(AUT_emp:POR_emp!D42)","v":8},{"$f":"SUM(AUT_emp:POR_emp!E42)","v":0},{"$f":"SUM(AUT_emp:POR_emp!F42)","v":2},{"$f":"SUM(AUT_emp:POR_emp!G42)","v":0},{"$f":"SUM(AUT_emp:POR_emp!H42)","v":4},{"$f":"SUM(AUT_emp:POR_emp!I42)","v":5},{"$f":"SUM(AUT_emp:POR_emp!J42)","v":0},{"$f":"SUM(AUT_emp:POR_emp!K42)","v":3},{"$f":"SUM(AUT_emp:POR_emp!L42)","v":4},{"$f":"SUM(AUT_emp:POR_emp!M42)","v":1},{"$f":"SUM(AUT_emp:POR_emp!N42)","v":8},{"$f":"SUM(AUT_emp:POR_emp!O42)","v":0},{"$f":"SUM(AUT_emp:POR_emp!P42)","v":3},{"$f":"SUM(AUT_emp:POR_emp!Q42)","v":1},{"$f":"SUM(AUT_emp:POR_emp!R42)","v":0},{"$f":"SUM(AUT_emp:POR_emp!S42)","v":0},{"$f":"SUM(AUT_emp:POR_emp!T42)","v":0},{"$f":"SUM(AUT_emp:POR_emp!U42)","v":1},{"$f":"SUM(AUT_emp:POR_emp!V42)","v":0},{"$f":"SUM(AUT_emp:POR_emp!W42)","v":1},{"$f":"SUM(AUT_emp:POR_emp!X42)","v":0},{"$f":"SUM(AUT_emp:POR_emp!Y42)","v":0},{"$f":"SUM(AUT_emp:POR_emp!Z42)","v":2},{"$f":"SUM(AUT_emp:POR_emp!AA42)","v":1},{"$f":"SUM(AUT_emp:POR_emp!AB42)","v":0},{"$f":"SUM(AUT_emp:POR_emp!AC42)","v":2},{"$f":"SUM(AUT_emp:POR_emp!AD42)","v":0},{"$f":"SUM(AUT_emp:POR_emp!AE42)","v":0},{"$f":"SUM(AUT_emp:POR_emp!AF42)","v":0},{"$f":"SUM(AUT_emp:POR_emp!AG42)","v":2},{"$f":"SUM(AUT_emp:POR_emp!AH42)","v":0},{"$f":"SUM(AUT_emp:POR_emp!AI42)","v":0},{"$f":"SUM(AUT_emp:POR_emp!AJ42)","v":0},{"$f":"SUM(AUT_emp:POR_emp!AK42)","v":0},{"$f":"SUM(AUT_emp:POR_emp!AL42)","v":1},{"$f":"SUM(AUT_emp:POR_emp!AM42)","v":0},{"$f":"SUM(AUT_emp:POR_emp!AN42)","v":0},{"$f":"SUM(AUT_emp:POR_emp!AO42)","v":0},{"$f":"SUM(AUT_emp:POR_emp!AP42)","v":0},{"$f":"SUM(AUT_emp:POR_emp!AQ42)","v":0},{"$f":"SUM(AUT_emp:POR_emp!AR42)","v":0},{"$f":"SUM(AUT_emp:POR_emp!AS42)","v":2},{"$f":"SUM(AUT_emp:POR_emp!AT42)","v":0},{"$f":"SUM(AUT_emp:POR_emp!AU42)","v":0},{"$f":"SUM(AUT_emp:POR_emp!AV42)","v":0},{"$f":"SUM(AUT_emp:POR_emp!AW42)","v":0},{"$f":"SUM(AUT_emp:POR_emp!AX42)","v":1},{"$f":"SUM(AUT_emp:POR_emp!AY42)","v":1},{"$f":"SUM(AUT_emp:POR_emp!AZ42)","v":2},{"$f":"SUM(AUT_emp:POR_emp!BA42)","v":0},{"$f":"SUM(AUT_emp:POR_emp!BB42)","v":0},55,0.13480392156862744]
[null,"Lighting",{"$f":"Sheet1!O207","v":"Schedule optimisation"},{"$f":"SUM(AUT_emp:POR_emp!D43)","v":2},{"$f":"SUM(AUT_emp:POR_emp!E43)","v":0},{"$f":"SUM(AUT_emp:POR_emp!F43)","v":-1},{"$f":"SUM(AUT_emp:POR_emp!G43)","v":0},{"$f":"SUM(AUT_emp:POR_emp!H43)","v":0},{"$f":"SUM(AUT_emp:POR_emp!I43)","v":-1},{"$f":"SUM(AUT_emp:POR_emp!J43)","v":0},{"$f":"SUM(AUT_emp:POR_emp!K43)","v":0},{"$f":"SUM(AUT_emp:POR_emp!L43)","v":0},{"$f":"SUM(AUT_emp:POR_emp!M43)","v":0},{"$f":"SUM(AUT_emp:POR_emp!N43)","v":5},{"$f":"SUM(AUT_emp:POR_emp!O43)","v":0},{"$f":"SUM(AUT_emp:POR_emp!P43)","v":3},{"$f":"SUM(AUT_emp:POR_emp!Q43)","v":0},{"$f":"SUM(AUT_emp:POR_emp!R43)","v":1},{"$f":"SUM(AUT_emp:POR_emp!S43)","v":0},{"$f":"SUM(AUT_emp:POR_emp!T43)","v":0},{"$f":"SUM(AUT_emp:POR_emp!U43)","v":2},{"$f":"SUM(AUT_emp:POR_emp!V43)","v":0},{"$f":"SUM(AUT_emp:POR_emp!W43)","v":1},{"$f":"SUM(AUT_emp:POR_emp!X43)","v":0},{"$f":"SUM(AUT_emp:POR_emp!Y43)","v":0},{"$f":"SUM(AUT_emp:POR_emp!Z43)","v":1},{"$f":"SUM(AUT_emp:POR_emp!AA43)","v":0},{"$f":"SUM(AUT_emp:POR_emp!AB43)","v":1},{"$f":"SUM(AUT_emp:POR_emp!AC43)","v":1},{"$f":"SUM(AUT_emp:POR_emp!AD43)","v":0},{"$f":"SUM(AUT_emp:POR_emp!AE43)","v":0},{"$f":"SUM(AUT_emp:POR_emp!AF43)","v":0},{"$f":"SUM(AUT_emp:POR_emp!AG43)","v":2},{"$f":"SUM(AUT_emp:POR_emp!AH43)","v":0},{"$f":"SUM(AUT_emp:POR_emp!AI43)","v":0},{"$f":"SUM(AUT_emp:POR_emp!AJ43)","v":0},{"$f":"SUM(AUT_emp:POR_emp!AK43)","v":0},{"$f":"SUM(AUT_emp:POR_emp!AL43)","v":1},{"$f":"SUM(AUT_emp:POR_emp!AM43)","v":0},{"$f":"SUM(AUT_emp:POR_emp!AN43)","v":0},{"$f":"SUM(AUT_emp:POR_emp!AO43)","v":0},{"$f":"SUM(AUT_emp:POR_emp!AP43)","v":0},{"$f":"SUM(AUT_emp:POR_emp!AQ43)","v":0},{"$f":"SUM(AUT_emp:POR_emp!AR43)","v":0},{"$f":"SUM(AUT_emp:POR_emp!AS43)","v":1},{"$f":"SUM(AUT_emp:POR_emp!AT43)","v":0},{"$f":"SUM(AUT_emp:POR_emp!AU43)","v":0},{"$f":"SUM(AUT_emp:POR_emp!AV43)","v":0},{"$f":"SUM(AUT_emp:POR_emp!AW43)","v":0},{"$f":"SUM(AUT_emp:POR_emp!AX43)","v":0},{"$f":"SUM(AUT_emp:POR_emp!AY43)","v":0},{"$f":"SUM(AUT_emp:POR_emp!AZ43)","v":0},{"$f":"SUM(AUT_emp:POR_emp!BA43)","v":1},{"$f":"SUM(AUT_emp:POR_emp!BB43)","v":0},20,4.9019607843137254E-2]
[null,"Lighting",{"$f":"Sheet1!O208","v":"Control optimisation"},{"$f":"SUM(AUT_emp:POR_emp!D44)","v":2},{"$f":"SUM(AUT_emp:POR_emp!E44)","v":0},{"$f":"SUM(AUT_emp:POR_emp!F44)","v":1},{"$f":"SUM(AUT_emp:POR_emp!G44)","v":0},{"$f":"SUM(AUT_emp:POR_emp!H44)","v":1},{"$f":"SUM(AUT_emp:POR_emp!I44)","v":1},{"$f":"SUM(AUT_emp:POR_emp!J44)","v":0},{"$f":"SUM(AUT_emp:POR_emp!K44)","v":0},{"$f":"SUM(AUT_emp:POR_emp!L44)","v":0},{"$f":"SUM(AUT_emp:POR_emp!M44)","v":0},{"$f":"SUM(AUT_emp:POR_emp!N44)","v":6},{"$f":"SUM(AUT_emp:POR_emp!O44)","v":0},{"$f":"SUM(AUT_emp:POR_emp!P44)","v":4},{"$f":"SUM(AUT_emp:POR_emp!Q44)","v":0},{"$f":"SUM(AUT_emp:POR_emp!R44)","v":1},{"$f":"SUM(AUT_emp:POR_emp!S44)","v":0},{"$f":"SUM(AUT_emp:POR_emp!T44)","v":0},{"$f":"SUM(AUT_emp:POR_emp!U44)","v":2},{"$f":"SUM(AUT_emp:POR_emp!V44)","v":0},{"$f":"SUM(AUT_emp:POR_emp!W44)","v":1},{"$f":"SUM(AUT_emp:POR_emp!X44)","v":0},{"$f":"SUM(AUT_emp:POR_emp!Y44)","v":0},{"$f":"SUM(AUT_emp:POR_emp!Z44)","v":1},{"$f":"SUM(AUT_emp:POR_emp!AA44)","v":0},{"$f":"SUM(AUT_emp:POR_emp!AB44)","v":2},{"$f":"SUM(AUT_emp:POR_emp!AC44)","v":1},{"$f":"SUM(AUT_emp:POR_emp!AD44)","v":1},{"$f":"SUM(AUT_emp:POR_emp!AE44)","v":1},{"$f":"SUM(AUT_emp:POR_emp!AF44)","v":0},{"$f":"SUM(AUT_emp:POR_emp!AG44)","v":1},{"$f":"SUM(AUT_emp:POR_emp!AH44)","v":0},{"$f":"SUM(AUT_emp:POR_emp!AI44)","v":0},{"$f":"SUM(AUT_emp:POR_emp!AJ44)","v":0},{"$f":"SUM(AUT_emp:POR_emp!AK44)","v":0},{"$f":"SUM(AUT_emp:POR_emp!AL44)","v":1},{"$f":"SUM(AUT_emp:POR_emp!AM44)","v":0},{"$f":"SUM(AUT_emp:POR_emp!AN44)","v":0},{"$f":"SUM(AUT_emp:POR_emp!AO44)","v":0},{"$f":"SUM(AUT_emp:POR_emp!AP44)","v":0},{"$f":"SUM(AUT_emp:POR_emp!AQ44)","v":0},{"$f":"SUM(AUT_emp:POR_emp!AR44)","v":0},{"$f":"SUM(AUT_emp:POR_emp!AS44)","v":1},{"$f":"SUM(AUT_emp:POR_emp!AT44)","v":1},{"$f":"SUM(AUT_emp:POR_emp!AU44)","v":0},{"$f":"SUM(AUT_emp:POR_emp!AV44)","v":0},{"$f":"SUM(AUT_emp:POR_emp!AW44)","v":0},{"$f":"SUM(AUT_emp:POR_emp!AX44)","v":0},{"$f":"SUM(AUT_emp:POR_emp!AY44)","v":0},{"$f":"SUM(AUT_emp:POR_emp!AZ44)","v":0},{"$f":"SUM(AUT_emp:POR_emp!BA44)","v":1},{"$f":"SUM(AUT_emp:POR_emp!BB44)","v":1},31,7.5980392156862739E-2]
[null,"Lighting",{"$f":"Sheet1!O209","v":"Utilisation of natural light"},{"$f":"SUM(AUT_emp:POR_emp!D45)","v":7},{"$f":"SUM(AUT_emp:POR_emp!E45)","v":0},{"$f":"SUM(AUT_emp:POR_emp!F45)","v":2},{"$f":"SUM(AUT_emp:POR_emp!G45)","v":0},{"$f":"SUM(AUT_emp:POR_emp!H45)","v":3},{"$f":"SUM(AUT_emp:POR_emp!I45)","v":5},{"$f":"SUM(AUT_emp:POR_emp!J45)","v":0},{"$f":"SUM(AUT_emp:POR_emp!K45)","v":3},{"$f":"SUM(AUT_emp:POR_emp!L45)","v":3},{"$f":"SUM(AUT_emp:POR_emp!M45)","v":1},{"$f":"SUM(AUT_emp:POR_emp!N45)","v":7},{"$f":"SUM(AUT_emp:POR_emp!O45)","v":0},{"$f":"SUM(AUT_emp:POR_emp!P45)","v":5},{"$f":"SUM(AUT_emp:POR_emp!Q45)","v":1},{"$f":"SUM(AUT_emp:POR_emp!R45)","v":1},{"$f":"SUM(AUT_emp:POR_emp!S45)","v":0},{"$f":"SUM(AUT_emp:POR_emp!T45)","v":0},{"$f":"SUM(AUT_emp:POR_emp!U45)","v":2},{"$f":"SUM(AUT_emp:POR_emp!V45)","v":0},{"$f":"SUM(AUT_emp:POR_emp!W45)","v":2},{"$f":"SUM(AUT_emp:POR_emp!X45)","v":0},{"$f":"SUM(AUT_emp:POR_emp!Y45)","v":0},{"$f":"SUM(AUT_emp:POR_emp!Z45)","v":2},{"$f":"SUM(AUT_emp:POR_emp!AA45)","v":0},{"$f":"SUM(AUT_emp:POR_emp!AB45)","v":0},{"$f":"SUM(AUT_emp:POR_emp!AC45)","v":2},{"$f":"SUM(AUT_emp:POR_emp!AD45)","v":0},{"$f":"SUM(AUT_emp:POR_emp!AE45)","v":0},{"$f":"SUM(AUT_emp:POR_emp!AF45)","v":0},{"$f":"SUM(AUT_emp:POR_emp!AG45)","v":2},{"$f":"SUM(AUT_emp:POR_emp!AH45)","v":0},{"$f":"SUM(AUT_emp:POR_emp!AI45)","v":0},{"$f":"SUM(AUT_emp:POR_emp!AJ45)","v":0},{"$f":"SUM(AUT_emp:POR_emp!AK45)","v":0},{"$f":"SUM(AUT_emp:POR_emp!AL45)","v":1},{"$f":"SUM(AUT_emp:POR_emp!AM45)","v":1},{"$f":"SUM(AUT_emp:POR_emp!AN45)","v":1},{"$f":"SUM(AUT_emp:POR_emp!AO45)","v":0},{"$f":"SUM(AUT_emp:POR_emp!AP45)","v":0},{"$f":"SUM(AUT_emp:POR_emp!AQ45)","v":1},{"$f":"SUM(AUT_emp:POR_emp!AR45)","v":0},{"$f":"SUM(AUT_emp:POR_emp!AS45)","v":0},{"$f":"SUM(AUT_emp:POR_emp!AT45)","v":0},{"$f":"SUM(AUT_emp:POR_emp!AU45)","v":0},{"$f":"SUM(AUT_emp:POR_emp!AV45)","v":0},{"$f":"SUM(AUT_emp:POR_emp!AW45)","v":1},{"$f":"SUM(AUT_emp:POR_emp!AX45)","v":0},{"$f":"SUM(AUT_emp:POR_emp!AY45)","v":0},{"$f":"SUM(AUT_emp:POR_emp!AZ45)","v":2},{"$f":"SUM(AUT_emp:POR_emp!BA45)","v":0},{"$f":"SUM(AUT_emp:POR_emp!BB45)","v":0},55,0.13480392156862744]
[null,"Renewable energy",{"$f":"Sheet1!O211","v":"Solar PV"},{"$f":"SUM(AUT_emp:POR_emp!D46)","v":1},{"$f":"SUM(AUT_emp:POR_emp!E46)","v":0},{"$f":"SUM(AUT_emp:POR_emp!F46)","v":0},{"$f":"SUM(AUT_emp:POR_emp!G46)","v":1},{"$f":"SUM(AUT_emp:POR_emp!H46)","v":0},{"$f":"SUM(AUT_emp:POR_emp!I46)","v":0},{"$f":"SUM(AUT_emp:POR_emp!J46)","v":0},{"$f":"SUM(AUT_emp:POR_emp!K46)","v":0},{"$f":"SUM(AUT_emp:POR_emp!L46)","v":0},{"$f":"SUM(AUT_emp:POR_emp!M46)","v":0},{"$f":"SUM(AUT_emp:POR_emp!N46)","v":0},{"$f":"SUM(AUT_emp:POR_emp!O46)","v":1},{"$f":"SUM(AUT_emp:POR_emp!P46)","v":6},{"$f":"SUM(AUT_emp:POR_emp!Q46)","v":1},{"$f":"SUM(AUT_emp:POR_emp!R46)","v":0},{"$f":"SUM(AUT_emp:POR_emp!S46)","v":0},{"$f":"SUM(AUT_emp:POR_emp!T46)","v":0},{"$f":"SUM(AUT_emp:POR_emp!U46)","v":4},{"$f":"SUM(AUT_emp:POR_emp!V46)","v":0},{"$f":"SUM(AUT_emp:POR_emp!W46)","v":3},{"$f":"SUM(AUT_emp:POR_emp!X46)","v":-1},{"$f":"SUM(AUT_emp:POR_emp!Y46)","v":0},{"$f":"SUM(AUT_emp:POR_emp!Z46)","v":1},{"$f":"SUM(AUT_emp:POR_emp!AA46)","v":0},{"$f":"SUM(AUT_emp:POR_emp!AB46)","v":-1},{"$f":"SUM(AUT_emp:POR_emp!AC46)","v":2},{"$f":"SUM(AUT_emp:POR_emp!AD46)","v":0},{"$f":"SUM(AUT_emp:POR_emp!AE46)","v":0},{"$f":"SUM(AUT_emp:POR_emp!AF46)","v":1},{"$f":"SUM(AUT_emp:POR_emp!AG46)","v":1},{"$f":"SUM(AUT_emp:POR_emp!AH46)","v":0},{"$f":"SUM(AUT_emp:POR_emp!AI46)","v":0},{"$f":"SUM(AUT_emp:POR_emp!AJ46)","v":0},{"$f":"SUM(AUT_emp:POR_emp!AK46)","v":1},{"$f":"SUM(AUT_emp:POR_emp!AL46)","v":1},{"$f":"SUM(AUT_emp:POR_emp!AM46)","v":2},{"$f":"SUM(AUT_emp:POR_emp!AN46)","v":2},{"$f":"SUM(AUT_emp:POR_emp!AO46)","v":0},{"$f":"SUM(AUT_emp:POR_emp!AP46)","v":0},{"$f":"SUM(AUT_emp:POR_emp!AQ46)","v":-2},{"$f":"SUM(AUT_emp:POR_emp!AR46)","v":0},{"$f":"SUM(AUT_emp:POR_emp!AS46)","v":0},{"$f":"SUM(AUT_emp:POR_emp!AT46)","v":0},{"$f":"SUM(AUT_emp:POR_emp!AU46)","v":0},{"$f":"SUM(AUT_emp:POR_emp!AV46)","v":0},{"$f":"SUM(AUT_emp:POR_emp!AW46)","v":4},{"$f":"SUM(AUT_emp:POR_emp!AX46)","v":0},{"$f":"SUM(AUT_emp:POR_emp!AY46)","v":0},{"$f":"SUM(AUT_emp:POR_emp!AZ46)","v":0},{"$f":"SUM(AUT_emp:POR_emp!BA46)","v":0},{"$f":"SUM(AUT_emp:POR_emp!BB46)","v":0},28,6.8627450980392163E-2]
[null,"Renewable energy",{"$f":"Sheet1!O212","v":"Wind turbine"},{"$f":"SUM(AUT_emp:POR_emp!D47)","v":0},{"$f":"SUM(AUT_emp:POR_emp!E47)","v":0},{"$f":"SUM(AUT_emp:POR_emp!F47)","v":0},{"$f":"SUM(AUT_emp:POR_emp!G47)","v":1},{"$f":"SUM(AUT_emp:POR_emp!H47)","v":0},{"$f":"SUM(AUT_emp:POR_emp!I47)","v":0},{"$f":"SUM(AUT_emp:POR_emp!J47)","v":-1},{"$f":"SUM(AUT_emp:POR_emp!K47)","v":0},{"$f":"SUM(AUT_emp:POR_emp!L47)","v":0},{"$f":"SUM(AUT_emp:POR_emp!M47)","v":0},{"$f":"SUM(AUT_emp:POR_emp!N47)","v":0},{"$f":"SUM(AUT_emp:POR_emp!O47)","v":-2},{"$f":"SUM(AUT_emp:POR_emp!P47)","v":6},{"$f":"SUM(AUT_emp:POR_emp!Q47)","v":1},{"$f":"SUM(AUT_emp:POR_emp!R47)","v":-1},{"$f":"SUM(AUT_emp:POR_emp!S47)","v":0},{"$f":"SUM(AUT_emp:POR_emp!T47)","v":0},{"$f":"SUM(AUT_emp:POR_emp!U47)","v":4},{"$f":"SUM(AUT_emp:POR_emp!V47)","v":-4},{"$f":"SUM(AUT_emp:POR_emp!W47)","v":3},{"$f":"SUM(AUT_emp:POR_emp!X47)","v":-1},{"$f":"SUM(AUT_emp:POR_emp!Y47)","v":0},{"$f":"SUM(AUT_emp:POR_emp!Z47)","v":1},{"$f":"SUM(AUT_emp:POR_emp!AA47)","v":0},{"$f":"SUM(AUT_emp:POR_emp!AB47)","v":-1},{"$f":"SUM(AUT_emp:POR_emp!AC47)","v":2},{"$f":"SUM(AUT_emp:POR_emp!AD47)","v":0},{"$f":"SUM(AUT_emp:POR_emp!AE47)","v":0},{"$f":"SUM(AUT_emp:POR_emp!AF47)","v":1},{"$f":"SUM(AUT_emp:POR_emp!AG47)","v":1},{"$f":"SUM(AUT_emp:POR_emp!AH47)","v":0},{"$f":"SUM(AUT_emp:POR_emp!AI47)","v":0},{"$f":"SUM(AUT_emp:POR_emp!AJ47)","v":0},{"$f":"SUM(AUT_emp:POR_emp!AK47)","v":1},{"$f":"SUM(AUT_emp:POR_emp!AL47)","v":1},{"$f":"SUM(AUT_emp:POR_emp!AM47)","v":2},{"$f":"SUM(AUT_emp:POR_emp!AN47)","v":2},{"$f":"SUM(AUT_emp:POR_emp!AO47)","v":0},{"$f":"SUM(AUT_emp:POR_emp!AP47)","v":0},{"$f":"SUM(AUT_emp:POR_emp!AQ47)","v":-2},{"$f":"SUM(AUT_emp:POR_emp!AR47)","v":0},{"$f":"SUM(AUT_emp:POR_emp!AS47)","v":0},{"$f":"SUM(AUT_emp:POR_emp!AT47)","v":0},{"$f":"SUM(AUT_emp:POR_emp!AU47)","v":0},{"$f":"SUM(AUT_emp:POR_emp!AV47)","v":0},{"$f":"SUM(AUT_emp:POR_emp!AW47)","v":3},{"$f":"SUM(AUT_emp:POR_emp!AX47)","v":0},{"$f":"SUM(AUT_emp:POR_emp!AY47)","v":0},{"$f":"SUM(AUT_emp:POR_emp!AZ47)","v":0},{"$f":"SUM(AUT_emp:POR_emp!BA47)","v":0},{"$f":"SUM(AUT_emp:POR_emp!BB47)","v":0},17,4.1666666666666664E-2]
[null,"Renewable energy",{"$f":"Sheet1!O213","v":"Solar collector system"},{"$f":"SUM(AUT_emp:POR_emp!D48)","v":1},{"$f":"SUM(AUT_emp:POR_emp!E48)","v":0},{"$f":"SUM(AUT_emp:POR_emp!F48)","v":0},{"$f":"SUM(AUT_emp:POR_emp!G48)","v":1},{"$f":"SUM(AUT_emp:POR_emp!H48)","v":0},{"$f":"SUM(AUT_emp:POR_emp!I48)","v":0},{"$f":"SUM(AUT_emp:POR_emp!J48)","v":0},{"$f":"SUM(AUT_emp:POR_emp!K48)","v":0},{"$f":"SUM(AUT_emp:POR_emp!L48)","v":0},{"$f":"SUM(AUT_emp:POR_emp!M48)","v":0},{"$f":"SUM(AUT_emp:POR_emp!N48)","v":0},{"$f":"SUM(AUT_emp:POR_emp!O48)","v":1},{"$f":"SUM(AUT_emp:POR_emp!P48)","v":6},{"$f":"SUM(AUT_emp:POR_emp!Q48)","v":1},{"$f":"SUM(AUT_emp:POR_emp!R48)","v":0},{"$f":"SUM(AUT_emp:POR_emp!S48)","v":0},{"$f":"SUM(AUT_emp:POR_emp!T48)","v":0},{"$f":"SUM(AUT_emp:POR_emp!U48)","v":4},{"$f":"SUM(AUT_emp:POR_emp!V48)","v":0},{"$f":"SUM(AUT_emp:POR_emp!W48)","v":3},{"$f":"SUM(AUT_emp:POR_emp!X48)","v":-1},{"$f":"SUM(AUT_emp:POR_emp!Y48)","v":0},{"$f":"SUM(AUT_emp:POR_emp!Z48)","v":1},{"$f":"SUM(AUT_emp:POR_emp!AA48)","v":0},{"$f":"SUM(AUT_emp:POR_emp!AB48)","v":-1},{"$f":"SUM(AUT_emp:POR_emp!AC48)","v":2},{"$f":"SUM(AUT_emp:POR_emp!AD48)","v":0},{"$f":"SUM(AUT_emp:POR_emp!AE48)","v":0},{"$f":"SUM(AUT_emp:POR_emp!AF48)","v":1},{"$f":"SUM(AUT_emp:POR_emp!AG48)","v":1},{"$f":"SUM(AUT_emp:POR_emp!AH48)","v":0},{"$f":"SUM(AUT_emp:POR_emp!AI48)","v":0},{"$f":"SUM(AUT_emp:POR_emp!AJ48)","v":0},{"$f":"SUM(AUT_emp:POR_emp!AK48)","v":1},{"$f":"SUM(AUT_emp:POR_emp!AL48)","v":1},{"$f":"SUM(AUT_emp:POR_emp!AM48)","v":2},{"$f":"SUM(AUT_emp:POR_emp!AN48)","v":2},{"$f":"SUM(AUT_emp:POR_emp!AO48)","v":0},{"$f":"SUM(AUT_emp:POR_emp!AP48)","v":0},{"$f":"SUM(AUT_emp:POR_emp!AQ48)","v":-2},{"$f":"SUM(AUT_emp:POR_emp!AR48)","v":0},{"$f":"SUM(AUT_emp:POR_emp!AS48)","v":0},{"$f":"SUM(AUT_emp:POR_emp!AT48)","v":0},{"$f":"SUM(AUT_emp:POR_emp!AU48)","v":0},{"$f":"SUM(AUT_emp:POR_emp!AV48)","v":0},{"$f":"SUM(AUT_emp:POR_emp!AW48)","v":3},{"$f":"SUM(AUT_emp:POR_emp!AX48)","v":0},{"$f":"SUM(AUT_emp:POR_emp!AY48)","v":0},{"$f":"SUM(AUT_emp:POR_emp!AZ48)","v":0},{"$f":"SUM(AUT_emp:POR_emp!BA48)","v":0},{"$f":"SUM(AUT_emp:POR_emp!BB48)","v":0},27,6.6176470588235295E-2]
[null,"Renewable energy",{"$f":"Sheet1!O214","v":"Geothermal heat pump system"},{"$f":"SUM(AUT_emp:POR_emp!D49)","v":0},{"$f":"SUM(AUT_emp:POR_emp!E49)","v":0},{"$f":"SUM(AUT_emp:POR_emp!F49)","v":0},{"$f":"SUM(AUT_emp:POR_emp!G49)","v":1},{"$f":"SUM(AUT_emp:POR_emp!H49)","v":0},{"$f":"SUM(AUT_emp:POR_emp!I49)","v":0},{"$f":"SUM(AUT_emp:POR_emp!J49)","v":0},{"$f":"SUM(AUT_emp:POR_emp!K49)","v":0},{"$f":"SUM(AUT_emp:POR_emp!L49)","v":0},{"$f":"SUM(AUT_emp:POR_emp!M49)","v":0},{"$f":"SUM(AUT_emp:POR_emp!N49)","v":0},{"$f":"SUM(AUT_emp:POR_emp!O49)","v":0},{"$f":"SUM(AUT_emp:POR_emp!P49)","v":6},{"$f":"SUM(AUT_emp:POR_emp!Q49)","v":0},{"$f":"SUM(AUT_emp:POR_emp!R49)","v":2},{"$f":"SUM(AUT_emp:POR_emp!S49)","v":0},{"$f":"SUM(AUT_emp:POR_emp!T49)","v":0},{"$f":"SUM(AUT_emp:POR_emp!U49)","v":4},{"$f":"SUM(AUT_emp:POR_emp!V49)","v":0},{"$f":"SUM(AUT_emp:POR_emp!W49)","v":3},{"$f":"SUM(AUT_emp:POR_emp!X49)","v":-1},{"$f":"SUM(AUT_emp:POR_emp!Y49)","v":0},{"$f":"SUM(AUT_emp:POR_emp!Z49)","v":1},{"$f":"SUM(AUT_emp:POR_emp!AA49)","v":0},{"$f":"SUM(AUT_emp:POR_emp!AB49)","v":-1},{"$f":"SUM(AUT_emp:POR_emp!AC49)","v":1},{"$f":"SUM(AUT_emp:POR_emp!AD49)","v":0},{"$f":"SUM(AUT_emp:POR_emp!AE49)","v":0},{"$f":"SUM(AUT_emp:POR_emp!AF49)","v":1},{"$f":"SUM(AUT_emp:POR_emp!AG49)","v":1},{"$f":"SUM(AUT_emp:POR_emp!AH49)","v":0},{"$f":"SUM(AUT_emp:POR_emp!AI49)","v":0},{"$f":"SUM(AUT_emp:POR_emp!AJ49)","v":0},{"$f":"SUM(AUT_emp:POR_emp!AK49)","v":1},{"$f":"SUM(AUT_emp:POR_emp!AL49)","v":1},{"$f":"SUM(AUT_emp:POR_emp!AM49)","v":2},{"$f":"SUM(AUT_emp:POR_emp!AN49)","v":2},{"$f":"SUM(AUT_emp:POR_emp!AO49)","v":0},{"$f":"SUM(AUT_emp:POR_emp!AP49)","v":0},{"$f":"SUM(AUT_emp:POR_emp!AQ49)","v":-2},{"$f":"SUM(AUT_emp:POR_emp!AR49)","v":0},{"$f":"SUM(AUT_emp:POR_emp!AS49)","v":0},{"$f":"SUM(AUT_emp:POR_emp!AT49)","v":0},{"$f":"SUM(AUT_emp:POR_emp!AU49)","v":0},{"$f":"SUM(AUT_emp:POR_emp!AV49)","v":0},{"$f":"SUM(AUT_emp:POR_emp!AW49)","v":3},{"$f":"SUM(AUT_emp:POR_emp!AX49)","v":0},{"$f":"SUM(AUT_emp:POR_emp!AY49)","v":0},{"$f":"SUM(AUT_emp:POR_emp!AZ49)","v":0},{"$f":"SUM(AUT_emp:POR_emp!BA49)","v":0},{"$f":"SUM(AUT_emp:POR_emp!BB49)","v":0},25,6.1274509803921566E-2]
[null,"Renewable energy",{"$f":"Sheet1!O215","v":"Passive measures"},{"$f":"SUM(AUT_emp:POR_emp!D50)","v":1},{"$f":"SUM(AUT_emp:POR_emp!E50)","v":1},{"$f":"SUM(AUT_emp:POR_emp!F50)","v":0},{"$f":"SUM(AUT_emp:POR_emp!G50)","v":1},{"$f":"SUM(AUT_emp:POR_emp!H50)","v":0},{"$f":"SUM(AUT_emp:POR_emp!I50)","v":0},{"$f":"SUM(AUT_emp:POR_emp!J50)","v":0},{"$f":"SUM(AUT_emp:POR_emp!K50)","v":0},{"$f":"SUM(AUT_emp:POR_emp!L50)","v":0},{"$f":"SUM(AUT_emp:POR_emp!M50)","v":0},{"$f":"SUM(AUT_emp:POR_emp!N50)","v":0},{"$f":"SUM(AUT_emp:POR_emp!O50)","v":0},{"$f":"SUM(AUT_emp:POR_emp!P50)","v":6},{"$f":"SUM(AUT_emp:POR_emp!Q50)","v":1},{"$f":"SUM(AUT_emp:POR_emp!R50)","v":2},{"$f":"SUM(AUT_emp:POR_emp!S50)","v":0},{"$f":"SUM(AUT_emp:POR_emp!T50)","v":0},{"$f":"SUM(AUT_emp:POR_emp!U50)","v":3},{"$f":"SUM(AUT_emp:POR_emp!V50)","v":0},{"$f":"SUM(AUT_emp:POR_emp!W50)","v":3},{"$f":"SUM(AUT_emp:POR_emp!X50)","v":0},{"$f":"SUM(AUT_emp:POR_emp!Y50)","v":0},{"$f":"SUM(AUT_emp:POR_emp!Z50)","v":1},{"$f":"SUM(AUT_emp:POR_emp!AA50)","v":0},{"$f":"SUM(AUT_emp:POR_emp!AB50)","v":-1},{"$f":"SUM(AUT_emp:POR_emp!AC50)","v":1},{"$f":"SUM(AUT_emp:POR_emp!AD50)","v":0},{"$f":"SUM(AUT_emp:POR_emp!AE50)","v":0},{"$f":"SUM(AUT_emp:POR_emp!AF50)","v":1},{"$f":"SUM(AUT_emp:POR_emp!AG50)","v":2},{"$f":"SUM(AUT_emp:POR_emp!AH50)","v":0},{"$f":"SUM(AUT_emp:POR_emp!AI50)","v":0},{"$f":"SUM(AUT_emp:POR_emp!AJ50)","v":0},{"$f":"SUM(AUT_emp:POR_emp!AK50)","v":1},{"$f":"SUM(AUT_emp:POR_emp!AL50)","v":1},{"$f":"SUM(AUT_emp:POR_emp!AM50)","v":1},{"$f":"SUM(AUT_emp:POR_emp!AN50)","v":1},{"$f":"SUM(AUT_emp:POR_emp!AO50)","v":0},{"$f":"SUM(AUT_emp:POR_emp!AP50)","v":0},{"$f":"SUM(AUT_emp:POR_emp!AQ50)","v":-1},{"$f":"SUM(AUT_emp:POR_emp!AR50)","v":0},{"$f":"SUM(AUT_emp:POR_emp!AS50)","v":0},{"$f":"SUM(AUT_emp:POR_emp!AT50)","v":0},{"$f":"SUM(AUT_emp:POR_emp!AU50)","v":0},{"$f":"SUM(AUT_emp:POR_emp!AV50)","v":0},{"$f":"SUM(AUT_emp:POR_emp!AW50)","v":3},{"$f":"SUM(AUT_emp:POR_emp!AX50)","v":0},{"$f":"SUM(AUT_emp:POR_emp!AY50)","v":0},{"$f":"SUM(AUT_emp:POR_emp!AZ50)","v":0},{"$f":"SUM(AUT_emp:POR_emp!BA50)","v":0},{"$f":"SUM(AUT_emp:POR_emp!BB50)","v":0},28,6.8627450980392163E-2]
[null,"Appliances",{"$f":"Sheet1!O217","v":"Energy efficient appliances"},{"$f":"SUM(AUT_emp:POR_emp!D51)","v":2},{"$f":"SUM(AUT_emp:POR_emp!E51)","v":0},{"$f":"SUM(AUT_emp:POR_emp!F51)","v":0},{"$f":"SUM(AUT_emp:POR_emp!G51)","v":0},{"$f":"SUM(AUT_emp:POR_emp!H51)","v":0},{"$f":"SUM(AUT_emp:POR_emp!I51)","v":0},{"$f":"SUM(AUT_emp:POR_emp!J51)","v":0},{"$f":"SUM(AUT_emp:POR_emp!K51)","v":0},{"$f":"SUM(AUT_emp:POR_emp!L51)","v":0},{"$f":"SUM(AUT_emp:POR_emp!M51)","v":0},{"$f":"SUM(AUT_emp:POR_emp!N51)","v":0},{"$f":"SUM(AUT_emp:POR_emp!O51)","v":2},{"$f":"SUM(AUT_emp:POR_emp!P51)","v":4},{"$f":"SUM(AUT_emp:POR_emp!Q51)","v":0},{"$f":"SUM(AUT_emp:POR_emp!R51)","v":1},{"$f":"SUM(AUT_emp:POR_emp!S51)","v":0},{"$f":"SUM(AUT_emp:POR_emp!T51)","v":0},{"$f":"SUM(AUT_emp:POR_emp!U51)","v":3},{"$f":"SUM(AUT_emp:POR_emp!V51)","v":1},{"$f":"SUM(AUT_emp:POR_emp!W51)","v":1},{"$f":"SUM(AUT_emp:POR_emp!X51)","v":0},{"$f":"SUM(AUT_emp:POR_emp!Y51)","v":0},{"$f":"SUM(AUT_emp:POR_emp!Z51)","v":2},{"$f":"SUM(AUT_emp:POR_emp!AA51)","v":0},{"$f":"SUM(AUT_emp:POR_emp!AB51)","v":0},{"$f":"SUM(AUT_emp:POR_emp!AC51)","v":1},{"$f":"SUM(AUT_emp:POR_emp!AD51)","v":0},{"$f":"SUM(AUT_emp:POR_emp!AE51)","v":0},{"$f":"SUM(AUT_emp:POR_emp!AF51)","v":1},{"$f":"SUM(AUT_emp:POR_emp!AG51)","v":2},{"$f":"SUM(AUT_emp:POR_emp!AH51)","v":0},{"$f":"SUM(AUT_emp:POR_emp!AI51)","v":0},{"$f":"SUM(AUT_emp:POR_emp!AJ51)","v":0},{"$f":"SUM(AUT_emp:POR_emp!AK51)","v":0},{"$f":"SUM(AUT_emp:POR_emp!AL51)","v":1},{"$f":"SUM(AUT_emp:POR_emp!AM51)","v":0},{"$f":"SUM(AUT_emp:POR_emp!AN51)","v":0},{"$f":"SUM(AUT_emp:POR_emp!AO51)","v":0},{"$f":"SUM(AUT_emp:POR_emp!AP51)","v":0},{"$f":"SUM(AUT_emp:POR_emp!AQ51)","v":0},{"$f":"SUM(AUT_emp:POR_emp!AR51)","v":0},{"$f":"SUM(AUT_emp:POR_emp!AS51)","v":0},{"$f":"SUM(AUT_emp:POR_emp!AT51)","v":0},{"$f":"SUM(AUT_emp:POR_emp!AU51)","v":0},{"$f":"SUM(AUT_emp:POR_emp!AV51)","v":0},{"$f":"SUM(AUT_emp:POR_emp!AW51)","v":2},{"$f":"SUM(AUT_emp:POR_emp!AX51)","v":0},{"$f":"SUM(AUT_emp:POR_emp!AY51)","v":0},{"$f":"SUM(AUT_emp:POR_emp!AZ51)","v":0},{"$f":"SUM(AUT_emp:POR_emp!BA51)","v":0},{"$f":"SUM(AUT_emp:POR_emp!BB51)","v":0},23,5.6372549019607844E-2]
[null,"Appliances",{"$f":"Sheet1!O218","v":"Reducing stand-by consumption"},{"$f":"SUM(AUT_emp:POR_emp!D52)","v":-1},{"$f":"SUM(AUT_emp:POR_emp!E52)","v":0},{"$f":"SUM(AUT_emp:POR_emp!F52)","v":0},{"$f":"SUM(AUT_emp:POR_emp!G52)","v":0},{"$f":"SUM(AUT_emp:POR_emp!H52)","v":0},{"$f":"SUM(AUT_emp:POR_emp!I52)","v":0},{"$f":"SUM(AUT_emp:POR_emp!J52)","v":0},{"$f":"SUM(AUT_emp:POR_emp!K52)","v":0},{"$f":"SUM(AUT_emp:POR_emp!L52)","v":0},{"$f":"SUM(AUT_emp:POR_emp!M52)","v":0},{"$f":"SUM(AUT_emp:POR_emp!N52)","v":0},{"$f":"SUM(AUT_emp:POR_emp!O52)","v":0},{"$f":"SUM(AUT_emp:POR_emp!P52)","v":3},{"$f":"SUM(AUT_emp:POR_emp!Q52)","v":0},{"$f":"SUM(AUT_emp:POR_emp!R52)","v":1},{"$f":"SUM(AUT_emp:POR_emp!S52)","v":0},{"$f":"SUM(AUT_emp:POR_emp!T52)","v":0},{"$f":"SUM(AUT_emp:POR_emp!U52)","v":2},{"$f":"SUM(AUT_emp:POR_emp!V52)","v":0},{"$f":"SUM(AUT_emp:POR_emp!W52)","v":1},{"$f":"SUM(AUT_emp:POR_emp!X52)","v":0},{"$f":"SUM(AUT_emp:POR_emp!Y52)","v":0},{"$f":"SUM(AUT_emp:POR_emp!Z52)","v":1},{"$f":"SUM(AUT_emp:POR_emp!AA52)","v":0},{"$f":"SUM(AUT_emp:POR_emp!AB52)","v":0},{"$f":"SUM(AUT_emp:POR_emp!AC52)","v":1},{"$f":"SUM(AUT_emp:POR_emp!AD52)","v":0},{"$f":"SUM(AUT_emp:POR_emp!AE52)","v":0},{"$f":"SUM(AUT_emp:POR_emp!AF52)","v":0},{"$f":"SUM(AUT_emp:POR_emp!AG52)","v":2},{"$f":"SUM(AUT_emp:POR_emp!AH52)","v":0},{"$f":"SUM(AUT_emp:POR_emp!AI52)","v":0},{"$f":"SUM(AUT_emp:POR_emp!AJ52)","v":0},{"$f":"SUM(AUT_emp:POR_emp!AK52)","v":0},{"$f":"SUM(AUT_emp:POR_emp!AL52)","v":1},{"$f":"SUM(AUT_emp:POR_emp!AM52)","v":0},{"$f":"SUM(AUT_emp:POR_emp!AN52)","v":0},{"$f":"SUM(AUT_emp:POR_emp!AO52)","v":0},{"$f":"SUM(AUT_emp:POR_emp!AP52)","v":0},{"$f":"SUM(AUT_emp:POR_emp!AQ52)","v":0},{"$f":"SUM(AUT_emp:POR_emp!AR52)","v":0},{"$f":"SUM(AUT_emp:POR_emp!AS52)","v":0},{"$f":"SUM(AUT_emp:POR_emp!AT52)","v":0},{"$f":"SUM(AUT_emp:POR_emp!AU52)","v":0},{"$f":"SUM(AUT_emp:POR_emp!AV52)","v":0},{"$f":"SUM(AUT_emp:POR_emp!AW52)","v":0},{"$f":"SUM(AUT_emp:POR_emp!AX52)","v":0},{"$f":"SUM(AUT_emp:POR_emp!AY52)","v":0},{"$f":"SUM(AUT_emp:POR_emp!AZ52)","v":0},{"$f":"SUM(AUT_emp:POR_emp!BA52)","v":0},{"$f":"SUM(AUT_emp:POR_emp!BB52)","v":0},11,2.6960784313725492E-2]
[null,"Appliances",{"$f":"Sheet1!O219","v":"Optimal usage, on demand operation"},{"$f":"SUM(AUT_emp:POR_emp!D53)","v":0},{"$f":"SUM(AUT_emp:POR_emp!E53)","v":0},{"$f":"SUM(AUT_emp:POR_emp!F53)","v":0},{"$f":"SUM(AUT_emp:POR_emp!G53)","v":0},{"$f":"SUM(AUT_emp:POR_emp!H53)","v":1},{"$f":"SUM(AUT_emp:POR_emp!I53)","v":0},{"$f":"SUM(AUT_emp:POR_emp!J53)","v":0},{"$f":"SUM(AUT_emp:POR_emp!K53)","v":0},{"$f":"SUM(AUT_emp:POR_emp!L53)","v":0},{"$f":"SUM(AUT_emp:POR_emp!M53)","v":0},{"$f":"SUM(AUT_emp:POR_emp!N53)","v":0},{"$f":"SUM(AUT_emp:POR_emp!O53)","v":1},{"$f":"SUM(AUT_emp:POR_emp!P53)","v":4},{"$f":"SUM(AUT_emp:POR_emp!Q53)","v":1},{"$f":"SUM(AUT_emp:POR_emp!R53)","v":1},{"$f":"SUM(AUT_emp:POR_emp!S53)","v":0},{"$f":"SUM(AUT_emp:POR_emp!T53)","v":0},{"$f":"SUM(AUT_emp:POR_emp!U53)","v":2},{"$f":"SUM(AUT_emp:POR_emp!V53)","v":1},{"$f":"SUM(AUT_emp:POR_emp!W53)","v":1},{"$f":"SUM(AUT_emp:POR_emp!X53)","v":0},{"$f":"SUM(AUT_emp:POR_emp!Y53)","v":0},{"$f":"SUM(AUT_emp:POR_emp!Z53)","v":1},{"$f":"SUM(AUT_emp:POR_emp!AA53)","v":1},{"$f":"SUM(AUT_emp:POR_emp!AB53)","v":2},{"$f":"SUM(AUT_emp:POR_emp!AC53)","v":1},{"$f":"SUM(AUT_emp:POR_emp!AD53)","v":0},{"$f":"SUM(AUT_emp:POR_emp!AE53)","v":0},{"$f":"SUM(AUT_emp:POR_emp!AF53)","v":0},{"$f":"SUM(AUT_emp:POR_emp!AG53)","v":2},{"$f":"SUM(AUT_emp:POR_emp!AH53)","v":0},{"$f":"SUM(AUT_emp:POR_emp!AI53)","v":0},{"$f":"SUM(AUT_emp:POR_emp!AJ53)","v":0},{"$f":"SUM(AUT_emp:POR_emp!AK53)","v":0},{"$f":"SUM(AUT_emp:POR_emp!AL53)","v":1},{"$f":"SUM(AUT_emp:POR_emp!AM53)","v":0},{"$f":"SUM(AUT_emp:POR_emp!AN53)","v":0},{"$f":"SUM(AUT_emp:POR_emp!AO53)","v":0},{"$f":"SUM(AUT_emp:POR_emp!AP53)","v":0},{"$f":"SUM(AUT_emp:POR_emp!AQ53)","v":1},{"$f":"SUM(AUT_emp:POR_emp!AR53)","v":1},{"$f":"SUM(AUT_emp:POR_emp!AS53)","v":0},{"$f":"SUM(AUT_emp:POR_emp!AT53)","v":0},{"$f":"SUM(AUT_emp:POR_emp!AU53)","v":0},{"$f":"SUM(AUT_emp:POR_emp!AV53)","v":0},{"$f":"SUM(AUT_emp:POR_emp!AW53)","v":0},{"$f":"SUM(AUT_emp:POR_emp!AX53)","v":0},{"$f":"SUM(AUT_emp:POR_emp!AY53)","v":0},{"$f":"SUM(AUT_emp:POR_emp!AZ53)","v":0},{"$f":"SUM(AUT_emp:POR_emp!BA53)","v":3},{"$f":"SUM(AUT_emp:POR_emp!BB53)","v":0},25,6.1274509803921566E-2]
[null,"Building automation",{"$f":"Sheet1!O221","v":"Building automation and management systems"},{"$f":"SUM(AUT_emp:POR_emp!D54)","v":2},{"$f":"SUM(AUT_emp:POR_emp!E54)","v":0},{"$f":"SUM(AUT_emp:POR_emp!F54)","v":-1},{"$f":"SUM(AUT_emp:POR_emp!G54)","v":1},{"$f":"SUM(AUT_emp:POR_emp!H54)","v":1},{"$f":"SUM(AUT_emp:POR_emp!I54)","v":1},{"$f":"SUM(AUT_emp:POR_emp!J54)","v":0},{"$f":"SUM(AUT_emp:POR_emp!K54)","v":0},{"$f":"SUM(AUT_emp:POR_emp!L54)","v":1},{"$f":"SUM(AUT_emp:POR_emp!M54)","v":1},{"$f":"SUM(AUT_emp:POR_emp!N54)","v":3},{"$f":"SUM(AUT_emp:POR_emp!O54)","v":0},{"$f":"SUM(AUT_emp:POR_emp!P54)","v":3},{"$f":"SUM(AUT_emp:POR_emp!Q54)","v":1},{"$f":"SUM(AUT_emp:POR_emp!R54)","v":1},{"$f":"SUM(AUT_emp:POR_emp!S54)","v":2},{"$f":"SUM(AUT_emp:POR_emp!T54)","v":1},{"$f":"SUM(AUT_emp:POR_emp!U54)","v":2},{"$f":"SUM(AUT_emp:POR_emp!V54)","v":1},{"$f":"SUM(AUT_emp:POR_emp!W54)","v":3},{"$f":"SUM(AUT_emp:POR_emp!X54)","v":0},{"$f":"SUM(AUT_emp:POR_emp!Y54)","v":1},{"$f":"SUM(AUT_emp:POR_emp!Z54)","v":1},{"$f":"SUM(AUT_emp:POR_emp!AA54)","v":1},{"$f":"SUM(AUT_emp:POR_emp!AB54)","v":-1},{"$f":"SUM(AUT_emp:POR_emp!AC54)","v":0},{"$f":"SUM(AUT_emp:POR_emp!AD54)","v":1},{"$f":"SUM(AUT_emp:POR_emp!AE54)","v":1},{"$f":"SUM(AUT_emp:POR_emp!AF54)","v":1},{"$f":"SUM(AUT_emp:POR_emp!AG54)","v":1},{"$f":"SUM(AUT_emp:POR_emp!AH54)","v":0},{"$f":"SUM(AUT_emp:POR_emp!AI54)","v":0},{"$f":"SUM(AUT_emp:POR_emp!AJ54)","v":0},{"$f":"SUM(AUT_emp:POR_emp!AK54)","v":0},{"$f":"SUM(AUT_emp:POR_emp!AL54)","v":1},{"$f":"SUM(AUT_emp:POR_emp!AM54)","v":1},{"$f":"SUM(AUT_emp:POR_emp!AN54)","v":0},{"$f":"SUM(AUT_emp:POR_emp!AO54)","v":0},{"$f":"SUM(AUT_emp:POR_emp!AP54)","v":0},{"$f":"SUM(AUT_emp:POR_emp!AQ54)","v":0},{"$f":"SUM(AUT_emp:POR_emp!AR54)","v":0},{"$f":"SUM(AUT_emp:POR_emp!AS54)","v":2},{"$f":"SUM(AUT_emp:POR_emp!AT54)","v":1},{"$f":"SUM(AUT_emp:POR_emp!AU54)","v":0},{"$f":"SUM(AUT_emp:POR_emp!AV54)","v":0},{"$f":"SUM(AUT_emp:POR_emp!AW54)","v":2},{"$f":"SUM(AUT_emp:POR_emp!AX54)","v":0},{"$f":"SUM(AUT_emp:POR_emp!AY54)","v":1},{"$f":"SUM(AUT_emp:POR_emp!AZ54)","v":2},{"$f":"SUM(AUT_emp:POR_emp!BA54)","v":1},{"$f":"SUM(AUT_emp:POR_emp!BB54)","v":2},42,0.10294117647058823]
[null,"Building automation",{"$f":"Sheet1!O222","v":"Energy management system"},{"$f":"SUM(AUT_emp:POR_emp!D55)","v":0},{"$f":"SUM(AUT_emp:POR_emp!E55)","v":0},{"$f":"SUM(AUT_emp:POR_emp!F55)","v":-1},{"$f":"SUM(AUT_emp:POR_emp!G55)","v":2},{"$f":"SUM(AUT_emp:POR_emp!H55)","v":0},{"$f":"SUM(AUT_emp:POR_emp!I55)","v":1},{"$f":"SUM(AUT_emp:POR_emp!J55)","v":0},{"$f":"SUM(AUT_emp:POR_emp!K55)","v":0},{"$f":"SUM(AUT_emp:POR_emp!L55)","v":0},{"$f":"SUM(AUT_emp:POR_emp!M55)","v":1},{"$f":"SUM(AUT_emp:POR_emp!N55)","v":1},{"$f":"SUM(AUT_emp:POR_emp!O55)","v":0},{"$f":"SUM(AUT_emp:POR_emp!P55)","v":3},{"$f":"SUM(AUT_emp:POR_emp!Q55)","v":0},{"$f":"SUM(AUT_emp:POR_emp!R55)","v":1},{"$f":"SUM(AUT_emp:POR_emp!S55)","v":1},{"$f":"SUM(AUT_emp:POR_emp!T55)","v":0},{"$f":"SUM(AUT_emp:POR_emp!U55)","v":2},{"$f":"SUM(AUT_emp:POR_emp!V55)","v":0},{"$f":"SUM(AUT_emp:POR_emp!W55)","v":2},{"$f":"SUM(AUT_emp:POR_emp!X55)","v":0},{"$f":"SUM(AUT_emp:POR_emp!Y55)","v":0},{"$f":"SUM(AUT_emp:POR_emp!Z55)","v":1},{"$f":"SUM(AUT_emp:POR_emp!AA55)","v":0},{"$f":"SUM(AUT_emp:POR_emp!AB55)","v":0},{"$f":"SUM(AUT_emp:POR_emp!AC55)","v":1},{"$f":"SUM(AUT_emp:POR_emp!AD55)","v":0},{"$f":"SUM(AUT_emp:POR_emp!AE55)","v":0},{"$f":"SUM(AUT_emp:POR_emp!AF55)","v":1},{"$f":"SUM(AUT_emp:POR_emp!AG55)","v":1},{"$f":"SUM(AUT_emp:POR_emp!AH55)","v":0},{"$f":"SUM(AUT_emp:POR_emp!AI55)","v":0},{"$f":"SUM(AUT_emp:POR_emp!AJ55)","v":0},{"$f":"SUM(AUT_emp:POR_emp!AK55)","v":1},{"$f":"SUM(AUT_emp:POR_emp!AL55)","v":1},{"$f":"SUM(AUT_emp:POR_emp!AM55)","v":0},{"$f":"SUM(AUT_emp:POR_emp!AN55)","v":0},{"$f":"SUM(AUT_emp:POR_emp!AO55)","v":0},{"$f":"SUM(AUT_emp:POR_emp!AP55)","v":0},{"$f":"SUM(AUT_emp:POR_emp!AQ55)","v":0},{"$f":"SUM(AUT_emp:POR_emp!AR55)","v":0},{"$f":"SUM(AUT_emp:POR_emp!AS55)","v":1},{"$f":"SUM(AUT_emp:POR_emp!AT55)","v":0},{"$f":"SUM(AUT_emp:POR_emp!AU55)","v":0},{"$f":"SUM(AUT_emp:POR_emp!AV55)","v":0},{"$f":"SUM(AUT_emp:POR_emp!AW55)","v":2},{"$f":"SUM(AUT_emp:POR_emp!AX55)","v":1},{"$f":"SUM(AUT_emp:POR_emp!AY55)","v":0},{"$f":"SUM(AUT_emp:POR_emp!AZ55)","v":0},{"$f":"SUM(AUT_emp:POR_emp!BA55)","v":0},{"$f":"SUM(AUT_emp:POR_emp!BB55)","v":1},24,5.8823529411764705E-2]
[null,"Building automation",{"$f":"Sheet1!O223","v":"Measured consumption"},{"$f":"SUM(AUT_emp:POR_emp!D56)","v":0},{"$f":"SUM(AUT_emp:POR_emp!E56)","v":0},{"$f":"SUM(AUT_emp:POR_emp!F56)","v":-1},{"$f":"SUM(AUT_emp:POR_emp!G56)","v":1},{"$f":"SUM(AUT_emp:POR_emp!H56)","v":0},{"$f":"SUM(AUT_emp:POR_emp!I56)","v":1},{"$f":"SUM(AUT_emp:POR_emp!J56)","v":0},{"$f":"SUM(AUT_emp:POR_emp!K56)","v":0},{"$f":"SUM(AUT_emp:POR_emp!L56)","v":0},{"$f":"SUM(AUT_emp:POR_emp!M56)","v":1},{"$f":"SUM(AUT_emp:POR_emp!N56)","v":1},{"$f":"SUM(AUT_emp:POR_emp!O56)","v":0},{"$f":"SUM(AUT_emp:POR_emp!P56)","v":2},{"$f":"SUM(AUT_emp:POR_emp!Q56)","v":0},{"$f":"SUM(AUT_emp:POR_emp!R56)","v":1},{"$f":"SUM(AUT_emp:POR_emp!S56)","v":1},{"$f":"SUM(AUT_emp:POR_emp!T56)","v":0},{"$f":"SUM(AUT_emp:POR_emp!U56)","v":1},{"$f":"SUM(AUT_emp:POR_emp!V56)","v":0},{"$f":"SUM(AUT_emp:POR_emp!W56)","v":1},{"$f":"SUM(AUT_emp:POR_emp!X56)","v":0},{"$f":"SUM(AUT_emp:POR_emp!Y56)","v":0},{"$f":"SUM(AUT_emp:POR_emp!Z56)","v":1},{"$f":"SUM(AUT_emp:POR_emp!AA56)","v":0},{"$f":"SUM(AUT_emp:POR_emp!AB56)","v":0},{"$f":"SUM(AUT_emp:POR_emp!AC56)","v":0},{"$f":"SUM(AUT_emp:POR_emp!AD56)","v":0},{"$f":"SUM(AUT_emp:POR_emp!AE56)","v":0},{"$f":"SUM(AUT_emp:POR_emp!AF56)","v":0},{"$f":"SUM(AUT_emp:POR_emp!AG56)","v":1},{"$f":"SUM(AUT_emp:POR_emp!AH56)","v":0},{"$f":"SUM(AUT_emp:POR_emp!AI56)","v":0},{"$f":"SUM(AUT_emp:POR_emp!AJ56)","v":0},{"$f":"SUM(AUT_emp:POR_emp!AK56)","v":1},{"$f":"SUM(AUT_emp:POR_emp!AL56)","v":1},{"$f":"SUM(AUT_emp:POR_emp!AM56)","v":0},{"$f":"SUM(AUT_emp:POR_emp!AN56)","v":0},{"$f":"SUM(AUT_emp:POR_emp!AO56)","v":0},{"$f":"SUM(AUT_emp:POR_emp!AP56)","v":0},{"$f":"SUM(AUT_emp:POR_emp!AQ56)","v":1},{"$f":"SUM(AUT_emp:POR_emp!AR56)","v":0},{"$f":"SUM(AUT_emp:POR_emp!AS56)","v":1},{"$f":"SUM(AUT_emp:POR_emp!AT56)","v":2},{"$f":"SUM(AUT_emp:POR_emp!AU56)","v":0},{"$f":"SUM(AUT_emp:POR_emp!AV56)","v":0},{"$f":"SUM(AUT_emp:POR_emp!AW56)","v":0},{"$f":"SUM(AUT_emp:POR_emp!AX56)","v":0},{"$f":"SUM(AUT_emp:POR_emp!AY56)","v":0},{"$f":"SUM(AUT_emp:POR_emp!AZ56)","v":0},{"$f":"SUM(AUT_emp:POR_emp!BA56)","v":0},{"$f":"SUM(AUT_emp:POR_emp!BB56)","v":1},18,4.4117647058823532E-2]
[null,"Building automation",{"$f":"Sheet1!O224","v":"Improved smart-readiness"},{"$f":"SUM(AUT_emp:POR_emp!D57)","v":2},{"$f":"SUM(AUT_emp:POR_emp!E57)","v":0},{"$f":"SUM(AUT_emp:POR_emp!F57)","v":-1},{"$f":"SUM(AUT_emp:POR_emp!G57)","v":1},{"$f":"SUM(AUT_emp:POR_emp!H57)","v":1},{"$f":"SUM(AUT_emp:POR_emp!I57)","v":1},{"$f":"SUM(AUT_emp:POR_emp!J57)","v":0},{"$f":"SUM(AUT_emp:POR_emp!K57)","v":0},{"$f":"SUM(AUT_emp:POR_emp!L57)","v":0},{"$f":"SUM(AUT_emp:POR_emp!M57)","v":1},{"$f":"SUM(AUT_emp:POR_emp!N57)","v":1},{"$f":"SUM(AUT_emp:POR_emp!O57)","v":1},{"$f":"SUM(AUT_emp:POR_emp!P57)","v":3},{"$f":"SUM(AUT_emp:POR_emp!Q57)","v":1},{"$f":"SUM(AUT_emp:POR_emp!R57)","v":1},{"$f":"SUM(AUT_emp:POR_emp!S57)","v":0},{"$f":"SUM(AUT_emp:POR_emp!T57)","v":0},{"$f":"SUM(AUT_emp:POR_emp!U57)","v":1},{"$f":"SUM(AUT_emp:POR_emp!V57)","v":0},{"$f":"SUM(AUT_emp:POR_emp!W57)","v":1},{"$f":"SUM(AUT_emp:POR_emp!X57)","v":0},{"$f":"SUM(AUT_emp:POR_emp!Y57)","v":0},{"$f":"SUM(AUT_emp:POR_emp!Z57)","v":1},{"$f":"SUM(AUT_emp:POR_emp!AA57)","v":1},{"$f":"SUM(AUT_emp:POR_emp!AB57)","v":-1},{"$f":"SUM(AUT_emp:POR_emp!AC57)","v":0},{"$f":"SUM(AUT_emp:POR_emp!AD57)","v":0},{"$f":"SUM(AUT_emp:POR_emp!AE57)","v":0},{"$f":"SUM(AUT_emp:POR_emp!AF57)","v":0},{"$f":"SUM(AUT_emp:POR_emp!AG57)","v":1},{"$f":"SUM(AUT_emp:POR_emp!AH57)","v":0},{"$f":"SUM(AUT_emp:POR_emp!AI57)","v":0},{"$f":"SUM(AUT_emp:POR_emp!AJ57)","v":0},{"$f":"SUM(AUT_emp:POR_emp!AK57)","v":1},{"$f":"SUM(AUT_emp:POR_emp!AL57)","v":1},{"$f":"SUM(AUT_emp:POR_emp!AM57)","v":0},{"$f":"SUM(AUT_emp:POR_emp!AN57)","v":0},{"$f":"SUM(AUT_emp:POR_emp!AO57)","v":0},{"$f":"SUM(AUT_emp:POR_emp!AP57)","v":0},{"$f":"SUM(AUT_emp:POR_emp!AQ57)","v":0},{"$f":"SUM(AUT_emp:POR_emp!AR57)","v":0},{"$f":"SUM(AUT_emp:POR_emp!AS57)","v":2},{"$f":"SUM(AUT_emp:POR_emp!AT57)","v":0},{"$f":"SUM(AUT_emp:POR_emp!AU57)","v":0},{"$f":"SUM(AUT_emp:POR_emp!AV57)","v":0},{"$f":"SUM(AUT_emp:POR_emp!AW57)","v":1},{"$f":"SUM(AUT_emp:POR_emp!AX57)","v":0},{"$f":"SUM(AUT_emp:POR_emp!AY57)","v":0},{"$f":"SUM(AUT_emp:POR_emp!AZ57)","v":0},{"$f":"SUM(AUT_emp:POR_emp!BA57)","v":0},{"$f":"SUM(AUT_emp:POR_emp!BB57)","v":1},22,5.3921568627450983E-2]
["Processes","Compressed air system",{"$f":"Sheet1!O226","v":"Check the required pressure"},{"$f":"SUM(AUT_emp:POR_emp!D58)","v":0},{"$f":"SUM(AUT_emp:POR_emp!E58)","v":0},{"$f":"SUM(AUT_emp:POR_emp!F58)","v":0},{"$f":"SUM(AUT_emp:POR_emp!G58)","v":0},{"$f":"SUM(AUT_emp:POR_emp!H58)","v":0},{"$f":"SUM(AUT_emp:POR_emp!I58)","v":0},{"$f":"SUM(AUT_emp:POR_emp!J58)","v":3},{"$f":"SUM(AUT_emp:POR_emp!K58)","v":3},{"$f":"SUM(AUT_emp:POR_emp!L58)","v":0},{"$f":"SUM(AUT_emp:POR_emp!M58)","v":0},{"$f":"SUM(AUT_emp:POR_emp!N58)","v":0},{"$f":"SUM(AUT_emp:POR_emp!O58)","v":0},{"$f":"SUM(AUT_emp:POR_emp!P58)","v":3},{"$f":"SUM(AUT_emp:POR_emp!Q58)","v":0},{"$f":"SUM(AUT_emp:POR_emp!R58)","v":1},{"$f":"SUM(AUT_emp:POR_emp!S58)","v":0},{"$f":"SUM(AUT_emp:POR_emp!T58)","v":0},{"$f":"SUM(AUT_emp:POR_emp!U58)","v":1},{"$f":"SUM(AUT_emp:POR_emp!V58)","v":0},{"$f":"SUM(AUT_emp:POR_emp!W58)","v":2},{"$f":"SUM(AUT_emp:POR_emp!X58)","v":1},{"$f":"SUM(AUT_emp:POR_emp!Y58)","v":1},{"$f":"SUM(AUT_emp:POR_emp!Z58)","v":0},{"$f":"SUM(AUT_emp:POR_emp!AA58)","v":0},{"$f":"SUM(AUT_emp:POR_emp!AB58)","v":0},{"$f":"SUM(AUT_emp:POR_emp!AC58)","v":0},{"$f":"SUM(AUT_emp:POR_emp!AD58)","v":0},{"$f":"SUM(AUT_emp:POR_emp!AE58)","v":0},{"$f":"SUM(AUT_emp:POR_emp!AF58)","v":0},{"$f":"SUM(AUT_emp:POR_emp!AG58)","v":3},{"$f":"SUM(AUT_emp:POR_emp!AH58)","v":0},{"$f":"SUM(AUT_emp:POR_emp!AI58)","v":0},{"$f":"SUM(AUT_emp:POR_emp!AJ58)","v":0},{"$f":"SUM(AUT_emp:POR_emp!AK58)","v":0},{"$f":"SUM(AUT_emp:POR_emp!AL58)","v":0},{"$f":"SUM(AUT_emp:POR_emp!AM58)","v":0},{"$f":"SUM(AUT_emp:POR_emp!AN58)","v":0},{"$f":"SUM(AUT_emp:POR_emp!AO58)","v":0},{"$f":"SUM(AUT_emp:POR_emp!AP58)","v":1},{"$f":"SUM(AUT_emp:POR_emp!AQ58)","v":0},{"$f":"SUM(AUT_emp:POR_emp!AR58)","v":0},{"$f":"SUM(AUT_emp:POR_emp!AS58)","v":2},{"$f":"SUM(AUT_emp:POR_emp!AT58)","v":1},{"$f":"SUM(AUT_emp:POR_emp!AU58)","v":0},{"$f":"SUM(AUT_emp:POR_emp!AV58)","v":0},{"$f":"SUM(AUT_emp:POR_emp!AW58)","v":0},{"$f":"SUM(AUT_emp:POR_emp!AX58)","v":0},{"$f":"SUM(AUT_emp:POR_emp!AY58)","v":0},{"$f":"SUM(AUT_emp:POR_emp!AZ58)","v":0},{"$f":"SUM(AUT_emp:POR_emp!BA58)","v":2},{"$f":"SUM(AUT_emp:POR_emp!BB58)","v":2},26,6.3725490196078427E-2]
[null,"Compressed air system",{"$f":"Sheet1!O227","v":"Regular check for leakages"},{"$f":"SUM(AUT_emp:POR_emp!D59)","v":0},{"$f":"SUM(AUT_emp:POR_emp!E59)","v":1},{"$f":"SUM(AUT_emp:POR_emp!F59)","v":0},{"$f":"SUM(AUT_emp:POR_emp!G59)","v":0},{"$f":"SUM(AUT_emp:POR_emp!H59)","v":0},{"$f":"SUM(AUT_emp:POR_emp!I59)","v":0},{"$f":"SUM(AUT_emp:POR_emp!J59)","v":0},{"$f":"SUM(AUT_emp:POR_emp!K59)","v":2},{"$f":"SUM(AUT_emp:POR_emp!L59)","v":2},{"$f":"SUM(AUT_emp:POR_emp!M59)","v":1},{"$f":"SUM(AUT_emp:POR_emp!N59)","v":0},{"$f":"SUM(AUT_emp:POR_emp!O59)","v":2},{"$f":"SUM(AUT_emp:POR_emp!P59)","v":4},{"$f":"SUM(AUT_emp:POR_emp!Q59)","v":0},{"$f":"SUM(AUT_emp:POR_emp!R59)","v":1},{"$f":"SUM(AUT_emp:POR_emp!S59)","v":0},{"$f":"SUM(AUT_emp:POR_emp!T59)","v":0},{"$f":"SUM(AUT_emp:POR_emp!U59)","v":3},{"$f":"SUM(AUT_emp:POR_emp!V59)","v":2},{"$f":"SUM(AUT_emp:POR_emp!W59)","v":2},{"$f":"SUM(AUT_emp:POR_emp!X59)","v":0},{"$f":"SUM(AUT_emp:POR_emp!Y59)","v":1},{"$f":"SUM(AUT_emp:POR_emp!Z59)","v":0},{"$f":"SUM(AUT_emp:POR_emp!AA59)","v":0},{"$f":"SUM(AUT_emp:POR_emp!AB59)","v":1},{"$f":"SUM(AUT_emp:POR_emp!AC59)","v":0},{"$f":"SUM(AUT_emp:POR_emp!AD59)","v":0},{"$f":"SUM(AUT_emp:POR_emp!AE59)","v":0},{"$f":"SUM(AUT_emp:POR_emp!AF59)","v":0},{"$f":"SUM(AUT_emp:POR_emp!AG59)","v":2},{"$f":"SUM(AUT_emp:POR_emp!AH59)","v":0},{"$f":"SUM(AUT_emp:POR_emp!AI59)","v":0},{"$f":"SUM(AUT_emp:POR_emp!AJ59)","v":0},{"$f":"SUM(AUT_emp:POR_emp!AK59)","v":0},{"$f":"SUM(AUT_emp:POR_emp!AL59)","v":0},{"$f":"SUM(AUT_emp:POR_emp!AM59)","v":1},{"$f":"SUM(AUT_emp:POR_emp!AN59)","v":0},{"$f":"SUM(AUT_emp:POR_emp!AO59)","v":0},{"$f":"SUM(AUT_emp:POR_emp!AP59)","v":4},{"$f":"SUM(AUT_emp:POR_emp!AQ59)","v":1},{"$f":"SUM(AUT_emp:POR_emp!AR59)","v":0},{"$f":"SUM(AUT_emp:POR_emp!AS59)","v":4},{"$f":"SUM(AUT_emp:POR_emp!AT59)","v":1},{"$f":"SUM(AUT_emp:POR_emp!AU59)","v":0},{"$f":"SUM(AUT_emp:POR_emp!AV59)","v":0},{"$f":"SUM(AUT_emp:POR_emp!AW59)","v":0},{"$f":"SUM(AUT_emp:POR_emp!AX59)","v":0},{"$f":"SUM(AUT_emp:POR_emp!AY59)","v":1},{"$f":"SUM(AUT_emp:POR_emp!AZ59)","v":0},{"$f":"SUM(AUT_emp:POR_emp!BA59)","v":2},{"$f":"SUM(AUT_emp:POR_emp!BB59)","v":1},39,9.5588235294117641E-2]
[null,"Compressed air system",{"$f":"Sheet1!O228","v":"Waste heat recovery "},{"$f":"SUM(AUT_emp:POR_emp!D60)","v":0},{"$f":"SUM(AUT_emp:POR_emp!E60)","v":1},{"$f":"SUM(AUT_emp:POR_emp!F60)","v":1},{"$f":"SUM(AUT_emp:POR_emp!G60)","v":0},{"$f":"SUM(AUT_emp:POR_emp!H60)","v":0},{"$f":"SUM(AUT_emp:POR_emp!I60)","v":0},{"$f":"SUM(AUT_emp:POR_emp!J60)","v":0},{"$f":"SUM(AUT_emp:POR_emp!K60)","v":0},{"$f":"SUM(AUT_emp:POR_emp!L60)","v":0},{"$f":"SUM(AUT_emp:POR_emp!M60)","v":1},{"$f":"SUM(AUT_emp:POR_emp!N60)","v":0},{"$f":"SUM(AUT_emp:POR_emp!O60)","v":1},{"$f":"SUM(AUT_emp:POR_emp!P60)","v":4},{"$f":"SUM(AUT_emp:POR_emp!Q60)","v":1},{"$f":"SUM(AUT_emp:POR_emp!R60)","v":2},{"$f":"SUM(AUT_emp:POR_emp!S60)","v":0},{"$f":"SUM(AUT_emp:POR_emp!T60)","v":0},{"$f":"SUM(AUT_emp:POR_emp!U60)","v":3},{"$f":"SUM(AUT_emp:POR_emp!V60)","v":0},{"$f":"SUM(AUT_emp:POR_emp!W60)","v":3},{"$f":"SUM(AUT_emp:POR_emp!X60)","v":0},{"$f":"SUM(AUT_emp:POR_emp!Y60)","v":1},{"$f":"SUM(AUT_emp:POR_emp!Z60)","v":1},{"$f":"SUM(AUT_emp:POR_emp!AA60)","v":1},{"$f":"SUM(AUT_emp:POR_emp!AB60)","v":0},{"$f":"SUM(AUT_emp:POR_emp!AC60)","v":0},{"$f":"SUM(AUT_emp:POR_emp!AD60)","v":0},{"$f":"SUM(AUT_emp:POR_emp!AE60)","v":0},{"$f":"SUM(AUT_emp:POR_emp!AF60)","v":0},{"$f":"SUM(AUT_emp:POR_emp!AG60)","v":1},{"$f":"SUM(AUT_emp:POR_emp!AH60)","v":0},{"$f":"SUM(AUT_emp:POR_emp!AI60)","v":2},{"$f":"SUM(AUT_emp:POR_emp!AJ60)","v":0},{"$f":"SUM(AUT_emp:POR_emp!AK60)","v":0},{"$f":"SUM(AUT_emp:POR_emp!AL60)","v":0},{"$f":"SUM(AUT_emp:POR_emp!AM60)","v":0},{"$f":"SUM(AUT_emp:POR_emp!AN60)","v":0},{"$f":"SUM(AUT_emp:POR_emp!AO60)","v":0},{"$f":"SUM(AUT_emp:POR_emp!AP60)","v":0},{"$f":"SUM(AUT_emp:POR_emp!AQ60)","v":-1},{"$f":"SUM(AUT_emp:POR_emp!AR60)","v":0},{"$f":"SUM(AUT_emp:POR_emp!AS60)","v":0},{"$f":"SUM(AUT_emp:POR_emp!AT60)","v":0},{"$f":"SUM(AUT_emp:POR_emp!AU60)","v":0},{"$f":"SUM(AUT_emp:POR_emp!AV60)","v":0},{"$f":"SUM(AUT_emp:POR_emp!AW60)","v":1},{"$f":"SUM(AUT_emp:POR_emp!AX60)","v":0},{"$f":"SUM(AUT_emp:POR_emp!AY60)","v":0},{"$f":"SUM(AUT_emp:POR_emp!AZ60)","v":0},{"$f":"SUM(AUT_emp:POR_emp!BA60)","v":0},{"$f":"SUM(AUT_emp:POR_emp!BB60)","v":0},23,5.6372549019607844E-2]
[null,"Compressed air system",{"$f":"Sheet1!O229","v":"Regular maintenance of the compressor"},{"$f":"SUM(AUT_emp:POR_emp!D61)","v":0},{"$f":"SUM(AUT_emp:POR_emp!E61)","v":0},{"$f":"SUM(AUT_emp:POR_emp!F61)","v":0},{"$f":"SUM(AUT_emp:POR_emp!G61)","v":0},{"$f":"SUM(AUT_emp:POR_emp!H61)","v":1},{"$f":"SUM(AUT_emp:POR_emp!I61)","v":0},{"$f":"SUM(AUT_emp:POR_emp!J61)","v":3},{"$f":"SUM(AUT_emp:POR_emp!K61)","v":0},{"$f":"SUM(AUT_emp:POR_emp!L61)","v":1},{"$f":"SUM(AUT_emp:POR_emp!M61)","v":0},{"$f":"SUM(AUT_emp:POR_emp!N61)","v":0},{"$f":"SUM(AUT_emp:POR_emp!O61)","v":2},{"$f":"SUM(AUT_emp:POR_emp!P61)","v":4},{"$f":"SUM(AUT_emp:POR_emp!Q61)","v":1},{"$f":"SUM(AUT_emp:POR_emp!R61)","v":1},{"$f":"SUM(AUT_emp:POR_emp!S61)","v":0},{"$f":"SUM(AUT_emp:POR_emp!T61)","v":0},{"$f":"SUM(AUT_emp:POR_emp!U61)","v":1},{"$f":"SUM(AUT_emp:POR_emp!V61)","v":1},{"$f":"SUM(AUT_emp:POR_emp!W61)","v":2},{"$f":"SUM(AUT_emp:POR_emp!X61)","v":1},{"$f":"SUM(AUT_emp:POR_emp!Y61)","v":1},{"$f":"SUM(AUT_emp:POR_emp!Z61)","v":0},{"$f":"SUM(AUT_emp:POR_emp!AA61)","v":0},{"$f":"SUM(AUT_emp:POR_emp!AB61)","v":3},{"$f":"SUM(AUT_emp:POR_emp!AC61)","v":0},{"$f":"SUM(AUT_emp:POR_emp!AD61)","v":0},{"$f":"SUM(AUT_emp:POR_emp!AE61)","v":1},{"$f":"SUM(AUT_emp:POR_emp!AF61)","v":0},{"$f":"SUM(AUT_emp:POR_emp!AG61)","v":1},{"$f":"SUM(AUT_emp:POR_emp!AH61)","v":0},{"$f":"SUM(AUT_emp:POR_emp!AI61)","v":0},{"$f":"SUM(AUT_emp:POR_emp!AJ61)","v":0},{"$f":"SUM(AUT_emp:POR_emp!AK61)","v":0},{"$f":"SUM(AUT_emp:POR_emp!AL61)","v":0},{"$f":"SUM(AUT_emp:POR_emp!AM61)","v":1},{"$f":"SUM(AUT_emp:POR_emp!AN61)","v":0},{"$f":"SUM(AUT_emp:POR_emp!AO61)","v":0},{"$f":"SUM(AUT_emp:POR_emp!AP61)","v":4},{"$f":"SUM(AUT_emp:POR_emp!AQ61)","v":2},{"$f":"SUM(AUT_emp:POR_emp!AR61)","v":2},{"$f":"SUM(AUT_emp:POR_emp!AS61)","v":4},{"$f":"SUM(AUT_emp:POR_emp!AT61)","v":0},{"$f":"SUM(AUT_emp:POR_emp!AU61)","v":0},{"$f":"SUM(AUT_emp:POR_emp!AV61)","v":0},{"$f":"SUM(AUT_emp:POR_emp!AW61)","v":0},{"$f":"SUM(AUT_emp:POR_emp!AX61)","v":0},{"$f":"SUM(AUT_emp:POR_emp!AY61)","v":2},{"$f":"SUM(AUT_emp:POR_emp!AZ61)","v":0},{"$f":"SUM(AUT_emp:POR_emp!BA61)","v":3},{"$f":"SUM(AUT_emp:POR_emp!BB61)","v":2},44,0.10784313725490197]
[null,"Steam system",{"$f":"Sheet1!O231","v":"Check the required pressure"},{"$f":"SUM(AUT_emp:POR_emp!D62)","v":0},{"$f":"SUM(AUT_emp:POR_emp!E62)","v":0},{"$f":"SUM(AUT_emp:POR_emp!F62)","v":0},{"$f":"SUM(AUT_emp:POR_emp!G62)","v":0},{"$f":"SUM(AUT_emp:POR_emp!H62)","v":0},{"$f":"SUM(AUT_emp:POR_emp!I62)","v":2},{"$f":"SUM(AUT_emp:POR_emp!J62)","v":3},{"$f":"SUM(AUT_emp:POR_emp!K62)","v":2},{"$f":"SUM(AUT_emp:POR_emp!L62)","v":0},{"$f":"SUM(AUT_emp:POR_emp!M62)","v":0},{"$f":"SUM(AUT_emp:POR_emp!N62)","v":0},{"$f":"SUM(AUT_emp:POR_emp!O62)","v":0},{"$f":"SUM(AUT_emp:POR_emp!P62)","v":4},{"$f":"SUM(AUT_emp:POR_emp!Q62)","v":0},{"$f":"SUM(AUT_emp:POR_emp!R62)","v":1},{"$f":"SUM(AUT_emp:POR_emp!S62)","v":0},{"$f":"SUM(AUT_emp:POR_emp!T62)","v":0},{"$f":"SUM(AUT_emp:POR_emp!U62)","v":2},{"$f":"SUM(AUT_emp:POR_emp!V62)","v":0},{"$f":"SUM(AUT_emp:POR_emp!W62)","v":3},{"$f":"SUM(AUT_emp:POR_emp!X62)","v":1},{"$f":"SUM(AUT_emp:POR_emp!Y62)","v":1},{"$f":"SUM(AUT_emp:POR_emp!Z62)","v":0},{"$f":"SUM(AUT_emp:POR_emp!AA62)","v":0},{"$f":"SUM(AUT_emp:POR_emp!AB62)","v":1},{"$f":"SUM(AUT_emp:POR_emp!AC62)","v":0},{"$f":"SUM(AUT_emp:POR_emp!AD62)","v":0},{"$f":"SUM(AUT_emp:POR_emp!AE62)","v":0},{"$f":"SUM(AUT_emp:POR_emp!AF62)","v":0},{"$f":"SUM(AUT_emp:POR_emp!AG62)","v":3},{"$f":"SUM(AUT_emp:POR_emp!AH62)","v":0},{"$f":"SUM(AUT_emp:POR_emp!AI62)","v":0},{"$f":"SUM(AUT_emp:POR_emp!AJ62)","v":0},{"$f":"SUM(AUT_emp:POR_emp!AK62)","v":0},{"$f":"SUM(AUT_emp:POR_emp!AL62)","v":0},{"$f":"SUM(AUT_emp:POR_emp!AM62)","v":0},{"$f":"SUM(AUT_emp:POR_emp!AN62)","v":0},{"$f":"SUM(AUT_emp:POR_emp!AO62)","v":0},{"$f":"SUM(AUT_emp:POR_emp!AP62)","v":2},{"$f":"SUM(AUT_emp:POR_emp!AQ62)","v":0},{"$f":"SUM(AUT_emp:POR_emp!AR62)","v":0},{"$f":"SUM(AUT_emp:POR_emp!AS62)","v":3},{"$f":"SUM(AUT_emp:POR_emp!AT62)","v":0},{"$f":"SUM(AUT_emp:POR_emp!AU62)","v":0},{"$f":"SUM(AUT_emp:POR_emp!AV62)","v":0},{"$f":"SUM(AUT_emp:POR_emp!AW62)","v":0},{"$f":"SUM(AUT_emp:POR_emp!AX62)","v":0},{"$f":"SUM(AUT_emp:POR_emp!AY62)","v":1},{"$f":"SUM(AUT_emp:POR_emp!AZ62)","v":0},{"$f":"SUM(AUT_emp:POR_emp!BA62)","v":2},{"$f":"SUM(AUT_emp:POR_emp!BB62)","v":2},33,8.0882352941176475E-2]
[null,"Steam system",{"$f":"Sheet1!O232","v":"Check for leakages"},{"$f":"SUM(AUT_emp:POR_emp!D63)","v":0},{"$f":"SUM(AUT_emp:POR_emp!E63)","v":1},{"$f":"SUM(AUT_emp:POR_emp!F63)","v":0},{"$f":"SUM(AUT_emp:POR_emp!G63)","v":0},{"$f":"SUM(AUT_emp:POR_emp!H63)","v":0},{"$f":"SUM(AUT_emp:POR_emp!I63)","v":3},{"$f":"SUM(AUT_emp:POR_emp!J63)","v":2},{"$f":"SUM(AUT_emp:POR_emp!K63)","v":3},{"$f":"SUM(AUT_emp:POR_emp!L63)","v":2},{"$f":"SUM(AUT_emp:POR_emp!M63)","v":1},{"$f":"SUM(AUT_emp:POR_emp!N63)","v":0},{"$f":"SUM(AUT_emp:POR_emp!O63)","v":3},{"$f":"SUM(AUT_emp:POR_emp!P63)","v":4},{"$f":"SUM(AUT_emp:POR_emp!Q63)","v":0},{"$f":"SUM(AUT_emp:POR_emp!R63)","v":1},{"$f":"SUM(AUT_emp:POR_emp!S63)","v":1},{"$f":"SUM(AUT_emp:POR_emp!T63)","v":0},{"$f":"SUM(AUT_emp:POR_emp!U63)","v":3},{"$f":"SUM(AUT_emp:POR_emp!V63)","v":1},{"$f":"SUM(AUT_emp:POR_emp!W63)","v":3},{"$f":"SUM(AUT_emp:POR_emp!X63)","v":0},{"$f":"SUM(AUT_emp:POR_emp!Y63)","v":1},{"$f":"SUM(AUT_emp:POR_emp!Z63)","v":0},{"$f":"SUM(AUT_emp:POR_emp!AA63)","v":0},{"$f":"SUM(AUT_emp:POR_emp!AB63)","v":2},{"$f":"SUM(AUT_emp:POR_emp!AC63)","v":0},{"$f":"SUM(AUT_emp:POR_emp!AD63)","v":0},{"$f":"SUM(AUT_emp:POR_emp!AE63)","v":0},{"$f":"SUM(AUT_emp:POR_emp!AF63)","v":0},{"$f":"SUM(AUT_emp:POR_emp!AG63)","v":2},{"$f":"SUM(AUT_emp:POR_emp!AH63)","v":0},{"$f":"SUM(AUT_emp:POR_emp!AI63)","v":0},{"$f":"SUM(AUT_emp:POR_emp!AJ63)","v":0},{"$f":"SUM(AUT_emp:POR_emp!AK63)","v":0},{"$f":"SUM(AUT_emp:POR_emp!AL63)","v":0},{"$f":"SUM(AUT_emp:POR_emp!AM63)","v":1},{"$f":"SUM(AUT_emp:POR_emp!AN63)","v":1},{"$f":"SUM(AUT_emp:POR_emp!AO63)","v":0},{"$f":"SUM(AUT_emp:POR_emp!AP63)","v":3},{"$f":"SUM(AUT_emp:POR_emp!AQ63)","v":2},{"$f":"SUM(AUT_emp:POR_emp!AR63)","v":0},{"$f":"SUM(AUT_emp:POR_emp!AS63)","v":4},{"$f":"SUM(AUT_emp:POR_emp!AT63)","v":0},{"$f":"SUM(AUT_emp:POR_emp!AU63)","v":0},{"$f":"SUM(AUT_emp:POR_emp!AV63)","v":0},{"$f":"SUM(AUT_emp:POR_emp!AW63)","v":0},{"$f":"SUM(AUT_emp:POR_emp!AX63)","v":0},{"$f":"SUM(AUT_emp:POR_emp!AY63)","v":0},{"$f":"SUM(AUT_emp:POR_emp!AZ63)","v":0},{"$f":"SUM(AUT_emp:POR_emp!BA63)","v":2},{"$f":"SUM(AUT_emp:POR_emp!BB63)","v":2},48,0.11764705882352941]
[null,"Steam system",{"$f":"Sheet1!O233","v":"Regular maintenance of the boiler"},{"$f":"SUM(AUT_emp:POR_emp!D64)","v":0},{"$f":"SUM(AUT_emp:POR_emp!E64)","v":0},{"$f":"SUM(AUT_emp:POR_emp!F64)","v":0},{"$f":"SUM(AUT_emp:POR_emp!G64)","v":0},{"$f":"SUM(AUT_emp:POR_emp!H64)","v":1},{"$f":"SUM(AUT_emp:POR_emp!I64)","v":2},{"$f":"SUM(AUT_emp:POR_emp!J64)","v":3},{"$f":"SUM(AUT_emp:POR_emp!K64)","v":1},{"$f":"SUM(AUT_emp:POR_emp!L64)","v":1},{"$f":"SUM(AUT_emp:POR_emp!M64)","v":1},{"$f":"SUM(AUT_emp:POR_emp!N64)","v":0},{"$f":"SUM(AUT_emp:POR_emp!O64)","v":2},{"$f":"SUM(AUT_emp:POR_emp!P64)","v":4},{"$f":"SUM(AUT_emp:POR_emp!Q64)","v":0},{"$f":"SUM(AUT_emp:POR_emp!R64)","v":1},{"$f":"SUM(AUT_emp:POR_emp!S64)","v":0},{"$f":"SUM(AUT_emp:POR_emp!T64)","v":0},{"$f":"SUM(AUT_emp:POR_emp!U64)","v":1},{"$f":"SUM(AUT_emp:POR_emp!V64)","v":0},{"$f":"SUM(AUT_emp:POR_emp!W64)","v":2},{"$f":"SUM(AUT_emp:POR_emp!X64)","v":1},{"$f":"SUM(AUT_emp:POR_emp!Y64)","v":1},{"$f":"SUM(AUT_emp:POR_emp!Z64)","v":0},{"$f":"SUM(AUT_emp:POR_emp!AA64)","v":0},{"$f":"SUM(AUT_emp:POR_emp!AB64)","v":2},{"$f":"SUM(AUT_emp:POR_emp!AC64)","v":0},{"$f":"SUM(AUT_emp:POR_emp!AD64)","v":0},{"$f":"SUM(AUT_emp:POR_emp!AE64)","v":1},{"$f":"SUM(AUT_emp:POR_emp!AF64)","v":0},{"$f":"SUM(AUT_emp:POR_emp!AG64)","v":1},{"$f":"SUM(AUT_emp:POR_emp!AH64)","v":0},{"$f":"SUM(AUT_emp:POR_emp!AI64)","v":0},{"$f":"SUM(AUT_emp:POR_emp!AJ64)","v":0},{"$f":"SUM(AUT_emp:POR_emp!AK64)","v":-1},{"$f":"SUM(AUT_emp:POR_emp!AL64)","v":0},{"$f":"SUM(AUT_emp:POR_emp!AM64)","v":0},{"$f":"SUM(AUT_emp:POR_emp!AN64)","v":0},{"$f":"SUM(AUT_emp:POR_emp!AO64)","v":0},{"$f":"SUM(AUT_emp:POR_emp!AP64)","v":2},{"$f":"SUM(AUT_emp:POR_emp!AQ64)","v":3},{"$f":"SUM(AUT_emp:POR_emp!AR64)","v":1},{"$f":"SUM(AUT_emp:POR_emp!AS64)","v":3},{"$f":"SUM(AUT_emp:POR_emp!AT64)","v":0},{"$f":"SUM(AUT_emp:POR_emp!AU64)","v":0},{"$f":"SUM(AUT_emp:POR_emp!AV64)","v":0},{"$f":"SUM(AUT_emp:POR_emp!AW64)","v":0},{"$f":"SUM(AUT_emp:POR_emp!AX64)","v":1},{"$f":"SUM(AUT_emp:POR_emp!AY64)","v":2},{"$f":"SUM(AUT_emp:POR_emp!AZ64)","v":0},{"$f":"SUM(AUT_emp:POR_emp!BA64)","v":3},{"$f":"SUM(AUT_emp:POR_emp!BB64)","v":2},41,0.10049019607843138]
[null,"Refrigeration",{"$f":"Sheet1!O235","v":"Optimisation of the required temperatures"},{"$f":"SUM(AUT_emp:POR_emp!D65)","v":0},{"$f":"SUM(AUT_emp:POR_emp!E65)","v":0},{"$f":"SUM(AUT_emp:POR_emp!F65)","v":0},{"$f":"SUM(AUT_emp:POR_emp!G65)","v":0},{"$f":"SUM(AUT_emp:POR_emp!H65)","v":0},{"$f":"SUM(AUT_emp:POR_emp!I65)","v":1},{"$f":"SUM(AUT_emp:POR_emp!J65)","v":0},{"$f":"SUM(AUT_emp:POR_emp!K65)","v":0},{"$f":"SUM(AUT_emp:POR_emp!L65)","v":0},{"$f":"SUM(AUT_emp:POR_emp!M65)","v":0},{"$f":"SUM(AUT_emp:POR_emp!N65)","v":0},{"$f":"SUM(AUT_emp:POR_emp!O65)","v":0},{"$f":"SUM(AUT_emp:POR_emp!P65)","v":4},{"$f":"SUM(AUT_emp:POR_emp!Q65)","v":0},{"$f":"SUM(AUT_emp:POR_emp!R65)","v":1},{"$f":"SUM(AUT_emp:POR_emp!S65)","v":0},{"$f":"SUM(AUT_emp:POR_emp!T65)","v":0},{"$f":"SUM(AUT_emp:POR_emp!U65)","v":3},{"$f":"SUM(AUT_emp:POR_emp!V65)","v":0},{"$f":"SUM(AUT_emp:POR_emp!W65)","v":2},{"$f":"SUM(AUT_emp:POR_emp!X65)","v":0},{"$f":"SUM(AUT_emp:POR_emp!Y65)","v":1},{"$f":"SUM(AUT_emp:POR_emp!Z65)","v":1},{"$f":"SUM(AUT_emp:POR_emp!AA65)","v":0},{"$f":"SUM(AUT_emp:POR_emp!AB65)","v":1},{"$f":"SUM(AUT_emp:POR_emp!AC65)","v":1},{"$f":"SUM(AUT_emp:POR_emp!AD65)","v":0},{"$f":"SUM(AUT_emp:POR_emp!AE65)","v":0},{"$f":"SUM(AUT_emp:POR_emp!AF65)","v":0},{"$f":"SUM(AUT_emp:POR_emp!AG65)","v":2},{"$f":"SUM(AUT_emp:POR_emp!AH65)","v":0},{"$f":"SUM(AUT_emp:POR_emp!AI65)","v":0},{"$f":"SUM(AUT_emp:POR_emp!AJ65)","v":0},{"$f":"SUM(AUT_emp:POR_emp!AK65)","v":0},{"$f":"SUM(AUT_emp:POR_emp!AL65)","v":0},{"$f":"SUM(AUT_emp:POR_emp!AM65)","v":0},{"$f":"SUM(AUT_emp:POR_emp!AN65)","v":0},{"$f":"SUM(AUT_emp:POR_emp!AO65)","v":0},{"$f":"SUM(AUT_emp:POR_emp!AP65)","v":1},{"$f":"SUM(AUT_emp:POR_emp!AQ65)","v":1},{"$f":"SUM(AUT_emp:POR_emp!AR65)","v":0},{"$f":"SUM(AUT_emp:POR_emp!AS65)","v":1},{"$f":"SUM(AUT_emp:POR_emp!AT65)","v":0},{"$f":"SUM(AUT_emp:POR_emp!AU65)","v":0},{"$f":"SUM(AUT_emp:POR_emp!AV65)","v":0},{"$f":"SUM(AUT_emp:POR_emp!AW65)","v":0},{"$f":"SUM(AUT_emp:POR_emp!AX65)","v":0},{"$f":"SUM(AUT_emp:POR_emp!AY65)","v":0},{"$f":"SUM(AUT_emp:POR_emp!AZ65)","v":0},{"$f":"SUM(AUT_emp:POR_emp!BA65)","v":1},{"$f":"SUM(AUT_emp:POR_emp!BB65)","v":0},21,5.1470588235294115E-2]
[null,"Refrigeration",{"$f":"Sheet1!O236","v":"Waste heat recovery "},{"$f":"SUM(AUT_emp:POR_emp!D66)","v":0},{"$f":"SUM(AUT_emp:POR_emp!E66)","v":0},{"$f":"SUM(AUT_emp:POR_emp!F66)","v":0},{"$f":"SUM(AUT_emp:POR_emp!G66)","v":0},{"$f":"SUM(AUT_emp:POR_emp!H66)","v":0},{"$f":"SUM(AUT_emp:POR_emp!I66)","v":0},{"$f":"SUM(AUT_emp:POR_emp!J66)","v":0},{"$f":"SUM(AUT_emp:POR_emp!K66)","v":0},{"$f":"SUM(AUT_emp:POR_emp!L66)","v":0},{"$f":"SUM(AUT_emp:POR_emp!M66)","v":1},{"$f":"SUM(AUT_emp:POR_emp!N66)","v":0},{"$f":"SUM(AUT_emp:POR_emp!O66)","v":1},{"$f":"SUM(AUT_emp:POR_emp!P66)","v":4},{"$f":"SUM(AUT_emp:POR_emp!Q66)","v":1},{"$f":"SUM(AUT_emp:POR_emp!R66)","v":2},{"$f":"SUM(AUT_emp:POR_emp!S66)","v":0},{"$f":"SUM(AUT_emp:POR_emp!T66)","v":0},{"$f":"SUM(AUT_emp:POR_emp!U66)","v":3},{"$f":"SUM(AUT_emp:POR_emp!V66)","v":0},{"$f":"SUM(AUT_emp:POR_emp!W66)","v":2},{"$f":"SUM(AUT_emp:POR_emp!X66)","v":0},{"$f":"SUM(AUT_emp:POR_emp!Y66)","v":1},{"$f":"SUM(AUT_emp:POR_emp!Z66)","v":1},{"$f":"SUM(AUT_emp:POR_emp!AA66)","v":0},{"$f":"SUM(AUT_emp:POR_emp!AB66)","v":0},{"$f":"SUM(AUT_emp:POR_emp!AC66)","v":1},{"$f":"SUM(AUT_emp:POR_emp!AD66)","v":0},{"$f":"SUM(AUT_emp:POR_emp!AE66)","v":0},{"$f":"SUM(AUT_emp:POR_emp!AF66)","v":0},{"$f":"SUM(AUT_emp:POR_emp!AG66)","v":1},{"$f":"SUM(AUT_emp:POR_emp!AH66)","v":0},{"$f":"SUM(AUT_emp:POR_emp!AI66)","v":2},{"$f":"SUM(AUT_emp:POR_emp!AJ66)","v":0},{"$f":"SUM(AUT_emp:POR_emp!AK66)","v":0},{"$f":"SUM(AUT_emp:POR_emp!AL66)","v":0},{"$f":"SUM(AUT_emp:POR_emp!AM66)","v":0},{"$f":"SUM(AUT_emp:POR_emp!AN66)","v":0},{"$f":"SUM(AUT_emp:POR_emp!AO66)","v":0},{"$f":"SUM(AUT_emp:POR_emp!AP66)","v":0},{"$f":"SUM(AUT_emp:POR_emp!AQ66)","v":-1},{"$f":"SUM(AUT_emp:POR_emp!AR66)","v":0},{"$f":"SUM(AUT_emp:POR_emp!AS66)","v":0},{"$f":"SUM(AUT_emp:POR_emp!AT66)","v":0},{"$f":"SUM(AUT_emp:POR_emp!AU66)","v":0},{"$f":"SUM(AUT_emp:POR_emp!AV66)","v":0},{"$f":"SUM(AUT_emp:POR_emp!AW66)","v":1},{"$f":"SUM(AUT_emp:POR_emp!AX66)","v":0},{"$f":"SUM(AUT_emp:POR_emp!AY66)","v":0},{"$f":"SUM(AUT_emp:POR_emp!AZ66)","v":0},{"$f":"SUM(AUT_emp:POR_emp!BA66)","v":0},{"$f":"SUM(AUT_emp:POR_emp!BB66)","v":0},20,4.9019607843137254E-2]
[null,"Refrigeration",{"$f":"Sheet1!O237","v":"Install frequency control (i.e. VRF) on chiller compressor."},{"$f":"SUM(AUT_emp:POR_emp!D67)","v":0},{"$f":"SUM(AUT_emp:POR_emp!E67)","v":0},{"$f":"SUM(AUT_emp:POR_emp!F67)","v":0},{"$f":"SUM(AUT_emp:POR_emp!G67)","v":0},{"$f":"SUM(AUT_emp:POR_emp!H67)","v":0},{"$f":"SUM(AUT_emp:POR_emp!I67)","v":1},{"$f":"SUM(AUT_emp:POR_emp!J67)","v":0},{"$f":"SUM(AUT_emp:POR_emp!K67)","v":0},{"$f":"SUM(AUT_emp:POR_emp!L67)","v":0},{"$f":"SUM(AUT_emp:POR_emp!M67)","v":0},{"$f":"SUM(AUT_emp:POR_emp!N67)","v":0},{"$f":"SUM(AUT_emp:POR_emp!O67)","v":1},{"$f":"SUM(AUT_emp:POR_emp!P67)","v":3},{"$f":"SUM(AUT_emp:POR_emp!Q67)","v":0},{"$f":"SUM(AUT_emp:POR_emp!R67)","v":1},{"$f":"SUM(AUT_emp:POR_emp!S67)","v":0},{"$f":"SUM(AUT_emp:POR_emp!T67)","v":0},{"$f":"SUM(AUT_emp:POR_emp!U67)","v":2},{"$f":"SUM(AUT_emp:POR_emp!V67)","v":1},{"$f":"SUM(AUT_emp:POR_emp!W67)","v":1},{"$f":"SUM(AUT_emp:POR_emp!X67)","v":0},{"$f":"SUM(AUT_emp:POR_emp!Y67)","v":0},{"$f":"SUM(AUT_emp:POR_emp!Z67)","v":1},{"$f":"SUM(AUT_emp:POR_emp!AA67)","v":0},{"$f":"SUM(AUT_emp:POR_emp!AB67)","v":1},{"$f":"SUM(AUT_emp:POR_emp!AC67)","v":1},{"$f":"SUM(AUT_emp:POR_emp!AD67)","v":1},{"$f":"SUM(AUT_emp:POR_emp!AE67)","v":1},{"$f":"SUM(AUT_emp:POR_emp!AF67)","v":0},{"$f":"SUM(AUT_emp:POR_emp!AG67)","v":2},{"$f":"SUM(AUT_emp:POR_emp!AH67)","v":0},{"$f":"SUM(AUT_emp:POR_emp!AI67)","v":0},{"$f":"SUM(AUT_emp:POR_emp!AJ67)","v":0},{"$f":"SUM(AUT_emp:POR_emp!AK67)","v":0},{"$f":"SUM(AUT_emp:POR_emp!AL67)","v":0},{"$f":"SUM(AUT_emp:POR_emp!AM67)","v":0},{"$f":"SUM(AUT_emp:POR_emp!AN67)","v":0},{"$f":"SUM(AUT_emp:POR_emp!AO67)","v":0},{"$f":"SUM(AUT_emp:POR_emp!AP67)","v":0},{"$f":"SUM(AUT_emp:POR_emp!AQ67)","v":1},{"$f":"SUM(AUT_emp:POR_emp!AR67)","v":0},{"$f":"SUM(AUT_emp:POR_emp!AS67)","v":0},{"$f":"SUM(AUT_emp:POR_emp!AT67)","v":0},{"$f":"SUM(AUT_emp:POR_emp!AU67)","v":0},{"$f":"SUM(AUT_emp:POR_emp!AV67)","v":0},{"$f":"SUM(AUT_emp:POR_emp!AW67)","v":0},{"$f":"SUM(AUT_emp:POR_emp!AX67)","v":0},{"$f":"SUM(AUT_emp:POR_emp!AY67)","v":0},{"$f":"SUM(AUT_emp:POR_emp!AZ67)","v":0},{"$f":"SUM(AUT_emp:POR_emp!BA67)","v":1},{"$f":"SUM(AUT_emp:POR_emp!BB67)","v":0},19,4.6568627450980393E-2]
[null,"Refrigeration",{"$f":"Sheet1!O238","v":"Install high efficiency or 2-rev electromotor on evaporation fan"},{"$f":"SUM(AUT_emp:POR_emp!D68)","v":0},{"$f":"SUM(AUT_emp:POR_emp!E68)","v":0},{"$f":"SUM(AUT_emp:POR_emp!F68)","v":0},{"$f":"SUM(AUT_emp:POR_emp!G68)","v":0},{"$f":"SUM(AUT_emp:POR_emp!H68)","v":0},{"$f":"SUM(AUT_emp:POR_emp!I68)","v":1},{"$f":"SUM(AUT_emp:POR_emp!J68)","v":0},{"$f":"SUM(AUT_emp:POR_emp!K68)","v":0},{"$f":"SUM(AUT_emp:POR_emp!L68)","v":0},{"$f":"SUM(AUT_emp:POR_emp!M68)","v":0},{"$f":"SUM(AUT_emp:POR_emp!N68)","v":0},{"$f":"SUM(AUT_emp:POR_emp!O68)","v":0},{"$f":"SUM(AUT_emp:POR_emp!P68)","v":3},{"$f":"SUM(AUT_emp:POR_emp!Q68)","v":0},{"$f":"SUM(AUT_emp:POR_emp!R68)","v":1},{"$f":"SUM(AUT_emp:POR_emp!S68)","v":0},{"$f":"SUM(AUT_emp:POR_emp!T68)","v":0},{"$f":"SUM(AUT_emp:POR_emp!U68)","v":2},{"$f":"SUM(AUT_emp:POR_emp!V68)","v":0},{"$f":"SUM(AUT_emp:POR_emp!W68)","v":1},{"$f":"SUM(AUT_emp:POR_emp!X68)","v":0},{"$f":"SUM(AUT_emp:POR_emp!Y68)","v":0},{"$f":"SUM(AUT_emp:POR_emp!Z68)","v":1},{"$f":"SUM(AUT_emp:POR_emp!AA68)","v":0},{"$f":"SUM(AUT_emp:POR_emp!AB68)","v":1},{"$f":"SUM(AUT_emp:POR_emp!AC68)","v":1},{"$f":"SUM(AUT_emp:POR_emp!AD68)","v":1},{"$f":"SUM(AUT_emp:POR_emp!AE68)","v":1},{"$f":"SUM(AUT_emp:POR_emp!AF68)","v":0},{"$f":"SUM(AUT_emp:POR_emp!AG68)","v":2},{"$f":"SUM(AUT_emp:POR_emp!AH68)","v":0},{"$f":"SUM(AUT_emp:POR_emp!AI68)","v":0},{"$f":"SUM(AUT_emp:POR_emp!AJ68)","v":0},{"$f":"SUM(AUT_emp:POR_emp!AK68)","v":0},{"$f":"SUM(AUT_emp:POR_emp!AL68)","v":0},{"$f":"SUM(AUT_emp:POR_emp!AM68)","v":0},{"$f":"SUM(AUT_emp:POR_emp!AN68)","v":0},{"$f":"SUM(AUT_emp:POR_emp!AO68)","v":0},{"$f":"SUM(AUT_emp:POR_emp!AP68)","v":0},{"$f":"SUM(AUT_emp:POR_emp!AQ68)","v":1},{"$f":"SUM(AUT_emp:POR_emp!AR68)","v":0},{"$f":"SUM(AUT_emp:POR_emp!AS68)","v":0},{"$f":"SUM(AUT_emp:POR_emp!AT68)","v":0},{"$f":"SUM(AUT_emp:POR_emp!AU68)","v":0},{"$f":"SUM(AUT_emp:POR_emp!AV68)","v":0},{"$f":"SUM(AUT_emp:POR_emp!AW68)","v":0},{"$f":"SUM(AUT_emp:POR_emp!AX68)","v":0},{"$f":"SUM(AUT_emp:POR_emp!AY68)","v":0},{"$f":"SUM(AUT_emp:POR_emp!AZ68)","v":0},{"$f":"SUM(AUT_emp:POR_emp!BA68)","v":1},{"$f":"SUM(AUT_emp:POR_emp!BB68)","v":0},{"$f":"SUM(D68:BB68)","v":17},{"$f":"BC68/(51*8)","v":4.1666666666666664E-2}]
[null,"Refrigeration",{"$f":"Sheet1!O239","v":"Build a cooled front space for refrigeration units."},{"$f":"SUM(AUT_emp:POR_emp!D69)","v":1},{"$f":"SUM(AUT_emp:POR_emp!E69)","v":0},{"$f":"SUM(AUT_emp:POR_emp!F69)","v":1},{"$f":"SUM(AUT_emp:POR_emp!G69)","v":0},{"$f":"SUM(AUT_emp:POR_emp!H69)","v":0},{"$f":"SUM(AUT_emp:POR_emp!I69)","v":1},{"$f":"SUM(AUT_emp:POR_emp!J69)","v":0},{"$f":"SUM(AUT_emp:POR_emp!K69)","v":1},{"$f":"SUM(AUT_emp:POR_emp!L69)","v":1},{"$f":"SUM(AUT_emp:POR_emp!M69)","v":0},{"$f":"SUM(AUT_emp:POR_emp!N69)","v":0},{"$f":"SUM(AUT_emp:POR_emp!O69)","v":0},{"$f":"SUM(AUT_emp:POR_emp!P69)","v":3},{"$f":"SUM(AUT_emp:POR_emp!Q69)","v":0},{"$f":"SUM(AUT_emp:POR_emp!R69)","v":1},{"$f":"SUM(AUT_emp:POR_emp!S69)","v":0},{"$f":"SUM(AUT_emp:POR_emp!T69)","v":0},{"$f":"SUM(AUT_emp:POR_emp!U69)","v":2},{"$f":"SUM(AUT_emp:POR_emp!V69)","v":0},{"$f":"SUM(AUT_emp:POR_emp!W69)","v":1},{"$f":"SUM(AUT_emp:POR_emp!X69)","v":0},{"$f":"SUM(AUT_emp:POR_emp!Y69)","v":0},{"$f":"SUM(AUT_emp:POR_emp!Z69)","v":1},{"$f":"SUM(AUT_emp:POR_emp!AA69)","v":0},{"$f":"SUM(AUT_emp:POR_emp!AB69)","v":-1},{"$f":"SUM(AUT_emp:POR_emp!AC69)","v":1},{"$f":"SUM(AUT_emp:POR_emp!AD69)","v":0},{"$f":"SUM(AUT_emp:POR_emp!AE69)","v":0},{"$f":"SUM(AUT_emp:POR_emp!AF69)","v":0},{"$f":"SUM(AUT_emp:POR_emp!AG69)","v":1},{"$f":"SUM(AUT_emp:POR_emp!AH69)","v":0},{"$f":"SUM(AUT_emp:POR_emp!AI69)","v":0},{"$f":"SUM(AUT_emp:POR_emp!AJ69)","v":0},{"$f":"SUM(AUT_emp:POR_emp!AK69)","v":0},{"$f":"SUM(AUT_emp:POR_emp!AL69)","v":0},{"$f":"SUM(AUT_emp:POR_emp!AM69)","v":0},{"$f":"SUM(AUT_emp:POR_emp!AN69)","v":0},{"$f":"SUM(AUT_emp:POR_emp!AO69)","v":0},{"$f":"SUM(AUT_emp:POR_emp!AP69)","v":0},{"$f":"SUM(AUT_emp:POR_emp!AQ69)","v":0},{"$f":"SUM(AUT_emp:POR_emp!AR69)","v":0},{"$f":"SUM(AUT_emp:POR_emp!AS69)","v":0},{"$f":"SUM(AUT_emp:POR_emp!AT69)","v":0},{"$f":"SUM(AUT_emp:POR_emp!AU69)","v":0},{"$f":"SUM(AUT_emp:POR_emp!AV69)","v":0},{"$f":"SUM(AUT_emp:POR_emp!AW69)","v":0},{"$f":"SUM(AUT_emp:POR_emp!AX69)","v":0},{"$f":"SUM(AUT_emp:POR_emp!AY69)","v":0},{"$f":"SUM(AUT_emp:POR_emp!AZ69)","v":0},{"$f":"SUM(AUT_emp:POR_emp!BA69)","v":0},{"$f":"SUM(AUT_emp:POR_emp!BB69)","v":0},14,3.4313725490196081E-2]
[null,"Refrigeration",{"$f":"Sheet1!O240","v":"Use hot refrigerant gas from the compressor for the initial stages of the defrosting cycle."},{"$f":"SUM(AUT_emp:POR_emp!D70)","v":0},{"$f":"SUM(AUT_emp:POR_emp!E70)","v":0},{"$f":"SUM(AUT_emp:POR_emp!F70)","v":0},{"$f":"SUM(AUT_emp:POR_emp!G70)","v":0},{"$f":"SUM(AUT_emp:POR_emp!H70)","v":0},{"$f":"SUM(AUT_emp:POR_emp!I70)","v":0},{"$f":"SUM(AUT_emp:POR_emp!J70)","v":0},{"$f":"SUM(AUT_emp:POR_emp!K70)","v":0},{"$f":"SUM(AUT_emp:POR_emp!L70)","v":0},{"$f":"SUM(AUT_emp:POR_emp!M70)","v":0},{"$f":"SUM(AUT_emp:POR_emp!N70)","v":0},{"$f":"SUM(AUT_emp:POR_emp!O70)","v":0},{"$f":"SUM(AUT_emp:POR_emp!P70)","v":3},{"$f":"SUM(AUT_emp:POR_emp!Q70)","v":0},{"$f":"SUM(AUT_emp:POR_emp!R70)","v":1},{"$f":"SUM(AUT_emp:POR_emp!S70)","v":0},{"$f":"SUM(AUT_emp:POR_emp!T70)","v":0},{"$f":"SUM(AUT_emp:POR_emp!U70)","v":2},{"$f":"SUM(AUT_emp:POR_emp!V70)","v":0},{"$f":"SUM(AUT_emp:POR_emp!W70)","v":1},{"$f":"SUM(AUT_emp:POR_emp!X70)","v":0},{"$f":"SUM(AUT_emp:POR_emp!Y70)","v":0},{"$f":"SUM(AUT_emp:POR_emp!Z70)","v":1},{"$f":"SUM(AUT_emp:POR_emp!AA70)","v":0},{"$f":"SUM(AUT_emp:POR_emp!AB70)","v":0},{"$f":"SUM(AUT_emp:POR_emp!AC70)","v":1},{"$f":"SUM(AUT_emp:POR_emp!AD70)","v":0},{"$f":"SUM(AUT_emp:POR_emp!AE70)","v":0},{"$f":"SUM(AUT_emp:POR_emp!AF70)","v":0},{"$f":"SUM(AUT_emp:POR_emp!AG70)","v":2},{"$f":"SUM(AUT_emp:POR_emp!AH70)","v":0},{"$f":"SUM(AUT_emp:POR_emp!AI70)","v":1},{"$f":"SUM(AUT_emp:POR_emp!AJ70)","v":0},{"$f":"SUM(AUT_emp:POR_emp!AK70)","v":0},{"$f":"SUM(AUT_emp:POR_emp!AL70)","v":0},{"$f":"SUM(AUT_emp:POR_emp!AM70)","v":0},{"$f":"SUM(AUT_emp:POR_emp!AN70)","v":0},{"$f":"SUM(AUT_emp:POR_emp!AO70)","v":0},{"$f":"SUM(AUT_emp:POR_emp!AP70)","v":0},{"$f":"SUM(AUT_emp:POR_emp!AQ70)","v":0},{"$f":"SUM(AUT_emp:POR_emp!AR70)","v":0},{"$f":"SUM(AUT_emp:POR_emp!AS70)","v":0},{"$f":"SUM(AUT_emp:POR_emp!AT70)","v":0},{"$f":"SUM(AUT_emp:POR_emp!AU70)","v":0},{"$f":"SUM(AUT_emp:POR_emp!AV70)","v":0},{"$f":"SUM(AUT_emp:POR_emp!AW70)","v":0},{"$f":"SUM(AUT_emp:POR_emp!AX70)","v":0},{"$f":"SUM(AUT_emp:POR_emp!AY70)","v":0},{"$f":"SUM(AUT_emp:POR_emp!AZ70)","v":0},{"$f":"SUM(AUT_emp:POR_emp!BA70)","v":0},{"$f":"SUM(AUT_emp:POR_emp!BB70)","v":0},12,2.9411764705882353E-2]
[null,"Refrigeration",{"$f":"Sheet1!O241","v":"Use excess heat from other production processes for the production of cooling using adsorption/absorption cooling."},{"$f":"SUM(AUT_emp:POR_emp!D71)","v":0},{"$f":"SUM(AUT_emp:POR_emp!E71)","v":0},{"$f":"SUM(AUT_emp:POR_emp!F71)","v":0},{"$f":"SUM(AUT_emp:POR_emp!G71)","v":0},{"$f":"SUM(AUT_emp:POR_emp!H71)","v":0},{"$f":"SUM(AUT_emp:POR_emp!I71)","v":0},{"$f":"SUM(AUT_emp:POR_emp!J71)","v":0},{"$f":"SUM(AUT_emp:POR_emp!K71)","v":0},{"$f":"SUM(AUT_emp:POR_emp!L71)","v":0},{"$f":"SUM(AUT_emp:POR_emp!M71)","v":0},{"$f":"SUM(AUT_emp:POR_emp!N71)","v":0},{"$f":"SUM(AUT_emp:POR_emp!O71)","v":0},{"$f":"SUM(AUT_emp:POR_emp!P71)","v":4},{"$f":"SUM(AUT_emp:POR_emp!Q71)","v":0},{"$f":"SUM(AUT_emp:POR_emp!R71)","v":1},{"$f":"SUM(AUT_emp:POR_emp!S71)","v":0},{"$f":"SUM(AUT_emp:POR_emp!T71)","v":0},{"$f":"SUM(AUT_emp:POR_emp!U71)","v":4},{"$f":"SUM(AUT_emp:POR_emp!V71)","v":0},{"$f":"SUM(AUT_emp:POR_emp!W71)","v":1},{"$f":"SUM(AUT_emp:POR_emp!X71)","v":0},{"$f":"SUM(AUT_emp:POR_emp!Y71)","v":0},{"$f":"SUM(AUT_emp:POR_emp!Z71)","v":1},{"$f":"SUM(AUT_emp:POR_emp!AA71)","v":0},{"$f":"SUM(AUT_emp:POR_emp!AB71)","v":0},{"$f":"SUM(AUT_emp:POR_emp!AC71)","v":1},{"$f":"SUM(AUT_emp:POR_emp!AD71)","v":0},{"$f":"SUM(AUT_emp:POR_emp!AE71)","v":0},{"$f":"SUM(AUT_emp:POR_emp!AF71)","v":0},{"$f":"SUM(AUT_emp:POR_emp!AG71)","v":2},{"$f":"SUM(AUT_emp:POR_emp!AH71)","v":0},{"$f":"SUM(AUT_emp:POR_emp!AI71)","v":2},{"$f":"SUM(AUT_emp:POR_emp!AJ71)","v":0},{"$f":"SUM(AUT_emp:POR_emp!AK71)","v":0},{"$f":"SUM(AUT_emp:POR_emp!AL71)","v":0},{"$f":"SUM(AUT_emp:POR_emp!AM71)","v":0},{"$f":"SUM(AUT_emp:POR_emp!AN71)","v":0},{"$f":"SUM(AUT_emp:POR_emp!AO71)","v":0},{"$f":"SUM(AUT_emp:POR_emp!AP71)","v":0},{"$f":"SUM(AUT_emp:POR_emp!AQ71)","v":0},{"$f":"SUM(AUT_emp:POR_emp!AR71)","v":0},{"$f":"SUM(AUT_emp:POR_emp!AS71)","v":0},{"$f":"SUM(AUT_emp:POR_emp!AT71)","v":0},{"$f":"SUM(AUT_emp:POR_emp!AU71)","v":0},{"$f":"SUM(AUT_emp:POR_emp!AV71)","v":0},{"$f":"SUM(AUT_emp:POR_emp!AW71)","v":0},{"$f":"SUM(AUT_emp:POR_emp!AX71)","v":0},{"$f":"SUM(AUT_emp:POR_emp!AY71)","v":0},{"$f":"SUM(AUT_emp:POR_emp!AZ71)","v":0},{"$f":"SUM(AUT_emp:POR_emp!BA71)","v":0},{"$f":"SUM(AUT_emp:POR_emp!BB71)","v":0},16,3.9215686274509803E-2]
[null,"Refrigeration",{"$f":"Sheet1!O242","v":"Utilisation of free cooling"},{"$f":"SUM(AUT_emp:POR_emp!D72)","v":1},{"$f":"SUM(AUT_emp:POR_emp!E72)","v":0},{"$f":"SUM(AUT_emp:POR_emp!F72)","v":1},{"$f":"SUM(AUT_emp:POR_emp!G72)","v":0},{"$f":"SUM(AUT_emp:POR_emp!H72)","v":0},{"$f":"SUM(AUT_emp:POR_emp!I72)","v":1},{"$f":"SUM(AUT_emp:POR_emp!J72)","v":0},{"$f":"SUM(AUT_emp:POR_emp!K72)","v":0},{"$f":"SUM(AUT_emp:POR_emp!L72)","v":0},{"$f":"SUM(AUT_emp:POR_emp!M72)","v":1},{"$f":"SUM(AUT_emp:POR_emp!N72)","v":0},{"$f":"SUM(AUT_emp:POR_emp!O72)","v":1},{"$f":"SUM(AUT_emp:POR_emp!P72)","v":4},{"$f":"SUM(AUT_emp:POR_emp!Q72)","v":1},{"$f":"SUM(AUT_emp:POR_emp!R72)","v":1},{"$f":"SUM(AUT_emp:POR_emp!S72)","v":0},{"$f":"SUM(AUT_emp:POR_emp!T72)","v":0},{"$f":"SUM(AUT_emp:POR_emp!U72)","v":3},{"$f":"SUM(AUT_emp:POR_emp!V72)","v":1},{"$f":"SUM(AUT_emp:POR_emp!W72)","v":2},{"$f":"SUM(AUT_emp:POR_emp!X72)","v":0},{"$f":"SUM(AUT_emp:POR_emp!Y72)","v":0},{"$f":"SUM(AUT_emp:POR_emp!Z72)","v":1},{"$f":"SUM(AUT_emp:POR_emp!AA72)","v":0},{"$f":"SUM(AUT_emp:POR_emp!AB72)","v":-1},{"$f":"SUM(AUT_emp:POR_emp!AC72)","v":1},{"$f":"SUM(AUT_emp:POR_emp!AD72)","v":0},{"$f":"SUM(AUT_emp:POR_emp!AE72)","v":0},{"$f":"SUM(AUT_emp:POR_emp!AF72)","v":0},{"$f":"SUM(AUT_emp:POR_emp!AG72)","v":1},{"$f":"SUM(AUT_emp:POR_emp!AH72)","v":0},{"$f":"SUM(AUT_emp:POR_emp!AI72)","v":0},{"$f":"SUM(AUT_emp:POR_emp!AJ72)","v":0},{"$f":"SUM(AUT_emp:POR_emp!AK72)","v":0},{"$f":"SUM(AUT_emp:POR_emp!AL72)","v":0},{"$f":"SUM(AUT_emp:POR_emp!AM72)","v":0},{"$f":"SUM(AUT_emp:POR_emp!AN72)","v":0},{"$f":"SUM(AUT_emp:POR_emp!AO72)","v":0},{"$f":"SUM(AUT_emp:POR_emp!AP72)","v":0},{"$f":"SUM(AUT_emp:POR_emp!AQ72)","v":-1},{"$f":"SUM(AUT_emp:POR_emp!AR72)","v":0},{"$f":"SUM(AUT_emp:POR_emp!AS72)","v":0},{"$f":"SUM(AUT_emp:POR_emp!AT72)","v":0},{"$f":"SUM(AUT_emp:POR_emp!AU72)","v":0},{"$f":"SUM(AUT_emp:POR_emp!AV72)","v":0},{"$f":"SUM(AUT_emp:POR_emp!AW72)","v":1},{"$f":"SUM(AUT_emp:POR_emp!AX72)","v":0},{"$f":"SUM(AUT_emp:POR_emp!AY72)","v":0},{"$f":"SUM(AUT_emp:POR_emp!AZ72)","v":0},{"$f":"SUM(AUT_emp:POR_emp!BA72)","v":0},{"$f":"SUM(AUT_emp:POR_emp!BB72)","v":0},19,4.6568627450980393E-2]
[null,"Refrigeration",{"$f":"Sheet1!O243","v":"Replacement of the equipment."},{"$f":"SUM(AUT_emp:POR_emp!D73)","v":1},{"$f":"SUM(AUT_emp:POR_emp!E73)","v":0},{"$f":"SUM(AUT_emp:POR_emp!F73)","v":0},{"$f":"SUM(AUT_emp:POR_emp!G73)","v":0},{"$f":"SUM(AUT_emp:POR_emp!H73)","v":0},{"$f":"SUM(AUT_emp:POR_emp!I73)","v":1},{"$f":"SUM(AUT_emp:POR_emp!J73)","v":0},{"$f":"SUM(AUT_emp:POR_emp!K73)","v":0},{"$f":"SUM(AUT_emp:POR_emp!L73)","v":0},{"$f":"SUM(AUT_emp:POR_emp!M73)","v":0},{"$f":"SUM(AUT_emp:POR_emp!N73)","v":0},{"$f":"SUM(AUT_emp:POR_emp!O73)","v":3},{"$f":"SUM(AUT_emp:POR_emp!P73)","v":4},{"$f":"SUM(AUT_emp:POR_emp!Q73)","v":0},{"$f":"SUM(AUT_emp:POR_emp!R73)","v":1},{"$f":"SUM(AUT_emp:POR_emp!S73)","v":0},{"$f":"SUM(AUT_emp:POR_emp!T73)","v":0},{"$f":"SUM(AUT_emp:POR_emp!U73)","v":4},{"$f":"SUM(AUT_emp:POR_emp!V73)","v":2},{"$f":"SUM(AUT_emp:POR_emp!W73)","v":1},{"$f":"SUM(AUT_emp:POR_emp!X73)","v":0},{"$f":"SUM(AUT_emp:POR_emp!Y73)","v":-1},{"$f":"SUM(AUT_emp:POR_emp!Z73)","v":1},{"$f":"SUM(AUT_emp:POR_emp!AA73)","v":0},{"$f":"SUM(AUT_emp:POR_emp!AB73)","v":1},{"$f":"SUM(AUT_emp:POR_emp!AC73)","v":1},{"$f":"SUM(AUT_emp:POR_emp!AD73)","v":2},{"$f":"SUM(AUT_emp:POR_emp!AE73)","v":1},{"$f":"SUM(AUT_emp:POR_emp!AF73)","v":0},{"$f":"SUM(AUT_emp:POR_emp!AG73)","v":0},{"$f":"SUM(AUT_emp:POR_emp!AH73)","v":0},{"$f":"SUM(AUT_emp:POR_emp!AI73)","v":0},{"$f":"SUM(AUT_emp:POR_emp!AJ73)","v":0},{"$f":"SUM(AUT_emp:POR_emp!AK73)","v":0},{"$f":"SUM(AUT_emp:POR_emp!AL73)","v":0},{"$f":"SUM(AUT_emp:POR_emp!AM73)","v":0},{"$f":"SUM(AUT_emp:POR_emp!AN73)","v":0},{"$f":"SUM(AUT_emp:POR_emp!AO73)","v":0},{"$f":"SUM(AUT_emp:POR_emp!AP73)","v":1},{"$f":"SUM(AUT_emp:POR_emp!AQ73)","v":4},{"$f":"SUM(AUT_emp:POR_emp!AR73)","v":1},{"$f":"SUM(AUT_emp:POR_emp!AS73)","v":0},{"$f":"SUM(AUT_emp:POR_emp!AT73)","v":0},{"$f":"SUM(AUT_emp:POR_emp!AU73)","v":0},{"$f":"SUM(AUT_emp:POR_emp!AV73)","v":1},{"$f":"SUM(AUT_emp:POR_emp!AW73)","v":0},{"$f":"SUM(AUT_emp:POR_emp!AX73)","v":0},{"$f":"SUM(AUT_emp:POR_emp!AY73)","v":1},{"$f":"SUM(AUT_emp:POR_emp!AZ73)","v":1},{"$f":"SUM(AUT_emp:POR_emp!BA73)","v":0},{"$f":"SUM(AUT_emp:POR_emp!BB73)","v":0},31,7.5980392156862739E-2]
[null,"Water systems",{"$f":"Sheet1!O245","v":"Efficient pumps for the Water treatment system (if any)"},{"$f":"SUM(AUT_emp:POR_emp!D74)","v":0},{"$f":"SUM(AUT_emp:POR_emp!E74)","v":0},{"$f":"SUM(AUT_emp:POR_emp!F74)","v":0},{"$f":"SUM(AUT_emp:POR_emp!G74)","v":0},{"$f":"SUM(AUT_emp:POR_emp!H74)","v":0},{"$f":"SUM(AUT_emp:POR_emp!I74)","v":0},{"$f":"SUM(AUT_emp:POR_emp!J74)","v":0},{"$f":"SUM(AUT_emp:POR_emp!K74)","v":0},{"$f":"SUM(AUT_emp:POR_emp!L74)","v":0},{"$f":"SUM(AUT_emp:POR_emp!M74)","v":0},{"$f":"SUM(AUT_emp:POR_emp!N74)","v":0},{"$f":"SUM(AUT_emp:POR_emp!O74)","v":2},{"$f":"SUM(AUT_emp:POR_emp!P74)","v":4},{"$f":"SUM(AUT_emp:POR_emp!Q74)","v":1},{"$f":"SUM(AUT_emp:POR_emp!R74)","v":1},{"$f":"SUM(AUT_emp:POR_emp!S74)","v":0},{"$f":"SUM(AUT_emp:POR_emp!T74)","v":0},{"$f":"SUM(AUT_emp:POR_emp!U74)","v":2},{"$f":"SUM(AUT_emp:POR_emp!V74)","v":1},{"$f":"SUM(AUT_emp:POR_emp!W74)","v":2},{"$f":"SUM(AUT_emp:POR_emp!X74)","v":0},{"$f":"SUM(AUT_emp:POR_emp!Y74)","v":0},{"$f":"SUM(AUT_emp:POR_emp!Z74)","v":1},{"$f":"SUM(AUT_emp:POR_emp!AA74)","v":1},{"$f":"SUM(AUT_emp:POR_emp!AB74)","v":1},{"$f":"SUM(AUT_emp:POR_emp!AC74)","v":0},{"$f":"SUM(AUT_emp:POR_emp!AD74)","v":0},{"$f":"SUM(AUT_emp:POR_emp!AE74)","v":0},{"$f":"SUM(AUT_emp:POR_emp!AF74)","v":0},{"$f":"SUM(AUT_emp:POR_emp!AG74)","v":1},{"$f":"SUM(AUT_emp:POR_emp!AH74)","v":0},{"$f":"SUM(AUT_emp:POR_emp!AI74)","v":0},{"$f":"SUM(AUT_emp:POR_emp!AJ74)","v":0},{"$f":"SUM(AUT_emp:POR_emp!AK74)","v":0},{"$f":"SUM(AUT_emp:POR_emp!AL74)","v":0},{"$f":"SUM(AUT_emp:POR_emp!AM74)","v":0},{"$f":"SUM(AUT_emp:POR_emp!AN74)","v":0},{"$f":"SUM(AUT_emp:POR_emp!AO74)","v":0},{"$f":"SUM(AUT_emp:POR_emp!AP74)","v":0},{"$f":"SUM(AUT_emp:POR_emp!AQ74)","v":0},{"$f":"SUM(AUT_emp:POR_emp!AR74)","v":0},{"$f":"SUM(AUT_emp:POR_emp!AS74)","v":0},{"$f":"SUM(AUT_emp:POR_emp!AT74)","v":0},{"$f":"SUM(AUT_emp:POR_emp!AU74)","v":0},{"$f":"SUM(AUT_emp:POR_emp!AV74)","v":0},{"$f":"SUM(AUT_emp:POR_emp!AW74)","v":0},{"$f":"SUM(AUT_emp:POR_emp!AX74)","v":0},{"$f":"SUM(AUT_emp:POR_emp!AY74)","v":0},{"$f":"SUM(AUT_emp:POR_emp!AZ74)","v":0},{"$f":"SUM(AUT_emp:POR_emp!BA74)","v":0},{"$f":"SUM(AUT_emp:POR_emp!BB74)","v":0},17,4.1666666666666664E-2]
[null,"Water systems",{"$f":"Sheet1!O246","v":"Advanced process of water recovery "},{"$f":"SUM(AUT_emp:POR_emp!D75)","v":0},{"$f":"SUM(AUT_emp:POR_emp!E75)","v":0},{"$f":"SUM(AUT_emp:POR_emp!F75)","v":0},{"$f":"SUM(AUT_emp:POR_emp!G75)","v":0},{"$f":"SUM(AUT_emp:POR_emp!H75)","v":0},{"$f":"SUM(AUT_emp:POR_emp!I75)","v":0},{"$f":"SUM(AUT_emp:POR_emp!J75)","v":0},{"$f":"SUM(AUT_emp:POR_emp!K75)","v":0},{"$f":"SUM(AUT_emp:POR_emp!L75)","v":1},{"$f":"SUM(AUT_emp:POR_emp!M75)","v":0},{"$f":"SUM(AUT_emp:POR_emp!N75)","v":0},{"$f":"SUM(AUT_emp:POR_emp!O75)","v":0},{"$f":"SUM(AUT_emp:POR_emp!P75)","v":2},{"$f":"SUM(AUT_emp:POR_emp!Q75)","v":0},{"$f":"SUM(AUT_emp:POR_emp!R75)","v":2},{"$f":"SUM(AUT_emp:POR_emp!S75)","v":3},{"$f":"SUM(AUT_emp:POR_emp!T75)","v":0},{"$f":"SUM(AUT_emp:POR_emp!U75)","v":1},{"$f":"SUM(AUT_emp:POR_emp!V75)","v":0},{"$f":"SUM(AUT_emp:POR_emp!W75)","v":1},{"$f":"SUM(AUT_emp:POR_emp!X75)","v":0},{"$f":"SUM(AUT_emp:POR_emp!Y75)","v":4},{"$f":"SUM(AUT_emp:POR_emp!Z75)","v":1},{"$f":"SUM(AUT_emp:POR_emp!AA75)","v":1},{"$f":"SUM(AUT_emp:POR_emp!AB75)","v":1},{"$f":"SUM(AUT_emp:POR_emp!AC75)","v":0},{"$f":"SUM(AUT_emp:POR_emp!AD75)","v":0},{"$f":"SUM(AUT_emp:POR_emp!AE75)","v":0},{"$f":"SUM(AUT_emp:POR_emp!AF75)","v":0},{"$f":"SUM(AUT_emp:POR_emp!AG75)","v":1},{"$f":"SUM(AUT_emp:POR_emp!AH75)","v":0},{"$f":"SUM(AUT_emp:POR_emp!AI75)","v":2},{"$f":"SUM(AUT_emp:POR_emp!AJ75)","v":0},{"$f":"SUM(AUT_emp:POR_emp!AK75)","v":0},{"$f":"SUM(AUT_emp:POR_emp!AL75)","v":0},{"$f":"SUM(AUT_emp:POR_emp!AM75)","v":0},{"$f":"SUM(AUT_emp:POR_emp!AN75)","v":0},{"$f":"SUM(AUT_emp:POR_emp!AO75)","v":0},{"$f":"SUM(AUT_emp:POR_emp!AP75)","v":1},{"$f":"SUM(AUT_emp:POR_emp!AQ75)","v":0},{"$f":"SUM(AUT_emp:POR_emp!AR75)","v":0},{"$f":"SUM(AUT_emp:POR_emp!AS75)","v":1},{"$f":"SUM(AUT_emp:POR_emp!AT75)","v":0},{"$f":"SUM(AUT_emp:POR_emp!AU75)","v":0},{"$f":"SUM(AUT_emp:POR_emp!AV75)","v":0},{"$f":"SUM(AUT_emp:POR_emp!AW75)","v":1},{"$f":"SUM(AUT_emp:POR_emp!AX75)","v":0},{"$f":"SUM(AUT_emp:POR_emp!AY75)","v":0},{"$f":"SUM(AUT_emp:POR_emp!AZ75)","v":1},{"$f":"SUM(AUT_emp:POR_emp!BA75)","v":0},{"$f":"SUM(AUT_emp:POR_emp!BB75)","v":0},24,5.8823529411764705E-2]
[null,"Production line",{"$f":"Sheet1!O248","v":"Optimisation of the production process and workflow"},{"$f":"SUM(AUT_emp:POR_emp!D76)","v":3},{"$f":"SUM(AUT_emp:POR_emp!E76)","v":0},{"$f":"SUM(AUT_emp:POR_emp!F76)","v":0},{"$f":"SUM(AUT_emp:POR_emp!G76)","v":1},{"$f":"SUM(AUT_emp:POR_emp!H76)","v":3},{"$f":"SUM(AUT_emp:POR_emp!I76)","v":3},{"$f":"SUM(AUT_emp:POR_emp!J76)","v":1},{"$f":"SUM(AUT_emp:POR_emp!K76)","v":2},{"$f":"SUM(AUT_emp:POR_emp!L76)","v":3},{"$f":"SUM(AUT_emp:POR_emp!M76)","v":0},{"$f":"SUM(AUT_emp:POR_emp!N76)","v":1},{"$f":"SUM(AUT_emp:POR_emp!O76)","v":1},{"$f":"SUM(AUT_emp:POR_emp!P76)","v":5},{"$f":"SUM(AUT_emp:POR_emp!Q76)","v":1},{"$f":"SUM(AUT_emp:POR_emp!R76)","v":1},{"$f":"SUM(AUT_emp:POR_emp!S76)","v":1},{"$f":"SUM(AUT_emp:POR_emp!T76)","v":0},{"$f":"SUM(AUT_emp:POR_emp!U76)","v":4},{"$f":"SUM(AUT_emp:POR_emp!V76)","v":0},{"$f":"SUM(AUT_emp:POR_emp!W76)","v":1},{"$f":"SUM(AUT_emp:POR_emp!X76)","v":0},{"$f":"SUM(AUT_emp:POR_emp!Y76)","v":3},{"$f":"SUM(AUT_emp:POR_emp!Z76)","v":2},{"$f":"SUM(AUT_emp:POR_emp!AA76)","v":0},{"$f":"SUM(AUT_emp:POR_emp!AB76)","v":1},{"$f":"SUM(AUT_emp:POR_emp!AC76)","v":1},{"$f":"SUM(AUT_emp:POR_emp!AD76)","v":3},{"$f":"SUM(AUT_emp:POR_emp!AE76)","v":5},{"$f":"SUM(AUT_emp:POR_emp!AF76)","v":0},{"$f":"SUM(AUT_emp:POR_emp!AG76)","v":3},{"$f":"SUM(AUT_emp:POR_emp!AH76)","v":0},{"$f":"SUM(AUT_emp:POR_emp!AI76)","v":0},{"$f":"SUM(AUT_emp:POR_emp!AJ76)","v":0},{"$f":"SUM(AUT_emp:POR_emp!AK76)","v":-2},{"$f":"SUM(AUT_emp:POR_emp!AL76)","v":0},{"$f":"SUM(AUT_emp:POR_emp!AM76)","v":0},{"$f":"SUM(AUT_emp:POR_emp!AN76)","v":0},{"$f":"SUM(AUT_emp:POR_emp!AO76)","v":0},{"$f":"SUM(AUT_emp:POR_emp!AP76)","v":2},{"$f":"SUM(AUT_emp:POR_emp!AQ76)","v":1},{"$f":"SUM(AUT_emp:POR_emp!AR76)","v":1},{"$f":"SUM(AUT_emp:POR_emp!AS76)","v":2},{"$f":"SUM(AUT_emp:POR_emp!AT76)","v":1},{"$f":"SUM(AUT_emp:POR_emp!AU76)","v":1},{"$f":"SUM(AUT_emp:POR_emp!AV76)","v":3},{"$f":"SUM(AUT_emp:POR_emp!AW76)","v":1},{"$f":"SUM(AUT_emp:POR_emp!AX76)","v":0},{"$f":"SUM(AUT_emp:POR_emp!AY76)","v":1},{"$f":"SUM(AUT_emp:POR_emp!AZ76)","v":4},{"$f":"SUM(AUT_emp:POR_emp!BA76)","v":1},{"$f":"SUM(AUT_emp:POR_emp!BB76)","v":0},65,0.15931372549019607]
[null,"Production line",{"$f":"Sheet1!O249","v":"Waste reduction & recycling in the production line "},{"$f":"SUM(AUT_emp:POR_emp!D77)","v":1},{"$f":"SUM(AUT_emp:POR_emp!E77)","v":0},{"$f":"SUM(AUT_emp:POR_emp!F77)","v":0},{"$f":"SUM(AUT_emp:POR_emp!G77)","v":1},{"$f":"SUM(AUT_emp:POR_emp!H77)","v":0},{"$f":"SUM(AUT_emp:POR_emp!I77)","v":0},{"$f":"SUM(AUT_emp:POR_emp!J77)","v":0},{"$f":"SUM(AUT_emp:POR_emp!K77)","v":0},{"$f":"SUM(AUT_emp:POR_emp!L77)","v":0},{"$f":"SUM(AUT_emp:POR_emp!M77)","v":0},{"$f":"SUM(AUT_emp:POR_emp!N77)","v":0},{"$f":"SUM(AUT_emp:POR_emp!O77)","v":0},{"$f":"SUM(AUT_emp:POR_emp!P77)","v":4},{"$f":"SUM(AUT_emp:POR_emp!Q77)","v":0},{"$f":"SUM(AUT_emp:POR_emp!R77)","v":1},{"$f":"SUM(AUT_emp:POR_emp!S77)","v":2},{"$f":"SUM(AUT_emp:POR_emp!T77)","v":2},{"$f":"SUM(AUT_emp:POR_emp!U77)","v":3},{"$f":"SUM(AUT_emp:POR_emp!V77)","v":0},{"$f":"SUM(AUT_emp:POR_emp!W77)","v":1},{"$f":"SUM(AUT_emp:POR_emp!X77)","v":0},{"$f":"SUM(AUT_emp:POR_emp!Y77)","v":5},{"$f":"SUM(AUT_emp:POR_emp!Z77)","v":0},{"$f":"SUM(AUT_emp:POR_emp!AA77)","v":1},{"$f":"SUM(AUT_emp:POR_emp!AB77)","v":0},{"$f":"SUM(AUT_emp:POR_emp!AC77)","v":0},{"$f":"SUM(AUT_emp:POR_emp!AD77)","v":0},{"$f":"SUM(AUT_emp:POR_emp!AE77)","v":0},{"$f":"SUM(AUT_emp:POR_emp!AF77)","v":0},{"$f":"SUM(AUT_emp:POR_emp!AG77)","v":1},{"$f":"SUM(AUT_emp:POR_emp!AH77)","v":0},{"$f":"SUM(AUT_emp:POR_emp!AI77)","v":3},{"$f":"SUM(AUT_emp:POR_emp!AJ77)","v":0},{"$f":"SUM(AUT_emp:POR_emp!AK77)","v":-1},{"$f":"SUM(AUT_emp:POR_emp!AL77)","v":0},{"$f":"SUM(AUT_emp:POR_emp!AM77)","v":0},{"$f":"SUM(AUT_emp:POR_emp!AN77)","v":0},{"$f":"SUM(AUT_emp:POR_emp!AO77)","v":0},{"$f":"SUM(AUT_emp:POR_emp!AP77)","v":0},{"$f":"SUM(AUT_emp:POR_emp!AQ77)","v":0},{"$f":"SUM(AUT_emp:POR_emp!AR77)","v":0},{"$f":"SUM(AUT_emp:POR_emp!AS77)","v":0},{"$f":"SUM(AUT_emp:POR_emp!AT77)","v":0},{"$f":"SUM(AUT_emp:POR_emp!AU77)","v":0},{"$f":"SUM(AUT_emp:POR_emp!AV77)","v":0},{"$f":"SUM(AUT_emp:POR_emp!AW77)","v":1},{"$f":"SUM(AUT_emp:POR_emp!AX77)","v":0},{"$f":"SUM(AUT_emp:POR_emp!AY77)","v":0},{"$f":"SUM(AUT_emp:POR_emp!AZ77)","v":0},{"$f":"SUM(AUT_emp:POR_emp!BA77)","v":0},{"$f":"SUM(AUT_emp:POR_emp!BB77)","v":0},25,6.1274509803921566E-2]
[null,"Production line",{"$f":"Sheet1!O250","v":"Optimization of motor driven systems "},{"$f":"SUM(AUT_emp:POR_emp!D78)","v":0},{"$f":"SUM(AUT_emp:POR_emp!E78)","v":0},{"$f":"SUM(AUT_emp:POR_emp!F78)","v":0},{"$f":"SUM(AUT_emp:POR_emp!G78)","v":0},{"$f":"SUM(AUT_emp:POR_emp!H78)","v":0},{"$f":"SUM(AUT_emp:POR_emp!I78)","v":0},{"$f":"SUM(AUT_emp:POR_emp!J78)","v":0},{"$f":"SUM(AUT_emp:POR_emp!K78)","v":0},{"$f":"SUM(AUT_emp:POR_emp!L78)","v":0},{"$f":"SUM(AUT_emp:POR_emp!M78)","v":0},{"$f":"SUM(AUT_emp:POR_emp!N78)","v":0},{"$f":"SUM(AUT_emp:POR_emp!O78)","v":3},{"$f":"SUM(AUT_emp:POR_emp!P78)","v":4},{"$f":"SUM(AUT_emp:POR_emp!Q78)","v":0},{"$f":"SUM(AUT_emp:POR_emp!R78)","v":1},{"$f":"SUM(AUT_emp:POR_emp!S78)","v":0},{"$f":"SUM(AUT_emp:POR_emp!T78)","v":0},{"$f":"SUM(AUT_emp:POR_emp!U78)","v":3},{"$f":"SUM(AUT_emp:POR_emp!V78)","v":1},{"$f":"SUM(AUT_emp:POR_emp!W78)","v":1},{"$f":"SUM(AUT_emp:POR_emp!X78)","v":0},{"$f":"SUM(AUT_emp:POR_emp!Y78)","v":0},{"$f":"SUM(AUT_emp:POR_emp!Z78)","v":0},{"$f":"SUM(AUT_emp:POR_emp!AA78)","v":0},{"$f":"SUM(AUT_emp:POR_emp!AB78)","v":1},{"$f":"SUM(AUT_emp:POR_emp!AC78)","v":0},{"$f":"SUM(AUT_emp:POR_emp!AD78)","v":0},{"$f":"SUM(AUT_emp:POR_emp!AE78)","v":2},{"$f":"SUM(AUT_emp:POR_emp!AF78)","v":0},{"$f":"SUM(AUT_emp:POR_emp!AG78)","v":3},{"$f":"SUM(AUT_emp:POR_emp!AH78)","v":0},{"$f":"SUM(AUT_emp:POR_emp!AI78)","v":0},{"$f":"SUM(AUT_emp:POR_emp!AJ78)","v":0},{"$f":"SUM(AUT_emp:POR_emp!AK78)","v":0},{"$f":"SUM(AUT_emp:POR_emp!AL78)","v":0},{"$f":"SUM(AUT_emp:POR_emp!AM78)","v":0},{"$f":"SUM(AUT_emp:POR_emp!AN78)","v":0},{"$f":"SUM(AUT_emp:POR_emp!AO78)","v":0},{"$f":"SUM(AUT_emp:POR_emp!AP78)","v":1},{"$f":"SUM(AUT_emp:POR_emp!AQ78)","v":1},{"$f":"SUM(AUT_emp:POR_emp!AR78)","v":1},{"$f":"SUM(AUT_emp:POR_emp!AS78)","v":0},{"$f":"SUM(AUT_emp:POR_emp!AT78)","v":0},{"$f":"SUM(AUT_emp:POR_emp!AU78)","v":0},{"$f":"SUM(AUT_emp:POR_emp!AV78)","v":0},{"$f":"SUM(AUT_emp:POR_emp!AW78)","v":0},{"$f":"SUM(AUT_emp:POR_emp!AX78)","v":0},{"$f":"SUM(AUT_emp:POR_emp!AY78)","v":0},{"$f":"SUM(AUT_emp:POR_emp!AZ78)","v":0},{"$f":"SUM(AUT_emp:POR_emp!BA78)","v":1},{"$f":"SUM(AUT_emp:POR_emp!BB78)","v":0},23,5.6372549019607844E-2]
[null,"Production line",{"$f":"Sheet1!O251","v":"High efficient transmission system"},{"$f":"SUM(AUT_emp:POR_emp!D79)","v":0},{"$f":"SUM(AUT_emp:POR_emp!E79)","v":0},{"$f":"SUM(AUT_emp:POR_emp!F79)","v":0},{"$f":"SUM(AUT_emp:POR_emp!G79)","v":0},{"$f":"SUM(AUT_emp:POR_emp!H79)","v":0},{"$f":"SUM(AUT_emp:POR_emp!I79)","v":1},{"$f":"SUM(AUT_emp:POR_emp!J79)","v":0},{"$f":"SUM(AUT_emp:POR_emp!K79)","v":0},{"$f":"SUM(AUT_emp:POR_emp!L79)","v":0},{"$f":"SUM(AUT_emp:POR_emp!M79)","v":0},{"$f":"SUM(AUT_emp:POR_emp!N79)","v":0},{"$f":"SUM(AUT_emp:POR_emp!O79)","v":2},{"$f":"SUM(AUT_emp:POR_emp!P79)","v":4},{"$f":"SUM(AUT_emp:POR_emp!Q79)","v":0},{"$f":"SUM(AUT_emp:POR_emp!R79)","v":1},{"$f":"SUM(AUT_emp:POR_emp!S79)","v":0},{"$f":"SUM(AUT_emp:POR_emp!T79)","v":0},{"$f":"SUM(AUT_emp:POR_emp!U79)","v":3},{"$f":"SUM(AUT_emp:POR_emp!V79)","v":0},{"$f":"SUM(AUT_emp:POR_emp!W79)","v":1},{"$f":"SUM(AUT_emp:POR_emp!X79)","v":0},{"$f":"SUM(AUT_emp:POR_emp!Y79)","v":0},{"$f":"SUM(AUT_emp:POR_emp!Z79)","v":0},{"$f":"SUM(AUT_emp:POR_emp!AA79)","v":0},{"$f":"SUM(AUT_emp:POR_emp!AB79)","v":1},{"$f":"SUM(AUT_emp:POR_emp!AC79)","v":0},{"$f":"SUM(AUT_emp:POR_emp!AD79)","v":2},{"$f":"SUM(AUT_emp:POR_emp!AE79)","v":3},{"$f":"SUM(AUT_emp:POR_emp!AF79)","v":0},{"$f":"SUM(AUT_emp:POR_emp!AG79)","v":2},{"$f":"SUM(AUT_emp:POR_emp!AH79)","v":0},{"$f":"SUM(AUT_emp:POR_emp!AI79)","v":0},{"$f":"SUM(AUT_emp:POR_emp!AJ79)","v":0},{"$f":"SUM(AUT_emp:POR_emp!AK79)","v":0},{"$f":"SUM(AUT_emp:POR_emp!AL79)","v":0},{"$f":"SUM(AUT_emp:POR_emp!AM79)","v":0},{"$f":"SUM(AUT_emp:POR_emp!AN79)","v":0},{"$f":"SUM(AUT_emp:POR_emp!AO79)","v":0},{"$f":"SUM(AUT_emp:POR_emp!AP79)","v":1},{"$f":"SUM(AUT_emp:POR_emp!AQ79)","v":1},{"$f":"SUM(AUT_emp:POR_emp!AR79)","v":0},{"$f":"SUM(AUT_emp:POR_emp!AS79)","v":0},{"$f":"SUM(AUT_emp:POR_emp!AT79)","v":0},{"$f":"SUM(AUT_emp:POR_emp!AU79)","v":0},{"$f":"SUM(AUT_emp:POR_emp!AV79)","v":0},{"$f":"SUM(AUT_emp:POR_emp!AW79)","v":0},{"$f":"SUM(AUT_emp:POR_emp!AX79)","v":0},{"$f":"SUM(AUT_emp:POR_emp!AY79)","v":0},{"$f":"SUM(AUT_emp:POR_emp!AZ79)","v":0},{"$f":"SUM(AUT_emp:POR_emp!BA79)","v":0},{"$f":"SUM(AUT_emp:POR_emp!BB79)","v":0},22,5.3921568627450983E-2]
[null,"Production line",{"$f":"Sheet1!O252","v":"Reduction of the mAnnual labor"},{"$f":"SUM(AUT_emp:POR_emp!D80)","v":3},{"$f":"SUM(AUT_emp:POR_emp!E80)","v":0},{"$f":"SUM(AUT_emp:POR_emp!F80)","v":0},{"$f":"SUM(AUT_emp:POR_emp!G80)","v":-1},{"$f":"SUM(AUT_emp:POR_emp!H80)","v":4},{"$f":"SUM(AUT_emp:POR_emp!I80)","v":3},{"$f":"SUM(AUT_emp:POR_emp!J80)","v":2},{"$f":"SUM(AUT_emp:POR_emp!K80)","v":2},{"$f":"SUM(AUT_emp:POR_emp!L80)","v":5},{"$f":"SUM(AUT_emp:POR_emp!M80)","v":0},{"$f":"SUM(AUT_emp:POR_emp!N80)","v":0},{"$f":"SUM(AUT_emp:POR_emp!O80)","v":0},{"$f":"SUM(AUT_emp:POR_emp!P80)","v":0},{"$f":"SUM(AUT_emp:POR_emp!Q80)","v":0},{"$f":"SUM(AUT_emp:POR_emp!R80)","v":-1},{"$f":"SUM(AUT_emp:POR_emp!S80)","v":0},{"$f":"SUM(AUT_emp:POR_emp!T80)","v":0},{"$f":"SUM(AUT_emp:POR_emp!U80)","v":-1},{"$f":"SUM(AUT_emp:POR_emp!V80)","v":0},{"$f":"SUM(AUT_emp:POR_emp!W80)","v":2},{"$f":"SUM(AUT_emp:POR_emp!X80)","v":0},{"$f":"SUM(AUT_emp:POR_emp!Y80)","v":0},{"$f":"SUM(AUT_emp:POR_emp!Z80)","v":-1},{"$f":"SUM(AUT_emp:POR_emp!AA80)","v":0},{"$f":"SUM(AUT_emp:POR_emp!AB80)","v":-1},{"$f":"SUM(AUT_emp:POR_emp!AC80)","v":1},{"$f":"SUM(AUT_emp:POR_emp!AD80)","v":1},{"$f":"SUM(AUT_emp:POR_emp!AE80)","v":4},{"$f":"SUM(AUT_emp:POR_emp!AF80)","v":0},{"$f":"SUM(AUT_emp:POR_emp!AG80)","v":3},{"$f":"SUM(AUT_emp:POR_emp!AH80)","v":0},{"$f":"SUM(AUT_emp:POR_emp!AI80)","v":0},{"$f":"SUM(AUT_emp:POR_emp!AJ80)","v":0},{"$f":"SUM(AUT_emp:POR_emp!AK80)","v":-3},{"$f":"SUM(AUT_emp:POR_emp!AL80)","v":-1},{"$f":"SUM(AUT_emp:POR_emp!AM80)","v":0},{"$f":"SUM(AUT_emp:POR_emp!AN80)","v":0},{"$f":"SUM(AUT_emp:POR_emp!AO80)","v":0},{"$f":"SUM(AUT_emp:POR_emp!AP80)","v":2},{"$f":"SUM(AUT_emp:POR_emp!AQ80)","v":0},{"$f":"SUM(AUT_emp:POR_emp!AR80)","v":0},{"$f":"SUM(AUT_emp:POR_emp!AS80)","v":1},{"$f":"SUM(AUT_emp:POR_emp!AT80)","v":0},{"$f":"SUM(AUT_emp:POR_emp!AU80)","v":0},{"$f":"SUM(AUT_emp:POR_emp!AV80)","v":1},{"$f":"SUM(AUT_emp:POR_emp!AW80)","v":0},{"$f":"SUM(AUT_emp:POR_emp!AX80)","v":0},{"$f":"SUM(AUT_emp:POR_emp!AY80)","v":0},{"$f":"SUM(AUT_emp:POR_emp!AZ80)","v":2},{"$f":"SUM(AUT_emp:POR_emp!BA80)","v":0},{"$f":"SUM(AUT_emp:POR_emp!BB80)","v":0},27,6.6176470588235295E-2]
[null,"Production line",{"$f":"Sheet1!O253","v":"Regular maintenance of the equipment"},{"$f":"SUM(AUT_emp:POR_emp!D81)","v":2},{"$f":"SUM(AUT_emp:POR_emp!E81)","v":0},{"$f":"SUM(AUT_emp:POR_emp!F81)","v":0},{"$f":"SUM(AUT_emp:POR_emp!G81)","v":0},{"$f":"SUM(AUT_emp:POR_emp!H81)","v":1},{"$f":"SUM(AUT_emp:POR_emp!I81)","v":2},{"$f":"SUM(AUT_emp:POR_emp!J81)","v":3},{"$f":"SUM(AUT_emp:POR_emp!K81)","v":1},{"$f":"SUM(AUT_emp:POR_emp!L81)","v":3},{"$f":"SUM(AUT_emp:POR_emp!M81)","v":0},{"$f":"SUM(AUT_emp:POR_emp!N81)","v":0},{"$f":"SUM(AUT_emp:POR_emp!O81)","v":4},{"$f":"SUM(AUT_emp:POR_emp!P81)","v":4},{"$f":"SUM(AUT_emp:POR_emp!Q81)","v":1},{"$f":"SUM(AUT_emp:POR_emp!R81)","v":1},{"$f":"SUM(AUT_emp:POR_emp!S81)","v":0},{"$f":"SUM(AUT_emp:POR_emp!T81)","v":0},{"$f":"SUM(AUT_emp:POR_emp!U81)","v":2},{"$f":"SUM(AUT_emp:POR_emp!V81)","v":1},{"$f":"SUM(AUT_emp:POR_emp!W81)","v":1},{"$f":"SUM(AUT_emp:POR_emp!X81)","v":0},{"$f":"SUM(AUT_emp:POR_emp!Y81)","v":1},{"$f":"SUM(AUT_emp:POR_emp!Z81)","v":2},{"$f":"SUM(AUT_emp:POR_emp!AA81)","v":0},{"$f":"SUM(AUT_emp:POR_emp!AB81)","v":4},{"$f":"SUM(AUT_emp:POR_emp!AC81)","v":0},{"$f":"SUM(AUT_emp:POR_emp!AD81)","v":1},{"$f":"SUM(AUT_emp:POR_emp!AE81)","v":2},{"$f":"SUM(AUT_emp:POR_emp!AF81)","v":0},{"$f":"SUM(AUT_emp:POR_emp!AG81)","v":-1},{"$f":"SUM(AUT_emp:POR_emp!AH81)","v":0},{"$f":"SUM(AUT_emp:POR_emp!AI81)","v":0},{"$f":"SUM(AUT_emp:POR_emp!AJ81)","v":0},{"$f":"SUM(AUT_emp:POR_emp!AK81)","v":0},{"$f":"SUM(AUT_emp:POR_emp!AL81)","v":0},{"$f":"SUM(AUT_emp:POR_emp!AM81)","v":0},{"$f":"SUM(AUT_emp:POR_emp!AN81)","v":0},{"$f":"SUM(AUT_emp:POR_emp!AO81)","v":0},{"$f":"SUM(AUT_emp:POR_emp!AP81)","v":5},{"$f":"SUM(AUT_emp:POR_emp!AQ81)","v":3},{"$f":"SUM(AUT_emp:POR_emp!AR81)","v":2},{"$f":"SUM(AUT_emp:POR_emp!AS81)","v":3},{"$f":"SUM(AUT_emp:POR_emp!AT81)","v":0},{"$f":"SUM(AUT_emp:POR_emp!AU81)","v":0},{"$f":"SUM(AUT_emp:POR_emp!AV81)","v":0},{"$f":"SUM(AUT_emp:POR_emp!AW81)","v":0},{"$f":"SUM(AUT_emp:POR_emp!AX81)","v":0},{"$f":"SUM(AUT_emp:POR_emp!AY81)","v":3},{"$f":"SUM(AUT_emp:POR_emp!AZ81)","v":1},{"$f":"SUM(AUT_emp:POR_emp!BA81)","v":4},{"$f":"SUM(AUT_emp:POR_emp!BB81)","v":2},58,0.14215686274509803]
[null,"Production line",{"$f":"Sheet1!O254","v":"Replacement of the equipment"},{"$f":"SUM(AUT_emp:POR_emp!D82)","v":2},{"$f":"SUM(AUT_emp:POR_emp!E82)","v":0},{"$f":"SUM(AUT_emp:POR_emp!F82)","v":0},{"$f":"SUM(AUT_emp:POR_emp!G82)","v":0},{"$f":"SUM(AUT_emp:POR_emp!H82)","v":2},{"$f":"SUM(AUT_emp:POR_emp!I82)","v":2},{"$f":"SUM(AUT_emp:POR_emp!J82)","v":1},{"$f":"SUM(AUT_emp:POR_emp!K82)","v":0},{"$f":"SUM(AUT_emp:POR_emp!L82)","v":1},{"$f":"SUM(AUT_emp:POR_emp!M82)","v":1},{"$f":"SUM(AUT_emp:POR_emp!N82)","v":0},{"$f":"SUM(AUT_emp:POR_emp!O82)","v":3},{"$f":"SUM(AUT_emp:POR_emp!P82)","v":5},{"$f":"SUM(AUT_emp:POR_emp!Q82)","v":1},{"$f":"SUM(AUT_emp:POR_emp!R82)","v":1},{"$f":"SUM(AUT_emp:POR_emp!S82)","v":0},{"$f":"SUM(AUT_emp:POR_emp!T82)","v":0},{"$f":"SUM(AUT_emp:POR_emp!U82)","v":4},{"$f":"SUM(AUT_emp:POR_emp!V82)","v":2},{"$f":"SUM(AUT_emp:POR_emp!W82)","v":2},{"$f":"SUM(AUT_emp:POR_emp!X82)","v":0},{"$f":"SUM(AUT_emp:POR_emp!Y82)","v":-2},{"$f":"SUM(AUT_emp:POR_emp!Z82)","v":1},{"$f":"SUM(AUT_emp:POR_emp!AA82)","v":0},{"$f":"SUM(AUT_emp:POR_emp!AB82)","v":0},{"$f":"SUM(AUT_emp:POR_emp!AC82)","v":1},{"$f":"SUM(AUT_emp:POR_emp!AD82)","v":1},{"$f":"SUM(AUT_emp:POR_emp!AE82)","v":3},{"$f":"SUM(AUT_emp:POR_emp!AF82)","v":0},{"$f":"SUM(AUT_emp:POR_emp!AG82)","v":-1},{"$f":"SUM(AUT_emp:POR_emp!AH82)","v":0},{"$f":"SUM(AUT_emp:POR_emp!AI82)","v":0},{"$f":"SUM(AUT_emp:POR_emp!AJ82)","v":0},{"$f":"SUM(AUT_emp:POR_emp!AK82)","v":0},{"$f":"SUM(AUT_emp:POR_emp!AL82)","v":0},{"$f":"SUM(AUT_emp:POR_emp!AM82)","v":0},{"$f":"SUM(AUT_emp:POR_emp!AN82)","v":0},{"$f":"SUM(AUT_emp:POR_emp!AO82)","v":0},{"$f":"SUM(AUT_emp:POR_emp!AP82)","v":1},{"$f":"SUM(AUT_emp:POR_emp!AQ82)","v":3},{"$f":"SUM(AUT_emp:POR_emp!AR82)","v":1},{"$f":"SUM(AUT_emp:POR_emp!AS82)","v":1},{"$f":"SUM(AUT_emp:POR_emp!AT82)","v":0},{"$f":"SUM(AUT_emp:POR_emp!AU82)","v":0},{"$f":"SUM(AUT_emp:POR_emp!AV82)","v":1},{"$f":"SUM(AUT_emp:POR_emp!AW82)","v":0},{"$f":"SUM(AUT_emp:POR_emp!AX82)","v":0},{"$f":"SUM(AUT_emp:POR_emp!AY82)","v":1},{"$f":"SUM(AUT_emp:POR_emp!AZ82)","v":0},{"$f":"SUM(AUT_emp:POR_emp!BA82)","v":0},{"$f":"SUM(AUT_emp:POR_emp!BB82)","v":1},39,9.5588235294117641E-2]
[null,"Production line",{"$f":"Sheet1!O255","v":"Waste heat recovery "},{"$f":"SUM(AUT_emp:POR_emp!D83)","v":0},{"$f":"SUM(AUT_emp:POR_emp!E83)","v":0},{"$f":"SUM(AUT_emp:POR_emp!F83)","v":0},{"$f":"SUM(AUT_emp:POR_emp!G83)","v":0},{"$f":"SUM(AUT_emp:POR_emp!H83)","v":0},{"$f":"SUM(AUT_emp:POR_emp!I83)","v":0},{"$f":"SUM(AUT_emp:POR_emp!J83)","v":0},{"$f":"SUM(AUT_emp:POR_emp!K83)","v":0},{"$f":"SUM(AUT_emp:POR_emp!L83)","v":0},{"$f":"SUM(AUT_emp:POR_emp!M83)","v":1},{"$f":"SUM(AUT_emp:POR_emp!N83)","v":0},{"$f":"SUM(AUT_emp:POR_emp!O83)","v":0},{"$f":"SUM(AUT_emp:POR_emp!P83)","v":4},{"$f":"SUM(AUT_emp:POR_emp!Q83)","v":1},{"$f":"SUM(AUT_emp:POR_emp!R83)","v":2},{"$f":"SUM(AUT_emp:POR_emp!S83)","v":0},{"$f":"SUM(AUT_emp:POR_emp!T83)","v":0},{"$f":"SUM(AUT_emp:POR_emp!U83)","v":3},{"$f":"SUM(AUT_emp:POR_emp!V83)","v":0},{"$f":"SUM(AUT_emp:POR_emp!W83)","v":2},{"$f":"SUM(AUT_emp:POR_emp!X83)","v":0},{"$f":"SUM(AUT_emp:POR_emp!Y83)","v":2},{"$f":"SUM(AUT_emp:POR_emp!Z83)","v":1},{"$f":"SUM(AUT_emp:POR_emp!AA83)","v":0},{"$f":"SUM(AUT_emp:POR_emp!AB83)","v":0},{"$f":"SUM(AUT_emp:POR_emp!AC83)","v":0},{"$f":"SUM(AUT_emp:POR_emp!AD83)","v":0},{"$f":"SUM(AUT_emp:POR_emp!AE83)","v":0},{"$f":"SUM(AUT_emp:POR_emp!AF83)","v":0},{"$f":"SUM(AUT_emp:POR_emp!AG83)","v":2},{"$f":"SUM(AUT_emp:POR_emp!AH83)","v":0},{"$f":"SUM(AUT_emp:POR_emp!AI83)","v":2},{"$f":"SUM(AUT_emp:POR_emp!AJ83)","v":0},{"$f":"SUM(AUT_emp:POR_emp!AK83)","v":0},{"$f":"SUM(AUT_emp:POR_emp!AL83)","v":0},{"$f":"SUM(AUT_emp:POR_emp!AM83)","v":0},{"$f":"SUM(AUT_emp:POR_emp!AN83)","v":0},{"$f":"SUM(AUT_emp:POR_emp!AO83)","v":0},{"$f":"SUM(AUT_emp:POR_emp!AP83)","v":0},{"$f":"SUM(AUT_emp:POR_emp!AQ83)","v":-1},{"$f":"SUM(AUT_emp:POR_emp!AR83)","v":0},{"$f":"SUM(AUT_emp:POR_emp!AS83)","v":0},{"$f":"SUM(AUT_emp:POR_emp!AT83)","v":0},{"$f":"SUM(AUT_emp:POR_emp!AU83)","v":0},{"$f":"SUM(AUT_emp:POR_emp!AV83)","v":0},{"$f":"SUM(AUT_emp:POR_emp!AW83)","v":1},{"$f":"SUM(AUT_emp:POR_emp!AX83)","v":0},{"$f":"SUM(AUT_emp:POR_emp!AY83)","v":0},{"$f":"SUM(AUT_emp:POR_emp!AZ83)","v":0},{"$f":"SUM(AUT_emp:POR_emp!BA83)","v":0},{"$f":"SUM(AUT_emp:POR_emp!BB83)","v":0},20,4.9019607843137254E-2]
[null,"Production line",{"$f":"Sheet1!O256","v":"Low-carbon packaging "},{"$f":"SUM(AUT_emp:POR_emp!D84)","v":0},{"$f":"SUM(AUT_emp:POR_emp!E84)","v":1},{"$f":"SUM(AUT_emp:POR_emp!F84)","v":2},{"$f":"SUM(AUT_emp:POR_emp!G84)","v":2},{"$f":"SUM(AUT_emp:POR_emp!H84)","v":1},{"$f":"SUM(AUT_emp:POR_emp!I84)","v":0},{"$f":"SUM(AUT_emp:POR_emp!J84)","v":0},{"$f":"SUM(AUT_emp:POR_emp!K84)","v":0},{"$f":"SUM(AUT_emp:POR_emp!L84)","v":0},{"$f":"SUM(AUT_emp:POR_emp!M84)","v":0},{"$f":"SUM(AUT_emp:POR_emp!N84)","v":0},{"$f":"SUM(AUT_emp:POR_emp!O84)","v":0},{"$f":"SUM(AUT_emp:POR_emp!P84)","v":4},{"$f":"SUM(AUT_emp:POR_emp!Q84)","v":1},{"$f":"SUM(AUT_emp:POR_emp!R84)","v":2},{"$f":"SUM(AUT_emp:POR_emp!S84)","v":1},{"$f":"SUM(AUT_emp:POR_emp!T84)","v":1},{"$f":"SUM(AUT_emp:POR_emp!U84)","v":3},{"$f":"SUM(AUT_emp:POR_emp!V84)","v":1},{"$f":"SUM(AUT_emp:POR_emp!W84)","v":2},{"$f":"SUM(AUT_emp:POR_emp!X84)","v":1},{"$f":"SUM(AUT_emp:POR_emp!Y84)","v":1},{"$f":"SUM(AUT_emp:POR_emp!Z84)","v":0},{"$f":"SUM(AUT_emp:POR_emp!AA84)","v":2},{"$f":"SUM(AUT_emp:POR_emp!AB84)","v":0},{"$f":"SUM(AUT_emp:POR_emp!AC84)","v":0},{"$f":"SUM(AUT_emp:POR_emp!AD84)","v":0},{"$f":"SUM(AUT_emp:POR_emp!AE84)","v":0},{"$f":"SUM(AUT_emp:POR_emp!AF84)","v":0},{"$f":"SUM(AUT_emp:POR_emp!AG84)","v":-1},{"$f":"SUM(AUT_emp:POR_emp!AH84)","v":0},{"$f":"SUM(AUT_emp:POR_emp!AI84)","v":0},{"$f":"SUM(AUT_emp:POR_emp!AJ84)","v":0},{"$f":"SUM(AUT_emp:POR_emp!AK84)","v":0},{"$f":"SUM(AUT_emp:POR_emp!AL84)","v":0},{"$f":"SUM(AUT_emp:POR_emp!AM84)","v":0},{"$f":"SUM(AUT_emp:POR_emp!AN84)","v":0},{"$f":"SUM(AUT_emp:POR_emp!AO84)","v":0},{"$f":"SUM(AUT_emp:POR_emp!AP84)","v":0},{"$f":"SUM(AUT_emp:POR_emp!AQ84)","v":0},{"$f":"SUM(AUT_emp:POR_emp!AR84)","v":0},{"$f":"SUM(AUT_emp:POR_emp!AS84)","v":0},{"$f":"SUM(AUT_emp:POR_emp!AT84)","v":0},{"$f":"SUM(AUT_emp:POR_emp!AU84)","v":0},{"$f":"SUM(AUT_emp:POR_emp!AV84)","v":0},{"$f":"SUM(AUT_emp:POR_emp!AW84)","v":4},{"$f":"SUM(AUT_emp:POR_emp!AX84)","v":1},{"$f":"SUM(AUT_emp:POR_emp!AY84)","v":0},{"$f":"SUM(AUT_emp:POR_emp!AZ84)","v":0},{"$f":"SUM(AUT_emp:POR_emp!BA84)","v":0},{"$f":"SUM(AUT_emp:POR_emp!BB84)","v":0},29,7.1078431372549017E-2]
["Transport","Transport of goods",{"$f":"Sheet1!O258","v":"Optimisation of timetables"},{"$f":"SUM(AUT_emp:POR_emp!D85)","v":3},{"$f":"SUM(AUT_emp:POR_emp!E85)","v":0},{"$f":"SUM(AUT_emp:POR_emp!F85)","v":0},{"$f":"SUM(AUT_emp:POR_emp!G85)","v":2},{"$f":"SUM(AUT_emp:POR_emp!H85)","v":3},{"$f":"SUM(AUT_emp:POR_emp!I85)","v":1},{"$f":"SUM(AUT_emp:POR_emp!J85)","v":1},{"$f":"SUM(AUT_emp:POR_emp!K85)","v":1},{"$f":"SUM(AUT_emp:POR_emp!L85)","v":1},{"$f":"SUM(AUT_emp:POR_emp!M85)","v":0},{"$f":"SUM(AUT_emp:POR_emp!N85)","v":0},{"$f":"SUM(AUT_emp:POR_emp!O85)","v":0},{"$f":"SUM(AUT_emp:POR_emp!P85)","v":5},{"$f":"SUM(AUT_emp:POR_emp!Q85)","v":1},{"$f":"SUM(AUT_emp:POR_emp!R85)","v":2},{"$f":"SUM(AUT_emp:POR_emp!S85)","v":1},{"$f":"SUM(AUT_emp:POR_emp!T85)","v":1},{"$f":"SUM(AUT_emp:POR_emp!U85)","v":5},{"$f":"SUM(AUT_emp:POR_emp!V85)","v":1},{"$f":"SUM(AUT_emp:POR_emp!W85)","v":3},{"$f":"SUM(AUT_emp:POR_emp!X85)","v":1},{"$f":"SUM(AUT_emp:POR_emp!Y85)","v":1},{"$f":"SUM(AUT_emp:POR_emp!Z85)","v":1},{"$f":"SUM(AUT_emp:POR_emp!AA85)","v":0},{"$f":"SUM(AUT_emp:POR_emp!AB85)","v":1},{"$f":"SUM(AUT_emp:POR_emp!AC85)","v":1},{"$f":"SUM(AUT_emp:POR_emp!AD85)","v":2},{"$f":"SUM(AUT_emp:POR_emp!AE85)","v":1},{"$f":"SUM(AUT_emp:POR_emp!AF85)","v":0},{"$f":"SUM(AUT_emp:POR_emp!AG85)","v":3},{"$f":"SUM(AUT_emp:POR_emp!AH85)","v":0},{"$f":"SUM(AUT_emp:POR_emp!AI85)","v":0},{"$f":"SUM(AUT_emp:POR_emp!AJ85)","v":0},{"$f":"SUM(AUT_emp:POR_emp!AK85)","v":0},{"$f":"SUM(AUT_emp:POR_emp!AL85)","v":0},{"$f":"SUM(AUT_emp:POR_emp!AM85)","v":1},{"$f":"SUM(AUT_emp:POR_emp!AN85)","v":0},{"$f":"SUM(AUT_emp:POR_emp!AO85)","v":0},{"$f":"SUM(AUT_emp:POR_emp!AP85)","v":1},{"$f":"SUM(AUT_emp:POR_emp!AQ85)","v":0},{"$f":"SUM(AUT_emp:POR_emp!AR85)","v":0},{"$f":"SUM(AUT_emp:POR_emp!AS85)","v":1},{"$f":"SUM(AUT_emp:POR_emp!AT85)","v":1},{"$f":"SUM(AUT_emp:POR_emp!AU85)","v":0},{"$f":"SUM(AUT_emp:POR_emp!AV85)","v":0},{"$f":"SUM(AUT_emp:POR_emp!AW85)","v":1},{"$f":"SUM(AUT_emp:POR_emp!AX85)","v":0},{"$f":"SUM(AUT_emp:POR_emp!AY85)","v":0},{"$f":"SUM(AUT_emp:POR_emp!AZ85)","v":3},{"$f":"SUM(AUT_emp:POR_emp!BA85)","v":0},{"$f":"SUM(AUT_emp:POR_emp!BB85)","v":0},50,0.12254901960784313]
[null,"Transport of goods",{"$f":"Sheet1!O259","v":"Optimisation of routes"},{"$f":"SUM(AUT_emp:POR_emp!D86)","v":4},{"$f":"SUM(AUT_emp:POR_emp!E86)","v":0},{"$f":"SUM(AUT_emp:POR_emp!F86)","v":2},{"$f":"SUM(AUT_emp:POR_emp!G86)","v":2},{"$f":"SUM(AUT_emp:POR_emp!H86)","v":2},{"$f":"SUM(AUT_emp:POR_emp!I86)","v":3},{"$f":"SUM(AUT_emp:POR_emp!J86)","v":0},{"$f":"SUM(AUT_emp:POR_emp!K86)","v":2},{"$f":"SUM(AUT_emp:POR_emp!L86)","v":2},{"$f":"SUM(AUT_emp:POR_emp!M86)","v":0},{"$f":"SUM(AUT_emp:POR_emp!N86)","v":0},{"$f":"SUM(AUT_emp:POR_emp!O86)","v":0},{"$f":"SUM(AUT_emp:POR_emp!P86)","v":5},{"$f":"SUM(AUT_emp:POR_emp!Q86)","v":1},{"$f":"SUM(AUT_emp:POR_emp!R86)","v":2},{"$f":"SUM(AUT_emp:POR_emp!S86)","v":1},{"$f":"SUM(AUT_emp:POR_emp!T86)","v":1},{"$f":"SUM(AUT_emp:POR_emp!U86)","v":5},{"$f":"SUM(AUT_emp:POR_emp!V86)","v":1},{"$f":"SUM(AUT_emp:POR_emp!W86)","v":3},{"$f":"SUM(AUT_emp:POR_emp!X86)","v":1},{"$f":"SUM(AUT_emp:POR_emp!Y86)","v":1},{"$f":"SUM(AUT_emp:POR_emp!Z86)","v":1},{"$f":"SUM(AUT_emp:POR_emp!AA86)","v":0},{"$f":"SUM(AUT_emp:POR_emp!AB86)","v":1},{"$f":"SUM(AUT_emp:POR_emp!AC86)","v":1},{"$f":"SUM(AUT_emp:POR_emp!AD86)","v":2},{"$f":"SUM(AUT_emp:POR_emp!AE86)","v":1},{"$f":"SUM(AUT_emp:POR_emp!AF86)","v":0},{"$f":"SUM(AUT_emp:POR_emp!AG86)","v":3},{"$f":"SUM(AUT_emp:POR_emp!AH86)","v":0},{"$f":"SUM(AUT_emp:POR_emp!AI86)","v":0},{"$f":"SUM(AUT_emp:POR_emp!AJ86)","v":0},{"$f":"SUM(AUT_emp:POR_emp!AK86)","v":0},{"$f":"SUM(AUT_emp:POR_emp!AL86)","v":0},{"$f":"SUM(AUT_emp:POR_emp!AM86)","v":1},{"$f":"SUM(AUT_emp:POR_emp!AN86)","v":0},{"$f":"SUM(AUT_emp:POR_emp!AO86)","v":0},{"$f":"SUM(AUT_emp:POR_emp!AP86)","v":1},{"$f":"SUM(AUT_emp:POR_emp!AQ86)","v":0},{"$f":"SUM(AUT_emp:POR_emp!AR86)","v":0},{"$f":"SUM(AUT_emp:POR_emp!AS86)","v":2},{"$f":"SUM(AUT_emp:POR_emp!AT86)","v":0},{"$f":"SUM(AUT_emp:POR_emp!AU86)","v":0},{"$f":"SUM(AUT_emp:POR_emp!AV86)","v":0},{"$f":"SUM(AUT_emp:POR_emp!AW86)","v":0},{"$f":"SUM(AUT_emp:POR_emp!AX86)","v":0},{"$f":"SUM(AUT_emp:POR_emp!AY86)","v":0},{"$f":"SUM(AUT_emp:POR_emp!AZ86)","v":2},{"$f":"SUM(AUT_emp:POR_emp!BA86)","v":0},{"$f":"SUM(AUT_emp:POR_emp!BB86)","v":0},53,0.12990196078431374]
[null,"Transport of goods",{"$f":"Sheet1!O260","v":"Optimisation of loads"},{"$f":"SUM(AUT_emp:POR_emp!D87)","v":3},{"$f":"SUM(AUT_emp:POR_emp!E87)","v":0},{"$f":"SUM(AUT_emp:POR_emp!F87)","v":2},{"$f":"SUM(AUT_emp:POR_emp!G87)","v":1},{"$f":"SUM(AUT_emp:POR_emp!H87)","v":1},{"$f":"SUM(AUT_emp:POR_emp!I87)","v":2},{"$f":"SUM(AUT_emp:POR_emp!J87)","v":0},{"$f":"SUM(AUT_emp:POR_emp!K87)","v":2},{"$f":"SUM(AUT_emp:POR_emp!L87)","v":1},{"$f":"SUM(AUT_emp:POR_emp!M87)","v":0},{"$f":"SUM(AUT_emp:POR_emp!N87)","v":0},{"$f":"SUM(AUT_emp:POR_emp!O87)","v":0},{"$f":"SUM(AUT_emp:POR_emp!P87)","v":4},{"$f":"SUM(AUT_emp:POR_emp!Q87)","v":1},{"$f":"SUM(AUT_emp:POR_emp!R87)","v":1},{"$f":"SUM(AUT_emp:POR_emp!S87)","v":1},{"$f":"SUM(AUT_emp:POR_emp!T87)","v":1},{"$f":"SUM(AUT_emp:POR_emp!U87)","v":3},{"$f":"SUM(AUT_emp:POR_emp!V87)","v":1},{"$f":"SUM(AUT_emp:POR_emp!W87)","v":3},{"$f":"SUM(AUT_emp:POR_emp!X87)","v":1},{"$f":"SUM(AUT_emp:POR_emp!Y87)","v":1},{"$f":"SUM(AUT_emp:POR_emp!Z87)","v":1},{"$f":"SUM(AUT_emp:POR_emp!AA87)","v":0},{"$f":"SUM(AUT_emp:POR_emp!AB87)","v":1},{"$f":"SUM(AUT_emp:POR_emp!AC87)","v":1},{"$f":"SUM(AUT_emp:POR_emp!AD87)","v":2},{"$f":"SUM(AUT_emp:POR_emp!AE87)","v":1},{"$f":"SUM(AUT_emp:POR_emp!AF87)","v":0},{"$f":"SUM(AUT_emp:POR_emp!AG87)","v":3},{"$f":"SUM(AUT_emp:POR_emp!AH87)","v":0},{"$f":"SUM(AUT_emp:POR_emp!AI87)","v":0},{"$f":"SUM(AUT_emp:POR_emp!AJ87)","v":0},{"$f":"SUM(AUT_emp:POR_emp!AK87)","v":0},{"$f":"SUM(AUT_emp:POR_emp!AL87)","v":0},{"$f":"SUM(AUT_emp:POR_emp!AM87)","v":1},{"$f":"SUM(AUT_emp:POR_emp!AN87)","v":0},{"$f":"SUM(AUT_emp:POR_emp!AO87)","v":0},{"$f":"SUM(AUT_emp:POR_emp!AP87)","v":1},{"$f":"SUM(AUT_emp:POR_emp!AQ87)","v":0},{"$f":"SUM(AUT_emp:POR_emp!AR87)","v":0},{"$f":"SUM(AUT_emp:POR_emp!AS87)","v":1},{"$f":"SUM(AUT_emp:POR_emp!AT87)","v":0},{"$f":"SUM(AUT_emp:POR_emp!AU87)","v":0},{"$f":"SUM(AUT_emp:POR_emp!AV87)","v":0},{"$f":"SUM(AUT_emp:POR_emp!AW87)","v":0},{"$f":"SUM(AUT_emp:POR_emp!AX87)","v":0},{"$f":"SUM(AUT_emp:POR_emp!AY87)","v":0},{"$f":"SUM(AUT_emp:POR_emp!AZ87)","v":2},{"$f":"SUM(AUT_emp:POR_emp!BA87)","v":0},{"$f":"SUM(AUT_emp:POR_emp!BB87)","v":0},43,0.1053921568627451]
[null,"Transport of goods",{"$f":"Sheet1!O261","v":"Optimisation of the fleet"},{"$f":"SUM(AUT_emp:POR_emp!D88)","v":1},{"$f":"SUM(AUT_emp:POR_emp!E88)","v":0},{"$f":"SUM(AUT_emp:POR_emp!F88)","v":1},{"$f":"SUM(AUT_emp:POR_emp!G88)","v":1},{"$f":"SUM(AUT_emp:POR_emp!H88)","v":1},{"$f":"SUM(AUT_emp:POR_emp!I88)","v":1},{"$f":"SUM(AUT_emp:POR_emp!J88)","v":0},{"$f":"SUM(AUT_emp:POR_emp!K88)","v":0},{"$f":"SUM(AUT_emp:POR_emp!L88)","v":0},{"$f":"SUM(AUT_emp:POR_emp!M88)","v":1},{"$f":"SUM(AUT_emp:POR_emp!N88)","v":0},{"$f":"SUM(AUT_emp:POR_emp!O88)","v":0},{"$f":"SUM(AUT_emp:POR_emp!P88)","v":4},{"$f":"SUM(AUT_emp:POR_emp!Q88)","v":1},{"$f":"SUM(AUT_emp:POR_emp!R88)","v":1},{"$f":"SUM(AUT_emp:POR_emp!S88)","v":1},{"$f":"SUM(AUT_emp:POR_emp!T88)","v":1},{"$f":"SUM(AUT_emp:POR_emp!U88)","v":3},{"$f":"SUM(AUT_emp:POR_emp!V88)","v":1},{"$f":"SUM(AUT_emp:POR_emp!W88)","v":3},{"$f":"SUM(AUT_emp:POR_emp!X88)","v":1},{"$f":"SUM(AUT_emp:POR_emp!Y88)","v":1},{"$f":"SUM(AUT_emp:POR_emp!Z88)","v":1},{"$f":"SUM(AUT_emp:POR_emp!AA88)","v":0},{"$f":"SUM(AUT_emp:POR_emp!AB88)","v":1},{"$f":"SUM(AUT_emp:POR_emp!AC88)","v":2},{"$f":"SUM(AUT_emp:POR_emp!AD88)","v":2},{"$f":"SUM(AUT_emp:POR_emp!AE88)","v":1},{"$f":"SUM(AUT_emp:POR_emp!AF88)","v":0},{"$f":"SUM(AUT_emp:POR_emp!AG88)","v":3},{"$f":"SUM(AUT_emp:POR_emp!AH88)","v":0},{"$f":"SUM(AUT_emp:POR_emp!AI88)","v":0},{"$f":"SUM(AUT_emp:POR_emp!AJ88)","v":0},{"$f":"SUM(AUT_emp:POR_emp!AK88)","v":0},{"$f":"SUM(AUT_emp:POR_emp!AL88)","v":0},{"$f":"SUM(AUT_emp:POR_emp!AM88)","v":1},{"$f":"SUM(AUT_emp:POR_emp!AN88)","v":0},{"$f":"SUM(AUT_emp:POR_emp!AO88)","v":0},{"$f":"SUM(AUT_emp:POR_emp!AP88)","v":0},{"$f":"SUM(AUT_emp:POR_emp!AQ88)","v":0},{"$f":"SUM(AUT_emp:POR_emp!AR88)","v":0},{"$f":"SUM(AUT_emp:POR_emp!AS88)","v":1},{"$f":"SUM(AUT_emp:POR_emp!AT88)","v":0},{"$f":"SUM(AUT_emp:POR_emp!AU88)","v":0},{"$f":"SUM(AUT_emp:POR_emp!AV88)","v":0},{"$f":"SUM(AUT_emp:POR_emp!AW88)","v":0},{"$f":"SUM(AUT_emp:POR_emp!AX88)","v":0},{"$f":"SUM(AUT_emp:POR_emp!AY88)","v":0},{"$f":"SUM(AUT_emp:POR_emp!AZ88)","v":2},{"$f":"SUM(AUT_emp:POR_emp!BA88)","v":0},{"$f":"SUM(AUT_emp:POR_emp!BB88)","v":0},37,9.0686274509803919E-2]
[null,"Transport of goods",{"$f":"Sheet1!O262","v":"Promote electromobility"},{"$f":"SUM(AUT_emp:POR_emp!D89)","v":3},{"$f":"SUM(AUT_emp:POR_emp!E89)","v":0},{"$f":"SUM(AUT_emp:POR_emp!F89)","v":1},{"$f":"SUM(AUT_emp:POR_emp!G89)","v":2},{"$f":"SUM(AUT_emp:POR_emp!H89)","v":0},{"$f":"SUM(AUT_emp:POR_emp!I89)","v":0},{"$f":"SUM(AUT_emp:POR_emp!J89)","v":0},{"$f":"SUM(AUT_emp:POR_emp!K89)","v":0},{"$f":"SUM(AUT_emp:POR_emp!L89)","v":0},{"$f":"SUM(AUT_emp:POR_emp!M89)","v":1},{"$f":"SUM(AUT_emp:POR_emp!N89)","v":0},{"$f":"SUM(AUT_emp:POR_emp!O89)","v":3},{"$f":"SUM(AUT_emp:POR_emp!P89)","v":6},{"$f":"SUM(AUT_emp:POR_emp!Q89)","v":1},{"$f":"SUM(AUT_emp:POR_emp!R89)","v":2},{"$f":"SUM(AUT_emp:POR_emp!S89)","v":1},{"$f":"SUM(AUT_emp:POR_emp!T89)","v":1},{"$f":"SUM(AUT_emp:POR_emp!U89)","v":6},{"$f":"SUM(AUT_emp:POR_emp!V89)","v":3},{"$f":"SUM(AUT_emp:POR_emp!W89)","v":4},{"$f":"SUM(AUT_emp:POR_emp!X89)","v":1},{"$f":"SUM(AUT_emp:POR_emp!Y89)","v":0},{"$f":"SUM(AUT_emp:POR_emp!Z89)","v":0},{"$f":"SUM(AUT_emp:POR_emp!AA89)","v":0},{"$f":"SUM(AUT_emp:POR_emp!AB89)","v":1},{"$f":"SUM(AUT_emp:POR_emp!AC89)","v":3},{"$f":"SUM(AUT_emp:POR_emp!AD89)","v":0},{"$f":"SUM(AUT_emp:POR_emp!AE89)","v":0},{"$f":"SUM(AUT_emp:POR_emp!AF89)","v":0},{"$f":"SUM(AUT_emp:POR_emp!AG89)","v":3},{"$f":"SUM(AUT_emp:POR_emp!AH89)","v":0},{"$f":"SUM(AUT_emp:POR_emp!AI89)","v":0},{"$f":"SUM(AUT_emp:POR_emp!AJ89)","v":0},{"$f":"SUM(AUT_emp:POR_emp!AK89)","v":1},{"$f":"SUM(AUT_emp:POR_emp!AL89)","v":0},{"$f":"SUM(AUT_emp:POR_emp!AM89)","v":1},{"$f":"SUM(AUT_emp:POR_emp!AN89)","v":0},{"$f":"SUM(AUT_emp:POR_emp!AO89)","v":0},{"$f":"SUM(AUT_emp:POR_emp!AP89)","v":0},{"$f":"SUM(AUT_emp:POR_emp!AQ89)","v":0},{"$f":"SUM(AUT_emp:POR_emp!AR89)","v":0},{"$f":"SUM(AUT_emp:POR_emp!AS89)","v":0},{"$f":"SUM(AUT_emp:POR_emp!AT89)","v":0},{"$f":"SUM(AUT_emp:POR_emp!AU89)","v":0},{"$f":"SUM(AUT_emp:POR_emp!AV89)","v":0},{"$f":"SUM(AUT_emp:POR_emp!AW89)","v":2},{"$f":"SUM(AUT_emp:POR_emp!AX89)","v":0},{"$f":"SUM(AUT_emp:POR_emp!AY89)","v":0},{"$f":"SUM(AUT_emp:POR_emp!AZ89)","v":0},{"$f":"SUM(AUT_emp:POR_emp!BA89)","v":0},{"$f":"SUM(AUT_emp:POR_emp!BB89)","v":0},46,0.11274509803921569]
[null,"Transport of goods",{"$f":"Sheet1!O263","v":"Promotion of modal shift for freight"},{"$f":"SUM(AUT_emp:POR_emp!D90)","v":0},{"$f":"SUM(AUT_emp:POR_emp!E90)","v":0},{"$f":"SUM(AUT_emp:POR_emp!F90)","v":0},{"$f":"SUM(AUT_emp:POR_emp!G90)","v":1},{"$f":"SUM(AUT_emp:POR_emp!H90)","v":0},{"$f":"SUM(AUT_emp:POR_emp!I90)","v":0},{"$f":"SUM(AUT_emp:POR_emp!J90)","v":0},{"$f":"SUM(AUT_emp:POR_emp!K90)","v":0},{"$f":"SUM(AUT_emp:POR_emp!L90)","v":0},{"$f":"SUM(AUT_emp:POR_emp!M90)","v":1},{"$f":"SUM(AUT_emp:POR_emp!N90)","v":0},{"$f":"SUM(AUT_emp:POR_emp!O90)","v":1},{"$f":"SUM(AUT_emp:POR_emp!P90)","v":5},{"$f":"SUM(AUT_emp:POR_emp!Q90)","v":1},{"$f":"SUM(AUT_emp:POR_emp!R90)","v":2},{"$f":"SUM(AUT_emp:POR_emp!S90)","v":1},{"$f":"SUM(AUT_emp:POR_emp!T90)","v":1},{"$f":"SUM(AUT_emp:POR_emp!U90)","v":4},{"$f":"SUM(AUT_emp:POR_emp!V90)","v":1},{"$f":"SUM(AUT_emp:POR_emp!W90)","v":4},{"$f":"SUM(AUT_emp:POR_emp!X90)","v":1},{"$f":"SUM(AUT_emp:POR_emp!Y90)","v":1},{"$f":"SUM(AUT_emp:POR_emp!Z90)","v":0},{"$f":"SUM(AUT_emp:POR_emp!AA90)","v":0},{"$f":"SUM(AUT_emp:POR_emp!AB90)","v":1},{"$f":"SUM(AUT_emp:POR_emp!AC90)","v":1},{"$f":"SUM(AUT_emp:POR_emp!AD90)","v":0},{"$f":"SUM(AUT_emp:POR_emp!AE90)","v":0},{"$f":"SUM(AUT_emp:POR_emp!AF90)","v":0},{"$f":"SUM(AUT_emp:POR_emp!AG90)","v":2},{"$f":"SUM(AUT_emp:POR_emp!AH90)","v":0},{"$f":"SUM(AUT_emp:POR_emp!AI90)","v":0},{"$f":"SUM(AUT_emp:POR_emp!AJ90)","v":0},{"$f":"SUM(AUT_emp:POR_emp!AK90)","v":-1},{"$f":"SUM(AUT_emp:POR_emp!AL90)","v":1},{"$f":"SUM(AUT_emp:POR_emp!AM90)","v":1},{"$f":"SUM(AUT_emp:POR_emp!AN90)","v":0},{"$f":"SUM(AUT_emp:POR_emp!AO90)","v":0},{"$f":"SUM(AUT_emp:POR_emp!AP90)","v":0},{"$f":"SUM(AUT_emp:POR_emp!AQ90)","v":0},{"$f":"SUM(AUT_emp:POR_emp!AR90)","v":0},{"$f":"SUM(AUT_emp:POR_emp!AS90)","v":0},{"$f":"SUM(AUT_emp:POR_emp!AT90)","v":0},{"$f":"SUM(AUT_emp:POR_emp!AU90)","v":0},{"$f":"SUM(AUT_emp:POR_emp!AV90)","v":0},{"$f":"SUM(AUT_emp:POR_emp!AW90)","v":1},{"$f":"SUM(AUT_emp:POR_emp!AX90)","v":0},{"$f":"SUM(AUT_emp:POR_emp!AY90)","v":0},{"$f":"SUM(AUT_emp:POR_emp!AZ90)","v":0},{"$f":"SUM(AUT_emp:POR_emp!BA90)","v":0},{"$f":"SUM(AUT_emp:POR_emp!BB90)","v":0},30,7.3529411764705885E-2]
[null,"Transport of goods",{"$f":"Sheet1!O264","v":"Regular maintenance"},{"$f":"SUM(AUT_emp:POR_emp!D91)","v":2},{"$f":"SUM(AUT_emp:POR_emp!E91)","v":0},{"$f":"SUM(AUT_emp:POR_emp!F91)","v":1},{"$f":"SUM(AUT_emp:POR_emp!G91)","v":0},{"$f":"SUM(AUT_emp:POR_emp!H91)","v":2},{"$f":"SUM(AUT_emp:POR_emp!I91)","v":2},{"$f":"SUM(AUT_emp:POR_emp!J91)","v":4},{"$f":"SUM(AUT_emp:POR_emp!K91)","v":1},{"$f":"SUM(AUT_emp:POR_emp!L91)","v":1},{"$f":"SUM(AUT_emp:POR_emp!M91)","v":0},{"$f":"SUM(AUT_emp:POR_emp!N91)","v":0},{"$f":"SUM(AUT_emp:POR_emp!O91)","v":2},{"$f":"SUM(AUT_emp:POR_emp!P91)","v":4},{"$f":"SUM(AUT_emp:POR_emp!Q91)","v":2},{"$f":"SUM(AUT_emp:POR_emp!R91)","v":2},{"$f":"SUM(AUT_emp:POR_emp!S91)","v":1},{"$f":"SUM(AUT_emp:POR_emp!T91)","v":1},{"$f":"SUM(AUT_emp:POR_emp!U91)","v":4},{"$f":"SUM(AUT_emp:POR_emp!V91)","v":2},{"$f":"SUM(AUT_emp:POR_emp!W91)","v":2},{"$f":"SUM(AUT_emp:POR_emp!X91)","v":1},{"$f":"SUM(AUT_emp:POR_emp!Y91)","v":2},{"$f":"SUM(AUT_emp:POR_emp!Z91)","v":1},{"$f":"SUM(AUT_emp:POR_emp!AA91)","v":0},{"$f":"SUM(AUT_emp:POR_emp!AB91)","v":4},{"$f":"SUM(AUT_emp:POR_emp!AC91)","v":0},{"$f":"SUM(AUT_emp:POR_emp!AD91)","v":0},{"$f":"SUM(AUT_emp:POR_emp!AE91)","v":0},{"$f":"SUM(AUT_emp:POR_emp!AF91)","v":0},{"$f":"SUM(AUT_emp:POR_emp!AG91)","v":0},{"$f":"SUM(AUT_emp:POR_emp!AH91)","v":0},{"$f":"SUM(AUT_emp:POR_emp!AI91)","v":0},{"$f":"SUM(AUT_emp:POR_emp!AJ91)","v":0},{"$f":"SUM(AUT_emp:POR_emp!AK91)","v":-1},{"$f":"SUM(AUT_emp:POR_emp!AL91)","v":0},{"$f":"SUM(AUT_emp:POR_emp!AM91)","v":1},{"$f":"SUM(AUT_emp:POR_emp!AN91)","v":0},{"$f":"SUM(AUT_emp:POR_emp!AO91)","v":0},{"$f":"SUM(AUT_emp:POR_emp!AP91)","v":4},{"$f":"SUM(AUT_emp:POR_emp!AQ91)","v":1},{"$f":"SUM(AUT_emp:POR_emp!AR91)","v":0},{"$f":"SUM(AUT_emp:POR_emp!AS91)","v":2},{"$f":"SUM(AUT_emp:POR_emp!AT91)","v":0},{"$f":"SUM(AUT_emp:POR_emp!AU91)","v":0},{"$f":"SUM(AUT_emp:POR_emp!AV91)","v":0},{"$f":"SUM(AUT_emp:POR_emp!AW91)","v":0},{"$f":"SUM(AUT_emp:POR_emp!AX91)","v":0},{"$f":"SUM(AUT_emp:POR_emp!AY91)","v":2},{"$f":"SUM(AUT_emp:POR_emp!AZ91)","v":0},{"$f":"SUM(AUT_emp:POR_emp!BA91)","v":2},{"$f":"SUM(AUT_emp:POR_emp!BB91)","v":1},53,0.12990196078431374]
[null,"Transport of goods",{"$f":"Sheet1!O265","v":"Driver training"},{"$f":"SUM(AUT_emp:POR_emp!D92)","v":3},{"$f":"SUM(AUT_emp:POR_emp!E92)","v":0},{"$f":"SUM(AUT_emp:POR_emp!F92)","v":2},{"$f":"SUM(AUT_emp:POR_emp!G92)","v":0},{"$f":"SUM(AUT_emp:POR_emp!H92)","v":3},{"$f":"SUM(AUT_emp:POR_emp!I92)","v":2},{"$f":"SUM(AUT_emp:POR_emp!J92)","v":2},{"$f":"SUM(AUT_emp:POR_emp!K92)","v":1},{"$f":"SUM(AUT_emp:POR_emp!L92)","v":1},{"$f":"SUM(AUT_emp:POR_emp!M92)","v":0},{"$f":"SUM(AUT_emp:POR_emp!N92)","v":0},{"$f":"SUM(AUT_emp:POR_emp!O92)","v":0},{"$f":"SUM(AUT_emp:POR_emp!P92)","v":4},{"$f":"SUM(AUT_emp:POR_emp!Q92)","v":2},{"$f":"SUM(AUT_emp:POR_emp!R92)","v":1},{"$f":"SUM(AUT_emp:POR_emp!S92)","v":1},{"$f":"SUM(AUT_emp:POR_emp!T92)","v":1},{"$f":"SUM(AUT_emp:POR_emp!U92)","v":4},{"$f":"SUM(AUT_emp:POR_emp!V92)","v":1},{"$f":"SUM(AUT_emp:POR_emp!W92)","v":3},{"$f":"SUM(AUT_emp:POR_emp!X92)","v":2},{"$f":"SUM(AUT_emp:POR_emp!Y92)","v":1},{"$f":"SUM(AUT_emp:POR_emp!Z92)","v":2},{"$f":"SUM(AUT_emp:POR_emp!AA92)","v":1},{"$f":"SUM(AUT_emp:POR_emp!AB92)","v":1},{"$f":"SUM(AUT_emp:POR_emp!AC92)","v":2},{"$f":"SUM(AUT_emp:POR_emp!AD92)","v":1},{"$f":"SUM(AUT_emp:POR_emp!AE92)","v":1},{"$f":"SUM(AUT_emp:POR_emp!AF92)","v":0},{"$f":"SUM(AUT_emp:POR_emp!AG92)","v":3},{"$f":"SUM(AUT_emp:POR_emp!AH92)","v":0},{"$f":"SUM(AUT_emp:POR_emp!AI92)","v":0},{"$f":"SUM(AUT_emp:POR_emp!AJ92)","v":0},{"$f":"SUM(AUT_emp:POR_emp!AK92)","v":1},{"$f":"SUM(AUT_emp:POR_emp!AL92)","v":0},{"$f":"SUM(AUT_emp:POR_emp!AM92)","v":1},{"$f":"SUM(AUT_emp:POR_emp!AN92)","v":0},{"$f":"SUM(AUT_emp:POR_emp!AO92)","v":0},{"$f":"SUM(AUT_emp:POR_emp!AP92)","v":4},{"$f":"SUM(AUT_emp:POR_emp!AQ92)","v":2},{"$f":"SUM(AUT_emp:POR_emp!AR92)","v":0},{"$f":"SUM(AUT_emp:POR_emp!AS92)","v":5},{"$f":"SUM(AUT_emp:POR_emp!AT92)","v":0},{"$f":"SUM(AUT_emp:POR_emp!AU92)","v":0},{"$f":"SUM(AUT_emp:POR_emp!AV92)","v":0},{"$f":"SUM(AUT_emp:POR_emp!AW92)","v":2},{"$f":"SUM(AUT_emp:POR_emp!AX92)","v":0},{"$f":"SUM(AUT_emp:POR_emp!AY92)","v":2},{"$f":"SUM(AUT_emp:POR_emp!AZ92)","v":3},{"$f":"SUM(AUT_emp:POR_emp!BA92)","v":1},{"$f":"SUM(AUT_emp:POR_emp!BB92)","v":1},67,0.1642156862745098]
["Management & Maintenance measures","Management & Maintenance measures",{"$f":"Sheet1!O267","v":"Green supply chain management"},{"$f":"SUM(AUT_emp:POR_emp!D93)","v":1},{"$f":"SUM(AUT_emp:POR_emp!E93)","v":0},{"$f":"SUM(AUT_emp:POR_emp!F93)","v":0},{"$f":"SUM(AUT_emp:POR_emp!G93)","v":2},{"$f":"SUM(AUT_emp:POR_emp!H93)","v":1},{"$f":"SUM(AUT_emp:POR_emp!I93)","v":0},{"$f":"SUM(AUT_emp:POR_emp!J93)","v":0},{"$f":"SUM(AUT_emp:POR_emp!K93)","v":0},{"$f":"SUM(AUT_emp:POR_emp!L93)","v":0},{"$f":"SUM(AUT_emp:POR_emp!M93)","v":1},{"$f":"SUM(AUT_emp:POR_emp!N93)","v":0},{"$f":"SUM(AUT_emp:POR_emp!O93)","v":0},{"$f":"SUM(AUT_emp:POR_emp!P93)","v":4},{"$f":"SUM(AUT_emp:POR_emp!Q93)","v":1},{"$f":"SUM(AUT_emp:POR_emp!R93)","v":2},{"$f":"SUM(AUT_emp:POR_emp!S93)","v":1},{"$f":"SUM(AUT_emp:POR_emp!T93)","v":2},{"$f":"SUM(AUT_emp:POR_emp!U93)","v":4},{"$f":"SUM(AUT_emp:POR_emp!V93)","v":1},{"$f":"SUM(AUT_emp:POR_emp!W93)","v":4},{"$f":"SUM(AUT_emp:POR_emp!X93)","v":1},{"$f":"SUM(AUT_emp:POR_emp!Y93)","v":1},{"$f":"SUM(AUT_emp:POR_emp!Z93)","v":1},{"$f":"SUM(AUT_emp:POR_emp!AA93)","v":1},{"$f":"SUM(AUT_emp:POR_emp!AB93)","v":1},{"$f":"SUM(AUT_emp:POR_emp!AC93)","v":0},{"$f":"SUM(AUT_emp:POR_emp!AD93)","v":-1},{"$f":"SUM(AUT_emp:POR_emp!AE93)","v":-1},{"$f":"SUM(AUT_emp:POR_emp!AF93)","v":0},{"$f":"SUM(AUT_emp:POR_emp!AG93)","v":-1},{"$f":"SUM(AUT_emp:POR_emp!AH93)","v":0},{"$f":"SUM(AUT_emp:POR_emp!AI93)","v":0},{"$f":"SUM(AUT_emp:POR_emp!AJ93)","v":0},{"$f":"SUM(AUT_emp:POR_emp!AK93)","v":1},{"$f":"SUM(AUT_emp:POR_emp!AL93)","v":1},{"$f":"SUM(AUT_emp:POR_emp!AM93)","v":0},{"$f":"SUM(AUT_emp:POR_emp!AN93)","v":0},{"$f":"SUM(AUT_emp:POR_emp!AO93)","v":1},{"$f":"SUM(AUT_emp:POR_emp!AP93)","v":0},{"$f":"SUM(AUT_emp:POR_emp!AQ93)","v":0},{"$f":"SUM(AUT_emp:POR_emp!AR93)","v":0},{"$f":"SUM(AUT_emp:POR_emp!AS93)","v":0},{"$f":"SUM(AUT_emp:POR_emp!AT93)","v":0},{"$f":"SUM(AUT_emp:POR_emp!AU93)","v":0},{"$f":"SUM(AUT_emp:POR_emp!AV93)","v":0},{"$f":"SUM(AUT_emp:POR_emp!AW93)","v":4},{"$f":"SUM(AUT_emp:POR_emp!AX93)","v":1},{"$f":"SUM(AUT_emp:POR_emp!AY93)","v":0},{"$f":"SUM(AUT_emp:POR_emp!AZ93)","v":0},{"$f":"SUM(AUT_emp:POR_emp!BA93)","v":0},{"$f":"SUM(AUT_emp:POR_emp!BB93)","v":0},34,8.3333333333333329E-2]
[null,"Management & Maintenance measures",{"$f":"Sheet1!O268","v":"Improved energy management"},{"$f":"SUM(AUT_emp:POR_emp!D94)","v":0},{"$f":"SUM(AUT_emp:POR_emp!E94)","v":0},{"$f":"SUM(AUT_emp:POR_emp!F94)","v":0},{"$f":"SUM(AUT_emp:POR_emp!G94)","v":1},{"$f":"SUM(AUT_emp:POR_emp!H94)","v":0},{"$f":"SUM(AUT_emp:POR_emp!I94)","v":1},{"$f":"SUM(AUT_emp:POR_emp!J94)","v":0},{"$f":"SUM(AUT_emp:POR_emp!K94)","v":0},{"$f":"SUM(AUT_emp:POR_emp!L94)","v":0},{"$f":"SUM(AUT_emp:POR_emp!M94)","v":0},{"$f":"SUM(AUT_emp:POR_emp!N94)","v":0},{"$f":"SUM(AUT_emp:POR_emp!O94)","v":0},{"$f":"SUM(AUT_emp:POR_emp!P94)","v":4},{"$f":"SUM(AUT_emp:POR_emp!Q94)","v":1},{"$f":"SUM(AUT_emp:POR_emp!R94)","v":2},{"$f":"SUM(AUT_emp:POR_emp!S94)","v":1},{"$f":"SUM(AUT_emp:POR_emp!T94)","v":1},{"$f":"SUM(AUT_emp:POR_emp!U94)","v":3},{"$f":"SUM(AUT_emp:POR_emp!V94)","v":1},{"$f":"SUM(AUT_emp:POR_emp!W94)","v":4},{"$f":"SUM(AUT_emp:POR_emp!X94)","v":1},{"$f":"SUM(AUT_emp:POR_emp!Y94)","v":1},{"$f":"SUM(AUT_emp:POR_emp!Z94)","v":2},{"$f":"SUM(AUT_emp:POR_emp!AA94)","v":0},{"$f":"SUM(AUT_emp:POR_emp!AB94)","v":1},{"$f":"SUM(AUT_emp:POR_emp!AC94)","v":0},{"$f":"SUM(AUT_emp:POR_emp!AD94)","v":1},{"$f":"SUM(AUT_emp:POR_emp!AE94)","v":1},{"$f":"SUM(AUT_emp:POR_emp!AF94)","v":0},{"$f":"SUM(AUT_emp:POR_emp!AG94)","v":1},{"$f":"SUM(AUT_emp:POR_emp!AH94)","v":0},{"$f":"SUM(AUT_emp:POR_emp!AI94)","v":0},{"$f":"SUM(AUT_emp:POR_emp!AJ94)","v":0},{"$f":"SUM(AUT_emp:POR_emp!AK94)","v":1},{"$f":"SUM(AUT_emp:POR_emp!AL94)","v":1},{"$f":"SUM(AUT_emp:POR_emp!AM94)","v":0},{"$f":"SUM(AUT_emp:POR_emp!AN94)","v":1},{"$f":"SUM(AUT_emp:POR_emp!AO94)","v":1},{"$f":"SUM(AUT_emp:POR_emp!AP94)","v":0},{"$f":"SUM(AUT_emp:POR_emp!AQ94)","v":1},{"$f":"SUM(AUT_emp:POR_emp!AR94)","v":0},{"$f":"SUM(AUT_emp:POR_emp!AS94)","v":0},{"$f":"SUM(AUT_emp:POR_emp!AT94)","v":1},{"$f":"SUM(AUT_emp:POR_emp!AU94)","v":1},{"$f":"SUM(AUT_emp:POR_emp!AV94)","v":1},{"$f":"SUM(AUT_emp:POR_emp!AW94)","v":3},{"$f":"SUM(AUT_emp:POR_emp!AX94)","v":2},{"$f":"SUM(AUT_emp:POR_emp!AY94)","v":1},{"$f":"SUM(AUT_emp:POR_emp!AZ94)","v":0},{"$f":"SUM(AUT_emp:POR_emp!BA94)","v":0},{"$f":"SUM(AUT_emp:POR_emp!BB94)","v":1},42,0.10294117647058823]
[null,"Management & Maintenance measures",{"$f":"Sheet1!O269","v":"Improved environmental awareness at the management level"},{"$f":"SUM(AUT_emp:POR_emp!D95)","v":0},{"$f":"SUM(AUT_emp:POR_emp!E95)","v":0},{"$f":"SUM(AUT_emp:POR_emp!F95)","v":0},{"$f":"SUM(AUT_emp:POR_emp!G95)","v":1},{"$f":"SUM(AUT_emp:POR_emp!H95)","v":0},{"$f":"SUM(AUT_emp:POR_emp!I95)","v":0},{"$f":"SUM(AUT_emp:POR_emp!J95)","v":0},{"$f":"SUM(AUT_emp:POR_emp!K95)","v":0},{"$f":"SUM(AUT_emp:POR_emp!L95)","v":0},{"$f":"SUM(AUT_emp:POR_emp!M95)","v":1},{"$f":"SUM(AUT_emp:POR_emp!N95)","v":0},{"$f":"SUM(AUT_emp:POR_emp!O95)","v":0},{"$f":"SUM(AUT_emp:POR_emp!P95)","v":3},{"$f":"SUM(AUT_emp:POR_emp!Q95)","v":1},{"$f":"SUM(AUT_emp:POR_emp!R95)","v":2},{"$f":"SUM(AUT_emp:POR_emp!S95)","v":1},{"$f":"SUM(AUT_emp:POR_emp!T95)","v":1},{"$f":"SUM(AUT_emp:POR_emp!U95)","v":2},{"$f":"SUM(AUT_emp:POR_emp!V95)","v":1},{"$f":"SUM(AUT_emp:POR_emp!W95)","v":2},{"$f":"SUM(AUT_emp:POR_emp!X95)","v":1},{"$f":"SUM(AUT_emp:POR_emp!Y95)","v":1},{"$f":"SUM(AUT_emp:POR_emp!Z95)","v":3},{"$f":"SUM(AUT_emp:POR_emp!AA95)","v":1},{"$f":"SUM(AUT_emp:POR_emp!AB95)","v":1},{"$f":"SUM(AUT_emp:POR_emp!AC95)","v":0},{"$f":"SUM(AUT_emp:POR_emp!AD95)","v":1},{"$f":"SUM(AUT_emp:POR_emp!AE95)","v":1},{"$f":"SUM(AUT_emp:POR_emp!AF95)","v":0},{"$f":"SUM(AUT_emp:POR_emp!AG95)","v":1},{"$f":"SUM(AUT_emp:POR_emp!AH95)","v":0},{"$f":"SUM(AUT_emp:POR_emp!AI95)","v":0},{"$f":"SUM(AUT_emp:POR_emp!AJ95)","v":0},{"$f":"SUM(AUT_emp:POR_emp!AK95)","v":1},{"$f":"SUM(AUT_emp:POR_emp!AL95)","v":1},{"$f":"SUM(AUT_emp:POR_emp!AM95)","v":0},{"$f":"SUM(AUT_emp:POR_emp!AN95)","v":1},{"$f":"SUM(AUT_emp:POR_emp!AO95)","v":1},{"$f":"SUM(AUT_emp:POR_emp!AP95)","v":0},{"$f":"SUM(AUT_emp:POR_emp!AQ95)","v":1},{"$f":"SUM(AUT_emp:POR_emp!AR95)","v":0},{"$f":"SUM(AUT_emp:POR_emp!AS95)","v":0},{"$f":"SUM(AUT_emp:POR_emp!AT95)","v":0},{"$f":"SUM(AUT_emp:POR_emp!AU95)","v":0},{"$f":"SUM(AUT_emp:POR_emp!AV95)","v":0},{"$f":"SUM(AUT_emp:POR_emp!AW95)","v":4},{"$f":"SUM(AUT_emp:POR_emp!AX95)","v":1},{"$f":"SUM(AUT_emp:POR_emp!AY95)","v":0},{"$f":"SUM(AUT_emp:POR_emp!AZ95)","v":0},{"$f":"SUM(AUT_emp:POR_emp!BA95)","v":0},{"$f":"SUM(AUT_emp:POR_emp!BB95)","v":0},35,8.5784313725490197E-2]
["Occupant behaviour","Occupant behaviour",{"$f":"Sheet1!O271","v":"Employee engagement and training"},{"$f":"SUM(AUT_emp:POR_emp!D96)","v":6},{"$f":"SUM(AUT_emp:POR_emp!E96)","v":0},{"$f":"SUM(AUT_emp:POR_emp!F96)","v":3},{"$f":"SUM(AUT_emp:POR_emp!G96)","v":3},{"$f":"SUM(AUT_emp:POR_emp!H96)","v":3},{"$f":"SUM(AUT_emp:POR_emp!I96)","v":3},{"$f":"SUM(AUT_emp:POR_emp!J96)","v":3},{"$f":"SUM(AUT_emp:POR_emp!K96)","v":2},{"$f":"SUM(AUT_emp:POR_emp!L96)","v":3},{"$f":"SUM(AUT_emp:POR_emp!M96)","v":1},{"$f":"SUM(AUT_emp:POR_emp!N96)","v":1},{"$f":"SUM(AUT_emp:POR_emp!O96)","v":1},{"$f":"SUM(AUT_emp:POR_emp!P96)","v":5},{"$f":"SUM(AUT_emp:POR_emp!Q96)","v":1},{"$f":"SUM(AUT_emp:POR_emp!R96)","v":1},{"$f":"SUM(AUT_emp:POR_emp!S96)","v":1},{"$f":"SUM(AUT_emp:POR_emp!T96)","v":1},{"$f":"SUM(AUT_emp:POR_emp!U96)","v":4},{"$f":"SUM(AUT_emp:POR_emp!V96)","v":1},{"$f":"SUM(AUT_emp:POR_emp!W96)","v":3},{"$f":"SUM(AUT_emp:POR_emp!X96)","v":1},{"$f":"SUM(AUT_emp:POR_emp!Y96)","v":2},{"$f":"SUM(AUT_emp:POR_emp!Z96)","v":2},{"$f":"SUM(AUT_emp:POR_emp!AA96)","v":1},{"$f":"SUM(AUT_emp:POR_emp!AB96)","v":1},{"$f":"SUM(AUT_emp:POR_emp!AC96)","v":1},{"$f":"SUM(AUT_emp:POR_emp!AD96)","v":1},{"$f":"SUM(AUT_emp:POR_emp!AE96)","v":2},{"$f":"SUM(AUT_emp:POR_emp!AF96)","v":0},{"$f":"SUM(AUT_emp:POR_emp!AG96)","v":2},{"$f":"SUM(AUT_emp:POR_emp!AH96)","v":0},{"$f":"SUM(AUT_emp:POR_emp!AI96)","v":1},{"$f":"SUM(AUT_emp:POR_emp!AJ96)","v":0},{"$f":"SUM(AUT_emp:POR_emp!AK96)","v":1},{"$f":"SUM(AUT_emp:POR_emp!AL96)","v":2},{"$f":"SUM(AUT_emp:POR_emp!AM96)","v":0},{"$f":"SUM(AUT_emp:POR_emp!AN96)","v":0},{"$f":"SUM(AUT_emp:POR_emp!AO96)","v":1},{"$f":"SUM(AUT_emp:POR_emp!AP96)","v":3},{"$f":"SUM(AUT_emp:POR_emp!AQ96)","v":0},{"$f":"SUM(AUT_emp:POR_emp!AR96)","v":3},{"$f":"SUM(AUT_emp:POR_emp!AS96)","v":6},{"$f":"SUM(AUT_emp:POR_emp!AT96)","v":0},{"$f":"SUM(AUT_emp:POR_emp!AU96)","v":1},{"$f":"SUM(AUT_emp:POR_emp!AV96)","v":2},{"$f":"SUM(AUT_emp:POR_emp!AW96)","v":2},{"$f":"SUM(AUT_emp:POR_emp!AX96)","v":0},{"$f":"SUM(AUT_emp:POR_emp!AY96)","v":2},{"$f":"SUM(AUT_emp:POR_emp!AZ96)","v":2},{"$f":"SUM(AUT_emp:POR_emp!BA96)","v":1},{"$f":"SUM(AUT_emp:POR_emp!BB96)","v":1},87,0.21323529411764705]
[null,"Occupant behaviour",{"$f":"Sheet1!O272","v":"Motivation"},{"$f":"SUM(AUT_emp:POR_emp!D97)","v":6},{"$f":"SUM(AUT_emp:POR_emp!E97)","v":0},{"$f":"SUM(AUT_emp:POR_emp!F97)","v":3},{"$f":"SUM(AUT_emp:POR_emp!G97)","v":2},{"$f":"SUM(AUT_emp:POR_emp!H97)","v":4},{"$f":"SUM(AUT_emp:POR_emp!I97)","v":4},{"$f":"SUM(AUT_emp:POR_emp!J97)","v":2},{"$f":"SUM(AUT_emp:POR_emp!K97)","v":2},{"$f":"SUM(AUT_emp:POR_emp!L97)","v":2},{"$f":"SUM(AUT_emp:POR_emp!M97)","v":0},{"$f":"SUM(AUT_emp:POR_emp!N97)","v":0},{"$f":"SUM(AUT_emp:POR_emp!O97)","v":0},{"$f":"SUM(AUT_emp:POR_emp!P97)","v":4},{"$f":"SUM(AUT_emp:POR_emp!Q97)","v":1},{"$f":"SUM(AUT_emp:POR_emp!R97)","v":1},{"$f":"SUM(AUT_emp:POR_emp!S97)","v":1},{"$f":"SUM(AUT_emp:POR_emp!T97)","v":1},{"$f":"SUM(AUT_emp:POR_emp!U97)","v":3},{"$f":"SUM(AUT_emp:POR_emp!V97)","v":1},{"$f":"SUM(AUT_emp:POR_emp!W97)","v":2},{"$f":"SUM(AUT_emp:POR_emp!X97)","v":1},{"$f":"SUM(AUT_emp:POR_emp!Y97)","v":2},{"$f":"SUM(AUT_emp:POR_emp!Z97)","v":1},{"$f":"SUM(AUT_emp:POR_emp!AA97)","v":1},{"$f":"SUM(AUT_emp:POR_emp!AB97)","v":1},{"$f":"SUM(AUT_emp:POR_emp!AC97)","v":0},{"$f":"SUM(AUT_emp:POR_emp!AD97)","v":1},{"$f":"SUM(AUT_emp:POR_emp!AE97)","v":2},{"$f":"SUM(AUT_emp:POR_emp!AF97)","v":0},{"$f":"SUM(AUT_emp:POR_emp!AG97)","v":1},{"$f":"SUM(AUT_emp:POR_emp!AH97)","v":0},{"$f":"SUM(AUT_emp:POR_emp!AI97)","v":0},{"$f":"SUM(AUT_emp:POR_emp!AJ97)","v":0},{"$f":"SUM(AUT_emp:POR_emp!AK97)","v":1},{"$f":"SUM(AUT_emp:POR_emp!AL97)","v":1},{"$f":"SUM(AUT_emp:POR_emp!AM97)","v":0},{"$f":"SUM(AUT_emp:POR_emp!AN97)","v":0},{"$f":"SUM(AUT_emp:POR_emp!AO97)","v":1},{"$f":"SUM(AUT_emp:POR_emp!AP97)","v":2},{"$f":"SUM(AUT_emp:POR_emp!AQ97)","v":0},{"$f":"SUM(AUT_emp:POR_emp!AR97)","v":2},{"$f":"SUM(AUT_emp:POR_emp!AS97)","v":2},{"$f":"SUM(AUT_emp:POR_emp!AT97)","v":0},{"$f":"SUM(AUT_emp:POR_emp!AU97)","v":0},{"$f":"SUM(AUT_emp:POR_emp!AV97)","v":1},{"$f":"SUM(AUT_emp:POR_emp!AW97)","v":1},{"$f":"SUM(AUT_emp:POR_emp!AX97)","v":0},{"$f":"SUM(AUT_emp:POR_emp!AY97)","v":0},{"$f":"SUM(AUT_emp:POR_emp!AZ97)","v":2},{"$f":"SUM(AUT_emp:POR_emp!BA97)","v":0},{"$f":"SUM(AUT_emp:POR_emp!BB97)","v":0},62,0.15196078431372548]
[null,null,null,{"$f":"SUM(D3:D97)","v":125},{"$f":"SUM(E3:E97)","v":10},40,33,70,92,37,64,82,72,52,88,359,44,113,32,18,255,52,165,18,43,101,34,64,69,29,38,19,130,0,19,0,9,61,34,19,7,65,50,27,78,14,3,15,75,17,32,40,55,27]
[null,null,null,{"$f":"D98/(95*8)","v":0.16447368421052633},{"$f":"E98/(95*8)","v":1.3157894736842105E-2},5.2631578947368418E-2,4.3421052631578951E-2,9.2105263157894732E-2,0.12105263157894737,4.8684210526315788E-2,8.4210526315789472E-2,0.10789473684210527,9.4736842105263161E-2,6.8421052631578952E-2,0.11578947368421053,0.4723684210526316,5.7894736842105263E-2,0.14868421052631578,4.2105263157894736E-2,2.368421052631579E-2,0.33552631578947367,6.8421052631578952E-2,0.21710526315789475,2.368421052631579E-2,5.6578947368421055E-2,0.13289473684210526,4.4736842105263158E-2,8.4210526315789472E-2,9.0789473684210531E-2,3.8157894736842106E-2,0.05,2.5000000000000001E-2,0.17105263157894737,0,2.5000000000000001E-2,0,1.1842105263157895E-2,8.0263157894736842E-2,4.4736842105263158E-2,2.5000000000000001E-2,9.2105263157894728E-3,8.5526315789473686E-2,6.5789473684210523E-2,3.5526315789473684E-2,0.10263157894736842,1.8421052631578946E-2,3.9473684210526317E-3,1.9736842105263157E-2,9.8684210526315791E-2,2.2368421052631579E-2,4.2105263157894736E-2,5.2631578947368418E-2,7.2368421052631582E-2,3.5526315789473684E-2]

{"sheet":"LEG","index":17,"n_rows":99,"n_cols":56,"rows_kept":99,"cut":false,"hidden":true,"merged":[[84,0,91,0],[92,0,94,0],[95,0,96,0],[57,0,83,0],[0,51,0,53],[2,0,56,0],[0,3,0,7],[0,8,0,14],[0,15,0,24],[0,25,0,37],[0,38,0,44],[0,45,0,50]]}
[null,null,null,"Social",null,null,null,null,"Health",null,null,null,null,null,null,"Environment",null,null,null,null,null,null,null,null,null,"Economic",null,null,null,null,null,null,null,null,null,null,null,null,"Security & Safety",null,null,null,null,null,null,"Quality",null,null,null,null,null,"Time"]
[null,null,"EEM/NEB","Employee satisfaction","Alleviation of energy poverty","Customers (new, satisfaction, etc.)","Improved supply chain relationships","Work performance","Health and well-being","(avoided) mortality","Disease burden \"daly\"","Sickness & absenteeism","Improved air quality","Improved lighting","Reduced noise","Emission reduction","Impact of EE on RES target achievement ","Ecosystem degradation","Reduced water use ","Reduced material consumption","Reduced emissions (dust, CO2, chemical agents etc.)","Reduced noise pollution","Reduced use of non-renewable resources ","Reduced litigations risks","Reduced waste","Improvement of compatitiveness","Innovation impacts","Reduction of (maintenance) costs","Reduction of emission or disposal fees","Shorter production cycle","Increased production yields","Increased real estate value","Reduction of (operating) costs","Macro economy","Usage of waste streams","Turnover of energy efficiency goods ","Employment effects","Impact on public budgets","Energy security","Security of supply / self sufficiency","Supplier diversity ","Operation safety of equipment","Less maintenance","Electrical safety","Reduced injuries","Accurate monitoring","Right First Time","Increased quality of products","Increased corporate image","Increased regulatory compliance","Risk reduction","Increased productivity","Increased equipment lifetime","Reduced time of fault detection"]
["Building","Envelope",{"$f":"Sheet1!O162","v":"Improvement to visible building envelope elements"},{"$f":"SUM(AUT_leg:POR_leg!D3)","v":4},{"$f":"SUM(AUT_leg:POR_leg!E3)","v":4},{"$f":"SUM(AUT_leg:POR_leg!F3)","v":2},{"$f":"SUM(AUT_leg:POR_leg!G3)","v":1},{"$f":"SUM(AUT_leg:POR_leg!H3)","v":2},{"$f":"SUM(AUT_leg:POR_leg!I3)","v":4},{"$f":"SUM(AUT_leg:POR_leg!J3)","v":1},{"$f":"SUM(AUT_leg:POR_leg!K3)","v":1},{"$f":"SUM(AUT_leg:POR_leg!L3)","v":1},{"$f":"SUM(AUT_leg:POR_leg!M3)","v":2},{"$f":"SUM(AUT_leg:POR_leg!N3)","v":0},{"$f":"SUM(AUT_leg:POR_leg!O3)","v":2},{"$f":"SUM(AUT_leg:POR_leg!P3)","v":5},{"$f":"SUM(AUT_leg:POR_leg!Q3)","v":4},{"$f":"SUM(AUT_leg:POR_leg!R3)","v":3},{"$f":"SUM(AUT_leg:POR_leg!S3)","v":-1},{"$f":"SUM(AUT_leg:POR_leg!T3)","v":0},{"$f":"SUM(AUT_leg:POR_leg!U3)","v":5},{"$f":"SUM(AUT_leg:POR_leg!V3)","v":2},{"$f":"SUM(AUT_leg:POR_leg!W3)","v":5},{"$f":"SUM(AUT_leg:POR_leg!X3)","v":0},{"$f":"SUM(AUT_leg:POR_leg!Y3)","v":0},{"$f":"SUM(AUT_leg:POR_leg!Z3)","v":4},{"$f":"SUM(AUT_leg:POR_leg!AA3)","v":3},{"$f":"SUM(AUT_leg:POR_leg!AB3)","v":3},{"$f":"SUM(AUT_leg:POR_leg!AC3)","v":5},{"$f":"SUM(AUT_leg:POR_leg!AD3)","v":1},{"$f":"SUM(AUT_leg:POR_leg!AE3)","v":1},{"$f":"SUM(AUT_leg:POR_leg!AF3)","v":3},{"$f":"SUM(AUT_leg:POR_leg!AG3)","v":3},{"$f":"SUM(AUT_leg:POR_leg!AH3)","v":5},{"$f":"SUM(AUT_leg:POR_leg!AI3)","v":2},{"$f":"SUM(AUT_leg:POR_leg!AJ3)","v":3},{"$f":"SUM(AUT_leg:POR_leg!AK3)","v":4},{"$f":"SUM(AUT_leg:POR_leg!AL3)","v":5},{"$f":"SUM(AUT_leg:POR_leg!AM3)","v":5},{"$f":"SUM(AUT_leg:POR_leg!AN3)","v":3},{"$f":"SUM(AUT_leg:POR_leg!AO3)","v":2},{"$f":"SUM(AUT_leg:POR_leg!AP3)","v":2},{"$f":"SUM(AUT_leg:POR_leg!AQ3)","v":1},{"$f":"SUM(AUT_leg:POR_leg!AR3)","v":1},{"$f":"SUM(AUT_leg:POR_leg!AS3)","v":2},{"$f":"SUM(AUT_leg:POR_leg!AT3)","v":1},{"$f":"SUM(AUT_leg:POR_leg!AU3)","v":1},{"$f":"SUM(AUT_leg:POR_leg!AV3)","v":1},{"$f":"SUM(AUT_leg:POR_leg!AW3)","v":3},{"$f":"SUM(AUT_leg:POR_leg!AX3)","v":4},{"$f":"SUM(AUT_leg:POR_leg!AY3)","v":1},{"$f":"SUM(AUT_leg:POR_leg!AZ3)","v":3},{"$f":"SUM(AUT_leg:POR_leg!BA3)","v":1},{"$f":"SUM(AUT_leg:POR_leg!BB3)","v":1},{"$f":"SUM(D3:BB3)","v":121},{"$f":"BC3/(51*8)","v":0.29656862745098039}]
[null,"Envelope",{"$f":"Sheet1!O163","v":"Improvements to non-visible building envelope elements"},{"$f":"SUM(AUT_leg:POR_leg!D4)","v":3},{"$f":"SUM(AUT_leg:POR_leg!E4)","v":4},{"$f":"SUM(AUT_leg:POR_leg!F4)","v":1},{"$f":"SUM(AUT_leg:POR_leg!G4)","v":0},{"$f":"SUM(AUT_leg:POR_leg!H4)","v":1},{"$f":"SUM(AUT_leg:POR_leg!I4)","v":4},{"$f":"SUM(AUT_leg:POR_leg!J4)","v":1},{"$f":"SUM(AUT_leg:POR_leg!K4)","v":1},{"$f":"SUM(AUT_leg:POR_leg!L4)","v":1},{"$f":"SUM(AUT_leg:POR_leg!M4)","v":2},{"$f":"SUM(AUT_leg:POR_leg!N4)","v":0},{"$f":"SUM(AUT_leg:POR_leg!O4)","v":2},{"$f":"SUM(AUT_leg:POR_leg!P4)","v":5},{"$f":"SUM(AUT_leg:POR_leg!Q4)","v":4},{"$f":"SUM(AUT_leg:POR_leg!R4)","v":3},{"$f":"SUM(AUT_leg:POR_leg!S4)","v":-1},{"$f":"SUM(AUT_leg:POR_leg!T4)","v":1},{"$f":"SUM(AUT_leg:POR_leg!U4)","v":5},{"$f":"SUM(AUT_leg:POR_leg!V4)","v":2},{"$f":"SUM(AUT_leg:POR_leg!W4)","v":5},{"$f":"SUM(AUT_leg:POR_leg!X4)","v":0},{"$f":"SUM(AUT_leg:POR_leg!Y4)","v":0},{"$f":"SUM(AUT_leg:POR_leg!Z4)","v":4},{"$f":"SUM(AUT_leg:POR_leg!AA4)","v":3},{"$f":"SUM(AUT_leg:POR_leg!AB4)","v":3},{"$f":"SUM(AUT_leg:POR_leg!AC4)","v":5},{"$f":"SUM(AUT_leg:POR_leg!AD4)","v":1},{"$f":"SUM(AUT_leg:POR_leg!AE4)","v":1},{"$f":"SUM(AUT_leg:POR_leg!AF4)","v":3},{"$f":"SUM(AUT_leg:POR_leg!AG4)","v":3},{"$f":"SUM(AUT_leg:POR_leg!AH4)","v":5},{"$f":"SUM(AUT_leg:POR_leg!AI4)","v":2},{"$f":"SUM(AUT_leg:POR_leg!AJ4)","v":3},{"$f":"SUM(AUT_leg:POR_leg!AK4)","v":4},{"$f":"SUM(AUT_leg:POR_leg!AL4)","v":5},{"$f":"SUM(AUT_leg:POR_leg!AM4)","v":6},{"$f":"SUM(AUT_leg:POR_leg!AN4)","v":3},{"$f":"SUM(AUT_leg:POR_leg!AO4)","v":2},{"$f":"SUM(AUT_leg:POR_leg!AP4)","v":2},{"$f":"SUM(AUT_leg:POR_leg!AQ4)","v":1},{"$f":"SUM(AUT_leg:POR_leg!AR4)","v":2},{"$f":"SUM(AUT_leg:POR_leg!AS4)","v":2},{"$f":"SUM(AUT_leg:POR_leg!AT4)","v":1},{"$f":"SUM(AUT_leg:POR_leg!AU4)","v":1},{"$f":"SUM(AUT_leg:POR_leg!AV4)","v":1},{"$f":"SUM(AUT_leg:POR_leg!AW4)","v":2},{"$f":"SUM(AUT_leg:POR_leg!AX4)","v":4},{"$f":"SUM(AUT_leg:POR_leg!AY4)","v":1},{"$f":"SUM(AUT_leg:POR_leg!AZ4)","v":3},{"$f":"SUM(AUT_leg:POR_leg!BA4)","v":1},{"$f":"SUM(AUT_leg:POR_leg!BB4)","v":1},{"$f":"SUM(D4:BB4)","v":119},{"$f":"BC4/(51*8)","v":0.29166666666666669}]
[null,"Envelope",{"$f":"Sheet1!O164","v":"Replacemert of windows"},{"$f":"SUM(AUT_leg:POR_leg!D5)","v":5},{"$f":"SUM(AUT_leg:POR_leg!E5)","v":4},{"$f":"SUM(AUT_leg:POR_leg!F5)","v":2},{"$f":"SUM(AUT_leg:POR_leg!G5)","v":1},{"$f":"SUM(AUT_leg:POR_leg!H5)","v":2},{"$f":"SUM(AUT_leg:POR_leg!I5)","v":4},{"$f":"SUM(AUT_leg:POR_leg!J5)","v":1},{"$f":"SUM(AUT_leg:POR_leg!K5)","v":1},{"$f":"SUM(AUT_leg:POR_leg!L5)","v":1},{"$f":"SUM(AUT_leg:POR_leg!M5)","v":4},{"$f":"SUM(AUT_leg:POR_leg!N5)","v":0},{"$f":"SUM(AUT_leg:POR_leg!O5)","v":3},{"$f":"SUM(AUT_leg:POR_leg!P5)","v":6},{"$f":"SUM(AUT_leg:POR_leg!Q5)","v":4},{"$f":"SUM(AUT_leg:POR_leg!R5)","v":3},{"$f":"SUM(AUT_leg:POR_leg!S5)","v":-1},{"$f":"SUM(AUT_leg:POR_leg!T5)","v":1},{"$f":"SUM(AUT_leg:POR_leg!U5)","v":5},{"$f":"SUM(AUT_leg:POR_leg!V5)","v":4},{"$f":"SUM(AUT_leg:POR_leg!W5)","v":5},{"$f":"SUM(AUT_leg:POR_leg!X5)","v":0},{"$f":"SUM(AUT_leg:POR_leg!Y5)","v":0},{"$f":"SUM(AUT_leg:POR_leg!Z5)","v":4},{"$f":"SUM(AUT_leg:POR_leg!AA5)","v":3},{"$f":"SUM(AUT_leg:POR_leg!AB5)","v":3},{"$f":"SUM(AUT_leg:POR_leg!AC5)","v":5},{"$f":"SUM(AUT_leg:POR_leg!AD5)","v":1},{"$f":"SUM(AUT_leg:POR_leg!AE5)","v":1},{"$f":"SUM(AUT_leg:POR_leg!AF5)","v":3},{"$f":"SUM(AUT_leg:POR_leg!AG5)","v":3},{"$f":"SUM(AUT_leg:POR_leg!AH5)","v":4},{"$f":"SUM(AUT_leg:POR_leg!AI5)","v":2},{"$f":"SUM(AUT_leg:POR_leg!AJ5)","v":2},{"$f":"SUM(AUT_leg:POR_leg!AK5)","v":3},{"$f":"SUM(AUT_leg:POR_leg!AL5)","v":4},{"$f":"SUM(AUT_leg:POR_leg!AM5)","v":6},{"$f":"SUM(AUT_leg:POR_leg!AN5)","v":3},{"$f":"SUM(AUT_leg:POR_leg!AO5)","v":2},{"$f":"SUM(AUT_leg:POR_leg!AP5)","v":2},{"$f":"SUM(AUT_leg:POR_leg!AQ5)","v":1},{"$f":"SUM(AUT_leg:POR_leg!AR5)","v":1},{"$f":"SUM(AUT_leg:POR_leg!AS5)","v":1},{"$f":"SUM(AUT_leg:POR_leg!AT5)","v":1},{"$f":"SUM(AUT_leg:POR_leg!AU5)","v":1},{"$f":"SUM(AUT_leg:POR_leg!AV5)","v":1},{"$f":"SUM(AUT_leg:POR_leg!AW5)","v":2},{"$f":"SUM(AUT_leg:POR_leg!AX5)","v":4},{"$f":"SUM(AUT_leg:POR_leg!AY5)","v":1},{"$f":"SUM(AUT_leg:POR_leg!AZ5)","v":3},{"$f":"SUM(AUT_leg:POR_leg!BA5)","v":1},{"$f":"SUM(AUT_leg:POR_leg!BB5)","v":1},124,0.30392156862745096]
[null,"Envelope",{"$f":"Sheet1!O165","v":"Increasing the air-tightness of the building"},{"$f":"SUM(AUT_leg:POR_leg!D6)","v":5},{"$f":"SUM(AUT_leg:POR_leg!E6)","v":4},{"$f":"SUM(AUT_leg:POR_leg!F6)","v":3},{"$f":"SUM(AUT_leg:POR_leg!G6)","v":1},{"$f":"SUM(AUT_leg:POR_leg!H6)","v":2},{"$f":"SUM(AUT_leg:POR_leg!I6)","v":6},{"$f":"SUM(AUT_leg:POR_leg!J6)","v":1},{"$f":"SUM(AUT_leg:POR_leg!K6)","v":1},{"$f":"SUM(AUT_leg:POR_leg!L6)","v":1},{"$f":"SUM(AUT_leg:POR_leg!M6)","v":4},{"$f":"SUM(AUT_leg:POR_leg!N6)","v":0},{"$f":"SUM(AUT_leg:POR_leg!O6)","v":3},{"$f":"SUM(AUT_leg:POR_leg!P6)","v":5},{"$f":"SUM(AUT_leg:POR_leg!Q6)","v":4},{"$f":"SUM(AUT_leg:POR_leg!R6)","v":3},{"$f":"SUM(AUT_leg:POR_leg!S6)","v":-1},{"$f":"SUM(AUT_leg:POR_leg!T6)","v":1},{"$f":"SUM(AUT_leg:POR_leg!U6)","v":5},{"$f":"SUM(AUT_leg:POR_leg!V6)","v":3},{"$f":"SUM(AUT_leg:POR_leg!W6)","v":5},{"$f":"SUM(AUT_leg:POR_leg!X6)","v":0},{"$f":"SUM(AUT_leg:POR_leg!Y6)","v":0},{"$f":"SUM(AUT_leg:POR_leg!Z6)","v":3},{"$f":"SUM(AUT_leg:POR_leg!AA6)","v":3},{"$f":"SUM(AUT_leg:POR_leg!AB6)","v":3},{"$f":"SUM(AUT_leg:POR_leg!AC6)","v":5},{"$f":"SUM(AUT_leg:POR_leg!AD6)","v":1},{"$f":"SUM(AUT_leg:POR_leg!AE6)","v":1},{"$f":"SUM(AUT_leg:POR_leg!AF6)","v":3},{"$f":"SUM(AUT_leg:POR_leg!AG6)","v":3},{"$f":"SUM(AUT_leg:POR_leg!AH6)","v":4},{"$f":"SUM(AUT_leg:POR_leg!AI6)","v":2},{"$f":"SUM(AUT_leg:POR_leg!AJ6)","v":2},{"$f":"SUM(AUT_leg:POR_leg!AK6)","v":3},{"$f":"SUM(AUT_leg:POR_leg!AL6)","v":4},{"$f":"SUM(AUT_leg:POR_leg!AM6)","v":6},{"$f":"SUM(AUT_leg:POR_leg!AN6)","v":3},{"$f":"SUM(AUT_leg:POR_leg!AO6)","v":2},{"$f":"SUM(AUT_leg:POR_leg!AP6)","v":2},{"$f":"SUM(AUT_leg:POR_leg!AQ6)","v":2},{"$f":"SUM(AUT_leg:POR_leg!AR6)","v":1},{"$f":"SUM(AUT_leg:POR_leg!AS6)","v":1},{"$f":"SUM(AUT_leg:POR_leg!AT6)","v":1},{"$f":"SUM(AUT_leg:POR_leg!AU6)","v":1},{"$f":"SUM(AUT_leg:POR_leg!AV6)","v":1},{"$f":"SUM(AUT_leg:POR_leg!AW6)","v":2},{"$f":"SUM(AUT_leg:POR_leg!AX6)","v":4},{"$f":"SUM(AUT_leg:POR_leg!AY6)","v":1},{"$f":"SUM(AUT_leg:POR_leg!AZ6)","v":3},{"$f":"SUM(AUT_leg:POR_leg!BA6)","v":1},{"$f":"SUM(AUT_leg:POR_leg!BB6)","v":1},125,0.30637254901960786]
[null,"Envelope",{"$f":"Sheet1!O166","v":"Shading to reduce summer heat gains"},{"$f":"SUM(AUT_leg:POR_leg!D7)","v":5},{"$f":"SUM(AUT_leg:POR_leg!E7)","v":4},{"$f":"SUM(AUT_leg:POR_leg!F7)","v":3},{"$f":"SUM(AUT_leg:POR_leg!G7)","v":1},{"$f":"SUM(AUT_leg:POR_leg!H7)","v":2},{"$f":"SUM(AUT_leg:POR_leg!I7)","v":6},{"$f":"SUM(AUT_leg:POR_leg!J7)","v":2},{"$f":"SUM(AUT_leg:POR_leg!K7)","v":3},{"$f":"SUM(AUT_leg:POR_leg!L7)","v":3},{"$f":"SUM(AUT_leg:POR_leg!M7)","v":3},{"$f":"SUM(AUT_leg:POR_leg!N7)","v":0},{"$f":"SUM(AUT_leg:POR_leg!O7)","v":-1},{"$f":"SUM(AUT_leg:POR_leg!P7)","v":5},{"$f":"SUM(AUT_leg:POR_leg!Q7)","v":4},{"$f":"SUM(AUT_leg:POR_leg!R7)","v":3},{"$f":"SUM(AUT_leg:POR_leg!S7)","v":-1},{"$f":"SUM(AUT_leg:POR_leg!T7)","v":1},{"$f":"SUM(AUT_leg:POR_leg!U7)","v":5},{"$f":"SUM(AUT_leg:POR_leg!V7)","v":1},{"$f":"SUM(AUT_leg:POR_leg!W7)","v":5},{"$f":"SUM(AUT_leg:POR_leg!X7)","v":0},{"$f":"SUM(AUT_leg:POR_leg!Y7)","v":0},{"$f":"SUM(AUT_leg:POR_leg!Z7)","v":3},{"$f":"SUM(AUT_leg:POR_leg!AA7)","v":3},{"$f":"SUM(AUT_leg:POR_leg!AB7)","v":3},{"$f":"SUM(AUT_leg:POR_leg!AC7)","v":5},{"$f":"SUM(AUT_leg:POR_leg!AD7)","v":1},{"$f":"SUM(AUT_leg:POR_leg!AE7)","v":1},{"$f":"SUM(AUT_leg:POR_leg!AF7)","v":2},{"$f":"SUM(AUT_leg:POR_leg!AG7)","v":3},{"$f":"SUM(AUT_leg:POR_leg!AH7)","v":4},{"$f":"SUM(AUT_leg:POR_leg!AI7)","v":2},{"$f":"SUM(AUT_leg:POR_leg!AJ7)","v":2},{"$f":"SUM(AUT_leg:POR_leg!AK7)","v":3},{"$f":"SUM(AUT_leg:POR_leg!AL7)","v":4},{"$f":"SUM(AUT_leg:POR_leg!AM7)","v":6},{"$f":"SUM(AUT_leg:POR_leg!AN7)","v":3},{"$f":"SUM(AUT_leg:POR_leg!AO7)","v":2},{"$f":"SUM(AUT_leg:POR_leg!AP7)","v":2},{"$f":"SUM(AUT_leg:POR_leg!AQ7)","v":2},{"$f":"SUM(AUT_leg:POR_leg!AR7)","v":2},{"$f":"SUM(AUT_leg:POR_leg!AS7)","v":2},{"$f":"SUM(AUT_leg:POR_leg!AT7)","v":1},{"$f":"SUM(AUT_leg:POR_leg!AU7)","v":1},{"$f":"SUM(AUT_leg:POR_leg!AV7)","v":1},{"$f":"SUM(AUT_leg:POR_leg!AW7)","v":2},{"$f":"SUM(AUT_leg:POR_leg!AX7)","v":4},{"$f":"SUM(AUT_leg:POR_leg!AY7)","v":1},{"$f":"SUM(AUT_leg:POR_leg!AZ7)","v":3},{"$f":"SUM(AUT_leg:POR_leg!BA7)","v":1},{"$f":"SUM(AUT_leg:POR_leg!BB7)","v":1},124,0.30392156862745096]
[null,"Heating system",{"$f":"Sheet1!O168","v":"Roomwise temperature control"},{"$f":"SUM(AUT_leg:POR_leg!D8)","v":4},{"$f":"SUM(AUT_leg:POR_leg!E8)","v":4},{"$f":"SUM(AUT_leg:POR_leg!F8)","v":2},{"$f":"SUM(AUT_leg:POR_leg!G8)","v":1},{"$f":"SUM(AUT_leg:POR_leg!H8)","v":3},{"$f":"SUM(AUT_leg:POR_leg!I8)","v":5},{"$f":"SUM(AUT_leg:POR_leg!J8)","v":2},{"$f":"SUM(AUT_leg:POR_leg!K8)","v":3},{"$f":"SUM(AUT_leg:POR_leg!L8)","v":2},{"$f":"SUM(AUT_leg:POR_leg!M8)","v":1},{"$f":"SUM(AUT_leg:POR_leg!N8)","v":-1},{"$f":"SUM(AUT_leg:POR_leg!O8)","v":-1},{"$f":"SUM(AUT_leg:POR_leg!P8)","v":6},{"$f":"SUM(AUT_leg:POR_leg!Q8)","v":4},{"$f":"SUM(AUT_leg:POR_leg!R8)","v":3},{"$f":"SUM(AUT_leg:POR_leg!S8)","v":-1},{"$f":"SUM(AUT_leg:POR_leg!T8)","v":1},{"$f":"SUM(AUT_leg:POR_leg!U8)","v":5},{"$f":"SUM(AUT_leg:POR_leg!V8)","v":1},{"$f":"SUM(AUT_leg:POR_leg!W8)","v":5},{"$f":"SUM(AUT_leg:POR_leg!X8)","v":0},{"$f":"SUM(AUT_leg:POR_leg!Y8)","v":0},{"$f":"SUM(AUT_leg:POR_leg!Z8)","v":4},{"$f":"SUM(AUT_leg:POR_leg!AA8)","v":3},{"$f":"SUM(AUT_leg:POR_leg!AB8)","v":2},{"$f":"SUM(AUT_leg:POR_leg!AC8)","v":5},{"$f":"SUM(AUT_leg:POR_leg!AD8)","v":1},{"$f":"SUM(AUT_leg:POR_leg!AE8)","v":1},{"$f":"SUM(AUT_leg:POR_leg!AF8)","v":2},{"$f":"SUM(AUT_leg:POR_leg!AG8)","v":4},{"$f":"SUM(AUT_leg:POR_leg!AH8)","v":4},{"$f":"SUM(AUT_leg:POR_leg!AI8)","v":2},{"$f":"SUM(AUT_leg:POR_leg!AJ8)","v":2},{"$f":"SUM(AUT_leg:POR_leg!AK8)","v":3},{"$f":"SUM(AUT_leg:POR_leg!AL8)","v":4},{"$f":"SUM(AUT_leg:POR_leg!AM8)","v":6},{"$f":"SUM(AUT_leg:POR_leg!AN8)","v":3},{"$f":"SUM(AUT_leg:POR_leg!AO8)","v":2},{"$f":"SUM(AUT_leg:POR_leg!AP8)","v":2},{"$f":"SUM(AUT_leg:POR_leg!AQ8)","v":2},{"$f":"SUM(AUT_leg:POR_leg!AR8)","v":2},{"$f":"SUM(AUT_leg:POR_leg!AS8)","v":2},{"$f":"SUM(AUT_leg:POR_leg!AT8)","v":2},{"$f":"SUM(AUT_leg:POR_leg!AU8)","v":1},{"$f":"SUM(AUT_leg:POR_leg!AV8)","v":1},{"$f":"SUM(AUT_leg:POR_leg!AW8)","v":1},{"$f":"SUM(AUT_leg:POR_leg!AX8)","v":3},{"$f":"SUM(AUT_leg:POR_leg!AY8)","v":1},{"$f":"SUM(AUT_leg:POR_leg!AZ8)","v":4},{"$f":"SUM(AUT_leg:POR_leg!BA8)","v":2},{"$f":"SUM(AUT_leg:POR_leg!BB8)","v":1},121,0.29656862745098039]
[null,"Heating system",{"$f":"Sheet1!O169","v":"Zoning optimisation of the building"},{"$f":"SUM(AUT_leg:POR_leg!D9)","v":3},{"$f":"SUM(AUT_leg:POR_leg!E9)","v":4},{"$f":"SUM(AUT_leg:POR_leg!F9)","v":2},{"$f":"SUM(AUT_leg:POR_leg!G9)","v":1},{"$f":"SUM(AUT_leg:POR_leg!H9)","v":2},{"$f":"SUM(AUT_leg:POR_leg!I9)","v":3},{"$f":"SUM(AUT_leg:POR_leg!J9)","v":1},{"$f":"SUM(AUT_leg:POR_leg!K9)","v":2},{"$f":"SUM(AUT_leg:POR_leg!L9)","v":2},{"$f":"SUM(AUT_leg:POR_leg!M9)","v":1},{"$f":"SUM(AUT_leg:POR_leg!N9)","v":-1},{"$f":"SUM(AUT_leg:POR_leg!O9)","v":-1},{"$f":"SUM(AUT_leg:POR_leg!P9)","v":4},{"$f":"SUM(AUT_leg:POR_leg!Q9)","v":2},{"$f":"SUM(AUT_leg:POR_leg!R9)","v":2},{"$f":"SUM(AUT_leg:POR_leg!S9)","v":-1},{"$f":"SUM(AUT_leg:POR_leg!T9)","v":1},{"$f":"SUM(AUT_leg:POR_leg!U9)","v":3},{"$f":"SUM(AUT_leg:POR_leg!V9)","v":1},{"$f":"SUM(AUT_leg:POR_leg!W9)","v":3},{"$f":"SUM(AUT_leg:POR_leg!X9)","v":0},{"$f":"SUM(AUT_leg:POR_leg!Y9)","v":0},{"$f":"SUM(AUT_leg:POR_leg!Z9)","v":3},{"$f":"SUM(AUT_leg:POR_leg!AA9)","v":3},{"$f":"SUM(AUT_leg:POR_leg!AB9)","v":2},{"$f":"SUM(AUT_leg:POR_leg!AC9)","v":5},{"$f":"SUM(AUT_leg:POR_leg!AD9)","v":1},{"$f":"SUM(AUT_leg:POR_leg!AE9)","v":1},{"$f":"SUM(AUT_leg:POR_leg!AF9)","v":2},{"$f":"SUM(AUT_leg:POR_leg!AG9)","v":4},{"$f":"SUM(AUT_leg:POR_leg!AH9)","v":3},{"$f":"SUM(AUT_leg:POR_leg!AI9)","v":2},{"$f":"SUM(AUT_leg:POR_leg!AJ9)","v":2},{"$f":"SUM(AUT_leg:POR_leg!AK9)","v":2},{"$f":"SUM(AUT_leg:POR_leg!AL9)","v":3},{"$f":"SUM(AUT_leg:POR_leg!AM9)","v":5},{"$f":"SUM(AUT_leg:POR_leg!AN9)","v":3},{"$f":"SUM(AUT_leg:POR_leg!AO9)","v":2},{"$f":"SUM(AUT_leg:POR_leg!AP9)","v":2},{"$f":"SUM(AUT_leg:POR_leg!AQ9)","v":1},{"$f":"SUM(AUT_leg:POR_leg!AR9)","v":1},{"$f":"SUM(AUT_leg:POR_leg!AS9)","v":1},{"$f":"SUM(AUT_leg:POR_leg!AT9)","v":1},{"$f":"SUM(AUT_leg:POR_leg!AU9)","v":1},{"$f":"SUM(AUT_leg:POR_leg!AV9)","v":1},{"$f":"SUM(AUT_leg:POR_leg!AW9)","v":1},{"$f":"SUM(AUT_leg:POR_leg!AX9)","v":3},{"$f":"SUM(AUT_leg:POR_leg!AY9)","v":1},{"$f":"SUM(AUT_leg:POR_leg!AZ9)","v":4},{"$f":"SUM(AUT_leg:POR_leg!BA9)","v":2},{"$f":"SUM(AUT_leg:POR_leg!BB9)","v":1},97,0.23774509803921567]
[null,"Heating system",{"$f":"Sheet1!O170","v":"Optimisation of the heating schedule"},{"$f":"SUM(AUT_leg:POR_leg!D10)","v":4},{"$f":"SUM(AUT_leg:POR_leg!E10)","v":4},{"$f":"SUM(AUT_leg:POR_leg!F10)","v":3},{"$f":"SUM(AUT_leg:POR_leg!G10)","v":1},{"$f":"SUM(AUT_leg:POR_leg!H10)","v":2},{"$f":"SUM(AUT_leg:POR_leg!I10)","v":4},{"$f":"SUM(AUT_leg:POR_leg!J10)","v":1},{"$f":"SUM(AUT_leg:POR_leg!K10)","v":3},{"$f":"SUM(AUT_leg:POR_leg!L10)","v":3},{"$f":"SUM(AUT_leg:POR_leg!M10)","v":1},{"$f":"SUM(AUT_leg:POR_leg!N10)","v":-1},{"$f":"SUM(AUT_leg:POR_leg!O10)","v":-1},{"$f":"SUM(AUT_leg:POR_leg!P10)","v":5},{"$f":"SUM(AUT_leg:POR_leg!Q10)","v":3},{"$f":"SUM(AUT_leg:POR_leg!R10)","v":3},{"$f":"SUM(AUT_leg:POR_leg!S10)","v":-1},{"$f":"SUM(AUT_leg:POR_leg!T10)","v":1},{"$f":"SUM(AUT_leg:POR_leg!U10)","v":4},{"$f":"SUM(AUT_leg:POR_leg!V10)","v":1},{"$f":"SUM(AUT_leg:POR_leg!W10)","v":4},{"$f":"SUM(AUT_leg:POR_leg!X10)","v":0},{"$f":"SUM(AUT_leg:POR_leg!Y10)","v":0},{"$f":"SUM(AUT_leg:POR_leg!Z10)","v":4},{"$f":"SUM(AUT_leg:POR_leg!AA10)","v":3},{"$f":"SUM(AUT_leg:POR_leg!AB10)","v":2},{"$f":"SUM(AUT_leg:POR_leg!AC10)","v":6},{"$f":"SUM(AUT_leg:POR_leg!AD10)","v":1},{"$f":"SUM(AUT_leg:POR_leg!AE10)","v":1},{"$f":"SUM(AUT_leg:POR_leg!AF10)","v":2},{"$f":"SUM(AUT_leg:POR_leg!AG10)","v":4},{"$f":"SUM(AUT_leg:POR_leg!AH10)","v":4},{"$f":"SUM(AUT_leg:POR_leg!AI10)","v":2},{"$f":"SUM(AUT_leg:POR_leg!AJ10)","v":2},{"$f":"SUM(AUT_leg:POR_leg!AK10)","v":2},{"$f":"SUM(AUT_leg:POR_leg!AL10)","v":3},{"$f":"SUM(AUT_leg:POR_leg!AM10)","v":6},{"$f":"SUM(AUT_leg:POR_leg!AN10)","v":4},{"$f":"SUM(AUT_leg:POR_leg!AO10)","v":2},{"$f":"SUM(AUT_leg:POR_leg!AP10)","v":3},{"$f":"SUM(AUT_leg:POR_leg!AQ10)","v":2},{"$f":"SUM(AUT_leg:POR_leg!AR10)","v":2},{"$f":"SUM(AUT_leg:POR_leg!AS10)","v":2},{"$f":"SUM(AUT_leg:POR_leg!AT10)","v":2},{"$f":"SUM(AUT_leg:POR_leg!AU10)","v":1},{"$f":"SUM(AUT_leg:POR_leg!AV10)","v":1},{"$f":"SUM(AUT_leg:POR_leg!AW10)","v":1},{"$f":"SUM(AUT_leg:POR_leg!AX10)","v":3},{"$f":"SUM(AUT_leg:POR_leg!AY10)","v":1},{"$f":"SUM(AUT_leg:POR_leg!AZ10)","v":4},{"$f":"SUM(AUT_leg:POR_leg!BA10)","v":3},{"$f":"SUM(AUT_leg:POR_leg!BB10)","v":1},118,0.28921568627450983]
[null,"Heating system",{"$f":"Sheet1!O171","v":"Lowering setpoint temperature"},{"$f":"SUM(AUT_leg:POR_leg!D11)","v":1},{"$f":"SUM(AUT_leg:POR_leg!E11)","v":4},{"$f":"SUM(AUT_leg:POR_leg!F11)","v":-1},{"$f":"SUM(AUT_leg:POR_leg!G11)","v":-1},{"$f":"SUM(AUT_leg:POR_leg!H11)","v":0},{"$f":"SUM(AUT_leg:POR_leg!I11)","v":4},{"$f":"SUM(AUT_leg:POR_leg!J11)","v":1},{"$f":"SUM(AUT_leg:POR_leg!K11)","v":2},{"$f":"SUM(AUT_leg:POR_leg!L11)","v":2},{"$f":"SUM(AUT_leg:POR_leg!M11)","v":1},{"$f":"SUM(AUT_leg:POR_leg!N11)","v":-1},{"$f":"SUM(AUT_leg:POR_leg!O11)","v":-1},{"$f":"SUM(AUT_leg:POR_leg!P11)","v":5},{"$f":"SUM(AUT_leg:POR_leg!Q11)","v":3},{"$f":"SUM(AUT_leg:POR_leg!R11)","v":2},{"$f":"SUM(AUT_leg:POR_leg!S11)","v":-1},{"$f":"SUM(AUT_leg:POR_leg!T11)","v":1},{"$f":"SUM(AUT_leg:POR_leg!U11)","v":4},{"$f":"SUM(AUT_leg:POR_leg!V11)","v":1},{"$f":"SUM(AUT_leg:POR_leg!W11)","v":4},{"$f":"SUM(AUT_leg:POR_leg!X11)","v":0},{"$f":"SUM(AUT_leg:POR_leg!Y11)","v":0},{"$f":"SUM(AUT_leg:POR_leg!Z11)","v":3},{"$f":"SUM(AUT_leg:POR_leg!AA11)","v":3},{"$f":"SUM(AUT_leg:POR_leg!AB11)","v":2},{"$f":"SUM(AUT_leg:POR_leg!AC11)","v":5},{"$f":"SUM(AUT_leg:POR_leg!AD11)","v":1},{"$f":"SUM(AUT_leg:POR_leg!AE11)","v":1},{"$f":"SUM(AUT_leg:POR_leg!AF11)","v":2},{"$f":"SUM(AUT_leg:POR_leg!AG11)","v":4},{"$f":"SUM(AUT_leg:POR_leg!AH11)","v":3},{"$f":"SUM(AUT_leg:POR_leg!AI11)","v":2},{"$f":"SUM(AUT_leg:POR_leg!AJ11)","v":1},{"$f":"SUM(AUT_leg:POR_leg!AK11)","v":2},{"$f":"SUM(AUT_leg:POR_leg!AL11)","v":4},{"$f":"SUM(AUT_leg:POR_leg!AM11)","v":5},{"$f":"SUM(AUT_leg:POR_leg!AN11)","v":3},{"$f":"SUM(AUT_leg:POR_leg!AO11)","v":2},{"$f":"SUM(AUT_leg:POR_leg!AP11)","v":2},{"$f":"SUM(AUT_leg:POR_leg!AQ11)","v":1},{"$f":"SUM(AUT_leg:POR_leg!AR11)","v":1},{"$f":"SUM(AUT_leg:POR_leg!AS11)","v":1},{"$f":"SUM(AUT_leg:POR_leg!AT11)","v":1},{"$f":"SUM(AUT_leg:POR_leg!AU11)","v":1},{"$f":"SUM(AUT_leg:POR_leg!AV11)","v":1},{"$f":"SUM(AUT_leg:POR_leg!AW11)","v":1},{"$f":"SUM(AUT_leg:POR_leg!AX11)","v":3},{"$f":"SUM(AUT_leg:POR_leg!AY11)","v":1},{"$f":"SUM(AUT_leg:POR_leg!AZ11)","v":3},{"$f":"SUM(AUT_leg:POR_leg!BA11)","v":3},{"$f":"SUM(AUT_leg:POR_leg!BB11)","v":1},93,0.22794117647058823]
[null,"Heating system",{"$f":"Sheet1!O172","v":"Control optimisation"},{"$f":"SUM(AUT_leg:POR_leg!D12)","v":3},{"$f":"SUM(AUT_leg:POR_leg!E12)","v":4},{"$f":"SUM(AUT_leg:POR_leg!F12)","v":1},{"$f":"SUM(AUT_leg:POR_leg!G12)","v":0},{"$f":"SUM(AUT_leg:POR_leg!H12)","v":1},{"$f":"SUM(AUT_leg:POR_leg!I12)","v":5},{"$f":"SUM(AUT_leg:POR_leg!J12)","v":2},{"$f":"SUM(AUT_leg:POR_leg!K12)","v":3},{"$f":"SUM(AUT_leg:POR_leg!L12)","v":3},{"$f":"SUM(AUT_leg:POR_leg!M12)","v":3},{"$f":"SUM(AUT_leg:POR_leg!N12)","v":-1},{"$f":"SUM(AUT_leg:POR_leg!O12)","v":1},{"$f":"SUM(AUT_leg:POR_leg!P12)","v":5},{"$f":"SUM(AUT_leg:POR_leg!Q12)","v":3},{"$f":"SUM(AUT_leg:POR_leg!R12)","v":3},{"$f":"SUM(AUT_leg:POR_leg!S12)","v":-1},{"$f":"SUM(AUT_leg:POR_leg!T12)","v":1},{"$f":"SUM(AUT_leg:POR_leg!U12)","v":4},{"$f":"SUM(AUT_leg:POR_leg!V12)","v":1},{"$f":"SUM(AUT_leg:POR_leg!W12)","v":4},{"$f":"SUM(AUT_leg:POR_leg!X12)","v":0},{"$f":"SUM(AUT_leg:POR_leg!Y12)","v":0},{"$f":"SUM(AUT_leg:POR_leg!Z12)","v":4},{"$f":"SUM(AUT_leg:POR_leg!AA12)","v":3},{"$f":"SUM(AUT_leg:POR_leg!AB12)","v":2},{"$f":"SUM(AUT_leg:POR_leg!AC12)","v":6},{"$f":"SUM(AUT_leg:POR_leg!AD12)","v":1},{"$f":"SUM(AUT_leg:POR_leg!AE12)","v":1},{"$f":"SUM(AUT_leg:POR_leg!AF12)","v":2},{"$f":"SUM(AUT_leg:POR_leg!AG12)","v":4},{"$f":"SUM(AUT_leg:POR_leg!AH12)","v":4},{"$f":"SUM(AUT_leg:POR_leg!AI12)","v":2},{"$f":"SUM(AUT_leg:POR_leg!AJ12)","v":2},{"$f":"SUM(AUT_leg:POR_leg!AK12)","v":2},{"$f":"SUM(AUT_leg:POR_leg!AL12)","v":3},{"$f":"SUM(AUT_leg:POR_leg!AM12)","v":6},{"$f":"SUM(AUT_leg:POR_leg!AN12)","v":4},{"$f":"SUM(AUT_leg:POR_leg!AO12)","v":2},{"$f":"SUM(AUT_leg:POR_leg!AP12)","v":3},{"$f":"SUM(AUT_leg:POR_leg!AQ12)","v":2},{"$f":"SUM(AUT_leg:POR_leg!AR12)","v":2},{"$f":"SUM(AUT_leg:POR_leg!AS12)","v":2},{"$f":"SUM(AUT_leg:POR_leg!AT12)","v":2},{"$f":"SUM(AUT_leg:POR_leg!AU12)","v":1},{"$f":"SUM(AUT_leg:POR_leg!AV12)","v":1},{"$f":"SUM(AUT_leg:POR_leg!AW12)","v":1},{"$f":"SUM(AUT_leg:POR_leg!AX12)","v":3},{"$f":"SUM(AUT_leg:POR_leg!AY12)","v":2},{"$f":"SUM(AUT_leg:POR_leg!AZ12)","v":4},{"$f":"SUM(AUT_leg:POR_leg!BA12)","v":2},{"$f":"SUM(AUT_leg:POR_leg!BB12)","v":1},119,0.29166666666666669]
[null,"Heating system",{"$f":"Sheet1!O173","v":"Insulation of the distribution network"},{"$f":"SUM(AUT_leg:POR_leg!D13)","v":1},{"$f":"SUM(AUT_leg:POR_leg!E13)","v":4},{"$f":"SUM(AUT_leg:POR_leg!F13)","v":0},{"$f":"SUM(AUT_leg:POR_leg!G13)","v":-1},{"$f":"SUM(AUT_leg:POR_leg!H13)","v":-1},{"$f":"SUM(AUT_leg:POR_leg!I13)","v":2},{"$f":"SUM(AUT_leg:POR_leg!J13)","v":1},{"$f":"SUM(AUT_leg:POR_leg!K13)","v":1},{"$f":"SUM(AUT_leg:POR_leg!L13)","v":1},{"$f":"SUM(AUT_leg:POR_leg!M13)","v":1},{"$f":"SUM(AUT_leg:POR_leg!N13)","v":-1},{"$f":"SUM(AUT_leg:POR_leg!O13)","v":1},{"$f":"SUM(AUT_leg:POR_leg!P13)","v":6},{"$f":"SUM(AUT_leg:POR_leg!Q13)","v":3},{"$f":"SUM(AUT_leg:POR_leg!R13)","v":3},{"$f":"SUM(AUT_leg:POR_leg!S13)","v":-1},{"$f":"SUM(AUT_leg:POR_leg!T13)","v":1},{"$f":"SUM(AUT_leg:POR_leg!U13)","v":4},{"$f":"SUM(AUT_leg:POR_leg!V13)","v":1},{"$f":"SUM(AUT_leg:POR_leg!W13)","v":5},{"$f":"SUM(AUT_leg:POR_leg!X13)","v":0},{"$f":"SUM(AUT_leg:POR_leg!Y13)","v":0},{"$f":"SUM(AUT_leg:POR_leg!Z13)","v":4},{"$f":"SUM(AUT_leg:POR_leg!AA13)","v":3},{"$f":"SUM(AUT_leg:POR_leg!AB13)","v":2},{"$f":"SUM(AUT_leg:POR_leg!AC13)","v":6},{"$f":"SUM(AUT_leg:POR_leg!AD13)","v":1},{"$f":"SUM(AUT_leg:POR_leg!AE13)","v":1},{"$f":"SUM(AUT_leg:POR_leg!AF13)","v":1},{"$f":"SUM(AUT_leg:POR_leg!AG13)","v":5},{"$f":"SUM(AUT_leg:POR_leg!AH13)","v":4},{"$f":"SUM(AUT_leg:POR_leg!AI13)","v":2},{"$f":"SUM(AUT_leg:POR_leg!AJ13)","v":2},{"$f":"SUM(AUT_leg:POR_leg!AK13)","v":2},{"$f":"SUM(AUT_leg:POR_leg!AL13)","v":4},{"$f":"SUM(AUT_leg:POR_leg!AM13)","v":6},{"$f":"SUM(AUT_leg:POR_leg!AN13)","v":3},{"$f":"SUM(AUT_leg:POR_leg!AO13)","v":2},{"$f":"SUM(AUT_leg:POR_leg!AP13)","v":3},{"$f":"SUM(AUT_leg:POR_leg!AQ13)","v":2},{"$f":"SUM(AUT_leg:POR_leg!AR13)","v":2},{"$f":"SUM(AUT_leg:POR_leg!AS13)","v":2},{"$f":"SUM(AUT_leg:POR_leg!AT13)","v":1},{"$f":"SUM(AUT_leg:POR_leg!AU13)","v":1},{"$f":"SUM(AUT_leg:POR_leg!AV13)","v":1},{"$f":"SUM(AUT_leg:POR_leg!AW13)","v":1},{"$f":"SUM(AUT_leg:POR_leg!AX13)","v":3},{"$f":"SUM(AUT_leg:POR_leg!AY13)","v":2},{"$f":"SUM(AUT_leg:POR_leg!AZ13)","v":3},{"$f":"SUM(AUT_leg:POR_leg!BA13)","v":3},{"$f":"SUM(AUT_leg:POR_leg!BB13)","v":1},104,0.25490196078431371]
[null,"Heating system",{"$f":"Sheet1!O174","v":"Hydraulic balancing of the distribution network"},{"$f":"SUM(AUT_leg:POR_leg!D14)","v":2},{"$f":"SUM(AUT_leg:POR_leg!E14)","v":4},{"$f":"SUM(AUT_leg:POR_leg!F14)","v":0},{"$f":"SUM(AUT_leg:POR_leg!G14)","v":-1},{"$f":"SUM(AUT_leg:POR_leg!H14)","v":0},{"$f":"SUM(AUT_leg:POR_leg!I14)","v":3},{"$f":"SUM(AUT_leg:POR_leg!J14)","v":1},{"$f":"SUM(AUT_leg:POR_leg!K14)","v":2},{"$f":"SUM(AUT_leg:POR_leg!L14)","v":2},{"$f":"SUM(AUT_leg:POR_leg!M14)","v":1},{"$f":"SUM(AUT_leg:POR_leg!N14)","v":-1},{"$f":"SUM(AUT_leg:POR_leg!O14)","v":1},{"$f":"SUM(AUT_leg:POR_leg!P14)","v":6},{"$f":"SUM(AUT_leg:POR_leg!Q14)","v":3},{"$f":"SUM(AUT_leg:POR_leg!R14)","v":3},{"$f":"SUM(AUT_leg:POR_leg!S14)","v":0},{"$f":"SUM(AUT_leg:POR_leg!T14)","v":1},{"$f":"SUM(AUT_leg:POR_leg!U14)","v":4},{"$f":"SUM(AUT_leg:POR_leg!V14)","v":1},{"$f":"SUM(AUT_leg:POR_leg!W14)","v":5},{"$f":"SUM(AUT_leg:POR_leg!X14)","v":0},{"$f":"SUM(AUT_leg:POR_leg!Y14)","v":0},{"$f":"SUM(AUT_leg:POR_leg!Z14)","v":4},{"$f":"SUM(AUT_leg:POR_leg!AA14)","v":4},{"$f":"SUM(AUT_leg:POR_leg!AB14)","v":3},{"$f":"SUM(AUT_leg:POR_leg!AC14)","v":6},{"$f":"SUM(AUT_leg:POR_leg!AD14)","v":1},{"$f":"SUM(AUT_leg:POR_leg!AE14)","v":2},{"$f":"SUM(AUT_leg:POR_leg!AF14)","v":1},{"$f":"SUM(AUT_leg:POR_leg!AG14)","v":4},{"$f":"SUM(AUT_leg:POR_leg!AH14)","v":4},{"$f":"SUM(AUT_leg:POR_leg!AI14)","v":2},{"$f":"SUM(AUT_leg:POR_leg!AJ14)","v":2},{"$f":"SUM(AUT_leg:POR_leg!AK14)","v":3},{"$f":"SUM(AUT_leg:POR_leg!AL14)","v":5},{"$f":"SUM(AUT_leg:POR_leg!AM14)","v":6},{"$f":"SUM(AUT_leg:POR_leg!AN14)","v":4},{"$f":"SUM(AUT_leg:POR_leg!AO14)","v":2},{"$f":"SUM(AUT_leg:POR_leg!AP14)","v":3},{"$f":"SUM(AUT_leg:POR_leg!AQ14)","v":2},{"$f":"SUM(AUT_leg:POR_leg!AR14)","v":2},{"$f":"SUM(AUT_leg:POR_leg!AS14)","v":1},{"$f":"SUM(AUT_leg:POR_leg!AT14)","v":1},{"$f":"SUM(AUT_leg:POR_leg!AU14)","v":1},{"$f":"SUM(AUT_leg:POR_leg!AV14)","v":1},{"$f":"SUM(AUT_leg:POR_leg!AW14)","v":1},{"$f":"SUM(AUT_leg:POR_leg!AX14)","v":3},{"$f":"SUM(AUT_leg:POR_leg!AY14)","v":2},{"$f":"SUM(AUT_leg:POR_leg!AZ14)","v":3},{"$f":"SUM(AUT_leg:POR_leg!BA14)","v":2},{"$f":"SUM(AUT_leg:POR_leg!BB14)","v":1},113,0.27696078431372551]
[null,"Heating system",{"$f":"Sheet1!O175","v":"New, more efficient heat generator"},{"$f":"SUM(AUT_leg:POR_leg!D15)","v":0},{"$f":"SUM(AUT_leg:POR_leg!E15)","v":4},{"$f":"SUM(AUT_leg:POR_leg!F15)","v":0},{"$f":"SUM(AUT_leg:POR_leg!G15)","v":-1},{"$f":"SUM(AUT_leg:POR_leg!H15)","v":-1},{"$f":"SUM(AUT_leg:POR_leg!I15)","v":2},{"$f":"SUM(AUT_leg:POR_leg!J15)","v":2},{"$f":"SUM(AUT_leg:POR_leg!K15)","v":1},{"$f":"SUM(AUT_leg:POR_leg!L15)","v":1},{"$f":"SUM(AUT_leg:POR_leg!M15)","v":2},{"$f":"SUM(AUT_leg:POR_leg!N15)","v":-1},{"$f":"SUM(AUT_leg:POR_leg!O15)","v":-1},{"$f":"SUM(AUT_leg:POR_leg!P15)","v":7},{"$f":"SUM(AUT_leg:POR_leg!Q15)","v":3},{"$f":"SUM(AUT_leg:POR_leg!R15)","v":3},{"$f":"SUM(AUT_leg:POR_leg!S15)","v":-1},{"$f":"SUM(AUT_leg:POR_leg!T15)","v":1},{"$f":"SUM(AUT_leg:POR_leg!U15)","v":5},{"$f":"SUM(AUT_leg:POR_leg!V15)","v":1},{"$f":"SUM(AUT_leg:POR_leg!W15)","v":5},{"$f":"SUM(AUT_leg:POR_leg!X15)","v":0},{"$f":"SUM(AUT_leg:POR_leg!Y15)","v":0},{"$f":"SUM(AUT_leg:POR_leg!Z15)","v":4},{"$f":"SUM(AUT_leg:POR_leg!AA15)","v":4},{"$f":"SUM(AUT_leg:POR_leg!AB15)","v":4},{"$f":"SUM(AUT_leg:POR_leg!AC15)","v":6},{"$f":"SUM(AUT_leg:POR_leg!AD15)","v":1},{"$f":"SUM(AUT_leg:POR_leg!AE15)","v":1},{"$f":"SUM(AUT_leg:POR_leg!AF15)","v":1},{"$f":"SUM(AUT_leg:POR_leg!AG15)","v":5},{"$f":"SUM(AUT_leg:POR_leg!AH15)","v":4},{"$f":"SUM(AUT_leg:POR_leg!AI15)","v":2},{"$f":"SUM(AUT_leg:POR_leg!AJ15)","v":2},{"$f":"SUM(AUT_leg:POR_leg!AK15)","v":3},{"$f":"SUM(AUT_leg:POR_leg!AL15)","v":4},{"$f":"SUM(AUT_leg:POR_leg!AM15)","v":6},{"$f":"SUM(AUT_leg:POR_leg!AN15)","v":5},{"$f":"SUM(AUT_leg:POR_leg!AO15)","v":2},{"$f":"SUM(AUT_leg:POR_leg!AP15)","v":4},{"$f":"SUM(AUT_leg:POR_leg!AQ15)","v":3},{"$f":"SUM(AUT_leg:POR_leg!AR15)","v":2},{"$f":"SUM(AUT_leg:POR_leg!AS15)","v":1},{"$f":"SUM(AUT_leg:POR_leg!AT15)","v":1},{"$f":"SUM(AUT_leg:POR_leg!AU15)","v":1},{"$f":"SUM(AUT_leg:POR_leg!AV15)","v":1},{"$f":"SUM(AUT_leg:POR_leg!AW15)","v":1},{"$f":"SUM(AUT_leg:POR_leg!AX15)","v":5},{"$f":"SUM(AUT_leg:POR_leg!AY15)","v":1},{"$f":"SUM(AUT_leg:POR_leg!AZ15)","v":3},{"$f":"SUM(AUT_leg:POR_leg!BA15)","v":2},{"$f":"SUM(AUT_leg:POR_leg!BB15)","v":1},112,0.27450980392156865]
[null,"Heating system",{"$f":"Sheet1!O176","v":"Including a renewable based heat source"},{"$f":"SUM(AUT_leg:POR_leg!D16)","v":2},{"$f":"SUM(AUT_leg:POR_leg!E16)","v":4},{"$f":"SUM(AUT_leg:POR_leg!F16)","v":1},{"$f":"SUM(AUT_leg:POR_leg!G16)","v":1},{"$f":"SUM(AUT_leg:POR_leg!H16)","v":1},{"$f":"SUM(AUT_leg:POR_leg!I16)","v":3},{"$f":"SUM(AUT_leg:POR_leg!J16)","v":1},{"$f":"SUM(AUT_leg:POR_leg!K16)","v":1},{"$f":"SUM(AUT_leg:POR_leg!L16)","v":1},{"$f":"SUM(AUT_leg:POR_leg!M16)","v":1},{"$f":"SUM(AUT_leg:POR_leg!N16)","v":-1},{"$f":"SUM(AUT_leg:POR_leg!O16)","v":-1},{"$f":"SUM(AUT_leg:POR_leg!P16)","v":6},{"$f":"SUM(AUT_leg:POR_leg!Q16)","v":8},{"$f":"SUM(AUT_leg:POR_leg!R16)","v":3},{"$f":"SUM(AUT_leg:POR_leg!S16)","v":-1},{"$f":"SUM(AUT_leg:POR_leg!T16)","v":1},{"$f":"SUM(AUT_leg:POR_leg!U16)","v":7},{"$f":"SUM(AUT_leg:POR_leg!V16)","v":2},{"$f":"SUM(AUT_leg:POR_leg!W16)","v":7},{"$f":"SUM(AUT_leg:POR_leg!X16)","v":0},{"$f":"SUM(AUT_leg:POR_leg!Y16)","v":0},{"$f":"SUM(AUT_leg:POR_leg!Z16)","v":3},{"$f":"SUM(AUT_leg:POR_leg!AA16)","v":4},{"$f":"SUM(AUT_leg:POR_leg!AB16)","v":1},{"$f":"SUM(AUT_leg:POR_leg!AC16)","v":6},{"$f":"SUM(AUT_leg:POR_leg!AD16)","v":1},{"$f":"SUM(AUT_leg:POR_leg!AE16)","v":1},{"$f":"SUM(AUT_leg:POR_leg!AF16)","v":2},{"$f":"SUM(AUT_leg:POR_leg!AG16)","v":3},{"$f":"SUM(AUT_leg:POR_leg!AH16)","v":4},{"$f":"SUM(AUT_leg:POR_leg!AI16)","v":2},{"$f":"SUM(AUT_leg:POR_leg!AJ16)","v":2},{"$f":"SUM(AUT_leg:POR_leg!AK16)","v":4},{"$f":"SUM(AUT_leg:POR_leg!AL16)","v":6},{"$f":"SUM(AUT_leg:POR_leg!AM16)","v":8},{"$f":"SUM(AUT_leg:POR_leg!AN16)","v":5},{"$f":"SUM(AUT_leg:POR_leg!AO16)","v":3},{"$f":"SUM(AUT_leg:POR_leg!AP16)","v":2},{"$f":"SUM(AUT_leg:POR_leg!AQ16)","v":1},{"$f":"SUM(AUT_leg:POR_leg!AR16)","v":2},{"$f":"SUM(AUT_leg:POR_leg!AS16)","v":1},{"$f":"SUM(AUT_leg:POR_leg!AT16)","v":1},{"$f":"SUM(AUT_leg:POR_leg!AU16)","v":1},{"$f":"SUM(AUT_leg:POR_leg!AV16)","v":1},{"$f":"SUM(AUT_leg:POR_leg!AW16)","v":2},{"$f":"SUM(AUT_leg:POR_leg!AX16)","v":5},{"$f":"SUM(AUT_leg:POR_leg!AY16)","v":1},{"$f":"SUM(AUT_leg:POR_leg!AZ16)","v":3},{"$f":"SUM(AUT_leg:POR_leg!BA16)","v":2},{"$f":"SUM(AUT_leg:POR_leg!BB16)","v":1},125,0.30637254901960786]
[null,"Heating system",{"$f":"Sheet1!O177","v":"Energy efficient pumps"},{"$f":"SUM(AUT_leg:POR_leg!D17)","v":0},{"$f":"SUM(AUT_leg:POR_leg!E17)","v":4},{"$f":"SUM(AUT_leg:POR_leg!F17)","v":0},{"$f":"SUM(AUT_leg:POR_leg!G17)","v":-1},{"$f":"SUM(AUT_leg:POR_leg!H17)","v":-1},{"$f":"SUM(AUT_leg:POR_leg!I17)","v":2},{"$f":"SUM(AUT_leg:POR_leg!J17)","v":1},{"$f":"SUM(AUT_leg:POR_leg!K17)","v":0},{"$f":"SUM(AUT_leg:POR_leg!L17)","v":0},{"$f":"SUM(AUT_leg:POR_leg!M17)","v":0},{"$f":"SUM(AUT_leg:POR_leg!N17)","v":-1},{"$f":"SUM(AUT_leg:POR_leg!O17)","v":-1},{"$f":"SUM(AUT_leg:POR_leg!P17)","v":6},{"$f":"SUM(AUT_leg:POR_leg!Q17)","v":4},{"$f":"SUM(AUT_leg:POR_leg!R17)","v":3},{"$f":"SUM(AUT_leg:POR_leg!S17)","v":-1},{"$f":"SUM(AUT_leg:POR_leg!T17)","v":1},{"$f":"SUM(AUT_leg:POR_leg!U17)","v":5},{"$f":"SUM(AUT_leg:POR_leg!V17)","v":1},{"$f":"SUM(AUT_leg:POR_leg!W17)","v":5},{"$f":"SUM(AUT_leg:POR_leg!X17)","v":0},{"$f":"SUM(AUT_leg:POR_leg!Y17)","v":0},{"$f":"SUM(AUT_leg:POR_leg!Z17)","v":4},{"$f":"SUM(AUT_leg:POR_leg!AA17)","v":4},{"$f":"SUM(AUT_leg:POR_leg!AB17)","v":2},{"$f":"SUM(AUT_leg:POR_leg!AC17)","v":6},{"$f":"SUM(AUT_leg:POR_leg!AD17)","v":1},{"$f":"SUM(AUT_leg:POR_leg!AE17)","v":1},{"$f":"SUM(AUT_leg:POR_leg!AF17)","v":2},{"$f":"SUM(AUT_leg:POR_leg!AG17)","v":4},{"$f":"SUM(AUT_leg:POR_leg!AH17)","v":4},{"$f":"SUM(AUT_leg:POR_leg!AI17)","v":2},{"$f":"SUM(AUT_leg:POR_leg!AJ17)","v":2},{"$f":"SUM(AUT_leg:POR_leg!AK17)","v":2},{"$f":"SUM(AUT_leg:POR_leg!AL17)","v":4},{"$f":"SUM(AUT_leg:POR_leg!AM17)","v":7},{"$f":"SUM(AUT_leg:POR_leg!AN17)","v":4},{"$f":"SUM(AUT_leg:POR_leg!AO17)","v":2},{"$f":"SUM(AUT_leg:POR_leg!AP17)","v":3},{"$f":"SUM(AUT_leg:POR_leg!AQ17)","v":2},{"$f":"SUM(AUT_leg:POR_leg!AR17)","v":2},{"$f":"SUM(AUT_leg:POR_leg!AS17)","v":1},{"$f":"SUM(AUT_leg:POR_leg!AT17)","v":1},{"$f":"SUM(AUT_leg:POR_leg!AU17)","v":1},{"$f":"SUM(AUT_leg:POR_leg!AV17)","v":1},{"$f":"SUM(AUT_leg:POR_leg!AW17)","v":1},{"$f":"SUM(AUT_leg:POR_leg!AX17)","v":4},{"$f":"SUM(AUT_leg:POR_leg!AY17)","v":1},{"$f":"SUM(AUT_leg:POR_leg!AZ17)","v":3},{"$f":"SUM(AUT_leg:POR_leg!BA17)","v":2},{"$f":"SUM(AUT_leg:POR_leg!BB17)","v":1},101,0.24754901960784315]
[null,"DHW system",{"$f":"Sheet1!O179","v":"Reducing the DHW demand"},{"$f":"SUM(AUT_leg:POR_leg!D18)","v":0},{"$f":"SUM(AUT_leg:POR_leg!E18)","v":4},{"$f":"SUM(AUT_leg:POR_leg!F18)","v":0},{"$f":"SUM(AUT_leg:POR_leg!G18)","v":-1},{"$f":"SUM(AUT_leg:POR_leg!H18)","v":-1},{"$f":"SUM(AUT_leg:POR_leg!I18)","v":2},{"$f":"SUM(AUT_leg:POR_leg!J18)","v":1},{"$f":"SUM(AUT_leg:POR_leg!K18)","v":0},{"$f":"SUM(AUT_leg:POR_leg!L18)","v":0},{"$f":"SUM(AUT_leg:POR_leg!M18)","v":-1},{"$f":"SUM(AUT_leg:POR_leg!N18)","v":-1},{"$f":"SUM(AUT_leg:POR_leg!O18)","v":-1},{"$f":"SUM(AUT_leg:POR_leg!P18)","v":5},{"$f":"SUM(AUT_leg:POR_leg!Q18)","v":3},{"$f":"SUM(AUT_leg:POR_leg!R18)","v":3},{"$f":"SUM(AUT_leg:POR_leg!S18)","v":5},{"$f":"SUM(AUT_leg:POR_leg!T18)","v":2},{"$f":"SUM(AUT_leg:POR_leg!U18)","v":4},{"$f":"SUM(AUT_leg:POR_leg!V18)","v":1},{"$f":"SUM(AUT_leg:POR_leg!W18)","v":4},{"$f":"SUM(AUT_leg:POR_leg!X18)","v":0},{"$f":"SUM(AUT_leg:POR_leg!Y18)","v":0},{"$f":"SUM(AUT_leg:POR_leg!Z18)","v":3},{"$f":"SUM(AUT_leg:POR_leg!AA18)","v":2},{"$f":"SUM(AUT_leg:POR_leg!AB18)","v":2},{"$f":"SUM(AUT_leg:POR_leg!AC18)","v":5},{"$f":"SUM(AUT_leg:POR_leg!AD18)","v":1},{"$f":"SUM(AUT_leg:POR_leg!AE18)","v":1},{"$f":"SUM(AUT_leg:POR_leg!AF18)","v":1},{"$f":"SUM(AUT_leg:POR_leg!AG18)","v":4},{"$f":"SUM(AUT_leg:POR_leg!AH18)","v":3},{"$f":"SUM(AUT_leg:POR_leg!AI18)","v":2},{"$f":"SUM(AUT_leg:POR_leg!AJ18)","v":1},{"$f":"SUM(AUT_leg:POR_leg!AK18)","v":2},{"$f":"SUM(AUT_leg:POR_leg!AL18)","v":3},{"$f":"SUM(AUT_leg:POR_leg!AM18)","v":6},{"$f":"SUM(AUT_leg:POR_leg!AN18)","v":4},{"$f":"SUM(AUT_leg:POR_leg!AO18)","v":2},{"$f":"SUM(AUT_leg:POR_leg!AP18)","v":3},{"$f":"SUM(AUT_leg:POR_leg!AQ18)","v":2},{"$f":"SUM(AUT_leg:POR_leg!AR18)","v":2},{"$f":"SUM(AUT_leg:POR_leg!AS18)","v":1},{"$f":"SUM(AUT_leg:POR_leg!AT18)","v":1},{"$f":"SUM(AUT_leg:POR_leg!AU18)","v":1},{"$f":"SUM(AUT_leg:POR_leg!AV18)","v":1},{"$f":"SUM(AUT_leg:POR_leg!AW18)","v":1},{"$f":"SUM(AUT_leg:POR_leg!AX18)","v":3},{"$f":"SUM(AUT_leg:POR_leg!AY18)","v":1},{"$f":"SUM(AUT_leg:POR_leg!AZ18)","v":3},{"$f":"SUM(AUT_leg:POR_leg!BA18)","v":2},{"$f":"SUM(AUT_leg:POR_leg!BB18)","v":1},93,0.22794117647058823]
[null,"DHW system",{"$f":"Sheet1!O180","v":"Insulation of the distribution network"},{"$f":"SUM(AUT_leg:POR_leg!D19)","v":0},{"$f":"SUM(AUT_leg:POR_leg!E19)","v":4},{"$f":"SUM(AUT_leg:POR_leg!F19)","v":0},{"$f":"SUM(AUT_leg:POR_leg!G19)","v":-1},{"$f":"SUM(AUT_leg:POR_leg!H19)","v":-1},{"$f":"SUM(AUT_leg:POR_leg!I19)","v":2},{"$f":"SUM(AUT_leg:POR_leg!J19)","v":1},{"$f":"SUM(AUT_leg:POR_leg!K19)","v":1},{"$f":"SUM(AUT_leg:POR_leg!L19)","v":1},{"$f":"SUM(AUT_leg:POR_leg!M19)","v":-1},{"$f":"SUM(AUT_leg:POR_leg!N19)","v":-1},{"$f":"SUM(AUT_leg:POR_leg!O19)","v":1},{"$f":"SUM(AUT_leg:POR_leg!P19)","v":6},{"$f":"SUM(AUT_leg:POR_leg!Q19)","v":4},{"$f":"SUM(AUT_leg:POR_leg!R19)","v":3},{"$f":"SUM(AUT_leg:POR_leg!S19)","v":1},{"$f":"SUM(AUT_leg:POR_leg!T19)","v":1},{"$f":"SUM(AUT_leg:POR_leg!U19)","v":5},{"$f":"SUM(AUT_leg:POR_leg!V19)","v":1},{"$f":"SUM(AUT_leg:POR_leg!W19)","v":5},{"$f":"SUM(AUT_leg:POR_leg!X19)","v":0},{"$f":"SUM(AUT_leg:POR_leg!Y19)","v":0},{"$f":"SUM(AUT_leg:POR_leg!Z19)","v":3},{"$f":"SUM(AUT_leg:POR_leg!AA19)","v":2},{"$f":"SUM(AUT_leg:POR_leg!AB19)","v":2},{"$f":"SUM(AUT_leg:POR_leg!AC19)","v":5},{"$f":"SUM(AUT_leg:POR_leg!AD19)","v":1},{"$f":"SUM(AUT_leg:POR_leg!AE19)","v":1},{"$f":"SUM(AUT_leg:POR_leg!AF19)","v":1},{"$f":"SUM(AUT_leg:POR_leg!AG19)","v":4},{"$f":"SUM(AUT_leg:POR_leg!AH19)","v":3},{"$f":"SUM(AUT_leg:POR_leg!AI19)","v":2},{"$f":"SUM(AUT_leg:POR_leg!AJ19)","v":1},{"$f":"SUM(AUT_leg:POR_leg!AK19)","v":2},{"$f":"SUM(AUT_leg:POR_leg!AL19)","v":4},{"$f":"SUM(AUT_leg:POR_leg!AM19)","v":6},{"$f":"SUM(AUT_leg:POR_leg!AN19)","v":4},{"$f":"SUM(AUT_leg:POR_leg!AO19)","v":2},{"$f":"SUM(AUT_leg:POR_leg!AP19)","v":3},{"$f":"SUM(AUT_leg:POR_leg!AQ19)","v":2},{"$f":"SUM(AUT_leg:POR_leg!AR19)","v":2},{"$f":"SUM(AUT_leg:POR_leg!AS19)","v":2},{"$f":"SUM(AUT_leg:POR_leg!AT19)","v":1},{"$f":"SUM(AUT_leg:POR_leg!AU19)","v":1},{"$f":"SUM(AUT_leg:POR_leg!AV19)","v":1},{"$f":"SUM(AUT_leg:POR_leg!AW19)","v":1},{"$f":"SUM(AUT_leg:POR_leg!AX19)","v":3},{"$f":"SUM(AUT_leg:POR_leg!AY19)","v":2},{"$f":"SUM(AUT_leg:POR_leg!AZ19)","v":3},{"$f":"SUM(AUT_leg:POR_leg!BA19)","v":3},{"$f":"SUM(AUT_leg:POR_leg!BB19)","v":1},100,0.24509803921568626]
[null,"DHW system",{"$f":"Sheet1!O181","v":"Lowering setpoint temperature"},{"$f":"SUM(AUT_leg:POR_leg!D20)","v":1},{"$f":"SUM(AUT_leg:POR_leg!E20)","v":4},{"$f":"SUM(AUT_leg:POR_leg!F20)","v":0},{"$f":"SUM(AUT_leg:POR_leg!G20)","v":-1},{"$f":"SUM(AUT_leg:POR_leg!H20)","v":0},{"$f":"SUM(AUT_leg:POR_leg!I20)","v":3},{"$f":"SUM(AUT_leg:POR_leg!J20)","v":0},{"$f":"SUM(AUT_leg:POR_leg!K20)","v":1},{"$f":"SUM(AUT_leg:POR_leg!L20)","v":1},{"$f":"SUM(AUT_leg:POR_leg!M20)","v":0},{"$f":"SUM(AUT_leg:POR_leg!N20)","v":-1},{"$f":"SUM(AUT_leg:POR_leg!O20)","v":-1},{"$f":"SUM(AUT_leg:POR_leg!P20)","v":6},{"$f":"SUM(AUT_leg:POR_leg!Q20)","v":4},{"$f":"SUM(AUT_leg:POR_leg!R20)","v":3},{"$f":"SUM(AUT_leg:POR_leg!S20)","v":-1},{"$f":"SUM(AUT_leg:POR_leg!T20)","v":1},{"$f":"SUM(AUT_leg:POR_leg!U20)","v":5},{"$f":"SUM(AUT_leg:POR_leg!V20)","v":1},{"$f":"SUM(AUT_leg:POR_leg!W20)","v":5},{"$f":"SUM(AUT_leg:POR_leg!X20)","v":0},{"$f":"SUM(AUT_leg:POR_leg!Y20)","v":0},{"$f":"SUM(AUT_leg:POR_leg!Z20)","v":3},{"$f":"SUM(AUT_leg:POR_leg!AA20)","v":3},{"$f":"SUM(AUT_leg:POR_leg!AB20)","v":2},{"$f":"SUM(AUT_leg:POR_leg!AC20)","v":5},{"$f":"SUM(AUT_leg:POR_leg!AD20)","v":1},{"$f":"SUM(AUT_leg:POR_leg!AE20)","v":1},{"$f":"SUM(AUT_leg:POR_leg!AF20)","v":1},{"$f":"SUM(AUT_leg:POR_leg!AG20)","v":4},{"$f":"SUM(AUT_leg:POR_leg!AH20)","v":3},{"$f":"SUM(AUT_leg:POR_leg!AI20)","v":2},{"$f":"SUM(AUT_leg:POR_leg!AJ20)","v":1},{"$f":"SUM(AUT_leg:POR_leg!AK20)","v":2},{"$f":"SUM(AUT_leg:POR_leg!AL20)","v":4},{"$f":"SUM(AUT_leg:POR_leg!AM20)","v":5},{"$f":"SUM(AUT_leg:POR_leg!AN20)","v":4},{"$f":"SUM(AUT_leg:POR_leg!AO20)","v":2},{"$f":"SUM(AUT_leg:POR_leg!AP20)","v":3},{"$f":"SUM(AUT_leg:POR_leg!AQ20)","v":2},{"$f":"SUM(AUT_leg:POR_leg!AR20)","v":2},{"$f":"SUM(AUT_leg:POR_leg!AS20)","v":1},{"$f":"SUM(AUT_leg:POR_leg!AT20)","v":1},{"$f":"SUM(AUT_leg:POR_leg!AU20)","v":1},{"$f":"SUM(AUT_leg:POR_leg!AV20)","v":1},{"$f":"SUM(AUT_leg:POR_leg!AW20)","v":1},{"$f":"SUM(AUT_leg:POR_leg!AX20)","v":3},{"$f":"SUM(AUT_leg:POR_leg!AY20)","v":1},{"$f":"SUM(AUT_leg:POR_leg!AZ20)","v":3},{"$f":"SUM(AUT_leg:POR_leg!BA20)","v":2},{"$f":"SUM(AUT_leg:POR_leg!BB20)","v":1},96,0.23529411764705882]
[null,"DHW system",{"$f":"Sheet1!O182","v":"Circulation network optimisation, decentralisation of DHW production"},{"$f":"SUM(AUT_leg:POR_leg!D21)","v":0},{"$f":"SUM(AUT_leg:POR_leg!E21)","v":4},{"$f":"SUM(AUT_leg:POR_leg!F21)","v":0},{"$f":"SUM(AUT_leg:POR_leg!G21)","v":-1},{"$f":"SUM(AUT_leg:POR_leg!H21)","v":-1},{"$f":"SUM(AUT_leg:POR_leg!I21)","v":3},{"$f":"SUM(AUT_leg:POR_leg!J21)","v":1},{"$f":"SUM(AUT_leg:POR_leg!K21)","v":0},{"$f":"SUM(AUT_leg:POR_leg!L21)","v":1},{"$f":"SUM(AUT_leg:POR_leg!M21)","v":-1},{"$f":"SUM(AUT_leg:POR_leg!N21)","v":-1},{"$f":"SUM(AUT_leg:POR_leg!O21)","v":1},{"$f":"SUM(AUT_leg:POR_leg!P21)","v":5},{"$f":"SUM(AUT_leg:POR_leg!Q21)","v":3},{"$f":"SUM(AUT_leg:POR_leg!R21)","v":3},{"$f":"SUM(AUT_leg:POR_leg!S21)","v":1},{"$f":"SUM(AUT_leg:POR_leg!T21)","v":1},{"$f":"SUM(AUT_leg:POR_leg!U21)","v":4},{"$f":"SUM(AUT_leg:POR_leg!V21)","v":1},{"$f":"SUM(AUT_leg:POR_leg!W21)","v":5},{"$f":"SUM(AUT_leg:POR_leg!X21)","v":0},{"$f":"SUM(AUT_leg:POR_leg!Y21)","v":0},{"$f":"SUM(AUT_leg:POR_leg!Z21)","v":3},{"$f":"SUM(AUT_leg:POR_leg!AA21)","v":2},{"$f":"SUM(AUT_leg:POR_leg!AB21)","v":2},{"$f":"SUM(AUT_leg:POR_leg!AC21)","v":6},{"$f":"SUM(AUT_leg:POR_leg!AD21)","v":1},{"$f":"SUM(AUT_leg:POR_leg!AE21)","v":1},{"$f":"SUM(AUT_leg:POR_leg!AF21)","v":1},{"$f":"SUM(AUT_leg:POR_leg!AG21)","v":4},{"$f":"SUM(AUT_leg:POR_leg!AH21)","v":3},{"$f":"SUM(AUT_leg:POR_leg!AI21)","v":2},{"$f":"SUM(AUT_leg:POR_leg!AJ21)","v":1},{"$f":"SUM(AUT_leg:POR_leg!AK21)","v":2},{"$f":"SUM(AUT_leg:POR_leg!AL21)","v":4},{"$f":"SUM(AUT_leg:POR_leg!AM21)","v":6},{"$f":"SUM(AUT_leg:POR_leg!AN21)","v":4},{"$f":"SUM(AUT_leg:POR_leg!AO21)","v":2},{"$f":"SUM(AUT_leg:POR_leg!AP21)","v":3},{"$f":"SUM(AUT_leg:POR_leg!AQ21)","v":2},{"$f":"SUM(AUT_leg:POR_leg!AR21)","v":2},{"$f":"SUM(AUT_leg:POR_leg!AS21)","v":1},{"$f":"SUM(AUT_leg:POR_leg!AT21)","v":1},{"$f":"SUM(AUT_leg:POR_leg!AU21)","v":1},{"$f":"SUM(AUT_leg:POR_leg!AV21)","v":1},{"$f":"SUM(AUT_leg:POR_leg!AW21)","v":1},{"$f":"SUM(AUT_leg:POR_leg!AX21)","v":3},{"$f":"SUM(AUT_leg:POR_leg!AY21)","v":1},{"$f":"SUM(AUT_leg:POR_leg!AZ21)","v":3},{"$f":"SUM(AUT_leg:POR_leg!BA21)","v":2},{"$f":"SUM(AUT_leg:POR_leg!BB21)","v":1},95,0.23284313725490197]
[null,"DHW system",{"$f":"Sheet1!O183","v":"New, more efficient heat generator"},{"$f":"SUM(AUT_leg:POR_leg!D22)","v":0},{"$f":"SUM(AUT_leg:POR_leg!E22)","v":4},{"$f":"SUM(AUT_leg:POR_leg!F22)","v":0},{"$f":"SUM(AUT_leg:POR_leg!G22)","v":-1},{"$f":"SUM(AUT_leg:POR_leg!H22)","v":-1},{"$f":"SUM(AUT_leg:POR_leg!I22)","v":3},{"$f":"SUM(AUT_leg:POR_leg!J22)","v":2},{"$f":"SUM(AUT_leg:POR_leg!K22)","v":0},{"$f":"SUM(AUT_leg:POR_leg!L22)","v":0},{"$f":"SUM(AUT_leg:POR_leg!M22)","v":1},{"$f":"SUM(AUT_leg:POR_leg!N22)","v":-1},{"$f":"SUM(AUT_leg:POR_leg!O22)","v":-1},{"$f":"SUM(AUT_leg:POR_leg!P22)","v":7},{"$f":"SUM(AUT_leg:POR_leg!Q22)","v":4},{"$f":"SUM(AUT_leg:POR_leg!R22)","v":3},{"$f":"SUM(AUT_leg:POR_leg!S22)","v":0},{"$f":"SUM(AUT_leg:POR_leg!T22)","v":1},{"$f":"SUM(AUT_leg:POR_leg!U22)","v":6},{"$f":"SUM(AUT_leg:POR_leg!V22)","v":1},{"$f":"SUM(AUT_leg:POR_leg!W22)","v":5},{"$f":"SUM(AUT_leg:POR_leg!X22)","v":0},{"$f":"SUM(AUT_leg:POR_leg!Y22)","v":0},{"$f":"SUM(AUT_leg:POR_leg!Z22)","v":4},{"$f":"SUM(AUT_leg:POR_leg!AA22)","v":3},{"$f":"SUM(AUT_leg:POR_leg!AB22)","v":3},{"$f":"SUM(AUT_leg:POR_leg!AC22)","v":5},{"$f":"SUM(AUT_leg:POR_leg!AD22)","v":1},{"$f":"SUM(AUT_leg:POR_leg!AE22)","v":1},{"$f":"SUM(AUT_leg:POR_leg!AF22)","v":2},{"$f":"SUM(AUT_leg:POR_leg!AG22)","v":4},{"$f":"SUM(AUT_leg:POR_leg!AH22)","v":3},{"$f":"SUM(AUT_leg:POR_leg!AI22)","v":2},{"$f":"SUM(AUT_leg:POR_leg!AJ22)","v":2},{"$f":"SUM(AUT_leg:POR_leg!AK22)","v":2},{"$f":"SUM(AUT_leg:POR_leg!AL22)","v":5},{"$f":"SUM(AUT_leg:POR_leg!AM22)","v":6},{"$f":"SUM(AUT_leg:POR_leg!AN22)","v":4},{"$f":"SUM(AUT_leg:POR_leg!AO22)","v":3},{"$f":"SUM(AUT_leg:POR_leg!AP22)","v":3},{"$f":"SUM(AUT_leg:POR_leg!AQ22)","v":2},{"$f":"SUM(AUT_leg:POR_leg!AR22)","v":2},{"$f":"SUM(AUT_leg:POR_leg!AS22)","v":1},{"$f":"SUM(AUT_leg:POR_leg!AT22)","v":1},{"$f":"SUM(AUT_leg:POR_leg!AU22)","v":1},{"$f":"SUM(AUT_leg:POR_leg!AV22)","v":1},{"$f":"SUM(AUT_leg:POR_leg!AW22)","v":1},{"$f":"SUM(AUT_leg:POR_leg!AX22)","v":5},{"$f":"SUM(AUT_leg:POR_leg!AY22)","v":1},{"$f":"SUM(AUT_leg:POR_leg!AZ22)","v":3},{"$f":"SUM(AUT_leg:POR_leg!BA22)","v":2},{"$f":"SUM(AUT_leg:POR_leg!BB22)","v":1},107,0.26225490196078433]
[null,"DHW system",{"$f":"Sheet1!O184","v":"Including a renewable based heat source"},{"$f":"SUM(AUT_leg:POR_leg!D23)","v":1},{"$f":"SUM(AUT_leg:POR_leg!E23)","v":4},{"$f":"SUM(AUT_leg:POR_leg!F23)","v":0},{"$f":"SUM(AUT_leg:POR_leg!G23)","v":0},{"$f":"SUM(AUT_leg:POR_leg!H23)","v":0},{"$f":"SUM(AUT_leg:POR_leg!I23)","v":3},{"$f":"SUM(AUT_leg:POR_leg!J23)","v":1},{"$f":"SUM(AUT_leg:POR_leg!K23)","v":1},{"$f":"SUM(AUT_leg:POR_leg!L23)","v":1},{"$f":"SUM(AUT_leg:POR_leg!M23)","v":1},{"$f":"SUM(AUT_leg:POR_leg!N23)","v":-1},{"$f":"SUM(AUT_leg:POR_leg!O23)","v":-1},{"$f":"SUM(AUT_leg:POR_leg!P23)","v":7},{"$f":"SUM(AUT_leg:POR_leg!Q23)","v":5},{"$f":"SUM(AUT_leg:POR_leg!R23)","v":2},{"$f":"SUM(AUT_leg:POR_leg!S23)","v":-1},{"$f":"SUM(AUT_leg:POR_leg!T23)","v":1},{"$f":"SUM(AUT_leg:POR_leg!U23)","v":6},{"$f":"SUM(AUT_leg:POR_leg!V23)","v":2},{"$f":"SUM(AUT_leg:POR_leg!W23)","v":6},{"$f":"SUM(AUT_leg:POR_leg!X23)","v":0},{"$f":"SUM(AUT_leg:POR_leg!Y23)","v":0},{"$f":"SUM(AUT_leg:POR_leg!Z23)","v":4},{"$f":"SUM(AUT_leg:POR_leg!AA23)","v":3},{"$f":"SUM(AUT_leg:POR_leg!AB23)","v":2},{"$f":"SUM(AUT_leg:POR_leg!AC23)","v":6},{"$f":"SUM(AUT_leg:POR_leg!AD23)","v":1},{"$f":"SUM(AUT_leg:POR_leg!AE23)","v":1},{"$f":"SUM(AUT_leg:POR_leg!AF23)","v":2},{"$f":"SUM(AUT_leg:POR_leg!AG23)","v":4},{"$f":"SUM(AUT_leg:POR_leg!AH23)","v":4},{"$f":"SUM(AUT_leg:POR_leg!AI23)","v":2},{"$f":"SUM(AUT_leg:POR_leg!AJ23)","v":2},{"$f":"SUM(AUT_leg:POR_leg!AK23)","v":4},{"$f":"SUM(AUT_leg:POR_leg!AL23)","v":6},{"$f":"SUM(AUT_leg:POR_leg!AM23)","v":7},{"$f":"SUM(AUT_leg:POR_leg!AN23)","v":4},{"$f":"SUM(AUT_leg:POR_leg!AO23)","v":3},{"$f":"SUM(AUT_leg:POR_leg!AP23)","v":3},{"$f":"SUM(AUT_leg:POR_leg!AQ23)","v":2},{"$f":"SUM(AUT_leg:POR_leg!AR23)","v":2},{"$f":"SUM(AUT_leg:POR_leg!AS23)","v":1},{"$f":"SUM(AUT_leg:POR_leg!AT23)","v":1},{"$f":"SUM(AUT_leg:POR_leg!AU23)","v":1},{"$f":"SUM(AUT_leg:POR_leg!AV23)","v":1},{"$f":"SUM(AUT_leg:POR_leg!AW23)","v":2},{"$f":"SUM(AUT_leg:POR_leg!AX23)","v":5},{"$f":"SUM(AUT_leg:POR_leg!AY23)","v":1},{"$f":"SUM(AUT_leg:POR_leg!AZ23)","v":3},{"$f":"SUM(AUT_leg:POR_leg!BA23)","v":2},{"$f":"SUM(AUT_leg:POR_leg!BB23)","v":1},118,0.28921568627450983]
[null,"Cooling system",{"$f":"Sheet1!O186","v":"Roomwise temperature control"},{"$f":"SUM(AUT_leg:POR_leg!D24)","v":4},{"$f":"SUM(AUT_leg:POR_leg!E24)","v":4},{"$f":"SUM(AUT_leg:POR_leg!F24)","v":2},{"$f":"SUM(AUT_leg:POR_leg!G24)","v":1},{"$f":"SUM(AUT_leg:POR_leg!H24)","v":2},{"$f":"SUM(AUT_leg:POR_leg!I24)","v":4},{"$f":"SUM(AUT_leg:POR_leg!J24)","v":2},{"$f":"SUM(AUT_leg:POR_leg!K24)","v":2},{"$f":"SUM(AUT_leg:POR_leg!L24)","v":2},{"$f":"SUM(AUT_leg:POR_leg!M24)","v":1},{"$f":"SUM(AUT_leg:POR_leg!N24)","v":-1},{"$f":"SUM(AUT_leg:POR_leg!O24)","v":-1},{"$f":"SUM(AUT_leg:POR_leg!P24)","v":6},{"$f":"SUM(AUT_leg:POR_leg!Q24)","v":4},{"$f":"SUM(AUT_leg:POR_leg!R24)","v":3},{"$f":"SUM(AUT_leg:POR_leg!S24)","v":-1},{"$f":"SUM(AUT_leg:POR_leg!T24)","v":1},{"$f":"SUM(AUT_leg:POR_leg!U24)","v":5},{"$f":"SUM(AUT_leg:POR_leg!V24)","v":1},{"$f":"SUM(AUT_leg:POR_leg!W24)","v":5},{"$f":"SUM(AUT_leg:POR_leg!X24)","v":0},{"$f":"SUM(AUT_leg:POR_leg!Y24)","v":0},{"$f":"SUM(AUT_leg:POR_leg!Z24)","v":5},{"$f":"SUM(AUT_leg:POR_leg!AA24)","v":3},{"$f":"SUM(AUT_leg:POR_leg!AB24)","v":2},{"$f":"SUM(AUT_leg:POR_leg!AC24)","v":6},{"$f":"SUM(AUT_leg:POR_leg!AD24)","v":1},{"$f":"SUM(AUT_leg:POR_leg!AE24)","v":2},{"$f":"SUM(AUT_leg:POR_leg!AF24)","v":2},{"$f":"SUM(AUT_leg:POR_leg!AG24)","v":5},{"$f":"SUM(AUT_leg:POR_leg!AH24)","v":4},{"$f":"SUM(AUT_leg:POR_leg!AI24)","v":2},{"$f":"SUM(AUT_leg:POR_leg!AJ24)","v":2},{"$f":"SUM(AUT_leg:POR_leg!AK24)","v":2},{"$f":"SUM(AUT_leg:POR_leg!AL24)","v":4},{"$f":"SUM(AUT_leg:POR_leg!AM24)","v":7},{"$f":"SUM(AUT_leg:POR_leg!AN24)","v":5},{"$f":"SUM(AUT_leg:POR_leg!AO24)","v":2},{"$f":"SUM(AUT_leg:POR_leg!AP24)","v":3},{"$f":"SUM(AUT_leg:POR_leg!AQ24)","v":3},{"$f":"SUM(AUT_leg:POR_leg!AR24)","v":2},{"$f":"SUM(AUT_leg:POR_leg!AS24)","v":2},{"$f":"SUM(AUT_leg:POR_leg!AT24)","v":2},{"$f":"SUM(AUT_leg:POR_leg!AU24)","v":1},{"$f":"SUM(AUT_leg:POR_leg!AV24)","v":1},{"$f":"SUM(AUT_leg:POR_leg!AW24)","v":1},{"$f":"SUM(AUT_leg:POR_leg!AX24)","v":3},{"$f":"SUM(AUT_leg:POR_leg!AY24)","v":1},{"$f":"SUM(AUT_leg:POR_leg!AZ24)","v":4},{"$f":"SUM(AUT_leg:POR_leg!BA24)","v":2},{"$f":"SUM(AUT_leg:POR_leg!BB24)","v":1},126,0.30882352941176472]
[null,"Cooling system",{"$f":"Sheet1!O187","v":"Zoning optimisation of the building"},{"$f":"SUM(AUT_leg:POR_leg!D25)","v":3},{"$f":"SUM(AUT_leg:POR_leg!E25)","v":4},{"$f":"SUM(AUT_leg:POR_leg!F25)","v":2},{"$f":"SUM(AUT_leg:POR_leg!G25)","v":1},{"$f":"SUM(AUT_leg:POR_leg!H25)","v":2},{"$f":"SUM(AUT_leg:POR_leg!I25)","v":3},{"$f":"SUM(AUT_leg:POR_leg!J25)","v":1},{"$f":"SUM(AUT_leg:POR_leg!K25)","v":2},{"$f":"SUM(AUT_leg:POR_leg!L25)","v":2},{"$f":"SUM(AUT_leg:POR_leg!M25)","v":1},{"$f":"SUM(AUT_leg:POR_leg!N25)","v":-1},{"$f":"SUM(AUT_leg:POR_leg!O25)","v":-1},{"$f":"SUM(AUT_leg:POR_leg!P25)","v":5},{"$f":"SUM(AUT_leg:POR_leg!Q25)","v":3},{"$f":"SUM(AUT_leg:POR_leg!R25)","v":3},{"$f":"SUM(AUT_leg:POR_leg!S25)","v":-1},{"$f":"SUM(AUT_leg:POR_leg!T25)","v":1},{"$f":"SUM(AUT_leg:POR_leg!U25)","v":4},{"$f":"SUM(AUT_leg:POR_leg!V25)","v":1},{"$f":"SUM(AUT_leg:POR_leg!W25)","v":4},{"$f":"SUM(AUT_leg:POR_leg!X25)","v":0},{"$f":"SUM(AUT_leg:POR_leg!Y25)","v":0},{"$f":"SUM(AUT_leg:POR_leg!Z25)","v":4},{"$f":"SUM(AUT_leg:POR_leg!AA25)","v":3},{"$f":"SUM(AUT_leg:POR_leg!AB25)","v":2},{"$f":"SUM(AUT_leg:POR_leg!AC25)","v":6},{"$f":"SUM(AUT_leg:POR_leg!AD25)","v":1},{"$f":"SUM(AUT_leg:POR_leg!AE25)","v":2},{"$f":"SUM(AUT_leg:POR_leg!AF25)","v":2},{"$f":"SUM(AUT_leg:POR_leg!AG25)","v":5},{"$f":"SUM(AUT_leg:POR_leg!AH25)","v":4},{"$f":"SUM(AUT_leg:POR_leg!AI25)","v":2},{"$f":"SUM(AUT_leg:POR_leg!AJ25)","v":3},{"$f":"SUM(AUT_leg:POR_leg!AK25)","v":2},{"$f":"SUM(AUT_leg:POR_leg!AL25)","v":4},{"$f":"SUM(AUT_leg:POR_leg!AM25)","v":7},{"$f":"SUM(AUT_leg:POR_leg!AN25)","v":5},{"$f":"SUM(AUT_leg:POR_leg!AO25)","v":2},{"$f":"SUM(AUT_leg:POR_leg!AP25)","v":2},{"$f":"SUM(AUT_leg:POR_leg!AQ25)","v":1},{"$f":"SUM(AUT_leg:POR_leg!AR25)","v":1},{"$f":"SUM(AUT_leg:POR_leg!AS25)","v":1},{"$f":"SUM(AUT_leg:POR_leg!AT25)","v":1},{"$f":"SUM(AUT_leg:POR_leg!AU25)","v":1},{"$f":"SUM(AUT_leg:POR_leg!AV25)","v":1},{"$f":"SUM(AUT_leg:POR_leg!AW25)","v":1},{"$f":"SUM(AUT_leg:POR_leg!AX25)","v":3},{"$f":"SUM(AUT_leg:POR_leg!AY25)","v":1},{"$f":"SUM(AUT_leg:POR_leg!AZ25)","v":4},{"$f":"SUM(AUT_leg:POR_leg!BA25)","v":2},{"$f":"SUM(AUT_leg:POR_leg!BB25)","v":1},113,0.27696078431372551]
[null,"Cooling system",{"$f":"Sheet1!O188","v":"Optimisation of the cooling schedule"},{"$f":"SUM(AUT_leg:POR_leg!D26)","v":3},{"$f":"SUM(AUT_leg:POR_leg!E26)","v":4},{"$f":"SUM(AUT_leg:POR_leg!F26)","v":2},{"$f":"SUM(AUT_leg:POR_leg!G26)","v":1},{"$f":"SUM(AUT_leg:POR_leg!H26)","v":2},{"$f":"SUM(AUT_leg:POR_leg!I26)","v":3},{"$f":"SUM(AUT_leg:POR_leg!J26)","v":1},{"$f":"SUM(AUT_leg:POR_leg!K26)","v":2},{"$f":"SUM(AUT_leg:POR_leg!L26)","v":2},{"$f":"SUM(AUT_leg:POR_leg!M26)","v":1},{"$f":"SUM(AUT_leg:POR_leg!N26)","v":-1},{"$f":"SUM(AUT_leg:POR_leg!O26)","v":-1},{"$f":"SUM(AUT_leg:POR_leg!P26)","v":5},{"$f":"SUM(AUT_leg:POR_leg!Q26)","v":3},{"$f":"SUM(AUT_leg:POR_leg!R26)","v":3},{"$f":"SUM(AUT_leg:POR_leg!S26)","v":-1},{"$f":"SUM(AUT_leg:POR_leg!T26)","v":1},{"$f":"SUM(AUT_leg:POR_leg!U26)","v":4},{"$f":"SUM(AUT_leg:POR_leg!V26)","v":1},{"$f":"SUM(AUT_leg:POR_leg!W26)","v":4},{"$f":"SUM(AUT_leg:POR_leg!X26)","v":0},{"$f":"SUM(AUT_leg:POR_leg!Y26)","v":0},{"$f":"SUM(AUT_leg:POR_leg!Z26)","v":4},{"$f":"SUM(AUT_leg:POR_leg!AA26)","v":3},{"$f":"SUM(AUT_leg:POR_leg!AB26)","v":2},{"$f":"SUM(AUT_leg:POR_leg!AC26)","v":5},{"$f":"SUM(AUT_leg:POR_leg!AD26)","v":1},{"$f":"SUM(AUT_leg:POR_leg!AE26)","v":2},{"$f":"SUM(AUT_leg:POR_leg!AF26)","v":2},{"$f":"SUM(AUT_leg:POR_leg!AG26)","v":4},{"$f":"SUM(AUT_leg:POR_leg!AH26)","v":4},{"$f":"SUM(AUT_leg:POR_leg!AI26)","v":2},{"$f":"SUM(AUT_leg:POR_leg!AJ26)","v":2},{"$f":"SUM(AUT_leg:POR_leg!AK26)","v":2},{"$f":"SUM(AUT_leg:POR_leg!AL26)","v":3},{"$f":"SUM(AUT_leg:POR_leg!AM26)","v":7},{"$f":"SUM(AUT_leg:POR_leg!AN26)","v":4},{"$f":"SUM(AUT_leg:POR_leg!AO26)","v":2},{"$f":"SUM(AUT_leg:POR_leg!AP26)","v":3},{"$f":"SUM(AUT_leg:POR_leg!AQ26)","v":2},{"$f":"SUM(AUT_leg:POR_leg!AR26)","v":2},{"$f":"SUM(AUT_leg:POR_leg!AS26)","v":2},{"$f":"SUM(AUT_leg:POR_leg!AT26)","v":2},{"$f":"SUM(AUT_leg:POR_leg!AU26)","v":1},{"$f":"SUM(AUT_leg:POR_leg!AV26)","v":1},{"$f":"SUM(AUT_leg:POR_leg!AW26)","v":1},{"$f":"SUM(AUT_leg:POR_leg!AX26)","v":3},{"$f":"SUM(AUT_leg:POR_leg!AY26)","v":1},{"$f":"SUM(AUT_leg:POR_leg!AZ26)","v":4},{"$f":"SUM(AUT_leg:POR_leg!BA26)","v":2},{"$f":"SUM(AUT_leg:POR_leg!BB26)","v":1},113,0.27696078431372551]
[null,"Cooling system",{"$f":"Sheet1!O189","v":"Increasing setpoint temperature"},{"$f":"SUM(AUT_leg:POR_leg!D27)","v":0},{"$f":"SUM(AUT_leg:POR_leg!E27)","v":3},{"$f":"SUM(AUT_leg:POR_leg!F27)","v":-1},{"$f":"SUM(AUT_leg:POR_leg!G27)","v":-1},{"$f":"SUM(AUT_leg:POR_leg!H27)","v":0},{"$f":"SUM(AUT_leg:POR_leg!I27)","v":3},{"$f":"SUM(AUT_leg:POR_leg!J27)","v":1},{"$f":"SUM(AUT_leg:POR_leg!K27)","v":2},{"$f":"SUM(AUT_leg:POR_leg!L27)","v":2},{"$f":"SUM(AUT_leg:POR_leg!M27)","v":1},{"$f":"SUM(AUT_leg:POR_leg!N27)","v":-1},{"$f":"SUM(AUT_leg:POR_leg!O27)","v":-1},{"$f":"SUM(AUT_leg:POR_leg!P27)","v":6},{"$f":"SUM(AUT_leg:POR_leg!Q27)","v":4},{"$f":"SUM(AUT_leg:POR_leg!R27)","v":3},{"$f":"SUM(AUT_leg:POR_leg!S27)","v":-1},{"$f":"SUM(AUT_leg:POR_leg!T27)","v":1},{"$f":"SUM(AUT_leg:POR_leg!U27)","v":5},{"$f":"SUM(AUT_leg:POR_leg!V27)","v":1},{"$f":"SUM(AUT_leg:POR_leg!W27)","v":5},{"$f":"SUM(AUT_leg:POR_leg!X27)","v":0},{"$f":"SUM(AUT_leg:POR_leg!Y27)","v":0},{"$f":"SUM(AUT_leg:POR_leg!Z27)","v":4},{"$f":"SUM(AUT_leg:POR_leg!AA27)","v":3},{"$f":"SUM(AUT_leg:POR_leg!AB27)","v":2},{"$f":"SUM(AUT_leg:POR_leg!AC27)","v":5},{"$f":"SUM(AUT_leg:POR_leg!AD27)","v":1},{"$f":"SUM(AUT_leg:POR_leg!AE27)","v":2},{"$f":"SUM(AUT_leg:POR_leg!AF27)","v":2},{"$f":"SUM(AUT_leg:POR_leg!AG27)","v":4},{"$f":"SUM(AUT_leg:POR_leg!AH27)","v":4},{"$f":"SUM(AUT_leg:POR_leg!AI27)","v":2},{"$f":"SUM(AUT_leg:POR_leg!AJ27)","v":1},{"$f":"SUM(AUT_leg:POR_leg!AK27)","v":1},{"$f":"SUM(AUT_leg:POR_leg!AL27)","v":3},{"$f":"SUM(AUT_leg:POR_leg!AM27)","v":6},{"$f":"SUM(AUT_leg:POR_leg!AN27)","v":4},{"$f":"SUM(AUT_leg:POR_leg!AO27)","v":2},{"$f":"SUM(AUT_leg:POR_leg!AP27)","v":2},{"$f":"SUM(AUT_leg:POR_leg!AQ27)","v":1},{"$f":"SUM(AUT_leg:POR_leg!AR27)","v":1},{"$f":"SUM(AUT_leg:POR_leg!AS27)","v":1},{"$f":"SUM(AUT_leg:POR_leg!AT27)","v":1},{"$f":"SUM(AUT_leg:POR_leg!AU27)","v":1},{"$f":"SUM(AUT_leg:POR_leg!AV27)","v":1},{"$f":"SUM(AUT_leg:POR_leg!AW27)","v":1},{"$f":"SUM(AUT_leg:POR_leg!AX27)","v":3},{"$f":"SUM(AUT_leg:POR_leg!AY27)","v":1},{"$f":"SUM(AUT_leg:POR_leg!AZ27)","v":3},{"$f":"SUM(AUT_leg:POR_leg!BA27)","v":2},{"$f":"SUM(AUT_leg:POR_leg!BB27)","v":1},97,0.23774509803921567]
[null,"Cooling system",{"$f":"Sheet1!O190","v":"Control optimisation"},{"$f":"SUM(AUT_leg:POR_leg!D28)","v":2},{"$f":"SUM(AUT_leg:POR_leg!E28)","v":4},{"$f":"SUM(AUT_leg:POR_leg!F28)","v":1},{"$f":"SUM(AUT_leg:POR_leg!G28)","v":0},{"$f":"SUM(AUT_leg:POR_leg!H28)","v":1},{"$f":"SUM(AUT_leg:POR_leg!I28)","v":4},{"$f":"SUM(AUT_leg:POR_leg!J28)","v":1},{"$f":"SUM(AUT_leg:POR_leg!K28)","v":2},{"$f":"SUM(AUT_leg:POR_leg!L28)","v":2},{"$f":"SUM(AUT_leg:POR_leg!M28)","v":2},{"$f":"SUM(AUT_leg:POR_leg!N28)","v":-1},{"$f":"SUM(AUT_leg:POR_leg!O28)","v":1},{"$f":"SUM(AUT_leg:POR_leg!P28)","v":5},{"$f":"SUM(AUT_leg:POR_leg!Q28)","v":3},{"$f":"SUM(AUT_leg:POR_leg!R28)","v":3},{"$f":"SUM(AUT_leg:POR_leg!S28)","v":-1},{"$f":"SUM(AUT_leg:POR_leg!T28)","v":1},{"$f":"SUM(AUT_leg:POR_leg!U28)","v":4},{"$f":"SUM(AUT_leg:POR_leg!V28)","v":1},{"$f":"SUM(AUT_leg:POR_leg!W28)","v":4},{"$f":"SUM(AUT_leg:POR_leg!X28)","v":0},{"$f":"SUM(AUT_leg:POR_leg!Y28)","v":0},{"$f":"SUM(AUT_leg:POR_leg!Z28)","v":4},{"$f":"SUM(AUT_leg:POR_leg!AA28)","v":3},{"$f":"SUM(AUT_leg:POR_leg!AB28)","v":2},{"$f":"SUM(AUT_leg:POR_leg!AC28)","v":5},{"$f":"SUM(AUT_leg:POR_leg!AD28)","v":1},{"$f":"SUM(AUT_leg:POR_leg!AE28)","v":2},{"$f":"SUM(AUT_leg:POR_leg!AF28)","v":2},{"$f":"SUM(AUT_leg:POR_leg!AG28)","v":4},{"$f":"SUM(AUT_leg:POR_leg!AH28)","v":4},{"$f":"SUM(AUT_leg:POR_leg!AI28)","v":2},{"$f":"SUM(AUT_leg:POR_leg!AJ28)","v":2},{"$f":"SUM(AUT_leg:POR_leg!AK28)","v":2},{"$f":"SUM(AUT_leg:POR_leg!AL28)","v":3},{"$f":"SUM(AUT_leg:POR_leg!AM28)","v":7},{"$f":"SUM(AUT_leg:POR_leg!AN28)","v":4},{"$f":"SUM(AUT_leg:POR_leg!AO28)","v":2},{"$f":"SUM(AUT_leg:POR_leg!AP28)","v":3},{"$f":"SUM(AUT_leg:POR_leg!AQ28)","v":2},{"$f":"SUM(AUT_leg:POR_leg!AR28)","v":2},{"$f":"SUM(AUT_leg:POR_leg!AS28)","v":2},{"$f":"SUM(AUT_leg:POR_leg!AT28)","v":2},{"$f":"SUM(AUT_leg:POR_leg!AU28)","v":1},{"$f":"SUM(AUT_leg:POR_leg!AV28)","v":1},{"$f":"SUM(AUT_leg:POR_leg!AW28)","v":1},{"$f":"SUM(AUT_leg:POR_leg!AX28)","v":3},{"$f":"SUM(AUT_leg:POR_leg!AY28)","v":3},{"$f":"SUM(AUT_leg:POR_leg!AZ28)","v":3},{"$f":"SUM(AUT_leg:POR_leg!BA28)","v":2},{"$f":"SUM(AUT_leg:POR_leg!BB28)","v":1},114,0.27941176470588236]
[null,"Cooling system",{"$f":"Sheet1!O191","v":"Insulation of the distribution network"},{"$f":"SUM(AUT_leg:POR_leg!D29)","v":0},{"$f":"SUM(AUT_leg:POR_leg!E29)","v":4},{"$f":"SUM(AUT_leg:POR_leg!F29)","v":0},{"$f":"SUM(AUT_leg:POR_leg!G29)","v":-1},{"$f":"SUM(AUT_leg:POR_leg!H29)","v":-1},{"$f":"SUM(AUT_leg:POR_leg!I29)","v":2},{"$f":"SUM(AUT_leg:POR_leg!J29)","v":1},{"$f":"SUM(AUT_leg:POR_leg!K29)","v":1},{"$f":"SUM(AUT_leg:POR_leg!L29)","v":1},{"$f":"SUM(AUT_leg:POR_leg!M29)","v":1},{"$f":"SUM(AUT_leg:POR_leg!N29)","v":-1},{"$f":"SUM(AUT_leg:POR_leg!O29)","v":1},{"$f":"SUM(AUT_leg:POR_leg!P29)","v":6},{"$f":"SUM(AUT_leg:POR_leg!Q29)","v":4},{"$f":"SUM(AUT_leg:POR_leg!R29)","v":3},{"$f":"SUM(AUT_leg:POR_leg!S29)","v":-1},{"$f":"SUM(AUT_leg:POR_leg!T29)","v":1},{"$f":"SUM(AUT_leg:POR_leg!U29)","v":5},{"$f":"SUM(AUT_leg:POR_leg!V29)","v":1},{"$f":"SUM(AUT_leg:POR_leg!W29)","v":5},{"$f":"SUM(AUT_leg:POR_leg!X29)","v":0},{"$f":"SUM(AUT_leg:POR_leg!Y29)","v":0},{"$f":"SUM(AUT_leg:POR_leg!Z29)","v":4},{"$f":"SUM(AUT_leg:POR_leg!AA29)","v":3},{"$f":"SUM(AUT_leg:POR_leg!AB29)","v":2},{"$f":"SUM(AUT_leg:POR_leg!AC29)","v":5},{"$f":"SUM(AUT_leg:POR_leg!AD29)","v":1},{"$f":"SUM(AUT_leg:POR_leg!AE29)","v":2},{"$f":"SUM(AUT_leg:POR_leg!AF29)","v":1},{"$f":"SUM(AUT_leg:POR_leg!AG29)","v":4},{"$f":"SUM(AUT_leg:POR_leg!AH29)","v":4},{"$f":"SUM(AUT_leg:POR_leg!AI29)","v":2},{"$f":"SUM(AUT_leg:POR_leg!AJ29)","v":2},{"$f":"SUM(AUT_leg:POR_leg!AK29)","v":2},{"$f":"SUM(AUT_leg:POR_leg!AL29)","v":4},{"$f":"SUM(AUT_leg:POR_leg!AM29)","v":7},{"$f":"SUM(AUT_leg:POR_leg!AN29)","v":5},{"$f":"SUM(AUT_leg:POR_leg!AO29)","v":2},{"$f":"SUM(AUT_leg:POR_leg!AP29)","v":3},{"$f":"SUM(AUT_leg:POR_leg!AQ29)","v":2},{"$f":"SUM(AUT_leg:POR_leg!AR29)","v":2},{"$f":"SUM(AUT_leg:POR_leg!AS29)","v":2},{"$f":"SUM(AUT_leg:POR_leg!AT29)","v":1},{"$f":"SUM(AUT_leg:POR_leg!AU29)","v":1},{"$f":"SUM(AUT_leg:POR_leg!AV29)","v":1},{"$f":"SUM(AUT_leg:POR_leg!AW29)","v":1},{"$f":"SUM(AUT_leg:POR_leg!AX29)","v":3},{"$f":"SUM(AUT_leg:POR_leg!AY29)","v":1},{"$f":"SUM(AUT_leg:POR_leg!AZ29)","v":3},{"$f":"SUM(AUT_leg:POR_leg!BA29)","v":3},{"$f":"SUM(AUT_leg:POR_leg!BB29)","v":1},106,0.25980392156862747]
[null,"Cooling system",{"$f":"Sheet1!O192","v":"Hydraulic balancing of the distribution network"},{"$f":"SUM(AUT_leg:POR_leg!D30)","v":1},{"$f":"SUM(AUT_leg:POR_leg!E30)","v":4},{"$f":"SUM(AUT_leg:POR_leg!F30)","v":0},{"$f":"SUM(AUT_leg:POR_leg!G30)","v":-1},{"$f":"SUM(AUT_leg:POR_leg!H30)","v":0},{"$f":"SUM(AUT_leg:POR_leg!I30)","v":3},{"$f":"SUM(AUT_leg:POR_leg!J30)","v":1},{"$f":"SUM(AUT_leg:POR_leg!K30)","v":2},{"$f":"SUM(AUT_leg:POR_leg!L30)","v":2},{"$f":"SUM(AUT_leg:POR_leg!M30)","v":0},{"$f":"SUM(AUT_leg:POR_leg!N30)","v":-1},{"$f":"SUM(AUT_leg:POR_leg!O30)","v":1},{"$f":"SUM(AUT_leg:POR_leg!P30)","v":6},{"$f":"SUM(AUT_leg:POR_leg!Q30)","v":4},{"$f":"SUM(AUT_leg:POR_leg!R30)","v":3},{"$f":"SUM(AUT_leg:POR_leg!S30)","v":0},{"$f":"SUM(AUT_leg:POR_leg!T30)","v":1},{"$f":"SUM(AUT_leg:POR_leg!U30)","v":5},{"$f":"SUM(AUT_leg:POR_leg!V30)","v":1},{"$f":"SUM(AUT_leg:POR_leg!W30)","v":5},{"$f":"SUM(AUT_leg:POR_leg!X30)","v":0},{"$f":"SUM(AUT_leg:POR_leg!Y30)","v":0},{"$f":"SUM(AUT_leg:POR_leg!Z30)","v":4},{"$f":"SUM(AUT_leg:POR_leg!AA30)","v":3},{"$f":"SUM(AUT_leg:POR_leg!AB30)","v":3},{"$f":"SUM(AUT_leg:POR_leg!AC30)","v":5},{"$f":"SUM(AUT_leg:POR_leg!AD30)","v":1},{"$f":"SUM(AUT_leg:POR_leg!AE30)","v":2},{"$f":"SUM(AUT_leg:POR_leg!AF30)","v":1},{"$f":"SUM(AUT_leg:POR_leg!AG30)","v":3},{"$f":"SUM(AUT_leg:POR_leg!AH30)","v":4},{"$f":"SUM(AUT_leg:POR_leg!AI30)","v":2},{"$f":"SUM(AUT_leg:POR_leg!AJ30)","v":2},{"$f":"SUM(AUT_leg:POR_leg!AK30)","v":2},{"$f":"SUM(AUT_leg:POR_leg!AL30)","v":5},{"$f":"SUM(AUT_leg:POR_leg!AM30)","v":7},{"$f":"SUM(AUT_leg:POR_leg!AN30)","v":4},{"$f":"SUM(AUT_leg:POR_leg!AO30)","v":2},{"$f":"SUM(AUT_leg:POR_leg!AP30)","v":3},{"$f":"SUM(AUT_leg:POR_leg!AQ30)","v":2},{"$f":"SUM(AUT_leg:POR_leg!AR30)","v":2},{"$f":"SUM(AUT_leg:POR_leg!AS30)","v":1},{"$f":"SUM(AUT_leg:POR_leg!AT30)","v":1},{"$f":"SUM(AUT_leg:POR_leg!AU30)","v":1},{"$f":"SUM(AUT_leg:POR_leg!AV30)","v":1},{"$f":"SUM(AUT_leg:POR_leg!AW30)","v":1},{"$f":"SUM(AUT_leg:POR_leg!AX30)","v":3},{"$f":"SUM(AUT_leg:POR_leg!AY30)","v":1},{"$f":"SUM(AUT_leg:POR_leg!AZ30)","v":3},{"$f":"SUM(AUT_leg:POR_leg!BA30)","v":2},{"$f":"SUM(AUT_leg:POR_leg!BB30)","v":1},109,0.26715686274509803]
[null,"Cooling system",{"$f":"Sheet1!O193","v":"New, more efficient heat generator"},{"$f":"SUM(AUT_leg:POR_leg!D31)","v":0},{"$f":"SUM(AUT_leg:POR_leg!E31)","v":4},{"$f":"SUM(AUT_leg:POR_leg!F31)","v":0},{"$f":"SUM(AUT_leg:POR_leg!G31)","v":-1},{"$f":"SUM(AUT_leg:POR_leg!H31)","v":-1},{"$f":"SUM(AUT_leg:POR_leg!I31)","v":2},{"$f":"SUM(AUT_leg:POR_leg!J31)","v":1},{"$f":"SUM(AUT_leg:POR_leg!K31)","v":1},{"$f":"SUM(AUT_leg:POR_leg!L31)","v":1},{"$f":"SUM(AUT_leg:POR_leg!M31)","v":0},{"$f":"SUM(AUT_leg:POR_leg!N31)","v":-1},{"$f":"SUM(AUT_leg:POR_leg!O31)","v":-1},{"$f":"SUM(AUT_leg:POR_leg!P31)","v":6},{"$f":"SUM(AUT_leg:POR_leg!Q31)","v":4},{"$f":"SUM(AUT_leg:POR_leg!R31)","v":3},{"$f":"SUM(AUT_leg:POR_leg!S31)","v":-1},{"$f":"SUM(AUT_leg:POR_leg!T31)","v":1},{"$f":"SUM(AUT_leg:POR_leg!U31)","v":5},{"$f":"SUM(AUT_leg:POR_leg!V31)","v":1},{"$f":"SUM(AUT_leg:POR_leg!W31)","v":5},{"$f":"SUM(AUT_leg:POR_leg!X31)","v":0},{"$f":"SUM(AUT_leg:POR_leg!Y31)","v":0},{"$f":"SUM(AUT_leg:POR_leg!Z31)","v":5},{"$f":"SUM(AUT_leg:POR_leg!AA31)","v":3},{"$f":"SUM(AUT_leg:POR_leg!AB31)","v":3},{"$f":"SUM(AUT_leg:POR_leg!AC31)","v":5},{"$f":"SUM(AUT_leg:POR_leg!AD31)","v":1},{"$f":"SUM(AUT_leg:POR_leg!AE31)","v":2},{"$f":"SUM(AUT_leg:POR_leg!AF31)","v":1},{"$f":"SUM(AUT_leg:POR_leg!AG31)","v":4},{"$f":"SUM(AUT_leg:POR_leg!AH31)","v":4},{"$f":"SUM(AUT_leg:POR_leg!AI31)","v":2},{"$f":"SUM(AUT_leg:POR_leg!AJ31)","v":3},{"$f":"SUM(AUT_leg:POR_leg!AK31)","v":2},{"$f":"SUM(AUT_leg:POR_leg!AL31)","v":4},{"$f":"SUM(AUT_leg:POR_leg!AM31)","v":7},{"$f":"SUM(AUT_leg:POR_leg!AN31)","v":5},{"$f":"SUM(AUT_leg:POR_leg!AO31)","v":3},{"$f":"SUM(AUT_leg:POR_leg!AP31)","v":3},{"$f":"SUM(AUT_leg:POR_leg!AQ31)","v":2},{"$f":"SUM(AUT_leg:POR_leg!AR31)","v":2},{"$f":"SUM(AUT_leg:POR_leg!AS31)","v":1},{"$f":"SUM(AUT_leg:POR_leg!AT31)","v":1},{"$f":"SUM(AUT_leg:POR_leg!AU31)","v":1},{"$f":"SUM(AUT_leg:POR_leg!AV31)","v":1},{"$f":"SUM(AUT_leg:POR_leg!AW31)","v":1},{"$f":"SUM(AUT_leg:POR_leg!AX31)","v":3},{"$f":"SUM(AUT_leg:POR_leg!AY31)","v":1},{"$f":"SUM(AUT_leg:POR_leg!AZ31)","v":3},{"$f":"SUM(AUT_leg:POR_leg!BA31)","v":2},{"$f":"SUM(AUT_leg:POR_leg!BB31)","v":1},105,0.25735294117647056]
[null,"Cooling system",{"$f":"Sheet1!O194","v":"Energy efficient pumps"},{"$f":"SUM(AUT_leg:POR_leg!D32)","v":0},{"$f":"SUM(AUT_leg:POR_leg!E32)","v":4},{"$f":"SUM(AUT_leg:POR_leg!F32)","v":0},{"$f":"SUM(AUT_leg:POR_leg!G32)","v":-1},{"$f":"SUM(AUT_leg:POR_leg!H32)","v":-1},{"$f":"SUM(AUT_leg:POR_leg!I32)","v":2},{"$f":"SUM(AUT_leg:POR_leg!J32)","v":1},{"$f":"SUM(AUT_leg:POR_leg!K32)","v":1},{"$f":"SUM(AUT_leg:POR_leg!L32)","v":1},{"$f":"SUM(AUT_leg:POR_leg!M32)","v":0},{"$f":"SUM(AUT_leg:POR_leg!N32)","v":-1},{"$f":"SUM(AUT_leg:POR_leg!O32)","v":1},{"$f":"SUM(AUT_leg:POR_leg!P32)","v":6},{"$f":"SUM(AUT_leg:POR_leg!Q32)","v":5},{"$f":"SUM(AUT_leg:POR_leg!R32)","v":3},{"$f":"SUM(AUT_leg:POR_leg!S32)","v":-1},{"$f":"SUM(AUT_leg:POR_leg!T32)","v":1},{"$f":"SUM(AUT_leg:POR_leg!U32)","v":5},{"$f":"SUM(AUT_leg:POR_leg!V32)","v":2},{"$f":"SUM(AUT_leg:POR_leg!W32)","v":5},{"$f":"SUM(AUT_leg:POR_leg!X32)","v":0},{"$f":"SUM(AUT_leg:POR_leg!Y32)","v":0},{"$f":"SUM(AUT_leg:POR_leg!Z32)","v":5},{"$f":"SUM(AUT_leg:POR_leg!AA32)","v":3},{"$f":"SUM(AUT_leg:POR_leg!AB32)","v":2},{"$f":"SUM(AUT_leg:POR_leg!AC32)","v":5},{"$f":"SUM(AUT_leg:POR_leg!AD32)","v":1},{"$f":"SUM(AUT_leg:POR_leg!AE32)","v":2},{"$f":"SUM(AUT_leg:POR_leg!AF32)","v":1},{"$f":"SUM(AUT_leg:POR_leg!AG32)","v":4},{"$f":"SUM(AUT_leg:POR_leg!AH32)","v":4},{"$f":"SUM(AUT_leg:POR_leg!AI32)","v":2},{"$f":"SUM(AUT_leg:POR_leg!AJ32)","v":3},{"$f":"SUM(AUT_leg:POR_leg!AK32)","v":2},{"$f":"SUM(AUT_leg:POR_leg!AL32)","v":4},{"$f":"SUM(AUT_leg:POR_leg!AM32)","v":7},{"$f":"SUM(AUT_leg:POR_leg!AN32)","v":5},{"$f":"SUM(AUT_leg:POR_leg!AO32)","v":3},{"$f":"SUM(AUT_leg:POR_leg!AP32)","v":3},{"$f":"SUM(AUT_leg:POR_leg!AQ32)","v":2},{"$f":"SUM(AUT_leg:POR_leg!AR32)","v":2},{"$f":"SUM(AUT_leg:POR_leg!AS32)","v":1},{"$f":"SUM(AUT_leg:POR_leg!AT32)","v":1},{"$f":"SUM(AUT_leg:POR_leg!AU32)","v":1},{"$f":"SUM(AUT_leg:POR_leg!AV32)","v":1},{"$f":"SUM(AUT_leg:POR_leg!AW32)","v":1},{"$f":"SUM(AUT_leg:POR_leg!AX32)","v":3},{"$f":"SUM(AUT_leg:POR_leg!AY32)","v":1},{"$f":"SUM(AUT_leg:POR_leg!AZ32)","v":3},{"$f":"SUM(AUT_leg:POR_leg!BA32)","v":2},{"$f":"SUM(AUT_leg:POR_leg!BB32)","v":1},108,0.26470588235294118]
[null,"Cooling system",{"$f":"Sheet1!O195","v":"Utilisation of free cooling"},{"$f":"SUM(AUT_leg:POR_leg!D33)","v":2},{"$f":"SUM(AUT_leg:POR_leg!E33)","v":4},{"$f":"SUM(AUT_leg:POR_leg!F33)","v":1},{"$f":"SUM(AUT_leg:POR_leg!G33)","v":-1},{"$f":"SUM(AUT_leg:POR_leg!H33)","v":0},{"$f":"SUM(AUT_leg:POR_leg!I33)","v":3},{"$f":"SUM(AUT_leg:POR_leg!J33)","v":1},{"$f":"SUM(AUT_leg:POR_leg!K33)","v":2},{"$f":"SUM(AUT_leg:POR_leg!L33)","v":2},{"$f":"SUM(AUT_leg:POR_leg!M33)","v":1},{"$f":"SUM(AUT_leg:POR_leg!N33)","v":-1},{"$f":"SUM(AUT_leg:POR_leg!O33)","v":-1},{"$f":"SUM(AUT_leg:POR_leg!P33)","v":6},{"$f":"SUM(AUT_leg:POR_leg!Q33)","v":4},{"$f":"SUM(AUT_leg:POR_leg!R33)","v":3},{"$f":"SUM(AUT_leg:POR_leg!S33)","v":-1},{"$f":"SUM(AUT_leg:POR_leg!T33)","v":1},{"$f":"SUM(AUT_leg:POR_leg!U33)","v":5},{"$f":"SUM(AUT_leg:POR_leg!V33)","v":1},{"$f":"SUM(AUT_leg:POR_leg!W33)","v":5},{"$f":"SUM(AUT_leg:POR_leg!X33)","v":0},{"$f":"SUM(AUT_leg:POR_leg!Y33)","v":0},{"$f":"SUM(AUT_leg:POR_leg!Z33)","v":4},{"$f":"SUM(AUT_leg:POR_leg!AA33)","v":3},{"$f":"SUM(AUT_leg:POR_leg!AB33)","v":2},{"$f":"SUM(AUT_leg:POR_leg!AC33)","v":5},{"$f":"SUM(AUT_leg:POR_leg!AD33)","v":1},{"$f":"SUM(AUT_leg:POR_leg!AE33)","v":2},{"$f":"SUM(AUT_leg:POR_leg!AF33)","v":2},{"$f":"SUM(AUT_leg:POR_leg!AG33)","v":4},{"$f":"SUM(AUT_leg:POR_leg!AH33)","v":4},{"$f":"SUM(AUT_leg:POR_leg!AI33)","v":2},{"$f":"SUM(AUT_leg:POR_leg!AJ33)","v":3},{"$f":"SUM(AUT_leg:POR_leg!AK33)","v":2},{"$f":"SUM(AUT_leg:POR_leg!AL33)","v":4},{"$f":"SUM(AUT_leg:POR_leg!AM33)","v":7},{"$f":"SUM(AUT_leg:POR_leg!AN33)","v":5},{"$f":"SUM(AUT_leg:POR_leg!AO33)","v":3},{"$f":"SUM(AUT_leg:POR_leg!AP33)","v":3},{"$f":"SUM(AUT_leg:POR_leg!AQ33)","v":2},{"$f":"SUM(AUT_leg:POR_leg!AR33)","v":1},{"$f":"SUM(AUT_leg:POR_leg!AS33)","v":1},{"$f":"SUM(AUT_leg:POR_leg!AT33)","v":1},{"$f":"SUM(AUT_leg:POR_leg!AU33)","v":1},{"$f":"SUM(AUT_leg:POR_leg!AV33)","v":1},{"$f":"SUM(AUT_leg:POR_leg!AW33)","v":1},{"$f":"SUM(AUT_leg:POR_leg!AX33)","v":3},{"$f":"SUM(AUT_leg:POR_leg!AY33)","v":1},{"$f":"SUM(AUT_leg:POR_leg!AZ33)","v":3},{"$f":"SUM(AUT_leg:POR_leg!BA33)","v":2},{"$f":"SUM(AUT_leg:POR_leg!BB33)","v":1},111,0.27205882352941174]
[null,"Cooling system",{"$f":"Sheet1!O196","v":"Utilising the waste heat from the cooling system for heating&DHW"},{"$f":"SUM(AUT_leg:POR_leg!D34)","v":1},{"$f":"SUM(AUT_leg:POR_leg!E34)","v":4},{"$f":"SUM(AUT_leg:POR_leg!F34)","v":0},{"$f":"SUM(AUT_leg:POR_leg!G34)","v":-1},{"$f":"SUM(AUT_leg:POR_leg!H34)","v":0},{"$f":"SUM(AUT_leg:POR_leg!I34)","v":3},{"$f":"SUM(AUT_leg:POR_leg!J34)","v":1},{"$f":"SUM(AUT_leg:POR_leg!K34)","v":2},{"$f":"SUM(AUT_leg:POR_leg!L34)","v":2},{"$f":"SUM(AUT_leg:POR_leg!M34)","v":0},{"$f":"SUM(AUT_leg:POR_leg!N34)","v":-1},{"$f":"SUM(AUT_leg:POR_leg!O34)","v":-1},{"$f":"SUM(AUT_leg:POR_leg!P34)","v":6},{"$f":"SUM(AUT_leg:POR_leg!Q34)","v":4},{"$f":"SUM(AUT_leg:POR_leg!R34)","v":3},{"$f":"SUM(AUT_leg:POR_leg!S34)","v":0},{"$f":"SUM(AUT_leg:POR_leg!T34)","v":1},{"$f":"SUM(AUT_leg:POR_leg!U34)","v":6},{"$f":"SUM(AUT_leg:POR_leg!V34)","v":1},{"$f":"SUM(AUT_leg:POR_leg!W34)","v":5},{"$f":"SUM(AUT_leg:POR_leg!X34)","v":0},{"$f":"SUM(AUT_leg:POR_leg!Y34)","v":0},{"$f":"SUM(AUT_leg:POR_leg!Z34)","v":4},{"$f":"SUM(AUT_leg:POR_leg!AA34)","v":3},{"$f":"SUM(AUT_leg:POR_leg!AB34)","v":2},{"$f":"SUM(AUT_leg:POR_leg!AC34)","v":5},{"$f":"SUM(AUT_leg:POR_leg!AD34)","v":1},{"$f":"SUM(AUT_leg:POR_leg!AE34)","v":2},{"$f":"SUM(AUT_leg:POR_leg!AF34)","v":2},{"$f":"SUM(AUT_leg:POR_leg!AG34)","v":4},{"$f":"SUM(AUT_leg:POR_leg!AH34)","v":4},{"$f":"SUM(AUT_leg:POR_leg!AI34)","v":3},{"$f":"SUM(AUT_leg:POR_leg!AJ34)","v":3},{"$f":"SUM(AUT_leg:POR_leg!AK34)","v":2},{"$f":"SUM(AUT_leg:POR_leg!AL34)","v":4},{"$f":"SUM(AUT_leg:POR_leg!AM34)","v":7},{"$f":"SUM(AUT_leg:POR_leg!AN34)","v":5},{"$f":"SUM(AUT_leg:POR_leg!AO34)","v":3},{"$f":"SUM(AUT_leg:POR_leg!AP34)","v":3},{"$f":"SUM(AUT_leg:POR_leg!AQ34)","v":2},{"$f":"SUM(AUT_leg:POR_leg!AR34)","v":1},{"$f":"SUM(AUT_leg:POR_leg!AS34)","v":1},{"$f":"SUM(AUT_leg:POR_leg!AT34)","v":1},{"$f":"SUM(AUT_leg:POR_leg!AU34)","v":1},{"$f":"SUM(AUT_leg:POR_leg!AV34)","v":1},{"$f":"SUM(AUT_leg:POR_leg!AW34)","v":1},{"$f":"SUM(AUT_leg:POR_leg!AX34)","v":3},{"$f":"SUM(AUT_leg:POR_leg!AY34)","v":1},{"$f":"SUM(AUT_leg:POR_leg!AZ34)","v":3},{"$f":"SUM(AUT_leg:POR_leg!BA34)","v":2},{"$f":"SUM(AUT_leg:POR_leg!BB34)","v":1},111,0.27205882352941174]
[null,"Ventilation system",{"$f":"Sheet1!O198","v":"Schedule optimisation"},{"$f":"SUM(AUT_leg:POR_leg!D35)","v":3},{"$f":"SUM(AUT_leg:POR_leg!E35)","v":4},{"$f":"SUM(AUT_leg:POR_leg!F35)","v":2},{"$f":"SUM(AUT_leg:POR_leg!G35)","v":1},{"$f":"SUM(AUT_leg:POR_leg!H35)","v":2},{"$f":"SUM(AUT_leg:POR_leg!I35)","v":3},{"$f":"SUM(AUT_leg:POR_leg!J35)","v":0},{"$f":"SUM(AUT_leg:POR_leg!K35)","v":2},{"$f":"SUM(AUT_leg:POR_leg!L35)","v":2},{"$f":"SUM(AUT_leg:POR_leg!M35)","v":3},{"$f":"SUM(AUT_leg:POR_leg!N35)","v":-1},{"$f":"SUM(AUT_leg:POR_leg!O35)","v":1},{"$f":"SUM(AUT_leg:POR_leg!P35)","v":5},{"$f":"SUM(AUT_leg:POR_leg!Q35)","v":3},{"$f":"SUM(AUT_leg:POR_leg!R35)","v":3},{"$f":"SUM(AUT_leg:POR_leg!S35)","v":-1},{"$f":"SUM(AUT_leg:POR_leg!T35)","v":1},{"$f":"SUM(AUT_leg:POR_leg!U35)","v":4},{"$f":"SUM(AUT_leg:POR_leg!V35)","v":1},{"$f":"SUM(AUT_leg:POR_leg!W35)","v":4},{"$f":"SUM(AUT_leg:POR_leg!X35)","v":0},{"$f":"SUM(AUT_leg:POR_leg!Y35)","v":0},{"$f":"SUM(AUT_leg:POR_leg!Z35)","v":3},{"$f":"SUM(AUT_leg:POR_leg!AA35)","v":3},{"$f":"SUM(AUT_leg:POR_leg!AB35)","v":2},{"$f":"SUM(AUT_leg:POR_leg!AC35)","v":5},{"$f":"SUM(AUT_leg:POR_leg!AD35)","v":1},{"$f":"SUM(AUT_leg:POR_leg!AE35)","v":1},{"$f":"SUM(AUT_leg:POR_leg!AF35)","v":1},{"$f":"SUM(AUT_leg:POR_leg!AG35)","v":4},{"$f":"SUM(AUT_leg:POR_leg!AH35)","v":4},{"$f":"SUM(AUT_leg:POR_leg!AI35)","v":2},{"$f":"SUM(AUT_leg:POR_leg!AJ35)","v":3},{"$f":"SUM(AUT_leg:POR_leg!AK35)","v":2},{"$f":"SUM(AUT_leg:POR_leg!AL35)","v":3},{"$f":"SUM(AUT_leg:POR_leg!AM35)","v":6},{"$f":"SUM(AUT_leg:POR_leg!AN35)","v":5},{"$f":"SUM(AUT_leg:POR_leg!AO35)","v":2},{"$f":"SUM(AUT_leg:POR_leg!AP35)","v":3},{"$f":"SUM(AUT_leg:POR_leg!AQ35)","v":2},{"$f":"SUM(AUT_leg:POR_leg!AR35)","v":1},{"$f":"SUM(AUT_leg:POR_leg!AS35)","v":1},{"$f":"SUM(AUT_leg:POR_leg!AT35)","v":1},{"$f":"SUM(AUT_leg:POR_leg!AU35)","v":1},{"$f":"SUM(AUT_leg:POR_leg!AV35)","v":1},{"$f":"SUM(AUT_leg:POR_leg!AW35)","v":1},{"$f":"SUM(AUT_leg:POR_leg!AX35)","v":3},{"$f":"SUM(AUT_leg:POR_leg!AY35)","v":3},{"$f":"SUM(AUT_leg:POR_leg!AZ35)","v":4},{"$f":"SUM(AUT_leg:POR_leg!BA35)","v":3},{"$f":"SUM(AUT_leg:POR_leg!BB35)","v":1},114,0.27941176470588236]
[null,"Ventilation system",{"$f":"Sheet1!O199","v":"Control optimisation"},{"$f":"SUM(AUT_leg:POR_leg!D36)","v":3},{"$f":"SUM(AUT_leg:POR_leg!E36)","v":4},{"$f":"SUM(AUT_leg:POR_leg!F36)","v":2},{"$f":"SUM(AUT_leg:POR_leg!G36)","v":1},{"$f":"SUM(AUT_leg:POR_leg!H36)","v":2},{"$f":"SUM(AUT_leg:POR_leg!I36)","v":4},{"$f":"SUM(AUT_leg:POR_leg!J36)","v":1},{"$f":"SUM(AUT_leg:POR_leg!K36)","v":2},{"$f":"SUM(AUT_leg:POR_leg!L36)","v":2},{"$f":"SUM(AUT_leg:POR_leg!M36)","v":4},{"$f":"SUM(AUT_leg:POR_leg!N36)","v":-1},{"$f":"SUM(AUT_leg:POR_leg!O36)","v":1},{"$f":"SUM(AUT_leg:POR_leg!P36)","v":5},{"$f":"SUM(AUT_leg:POR_leg!Q36)","v":3},{"$f":"SUM(AUT_leg:POR_leg!R36)","v":3},{"$f":"SUM(AUT_leg:POR_leg!S36)","v":-1},{"$f":"SUM(AUT_leg:POR_leg!T36)","v":1},{"$f":"SUM(AUT_leg:POR_leg!U36)","v":4},{"$f":"SUM(AUT_leg:POR_leg!V36)","v":1},{"$f":"SUM(AUT_leg:POR_leg!W36)","v":5},{"$f":"SUM(AUT_leg:POR_leg!X36)","v":0},{"$f":"SUM(AUT_leg:POR_leg!Y36)","v":0},{"$f":"SUM(AUT_leg:POR_leg!Z36)","v":3},{"$f":"SUM(AUT_leg:POR_leg!AA36)","v":3},{"$f":"SUM(AUT_leg:POR_leg!AB36)","v":2},{"$f":"SUM(AUT_leg:POR_leg!AC36)","v":5},{"$f":"SUM(AUT_leg:POR_leg!AD36)","v":1},{"$f":"SUM(AUT_leg:POR_leg!AE36)","v":1},{"$f":"SUM(AUT_leg:POR_leg!AF36)","v":1},{"$f":"SUM(AUT_leg:POR_leg!AG36)","v":4},{"$f":"SUM(AUT_leg:POR_leg!AH36)","v":4},{"$f":"SUM(AUT_leg:POR_leg!AI36)","v":2},{"$f":"SUM(AUT_leg:POR_leg!AJ36)","v":3},{"$f":"SUM(AUT_leg:POR_leg!AK36)","v":2},{"$f":"SUM(AUT_leg:POR_leg!AL36)","v":3},{"$f":"SUM(AUT_leg:POR_leg!AM36)","v":6},{"$f":"SUM(AUT_leg:POR_leg!AN36)","v":5},{"$f":"SUM(AUT_leg:POR_leg!AO36)","v":2},{"$f":"SUM(AUT_leg:POR_leg!AP36)","v":3},{"$f":"SUM(AUT_leg:POR_leg!AQ36)","v":2},{"$f":"SUM(AUT_leg:POR_leg!AR36)","v":1},{"$f":"SUM(AUT_leg:POR_leg!AS36)","v":1},{"$f":"SUM(AUT_leg:POR_leg!AT36)","v":2},{"$f":"SUM(AUT_leg:POR_leg!AU36)","v":1},{"$f":"SUM(AUT_leg:POR_leg!AV36)","v":1},{"$f":"SUM(AUT_leg:POR_leg!AW36)","v":1},{"$f":"SUM(AUT_leg:POR_leg!AX36)","v":4},{"$f":"SUM(AUT_leg:POR_leg!AY36)","v":3},{"$f":"SUM(AUT_leg:POR_leg!AZ36)","v":4},{"$f":"SUM(AUT_leg:POR_leg!BA36)","v":2},{"$f":"SUM(AUT_leg:POR_leg!BB36)","v":1},119,0.29166666666666669]
[null,"Ventilation system",{"$f":"Sheet1!O200","v":"Air velocity optimisation"},{"$f":"SUM(AUT_leg:POR_leg!D37)","v":3},{"$f":"SUM(AUT_leg:POR_leg!E37)","v":4},{"$f":"SUM(AUT_leg:POR_leg!F37)","v":2},{"$f":"SUM(AUT_leg:POR_leg!G37)","v":1},{"$f":"SUM(AUT_leg:POR_leg!H37)","v":2},{"$f":"SUM(AUT_leg:POR_leg!I37)","v":3},{"$f":"SUM(AUT_leg:POR_leg!J37)","v":0},{"$f":"SUM(AUT_leg:POR_leg!K37)","v":2},{"$f":"SUM(AUT_leg:POR_leg!L37)","v":3},{"$f":"SUM(AUT_leg:POR_leg!M37)","v":4},{"$f":"SUM(AUT_leg:POR_leg!N37)","v":-1},{"$f":"SUM(AUT_leg:POR_leg!O37)","v":1},{"$f":"SUM(AUT_leg:POR_leg!P37)","v":6},{"$f":"SUM(AUT_leg:POR_leg!Q37)","v":4},{"$f":"SUM(AUT_leg:POR_leg!R37)","v":3},{"$f":"SUM(AUT_leg:POR_leg!S37)","v":-1},{"$f":"SUM(AUT_leg:POR_leg!T37)","v":1},{"$f":"SUM(AUT_leg:POR_leg!U37)","v":5},{"$f":"SUM(AUT_leg:POR_leg!V37)","v":1},{"$f":"SUM(AUT_leg:POR_leg!W37)","v":5},{"$f":"SUM(AUT_leg:POR_leg!X37)","v":0},{"$f":"SUM(AUT_leg:POR_leg!Y37)","v":0},{"$f":"SUM(AUT_leg:POR_leg!Z37)","v":3},{"$f":"SUM(AUT_leg:POR_leg!AA37)","v":3},{"$f":"SUM(AUT_leg:POR_leg!AB37)","v":2},{"$f":"SUM(AUT_leg:POR_leg!AC37)","v":5},{"$f":"SUM(AUT_leg:POR_leg!AD37)","v":1},{"$f":"SUM(AUT_leg:POR_leg!AE37)","v":1},{"$f":"SUM(AUT_leg:POR_leg!AF37)","v":1},{"$f":"SUM(AUT_leg:POR_leg!AG37)","v":4},{"$f":"SUM(AUT_leg:POR_leg!AH37)","v":4},{"$f":"SUM(AUT_leg:POR_leg!AI37)","v":2},{"$f":"SUM(AUT_leg:POR_leg!AJ37)","v":3},{"$f":"SUM(AUT_leg:POR_leg!AK37)","v":2},{"$f":"SUM(AUT_leg:POR_leg!AL37)","v":3},{"$f":"SUM(AUT_leg:POR_leg!AM37)","v":6},{"$f":"SUM(AUT_leg:POR_leg!AN37)","v":5},{"$f":"SUM(AUT_leg:POR_leg!AO37)","v":2},{"$f":"SUM(AUT_leg:POR_leg!AP37)","v":3},{"$f":"SUM(AUT_leg:POR_leg!AQ37)","v":2},{"$f":"SUM(AUT_leg:POR_leg!AR37)","v":1},{"$f":"SUM(AUT_leg:POR_leg!AS37)","v":1},{"$f":"SUM(AUT_leg:POR_leg!AT37)","v":1},{"$f":"SUM(AUT_leg:POR_leg!AU37)","v":1},{"$f":"SUM(AUT_leg:POR_leg!AV37)","v":1},{"$f":"SUM(AUT_leg:POR_leg!AW37)","v":1},{"$f":"SUM(AUT_leg:POR_leg!AX37)","v":4},{"$f":"SUM(AUT_leg:POR_leg!AY37)","v":2},{"$f":"SUM(AUT_leg:POR_leg!AZ37)","v":4},{"$f":"SUM(AUT_leg:POR_leg!BA37)","v":2},{"$f":"SUM(AUT_leg:POR_leg!BB37)","v":1},119,0.29166666666666669]
[null,"Ventilation system",{"$f":"Sheet1!O201","v":"Inlet air temperature optimisation"},{"$f":"SUM(AUT_leg:POR_leg!D38)","v":3},{"$f":"SUM(AUT_leg:POR_leg!E38)","v":4},{"$f":"SUM(AUT_leg:POR_leg!F38)","v":2},{"$f":"SUM(AUT_leg:POR_leg!G38)","v":1},{"$f":"SUM(AUT_leg:POR_leg!H38)","v":2},{"$f":"SUM(AUT_leg:POR_leg!I38)","v":4},{"$f":"SUM(AUT_leg:POR_leg!J38)","v":1},{"$f":"SUM(AUT_leg:POR_leg!K38)","v":2},{"$f":"SUM(AUT_leg:POR_leg!L38)","v":2},{"$f":"SUM(AUT_leg:POR_leg!M38)","v":4},{"$f":"SUM(AUT_leg:POR_leg!N38)","v":-1},{"$f":"SUM(AUT_leg:POR_leg!O38)","v":-1},{"$f":"SUM(AUT_leg:POR_leg!P38)","v":5},{"$f":"SUM(AUT_leg:POR_leg!Q38)","v":3},{"$f":"SUM(AUT_leg:POR_leg!R38)","v":3},{"$f":"SUM(AUT_leg:POR_leg!S38)","v":-1},{"$f":"SUM(AUT_leg:POR_leg!T38)","v":1},{"$f":"SUM(AUT_leg:POR_leg!U38)","v":4},{"$f":"SUM(AUT_leg:POR_leg!V38)","v":1},{"$f":"SUM(AUT_leg:POR_leg!W38)","v":5},{"$f":"SUM(AUT_leg:POR_leg!X38)","v":0},{"$f":"SUM(AUT_leg:POR_leg!Y38)","v":0},{"$f":"SUM(AUT_leg:POR_leg!Z38)","v":3},{"$f":"SUM(AUT_leg:POR_leg!AA38)","v":3},{"$f":"SUM(AUT_leg:POR_leg!AB38)","v":2},{"$f":"SUM(AUT_leg:POR_leg!AC38)","v":5},{"$f":"SUM(AUT_leg:POR_leg!AD38)","v":1},{"$f":"SUM(AUT_leg:POR_leg!AE38)","v":1},{"$f":"SUM(AUT_leg:POR_leg!AF38)","v":1},{"$f":"SUM(AUT_leg:POR_leg!AG38)","v":4},{"$f":"SUM(AUT_leg:POR_leg!AH38)","v":4},{"$f":"SUM(AUT_leg:POR_leg!AI38)","v":2},{"$f":"SUM(AUT_leg:POR_leg!AJ38)","v":3},{"$f":"SUM(AUT_leg:POR_leg!AK38)","v":2},{"$f":"SUM(AUT_leg:POR_leg!AL38)","v":3},{"$f":"SUM(AUT_leg:POR_leg!AM38)","v":6},{"$f":"SUM(AUT_leg:POR_leg!AN38)","v":5},{"$f":"SUM(AUT_leg:POR_leg!AO38)","v":2},{"$f":"SUM(AUT_leg:POR_leg!AP38)","v":2},{"$f":"SUM(AUT_leg:POR_leg!AQ38)","v":2},{"$f":"SUM(AUT_leg:POR_leg!AR38)","v":1},{"$f":"SUM(AUT_leg:POR_leg!AS38)","v":1},{"$f":"SUM(AUT_leg:POR_leg!AT38)","v":1},{"$f":"SUM(AUT_leg:POR_leg!AU38)","v":1},{"$f":"SUM(AUT_leg:POR_leg!AV38)","v":1},{"$f":"SUM(AUT_leg:POR_leg!AW38)","v":1},{"$f":"SUM(AUT_leg:POR_leg!AX38)","v":3},{"$f":"SUM(AUT_leg:POR_leg!AY38)","v":2},{"$f":"SUM(AUT_leg:POR_leg!AZ38)","v":4},{"$f":"SUM(AUT_leg:POR_leg!BA38)","v":2},{"$f":"SUM(AUT_leg:POR_leg!BB38)","v":1},113,0.27696078431372551]
[null,"Ventilation system",{"$f":"Sheet1!O202","v":"Heat recovery"},{"$f":"SUM(AUT_leg:POR_leg!D39)","v":0},{"$f":"SUM(AUT_leg:POR_leg!E39)","v":4},{"$f":"SUM(AUT_leg:POR_leg!F39)","v":0},{"$f":"SUM(AUT_leg:POR_leg!G39)","v":-1},{"$f":"SUM(AUT_leg:POR_leg!H39)","v":-1},{"$f":"SUM(AUT_leg:POR_leg!I39)","v":3},{"$f":"SUM(AUT_leg:POR_leg!J39)","v":2},{"$f":"SUM(AUT_leg:POR_leg!K39)","v":2},{"$f":"SUM(AUT_leg:POR_leg!L39)","v":1},{"$f":"SUM(AUT_leg:POR_leg!M39)","v":2},{"$f":"SUM(AUT_leg:POR_leg!N39)","v":-1},{"$f":"SUM(AUT_leg:POR_leg!O39)","v":-1},{"$f":"SUM(AUT_leg:POR_leg!P39)","v":6},{"$f":"SUM(AUT_leg:POR_leg!Q39)","v":4},{"$f":"SUM(AUT_leg:POR_leg!R39)","v":3},{"$f":"SUM(AUT_leg:POR_leg!S39)","v":0},{"$f":"SUM(AUT_leg:POR_leg!T39)","v":1},{"$f":"SUM(AUT_leg:POR_leg!U39)","v":5},{"$f":"SUM(AUT_leg:POR_leg!V39)","v":1},{"$f":"SUM(AUT_leg:POR_leg!W39)","v":5},{"$f":"SUM(AUT_leg:POR_leg!X39)","v":0},{"$f":"SUM(AUT_leg:POR_leg!Y39)","v":0},{"$f":"SUM(AUT_leg:POR_leg!Z39)","v":4},{"$f":"SUM(AUT_leg:POR_leg!AA39)","v":3},{"$f":"SUM(AUT_leg:POR_leg!AB39)","v":2},{"$f":"SUM(AUT_leg:POR_leg!AC39)","v":5},{"$f":"SUM(AUT_leg:POR_leg!AD39)","v":1},{"$f":"SUM(AUT_leg:POR_leg!AE39)","v":1},{"$f":"SUM(AUT_leg:POR_leg!AF39)","v":1},{"$f":"SUM(AUT_leg:POR_leg!AG39)","v":4},{"$f":"SUM(AUT_leg:POR_leg!AH39)","v":4},{"$f":"SUM(AUT_leg:POR_leg!AI39)","v":4},{"$f":"SUM(AUT_leg:POR_leg!AJ39)","v":3},{"$f":"SUM(AUT_leg:POR_leg!AK39)","v":2},{"$f":"SUM(AUT_leg:POR_leg!AL39)","v":4},{"$f":"SUM(AUT_leg:POR_leg!AM39)","v":6},{"$f":"SUM(AUT_leg:POR_leg!AN39)","v":6},{"$f":"SUM(AUT_leg:POR_leg!AO39)","v":2},{"$f":"SUM(AUT_leg:POR_leg!AP39)","v":2},{"$f":"SUM(AUT_leg:POR_leg!AQ39)","v":1},{"$f":"SUM(AUT_leg:POR_leg!AR39)","v":1},{"$f":"SUM(AUT_leg:POR_leg!AS39)","v":1},{"$f":"SUM(AUT_leg:POR_leg!AT39)","v":1},{"$f":"SUM(AUT_leg:POR_leg!AU39)","v":1},{"$f":"SUM(AUT_leg:POR_leg!AV39)","v":1},{"$f":"SUM(AUT_leg:POR_leg!AW39)","v":1},{"$f":"SUM(AUT_leg:POR_leg!AX39)","v":3},{"$f":"SUM(AUT_leg:POR_leg!AY39)","v":1},{"$f":"SUM(AUT_leg:POR_leg!AZ39)","v":3},{"$f":"SUM(AUT_leg:POR_leg!BA39)","v":2},{"$f":"SUM(AUT_leg:POR_leg!BB39)","v":1},106,0.25980392156862747]
[null,"Ventilation system",{"$f":"Sheet1!O203","v":"Energy efficient fans"},{"$f":"SUM(AUT_leg:POR_leg!D40)","v":0},{"$f":"SUM(AUT_leg:POR_leg!E40)","v":4},{"$f":"SUM(AUT_leg:POR_leg!F40)","v":0},{"$f":"SUM(AUT_leg:POR_leg!G40)","v":-1},{"$f":"SUM(AUT_leg:POR_leg!H40)","v":-1},{"$f":"SUM(AUT_leg:POR_leg!I40)","v":3},{"$f":"SUM(AUT_leg:POR_leg!J40)","v":1},{"$f":"SUM(AUT_leg:POR_leg!K40)","v":1},{"$f":"SUM(AUT_leg:POR_leg!L40)","v":1},{"$f":"SUM(AUT_leg:POR_leg!M40)","v":2},{"$f":"SUM(AUT_leg:POR_leg!N40)","v":-1},{"$f":"SUM(AUT_leg:POR_leg!O40)","v":1},{"$f":"SUM(AUT_leg:POR_leg!P40)","v":6},{"$f":"SUM(AUT_leg:POR_leg!Q40)","v":4},{"$f":"SUM(AUT_leg:POR_leg!R40)","v":3},{"$f":"SUM(AUT_leg:POR_leg!S40)","v":-1},{"$f":"SUM(AUT_leg:POR_leg!T40)","v":1},{"$f":"SUM(AUT_leg:POR_leg!U40)","v":5},{"$f":"SUM(AUT_leg:POR_leg!V40)","v":3},{"$f":"SUM(AUT_leg:POR_leg!W40)","v":5},{"$f":"SUM(AUT_leg:POR_leg!X40)","v":0},{"$f":"SUM(AUT_leg:POR_leg!Y40)","v":0},{"$f":"SUM(AUT_leg:POR_leg!Z40)","v":3},{"$f":"SUM(AUT_leg:POR_leg!AA40)","v":3},{"$f":"SUM(AUT_leg:POR_leg!AB40)","v":2},{"$f":"SUM(AUT_leg:POR_leg!AC40)","v":5},{"$f":"SUM(AUT_leg:POR_leg!AD40)","v":1},{"$f":"SUM(AUT_leg:POR_leg!AE40)","v":1},{"$f":"SUM(AUT_leg:POR_leg!AF40)","v":1},{"$f":"SUM(AUT_leg:POR_leg!AG40)","v":4},{"$f":"SUM(AUT_leg:POR_leg!AH40)","v":4},{"$f":"SUM(AUT_leg:POR_leg!AI40)","v":2},{"$f":"SUM(AUT_leg:POR_leg!AJ40)","v":3},{"$f":"SUM(AUT_leg:POR_leg!AK40)","v":2},{"$f":"SUM(AUT_leg:POR_leg!AL40)","v":4},{"$f":"SUM(AUT_leg:POR_leg!AM40)","v":6},{"$f":"SUM(AUT_leg:POR_leg!AN40)","v":5},{"$f":"SUM(AUT_leg:POR_leg!AO40)","v":2},{"$f":"SUM(AUT_leg:POR_leg!AP40)","v":3},{"$f":"SUM(AUT_leg:POR_leg!AQ40)","v":2},{"$f":"SUM(AUT_leg:POR_leg!AR40)","v":2},{"$f":"SUM(AUT_leg:POR_leg!AS40)","v":1},{"$f":"SUM(AUT_leg:POR_leg!AT40)","v":1},{"$f":"SUM(AUT_leg:POR_leg!AU40)","v":1},{"$f":"SUM(AUT_leg:POR_leg!AV40)","v":1},{"$f":"SUM(AUT_leg:POR_leg!AW40)","v":1},{"$f":"SUM(AUT_leg:POR_leg!AX40)","v":3},{"$f":"SUM(AUT_leg:POR_leg!AY40)","v":1},{"$f":"SUM(AUT_leg:POR_leg!AZ40)","v":3},{"$f":"SUM(AUT_leg:POR_leg!BA40)","v":2},{"$f":"SUM(AUT_leg:POR_leg!BB40)","v":1},106,0.25980392156862747]
[null,"Lighting",{"$f":"Sheet1!O205","v":"Energy efficient lights (e.g LED)"},{"$f":"SUM(AUT_leg:POR_leg!D41)","v":2},{"$f":"SUM(AUT_leg:POR_leg!E41)","v":4},{"$f":"SUM(AUT_leg:POR_leg!F41)","v":2},{"$f":"SUM(AUT_leg:POR_leg!G41)","v":1},{"$f":"SUM(AUT_leg:POR_leg!H41)","v":1},{"$f":"SUM(AUT_leg:POR_leg!I41)","v":3},{"$f":"SUM(AUT_leg:POR_leg!J41)","v":1},{"$f":"SUM(AUT_leg:POR_leg!K41)","v":1},{"$f":"SUM(AUT_leg:POR_leg!L41)","v":1},{"$f":"SUM(AUT_leg:POR_leg!M41)","v":1},{"$f":"SUM(AUT_leg:POR_leg!N41)","v":4},{"$f":"SUM(AUT_leg:POR_leg!O41)","v":-1},{"$f":"SUM(AUT_leg:POR_leg!P41)","v":7},{"$f":"SUM(AUT_leg:POR_leg!Q41)","v":4},{"$f":"SUM(AUT_leg:POR_leg!R41)","v":3},{"$f":"SUM(AUT_leg:POR_leg!S41)","v":-1},{"$f":"SUM(AUT_leg:POR_leg!T41)","v":0},{"$f":"SUM(AUT_leg:POR_leg!U41)","v":7},{"$f":"SUM(AUT_leg:POR_leg!V41)","v":1},{"$f":"SUM(AUT_leg:POR_leg!W41)","v":5},{"$f":"SUM(AUT_leg:POR_leg!X41)","v":0},{"$f":"SUM(AUT_leg:POR_leg!Y41)","v":-1},{"$f":"SUM(AUT_leg:POR_leg!Z41)","v":3},{"$f":"SUM(AUT_leg:POR_leg!AA41)","v":3},{"$f":"SUM(AUT_leg:POR_leg!AB41)","v":2},{"$f":"SUM(AUT_leg:POR_leg!AC41)","v":5},{"$f":"SUM(AUT_leg:POR_leg!AD41)","v":1},{"$f":"SUM(AUT_leg:POR_leg!AE41)","v":1},{"$f":"SUM(AUT_leg:POR_leg!AF41)","v":2},{"$f":"SUM(AUT_leg:POR_leg!AG41)","v":4},{"$f":"SUM(AUT_leg:POR_leg!AH41)","v":4},{"$f":"SUM(AUT_leg:POR_leg!AI41)","v":2},{"$f":"SUM(AUT_leg:POR_leg!AJ41)","v":3},{"$f":"SUM(AUT_leg:POR_leg!AK41)","v":2},{"$f":"SUM(AUT_leg:POR_leg!AL41)","v":4},{"$f":"SUM(AUT_leg:POR_leg!AM41)","v":6},{"$f":"SUM(AUT_leg:POR_leg!AN41)","v":5},{"$f":"SUM(AUT_leg:POR_leg!AO41)","v":2},{"$f":"SUM(AUT_leg:POR_leg!AP41)","v":3},{"$f":"SUM(AUT_leg:POR_leg!AQ41)","v":2},{"$f":"SUM(AUT_leg:POR_leg!AR41)","v":3},{"$f":"SUM(AUT_leg:POR_leg!AS41)","v":1},{"$f":"SUM(AUT_leg:POR_leg!AT41)","v":1},{"$f":"SUM(AUT_leg:POR_leg!AU41)","v":1},{"$f":"SUM(AUT_leg:POR_leg!AV41)","v":1},{"$f":"SUM(AUT_leg:POR_leg!AW41)","v":2},{"$f":"SUM(AUT_leg:POR_leg!AX41)","v":4},{"$f":"SUM(AUT_leg:POR_leg!AY41)","v":1},{"$f":"SUM(AUT_leg:POR_leg!AZ41)","v":3},{"$f":"SUM(AUT_leg:POR_leg!BA41)","v":3},{"$f":"SUM(AUT_leg:POR_leg!BB41)","v":1},120,0.29411764705882354]
[null,"Lighting",{"$f":"Sheet1!O206","v":"Level of illumination"},{"$f":"SUM(AUT_leg:POR_leg!D42)","v":4},{"$f":"SUM(AUT_leg:POR_leg!E42)","v":4},{"$f":"SUM(AUT_leg:POR_leg!F42)","v":3},{"$f":"SUM(AUT_leg:POR_leg!G42)","v":1},{"$f":"SUM(AUT_leg:POR_leg!H42)","v":2},{"$f":"SUM(AUT_leg:POR_leg!I42)","v":5},{"$f":"SUM(AUT_leg:POR_leg!J42)","v":1},{"$f":"SUM(AUT_leg:POR_leg!K42)","v":2},{"$f":"SUM(AUT_leg:POR_leg!L42)","v":3},{"$f":"SUM(AUT_leg:POR_leg!M42)","v":0},{"$f":"SUM(AUT_leg:POR_leg!N42)","v":4},{"$f":"SUM(AUT_leg:POR_leg!O42)","v":-1},{"$f":"SUM(AUT_leg:POR_leg!P42)","v":4},{"$f":"SUM(AUT_leg:POR_leg!Q42)","v":2},{"$f":"SUM(AUT_leg:POR_leg!R42)","v":1},{"$f":"SUM(AUT_leg:POR_leg!S42)","v":-1},{"$f":"SUM(AUT_leg:POR_leg!T42)","v":0},{"$f":"SUM(AUT_leg:POR_leg!U42)","v":3},{"$f":"SUM(AUT_leg:POR_leg!V42)","v":1},{"$f":"SUM(AUT_leg:POR_leg!W42)","v":3},{"$f":"SUM(AUT_leg:POR_leg!X42)","v":0},{"$f":"SUM(AUT_leg:POR_leg!Y42)","v":-1},{"$f":"SUM(AUT_leg:POR_leg!Z42)","v":4},{"$f":"SUM(AUT_leg:POR_leg!AA42)","v":3},{"$f":"SUM(AUT_leg:POR_leg!AB42)","v":2},{"$f":"SUM(AUT_leg:POR_leg!AC42)","v":5},{"$f":"SUM(AUT_leg:POR_leg!AD42)","v":1},{"$f":"SUM(AUT_leg:POR_leg!AE42)","v":1},{"$f":"SUM(AUT_leg:POR_leg!AF42)","v":2},{"$f":"SUM(AUT_leg:POR_leg!AG42)","v":4},{"$f":"SUM(AUT_leg:POR_leg!AH42)","v":4},{"$f":"SUM(AUT_leg:POR_leg!AI42)","v":2},{"$f":"SUM(AUT_leg:POR_leg!AJ42)","v":3},{"$f":"SUM(AUT_leg:POR_leg!AK42)","v":2},{"$f":"SUM(AUT_leg:POR_leg!AL42)","v":4},{"$f":"SUM(AUT_leg:POR_leg!AM42)","v":5},{"$f":"SUM(AUT_leg:POR_leg!AN42)","v":3},{"$f":"SUM(AUT_leg:POR_leg!AO42)","v":2},{"$f":"SUM(AUT_leg:POR_leg!AP42)","v":2},{"$f":"SUM(AUT_leg:POR_leg!AQ42)","v":1},{"$f":"SUM(AUT_leg:POR_leg!AR42)","v":2},{"$f":"SUM(AUT_leg:POR_leg!AS42)","v":2},{"$f":"SUM(AUT_leg:POR_leg!AT42)","v":1},{"$f":"SUM(AUT_leg:POR_leg!AU42)","v":1},{"$f":"SUM(AUT_leg:POR_leg!AV42)","v":1},{"$f":"SUM(AUT_leg:POR_leg!AW42)","v":1},{"$f":"SUM(AUT_leg:POR_leg!AX42)","v":3},{"$f":"SUM(AUT_leg:POR_leg!AY42)","v":1},{"$f":"SUM(AUT_leg:POR_leg!AZ42)","v":5},{"$f":"SUM(AUT_leg:POR_leg!BA42)","v":3},{"$f":"SUM(AUT_leg:POR_leg!BB42)","v":1},111,0.27205882352941174]
[null,"Lighting",{"$f":"Sheet1!O207","v":"Schedule optimisation"},{"$f":"SUM(AUT_leg:POR_leg!D43)","v":3},{"$f":"SUM(AUT_leg:POR_leg!E43)","v":4},{"$f":"SUM(AUT_leg:POR_leg!F43)","v":2},{"$f":"SUM(AUT_leg:POR_leg!G43)","v":1},{"$f":"SUM(AUT_leg:POR_leg!H43)","v":2},{"$f":"SUM(AUT_leg:POR_leg!I43)","v":3},{"$f":"SUM(AUT_leg:POR_leg!J43)","v":0},{"$f":"SUM(AUT_leg:POR_leg!K43)","v":2},{"$f":"SUM(AUT_leg:POR_leg!L43)","v":2},{"$f":"SUM(AUT_leg:POR_leg!M43)","v":0},{"$f":"SUM(AUT_leg:POR_leg!N43)","v":3},{"$f":"SUM(AUT_leg:POR_leg!O43)","v":-1},{"$f":"SUM(AUT_leg:POR_leg!P43)","v":5},{"$f":"SUM(AUT_leg:POR_leg!Q43)","v":3},{"$f":"SUM(AUT_leg:POR_leg!R43)","v":3},{"$f":"SUM(AUT_leg:POR_leg!S43)","v":-1},{"$f":"SUM(AUT_leg:POR_leg!T43)","v":0},{"$f":"SUM(AUT_leg:POR_leg!U43)","v":4},{"$f":"SUM(AUT_leg:POR_leg!V43)","v":1},{"$f":"SUM(AUT_leg:POR_leg!W43)","v":4},{"$f":"SUM(AUT_leg:POR_leg!X43)","v":0},{"$f":"SUM(AUT_leg:POR_leg!Y43)","v":-1},{"$f":"SUM(AUT_leg:POR_leg!Z43)","v":3},{"$f":"SUM(AUT_leg:POR_leg!AA43)","v":3},{"$f":"SUM(AUT_leg:POR_leg!AB43)","v":2},{"$f":"SUM(AUT_leg:POR_leg!AC43)","v":5},{"$f":"SUM(AUT_leg:POR_leg!AD43)","v":1},{"$f":"SUM(AUT_leg:POR_leg!AE43)","v":1},{"$f":"SUM(AUT_leg:POR_leg!AF43)","v":1},{"$f":"SUM(AUT_leg:POR_leg!AG43)","v":4},{"$f":"SUM(AUT_leg:POR_leg!AH43)","v":4},{"$f":"SUM(AUT_leg:POR_leg!AI43)","v":2},{"$f":"SUM(AUT_leg:POR_leg!AJ43)","v":3},{"$f":"SUM(AUT_leg:POR_leg!AK43)","v":2},{"$f":"SUM(AUT_leg:POR_leg!AL43)","v":3},{"$f":"SUM(AUT_leg:POR_leg!AM43)","v":6},{"$f":"SUM(AUT_leg:POR_leg!AN43)","v":5},{"$f":"SUM(AUT_leg:POR_leg!AO43)","v":2},{"$f":"SUM(AUT_leg:POR_leg!AP43)","v":2},{"$f":"SUM(AUT_leg:POR_leg!AQ43)","v":1},{"$f":"SUM(AUT_leg:POR_leg!AR43)","v":2},{"$f":"SUM(AUT_leg:POR_leg!AS43)","v":1},{"$f":"SUM(AUT_leg:POR_leg!AT43)","v":1},{"$f":"SUM(AUT_leg:POR_leg!AU43)","v":1},{"$f":"SUM(AUT_leg:POR_leg!AV43)","v":1},{"$f":"SUM(AUT_leg:POR_leg!AW43)","v":1},{"$f":"SUM(AUT_leg:POR_leg!AX43)","v":3},{"$f":"SUM(AUT_leg:POR_leg!AY43)","v":1},{"$f":"SUM(AUT_leg:POR_leg!AZ43)","v":4},{"$f":"SUM(AUT_leg:POR_leg!BA43)","v":4},{"$f":"SUM(AUT_leg:POR_leg!BB43)","v":1},109,0.26715686274509803]
[null,"Lighting",{"$f":"Sheet1!O208","v":"Control optimisation"},{"$f":"SUM(AUT_leg:POR_leg!D44)","v":3},{"$f":"SUM(AUT_leg:POR_leg!E44)","v":4},{"$f":"SUM(AUT_leg:POR_leg!F44)","v":2},{"$f":"SUM(AUT_leg:POR_leg!G44)","v":1},{"$f":"SUM(AUT_leg:POR_leg!H44)","v":2},{"$f":"SUM(AUT_leg:POR_leg!I44)","v":4},{"$f":"SUM(AUT_leg:POR_leg!J44)","v":1},{"$f":"SUM(AUT_leg:POR_leg!K44)","v":2},{"$f":"SUM(AUT_leg:POR_leg!L44)","v":2},{"$f":"SUM(AUT_leg:POR_leg!M44)","v":0},{"$f":"SUM(AUT_leg:POR_leg!N44)","v":3},{"$f":"SUM(AUT_leg:POR_leg!O44)","v":-1},{"$f":"SUM(AUT_leg:POR_leg!P44)","v":5},{"$f":"SUM(AUT_leg:POR_leg!Q44)","v":3},{"$f":"SUM(AUT_leg:POR_leg!R44)","v":3},{"$f":"SUM(AUT_leg:POR_leg!S44)","v":-1},{"$f":"SUM(AUT_leg:POR_leg!T44)","v":0},{"$f":"SUM(AUT_leg:POR_leg!U44)","v":4},{"$f":"SUM(AUT_leg:POR_leg!V44)","v":1},{"$f":"SUM(AUT_leg:POR_leg!W44)","v":4},{"$f":"SUM(AUT_leg:POR_leg!X44)","v":0},{"$f":"SUM(AUT_leg:POR_leg!Y44)","v":-1},{"$f":"SUM(AUT_leg:POR_leg!Z44)","v":3},{"$f":"SUM(AUT_leg:POR_leg!AA44)","v":3},{"$f":"SUM(AUT_leg:POR_leg!AB44)","v":2},{"$f":"SUM(AUT_leg:POR_leg!AC44)","v":5},{"$f":"SUM(AUT_leg:POR_leg!AD44)","v":1},{"$f":"SUM(AUT_leg:POR_leg!AE44)","v":1},{"$f":"SUM(AUT_leg:POR_leg!AF44)","v":1},{"$f":"SUM(AUT_leg:POR_leg!AG44)","v":4},{"$f":"SUM(AUT_leg:POR_leg!AH44)","v":4},{"$f":"SUM(AUT_leg:POR_leg!AI44)","v":2},{"$f":"SUM(AUT_leg:POR_leg!AJ44)","v":3},{"$f":"SUM(AUT_leg:POR_leg!AK44)","v":2},{"$f":"SUM(AUT_leg:POR_leg!AL44)","v":3},{"$f":"SUM(AUT_leg:POR_leg!AM44)","v":6},{"$f":"SUM(AUT_leg:POR_leg!AN44)","v":5},{"$f":"SUM(AUT_leg:POR_leg!AO44)","v":2},{"$f":"SUM(AUT_leg:POR_leg!AP44)","v":2},{"$f":"SUM(AUT_leg:POR_leg!AQ44)","v":1},{"$f":"SUM(AUT_leg:POR_leg!AR44)","v":2},{"$f":"SUM(AUT_leg:POR_leg!AS44)","v":1},{"$f":"SUM(AUT_leg:POR_leg!AT44)","v":2},{"$f":"SUM(AUT_leg:POR_leg!AU44)","v":1},{"$f":"SUM(AUT_leg:POR_leg!AV44)","v":1},{"$f":"SUM(AUT_leg:POR_leg!AW44)","v":1},{"$f":"SUM(AUT_leg:POR_leg!AX44)","v":3},{"$f":"SUM(AUT_leg:POR_leg!AY44)","v":1},{"$f":"SUM(AUT_leg:POR_leg!AZ44)","v":4},{"$f":"SUM(AUT_leg:POR_leg!BA44)","v":3},{"$f":"SUM(AUT_leg:POR_leg!BB44)","v":1},111,0.27205882352941174]
[null,"Lighting",{"$f":"Sheet1!O209","v":"Utilisation of natural light"},{"$f":"SUM(AUT_leg:POR_leg!D45)","v":4},{"$f":"SUM(AUT_leg:POR_leg!E45)","v":4},{"$f":"SUM(AUT_leg:POR_leg!F45)","v":3},{"$f":"SUM(AUT_leg:POR_leg!G45)","v":1},{"$f":"SUM(AUT_leg:POR_leg!H45)","v":2},{"$f":"SUM(AUT_leg:POR_leg!I45)","v":5},{"$f":"SUM(AUT_leg:POR_leg!J45)","v":1},{"$f":"SUM(AUT_leg:POR_leg!K45)","v":2},{"$f":"SUM(AUT_leg:POR_leg!L45)","v":2},{"$f":"SUM(AUT_leg:POR_leg!M45)","v":0},{"$f":"SUM(AUT_leg:POR_leg!N45)","v":4},{"$f":"SUM(AUT_leg:POR_leg!O45)","v":-1},{"$f":"SUM(AUT_leg:POR_leg!P45)","v":6},{"$f":"SUM(AUT_leg:POR_leg!Q45)","v":4},{"$f":"SUM(AUT_leg:POR_leg!R45)","v":3},{"$f":"SUM(AUT_leg:POR_leg!S45)","v":-1},{"$f":"SUM(AUT_leg:POR_leg!T45)","v":0},{"$f":"SUM(AUT_leg:POR_leg!U45)","v":5},{"$f":"SUM(AUT_leg:POR_leg!V45)","v":1},{"$f":"SUM(AUT_leg:POR_leg!W45)","v":5},{"$f":"SUM(AUT_leg:POR_leg!X45)","v":0},{"$f":"SUM(AUT_leg:POR_leg!Y45)","v":-1},{"$f":"SUM(AUT_leg:POR_leg!Z45)","v":3},{"$f":"SUM(AUT_leg:POR_leg!AA45)","v":3},{"$f":"SUM(AUT_leg:POR_leg!AB45)","v":2},{"$f":"SUM(AUT_leg:POR_leg!AC45)","v":5},{"$f":"SUM(AUT_leg:POR_leg!AD45)","v":1},{"$f":"SUM(AUT_leg:POR_leg!AE45)","v":1},{"$f":"SUM(AUT_leg:POR_leg!AF45)","v":2},{"$f":"SUM(AUT_leg:POR_leg!AG45)","v":4},{"$f":"SUM(AUT_leg:POR_leg!AH45)","v":4},{"$f":"SUM(AUT_leg:POR_leg!AI45)","v":2},{"$f":"SUM(AUT_leg:POR_leg!AJ45)","v":3},{"$f":"SUM(AUT_leg:POR_leg!AK45)","v":2},{"$f":"SUM(AUT_leg:POR_leg!AL45)","v":4},{"$f":"SUM(AUT_leg:POR_leg!AM45)","v":6},{"$f":"SUM(AUT_leg:POR_leg!AN45)","v":5},{"$f":"SUM(AUT_leg:POR_leg!AO45)","v":2},{"$f":"SUM(AUT_leg:POR_leg!AP45)","v":2},{"$f":"SUM(AUT_leg:POR_leg!AQ45)","v":2},{"$f":"SUM(AUT_leg:POR_leg!AR45)","v":2},{"$f":"SUM(AUT_leg:POR_leg!AS45)","v":1},{"$f":"SUM(AUT_leg:POR_leg!AT45)","v":1},{"$f":"SUM(AUT_leg:POR_leg!AU45)","v":1},{"$f":"SUM(AUT_leg:POR_leg!AV45)","v":1},{"$f":"SUM(AUT_leg:POR_leg!AW45)","v":1},{"$f":"SUM(AUT_leg:POR_leg!AX45)","v":3},{"$f":"SUM(AUT_leg:POR_leg!AY45)","v":1},{"$f":"SUM(AUT_leg:POR_leg!AZ45)","v":5},{"$f":"SUM(AUT_leg:POR_leg!BA45)","v":3},{"$f":"SUM(AUT_leg:POR_leg!BB45)","v":1},122,0.29901960784313725]
[null,"Renewable energy",{"$f":"Sheet1!O211","v":"Solar PV"},{"$f":"SUM(AUT_leg:POR_leg!D46)","v":3},{"$f":"SUM(AUT_leg:POR_leg!E46)","v":4},{"$f":"SUM(AUT_leg:POR_leg!F46)","v":1},{"$f":"SUM(AUT_leg:POR_leg!G46)","v":1},{"$f":"SUM(AUT_leg:POR_leg!H46)","v":1},{"$f":"SUM(AUT_leg:POR_leg!I46)","v":3},{"$f":"SUM(AUT_leg:POR_leg!J46)","v":2},{"$f":"SUM(AUT_leg:POR_leg!K46)","v":2},{"$f":"SUM(AUT_leg:POR_leg!L46)","v":2},{"$f":"SUM(AUT_leg:POR_leg!M46)","v":1},{"$f":"SUM(AUT_leg:POR_leg!N46)","v":0},{"$f":"SUM(AUT_leg:POR_leg!O46)","v":-1},{"$f":"SUM(AUT_leg:POR_leg!P46)","v":8},{"$f":"SUM(AUT_leg:POR_leg!Q46)","v":7},{"$f":"SUM(AUT_leg:POR_leg!R46)","v":3},{"$f":"SUM(AUT_leg:POR_leg!S46)","v":-1},{"$f":"SUM(AUT_leg:POR_leg!T46)","v":1},{"$f":"SUM(AUT_leg:POR_leg!U46)","v":8},{"$f":"SUM(AUT_leg:POR_leg!V46)","v":3},{"$f":"SUM(AUT_leg:POR_leg!W46)","v":7},{"$f":"SUM(AUT_leg:POR_leg!X46)","v":1},{"$f":"SUM(AUT_leg:POR_leg!Y46)","v":0},{"$f":"SUM(AUT_leg:POR_leg!Z46)","v":4},{"$f":"SUM(AUT_leg:POR_leg!AA46)","v":3},{"$f":"SUM(AUT_leg:POR_leg!AB46)","v":3},{"$f":"SUM(AUT_leg:POR_leg!AC46)","v":5},{"$f":"SUM(AUT_leg:POR_leg!AD46)","v":1},{"$f":"SUM(AUT_leg:POR_leg!AE46)","v":1},{"$f":"SUM(AUT_leg:POR_leg!AF46)","v":2},{"$f":"SUM(AUT_leg:POR_leg!AG46)","v":3},{"$f":"SUM(AUT_leg:POR_leg!AH46)","v":4},{"$f":"SUM(AUT_leg:POR_leg!AI46)","v":3},{"$f":"SUM(AUT_leg:POR_leg!AJ46)","v":2},{"$f":"SUM(AUT_leg:POR_leg!AK46)","v":2},{"$f":"SUM(AUT_leg:POR_leg!AL46)","v":4},{"$f":"SUM(AUT_leg:POR_leg!AM46)","v":8},{"$f":"SUM(AUT_leg:POR_leg!AN46)","v":6},{"$f":"SUM(AUT_leg:POR_leg!AO46)","v":3},{"$f":"SUM(AUT_leg:POR_leg!AP46)","v":2},{"$f":"SUM(AUT_leg:POR_leg!AQ46)","v":1},{"$f":"SUM(AUT_leg:POR_leg!AR46)","v":2},{"$f":"SUM(AUT_leg:POR_leg!AS46)","v":1},{"$f":"SUM(AUT_leg:POR_leg!AT46)","v":1},{"$f":"SUM(AUT_leg:POR_leg!AU46)","v":1},{"$f":"SUM(AUT_leg:POR_leg!AV46)","v":1},{"$f":"SUM(AUT_leg:POR_leg!AW46)","v":3},{"$f":"SUM(AUT_leg:POR_leg!AX46)","v":5},{"$f":"SUM(AUT_leg:POR_leg!AY46)","v":2},{"$f":"SUM(AUT_leg:POR_leg!AZ46)","v":3},{"$f":"SUM(AUT_leg:POR_leg!BA46)","v":1},{"$f":"SUM(AUT_leg:POR_leg!BB46)","v":1},134,0.32843137254901961]
[null,"Renewable energy",{"$f":"Sheet1!O212","v":"Wind turbine"},{"$f":"SUM(AUT_leg:POR_leg!D47)","v":2},{"$f":"SUM(AUT_leg:POR_leg!E47)","v":4},{"$f":"SUM(AUT_leg:POR_leg!F47)","v":1},{"$f":"SUM(AUT_leg:POR_leg!G47)","v":1},{"$f":"SUM(AUT_leg:POR_leg!H47)","v":1},{"$f":"SUM(AUT_leg:POR_leg!I47)","v":3},{"$f":"SUM(AUT_leg:POR_leg!J47)","v":2},{"$f":"SUM(AUT_leg:POR_leg!K47)","v":2},{"$f":"SUM(AUT_leg:POR_leg!L47)","v":2},{"$f":"SUM(AUT_leg:POR_leg!M47)","v":1},{"$f":"SUM(AUT_leg:POR_leg!N47)","v":0},{"$f":"SUM(AUT_leg:POR_leg!O47)","v":-1},{"$f":"SUM(AUT_leg:POR_leg!P47)","v":8},{"$f":"SUM(AUT_leg:POR_leg!Q47)","v":7},{"$f":"SUM(AUT_leg:POR_leg!R47)","v":3},{"$f":"SUM(AUT_leg:POR_leg!S47)","v":-1},{"$f":"SUM(AUT_leg:POR_leg!T47)","v":1},{"$f":"SUM(AUT_leg:POR_leg!U47)","v":8},{"$f":"SUM(AUT_leg:POR_leg!V47)","v":1},{"$f":"SUM(AUT_leg:POR_leg!W47)","v":7},{"$f":"SUM(AUT_leg:POR_leg!X47)","v":1},{"$f":"SUM(AUT_leg:POR_leg!Y47)","v":0},{"$f":"SUM(AUT_leg:POR_leg!Z47)","v":4},{"$f":"SUM(AUT_leg:POR_leg!AA47)","v":3},{"$f":"SUM(AUT_leg:POR_leg!AB47)","v":3},{"$f":"SUM(AUT_leg:POR_leg!AC47)","v":5},{"$f":"SUM(AUT_leg:POR_leg!AD47)","v":1},{"$f":"SUM(AUT_leg:POR_leg!AE47)","v":1},{"$f":"SUM(AUT_leg:POR_leg!AF47)","v":2},{"$f":"SUM(AUT_leg:POR_leg!AG47)","v":3},{"$f":"SUM(AUT_leg:POR_leg!AH47)","v":4},{"$f":"SUM(AUT_leg:POR_leg!AI47)","v":3},{"$f":"SUM(AUT_leg:POR_leg!AJ47)","v":2},{"$f":"SUM(AUT_leg:POR_leg!AK47)","v":2},{"$f":"SUM(AUT_leg:POR_leg!AL47)","v":4},{"$f":"SUM(AUT_leg:POR_leg!AM47)","v":8},{"$f":"SUM(AUT_leg:POR_leg!AN47)","v":6},{"$f":"SUM(AUT_leg:POR_leg!AO47)","v":3},{"$f":"SUM(AUT_leg:POR_leg!AP47)","v":2},{"$f":"SUM(AUT_leg:POR_leg!AQ47)","v":1},{"$f":"SUM(AUT_leg:POR_leg!AR47)","v":2},{"$f":"SUM(AUT_leg:POR_leg!AS47)","v":1},{"$f":"SUM(AUT_leg:POR_leg!AT47)","v":1},{"$f":"SUM(AUT_leg:POR_leg!AU47)","v":1},{"$f":"SUM(AUT_leg:POR_leg!AV47)","v":1},{"$f":"SUM(AUT_leg:POR_leg!AW47)","v":3},{"$f":"SUM(AUT_leg:POR_leg!AX47)","v":4},{"$f":"SUM(AUT_leg:POR_leg!AY47)","v":2},{"$f":"SUM(AUT_leg:POR_leg!AZ47)","v":3},{"$f":"SUM(AUT_leg:POR_leg!BA47)","v":1},{"$f":"SUM(AUT_leg:POR_leg!BB47)","v":1},130,0.31862745098039214]
[null,"Renewable energy",{"$f":"Sheet1!O213","v":"Solar collector system"},{"$f":"SUM(AUT_leg:POR_leg!D48)","v":3},{"$f":"SUM(AUT_leg:POR_leg!E48)","v":4},{"$f":"SUM(AUT_leg:POR_leg!F48)","v":1},{"$f":"SUM(AUT_leg:POR_leg!G48)","v":1},{"$f":"SUM(AUT_leg:POR_leg!H48)","v":1},{"$f":"SUM(AUT_leg:POR_leg!I48)","v":3},{"$f":"SUM(AUT_leg:POR_leg!J48)","v":2},{"$f":"SUM(AUT_leg:POR_leg!K48)","v":2},{"$f":"SUM(AUT_leg:POR_leg!L48)","v":2},{"$f":"SUM(AUT_leg:POR_leg!M48)","v":1},{"$f":"SUM(AUT_leg:POR_leg!N48)","v":0},{"$f":"SUM(AUT_leg:POR_leg!O48)","v":-1},{"$f":"SUM(AUT_leg:POR_leg!P48)","v":8},{"$f":"SUM(AUT_leg:POR_leg!Q48)","v":7},{"$f":"SUM(AUT_leg:POR_leg!R48)","v":3},{"$f":"SUM(AUT_leg:POR_leg!S48)","v":-1},{"$f":"SUM(AUT_leg:POR_leg!T48)","v":1},{"$f":"SUM(AUT_leg:POR_leg!U48)","v":8},{"$f":"SUM(AUT_leg:POR_leg!V48)","v":3},{"$f":"SUM(AUT_leg:POR_leg!W48)","v":7},{"$f":"SUM(AUT_leg:POR_leg!X48)","v":1},{"$f":"SUM(AUT_leg:POR_leg!Y48)","v":0},{"$f":"SUM(AUT_leg:POR_leg!Z48)","v":4},{"$f":"SUM(AUT_leg:POR_leg!AA48)","v":3},{"$f":"SUM(AUT_leg:POR_leg!AB48)","v":3},{"$f":"SUM(AUT_leg:POR_leg!AC48)","v":5},{"$f":"SUM(AUT_leg:POR_leg!AD48)","v":1},{"$f":"SUM(AUT_leg:POR_leg!AE48)","v":1},{"$f":"SUM(AUT_leg:POR_leg!AF48)","v":2},{"$f":"SUM(AUT_leg:POR_leg!AG48)","v":3},{"$f":"SUM(AUT_leg:POR_leg!AH48)","v":4},{"$f":"SUM(AUT_leg:POR_leg!AI48)","v":3},{"$f":"SUM(AUT_leg:POR_leg!AJ48)","v":1},{"$f":"SUM(AUT_leg:POR_leg!AK48)","v":2},{"$f":"SUM(AUT_leg:POR_leg!AL48)","v":4},{"$f":"SUM(AUT_leg:POR_leg!AM48)","v":8},{"$f":"SUM(AUT_leg:POR_leg!AN48)","v":6},{"$f":"SUM(AUT_leg:POR_leg!AO48)","v":3},{"$f":"SUM(AUT_leg:POR_leg!AP48)","v":2},{"$f":"SUM(AUT_leg:POR_leg!AQ48)","v":1},{"$f":"SUM(AUT_leg:POR_leg!AR48)","v":2},{"$f":"SUM(AUT_leg:POR_leg!AS48)","v":1},{"$f":"SUM(AUT_leg:POR_leg!AT48)","v":1},{"$f":"SUM(AUT_leg:POR_leg!AU48)","v":1},{"$f":"SUM(AUT_leg:POR_leg!AV48)","v":1},{"$f":"SUM(AUT_leg:POR_leg!AW48)","v":3},{"$f":"SUM(AUT_leg:POR_leg!AX48)","v":5},{"$f":"SUM(AUT_leg:POR_leg!AY48)","v":2},{"$f":"SUM(AUT_leg:POR_leg!AZ48)","v":3},{"$f":"SUM(AUT_leg:POR_leg!BA48)","v":1},{"$f":"SUM(AUT_leg:POR_leg!BB48)","v":1},133,0.32598039215686275]
[null,"Renewable energy",{"$f":"Sheet1!O214","v":"Geothermal heat pump system"},{"$f":"SUM(AUT_leg:POR_leg!D49)","v":2},{"$f":"SUM(AUT_leg:POR_leg!E49)","v":4},{"$f":"SUM(AUT_leg:POR_leg!F49)","v":1},{"$f":"SUM(AUT_leg:POR_leg!G49)","v":1},{"$f":"SUM(AUT_leg:POR_leg!H49)","v":1},{"$f":"SUM(AUT_leg:POR_leg!I49)","v":3},{"$f":"SUM(AUT_leg:POR_leg!J49)","v":2},{"$f":"SUM(AUT_leg:POR_leg!K49)","v":2},{"$f":"SUM(AUT_leg:POR_leg!L49)","v":2},{"$f":"SUM(AUT_leg:POR_leg!M49)","v":1},{"$f":"SUM(AUT_leg:POR_leg!N49)","v":0},{"$f":"SUM(AUT_leg:POR_leg!O49)","v":-1},{"$f":"SUM(AUT_leg:POR_leg!P49)","v":8},{"$f":"SUM(AUT_leg:POR_leg!Q49)","v":6},{"$f":"SUM(AUT_leg:POR_leg!R49)","v":3},{"$f":"SUM(AUT_leg:POR_leg!S49)","v":-1},{"$f":"SUM(AUT_leg:POR_leg!T49)","v":1},{"$f":"SUM(AUT_leg:POR_leg!U49)","v":8},{"$f":"SUM(AUT_leg:POR_leg!V49)","v":3},{"$f":"SUM(AUT_leg:POR_leg!W49)","v":6},{"$f":"SUM(AUT_leg:POR_leg!X49)","v":0},{"$f":"SUM(AUT_leg:POR_leg!Y49)","v":0},{"$f":"SUM(AUT_leg:POR_leg!Z49)","v":4},{"$f":"SUM(AUT_leg:POR_leg!AA49)","v":3},{"$f":"SUM(AUT_leg:POR_leg!AB49)","v":3},{"$f":"SUM(AUT_leg:POR_leg!AC49)","v":5},{"$f":"SUM(AUT_leg:POR_leg!AD49)","v":1},{"$f":"SUM(AUT_leg:POR_leg!AE49)","v":1},{"$f":"SUM(AUT_leg:POR_leg!AF49)","v":2},{"$f":"SUM(AUT_leg:POR_leg!AG49)","v":3},{"$f":"SUM(AUT_leg:POR_leg!AH49)","v":4},{"$f":"SUM(AUT_leg:POR_leg!AI49)","v":3},{"$f":"SUM(AUT_leg:POR_leg!AJ49)","v":1},{"$f":"SUM(AUT_leg:POR_leg!AK49)","v":2},{"$f":"SUM(AUT_leg:POR_leg!AL49)","v":4},{"$f":"SUM(AUT_leg:POR_leg!AM49)","v":7},{"$f":"SUM(AUT_leg:POR_leg!AN49)","v":6},{"$f":"SUM(AUT_leg:POR_leg!AO49)","v":3},{"$f":"SUM(AUT_leg:POR_leg!AP49)","v":2},{"$f":"SUM(AUT_leg:POR_leg!AQ49)","v":1},{"$f":"SUM(AUT_leg:POR_leg!AR49)","v":2},{"$f":"SUM(AUT_leg:POR_leg!AS49)","v":1},{"$f":"SUM(AUT_leg:POR_leg!AT49)","v":1},{"$f":"SUM(AUT_leg:POR_leg!AU49)","v":1},{"$f":"SUM(AUT_leg:POR_leg!AV49)","v":1},{"$f":"SUM(AUT_leg:POR_leg!AW49)","v":3},{"$f":"SUM(AUT_leg:POR_leg!AX49)","v":4},{"$f":"SUM(AUT_leg:POR_leg!AY49)","v":2},{"$f":"SUM(AUT_leg:POR_leg!AZ49)","v":3},{"$f":"SUM(AUT_leg:POR_leg!BA49)","v":1},{"$f":"SUM(AUT_leg:POR_leg!BB49)","v":1},127,0.31127450980392157]
[null,"Renewable energy",{"$f":"Sheet1!O215","v":"Passive measures"},{"$f":"SUM(AUT_leg:POR_leg!D50)","v":3},{"$f":"SUM(AUT_leg:POR_leg!E50)","v":4},{"$f":"SUM(AUT_leg:POR_leg!F50)","v":2},{"$f":"SUM(AUT_leg:POR_leg!G50)","v":2},{"$f":"SUM(AUT_leg:POR_leg!H50)","v":2},{"$f":"SUM(AUT_leg:POR_leg!I50)","v":3},{"$f":"SUM(AUT_leg:POR_leg!J50)","v":2},{"$f":"SUM(AUT_leg:POR_leg!K50)","v":2},{"$f":"SUM(AUT_leg:POR_leg!L50)","v":2},{"$f":"SUM(AUT_leg:POR_leg!M50)","v":1},{"$f":"SUM(AUT_leg:POR_leg!N50)","v":0},{"$f":"SUM(AUT_leg:POR_leg!O50)","v":-1},{"$f":"SUM(AUT_leg:POR_leg!P50)","v":7},{"$f":"SUM(AUT_leg:POR_leg!Q50)","v":5},{"$f":"SUM(AUT_leg:POR_leg!R50)","v":3},{"$f":"SUM(AUT_leg:POR_leg!S50)","v":-1},{"$f":"SUM(AUT_leg:POR_leg!T50)","v":1},{"$f":"SUM(AUT_leg:POR_leg!U50)","v":7},{"$f":"SUM(AUT_leg:POR_leg!V50)","v":3},{"$f":"SUM(AUT_leg:POR_leg!W50)","v":5},{"$f":"SUM(AUT_leg:POR_leg!X50)","v":0},{"$f":"SUM(AUT_leg:POR_leg!Y50)","v":0},{"$f":"SUM(AUT_leg:POR_leg!Z50)","v":4},{"$f":"SUM(AUT_leg:POR_leg!AA50)","v":3},{"$f":"SUM(AUT_leg:POR_leg!AB50)","v":3},{"$f":"SUM(AUT_leg:POR_leg!AC50)","v":5},{"$f":"SUM(AUT_leg:POR_leg!AD50)","v":1},{"$f":"SUM(AUT_leg:POR_leg!AE50)","v":1},{"$f":"SUM(AUT_leg:POR_leg!AF50)","v":2},{"$f":"SUM(AUT_leg:POR_leg!AG50)","v":3},{"$f":"SUM(AUT_leg:POR_leg!AH50)","v":4},{"$f":"SUM(AUT_leg:POR_leg!AI50)","v":3},{"$f":"SUM(AUT_leg:POR_leg!AJ50)","v":1},{"$f":"SUM(AUT_leg:POR_leg!AK50)","v":2},{"$f":"SUM(AUT_leg:POR_leg!AL50)","v":4},{"$f":"SUM(AUT_leg:POR_leg!AM50)","v":7},{"$f":"SUM(AUT_leg:POR_leg!AN50)","v":6},{"$f":"SUM(AUT_leg:POR_leg!AO50)","v":3},{"$f":"SUM(AUT_leg:POR_leg!AP50)","v":2},{"$f":"SUM(AUT_leg:POR_leg!AQ50)","v":1},{"$f":"SUM(AUT_leg:POR_leg!AR50)","v":2},{"$f":"SUM(AUT_leg:POR_leg!AS50)","v":1},{"$f":"SUM(AUT_leg:POR_leg!AT50)","v":1},{"$f":"SUM(AUT_leg:POR_leg!AU50)","v":1},{"$f":"SUM(AUT_leg:POR_leg!AV50)","v":1},{"$f":"SUM(AUT_leg:POR_leg!AW50)","v":2},{"$f":"SUM(AUT_leg:POR_leg!AX50)","v":3},{"$f":"SUM(AUT_leg:POR_leg!AY50)","v":2},{"$f":"SUM(AUT_leg:POR_leg!AZ50)","v":3},{"$f":"SUM(AUT_leg:POR_leg!BA50)","v":1},{"$f":"SUM(AUT_leg:POR_leg!BB50)","v":1},125,0.30637254901960786]
[null,"Appliances",{"$f":"Sheet1!O217","v":"Energy efficient appliances"},{"$f":"SUM(AUT_leg:POR_leg!D51)","v":0},{"$f":"SUM(AUT_leg:POR_leg!E51)","v":4},{"$f":"SUM(AUT_leg:POR_leg!F51)","v":0},{"$f":"SUM(AUT_leg:POR_leg!G51)","v":-1},{"$f":"SUM(AUT_leg:POR_leg!H51)","v":-1},{"$f":"SUM(AUT_leg:POR_leg!I51)","v":3},{"$f":"SUM(AUT_leg:POR_leg!J51)","v":1},{"$f":"SUM(AUT_leg:POR_leg!K51)","v":0},{"$f":"SUM(AUT_leg:POR_leg!L51)","v":0},{"$f":"SUM(AUT_leg:POR_leg!M51)","v":0},{"$f":"SUM(AUT_leg:POR_leg!N51)","v":-1},{"$f":"SUM(AUT_leg:POR_leg!O51)","v":-1},{"$f":"SUM(AUT_leg:POR_leg!P51)","v":7},{"$f":"SUM(AUT_leg:POR_leg!Q51)","v":4},{"$f":"SUM(AUT_leg:POR_leg!R51)","v":3},{"$f":"SUM(AUT_leg:POR_leg!S51)","v":-1},{"$f":"SUM(AUT_leg:POR_leg!T51)","v":1},{"$f":"SUM(AUT_leg:POR_leg!U51)","v":7},{"$f":"SUM(AUT_leg:POR_leg!V51)","v":1},{"$f":"SUM(AUT_leg:POR_leg!W51)","v":6},{"$f":"SUM(AUT_leg:POR_leg!X51)","v":0},{"$f":"SUM(AUT_leg:POR_leg!Y51)","v":0},{"$f":"SUM(AUT_leg:POR_leg!Z51)","v":5},{"$f":"SUM(AUT_leg:POR_leg!AA51)","v":3},{"$f":"SUM(AUT_leg:POR_leg!AB51)","v":3},{"$f":"SUM(AUT_leg:POR_leg!AC51)","v":6},{"$f":"SUM(AUT_leg:POR_leg!AD51)","v":1},{"$f":"SUM(AUT_leg:POR_leg!AE51)","v":2},{"$f":"SUM(AUT_leg:POR_leg!AF51)","v":2},{"$f":"SUM(AUT_leg:POR_leg!AG51)","v":5},{"$f":"SUM(AUT_leg:POR_leg!AH51)","v":4},{"$f":"SUM(AUT_leg:POR_leg!AI51)","v":3},{"$f":"SUM(AUT_leg:POR_leg!AJ51)","v":3},{"$f":"SUM(AUT_leg:POR_leg!AK51)","v":2},{"$f":"SUM(AUT_leg:POR_leg!AL51)","v":4},{"$f":"SUM(AUT_leg:POR_leg!AM51)","v":6},{"$f":"SUM(AUT_leg:POR_leg!AN51)","v":5},{"$f":"SUM(AUT_leg:POR_leg!AO51)","v":2},{"$f":"SUM(AUT_leg:POR_leg!AP51)","v":3},{"$f":"SUM(AUT_leg:POR_leg!AQ51)","v":2},{"$f":"SUM(AUT_leg:POR_leg!AR51)","v":3},{"$f":"SUM(AUT_leg:POR_leg!AS51)","v":1},{"$f":"SUM(AUT_leg:POR_leg!AT51)","v":1},{"$f":"SUM(AUT_leg:POR_leg!AU51)","v":1},{"$f":"SUM(AUT_leg:POR_leg!AV51)","v":1},{"$f":"SUM(AUT_leg:POR_leg!AW51)","v":3},{"$f":"SUM(AUT_leg:POR_leg!AX51)","v":4},{"$f":"SUM(AUT_leg:POR_leg!AY51)","v":2},{"$f":"SUM(AUT_leg:POR_leg!AZ51)","v":4},{"$f":"SUM(AUT_leg:POR_leg!BA51)","v":2},{"$f":"SUM(AUT_leg:POR_leg!BB51)","v":1},116,0.28431372549019607]
[null,"Appliances",{"$f":"Sheet1!O218","v":"Reducing stand-by consumption"},{"$f":"SUM(AUT_leg:POR_leg!D52)","v":0},{"$f":"SUM(AUT_leg:POR_leg!E52)","v":4},{"$f":"SUM(AUT_leg:POR_leg!F52)","v":0},{"$f":"SUM(AUT_leg:POR_leg!G52)","v":-1},{"$f":"SUM(AUT_leg:POR_leg!H52)","v":-1},{"$f":"SUM(AUT_leg:POR_leg!I52)","v":3},{"$f":"SUM(AUT_leg:POR_leg!J52)","v":1},{"$f":"SUM(AUT_leg:POR_leg!K52)","v":0},{"$f":"SUM(AUT_leg:POR_leg!L52)","v":0},{"$f":"SUM(AUT_leg:POR_leg!M52)","v":0},{"$f":"SUM(AUT_leg:POR_leg!N52)","v":-1},{"$f":"SUM(AUT_leg:POR_leg!O52)","v":-1},{"$f":"SUM(AUT_leg:POR_leg!P52)","v":5},{"$f":"SUM(AUT_leg:POR_leg!Q52)","v":3},{"$f":"SUM(AUT_leg:POR_leg!R52)","v":3},{"$f":"SUM(AUT_leg:POR_leg!S52)","v":-1},{"$f":"SUM(AUT_leg:POR_leg!T52)","v":1},{"$f":"SUM(AUT_leg:POR_leg!U52)","v":5},{"$f":"SUM(AUT_leg:POR_leg!V52)","v":1},{"$f":"SUM(AUT_leg:POR_leg!W52)","v":5},{"$f":"SUM(AUT_leg:POR_leg!X52)","v":0},{"$f":"SUM(AUT_leg:POR_leg!Y52)","v":0},{"$f":"SUM(AUT_leg:POR_leg!Z52)","v":4},{"$f":"SUM(AUT_leg:POR_leg!AA52)","v":2},{"$f":"SUM(AUT_leg:POR_leg!AB52)","v":3},{"$f":"SUM(AUT_leg:POR_leg!AC52)","v":6},{"$f":"SUM(AUT_leg:POR_leg!AD52)","v":1},{"$f":"SUM(AUT_leg:POR_leg!AE52)","v":2},{"$f":"SUM(AUT_leg:POR_leg!AF52)","v":2},{"$f":"SUM(AUT_leg:POR_leg!AG52)","v":5},{"$f":"SUM(AUT_leg:POR_leg!AH52)","v":4},{"$f":"SUM(AUT_leg:POR_leg!AI52)","v":2},{"$f":"SUM(AUT_leg:POR_leg!AJ52)","v":2},{"$f":"SUM(AUT_leg:POR_leg!AK52)","v":2},{"$f":"SUM(AUT_leg:POR_leg!AL52)","v":3},{"$f":"SUM(AUT_leg:POR_leg!AM52)","v":6},{"$f":"SUM(AUT_leg:POR_leg!AN52)","v":5},{"$f":"SUM(AUT_leg:POR_leg!AO52)","v":2},{"$f":"SUM(AUT_leg:POR_leg!AP52)","v":2},{"$f":"SUM(AUT_leg:POR_leg!AQ52)","v":1},{"$f":"SUM(AUT_leg:POR_leg!AR52)","v":2},{"$f":"SUM(AUT_leg:POR_leg!AS52)","v":1},{"$f":"SUM(AUT_leg:POR_leg!AT52)","v":1},{"$f":"SUM(AUT_leg:POR_leg!AU52)","v":1},{"$f":"SUM(AUT_leg:POR_leg!AV52)","v":1},{"$f":"SUM(AUT_leg:POR_leg!AW52)","v":2},{"$f":"SUM(AUT_leg:POR_leg!AX52)","v":4},{"$f":"SUM(AUT_leg:POR_leg!AY52)","v":2},{"$f":"SUM(AUT_leg:POR_leg!AZ52)","v":4},{"$f":"SUM(AUT_leg:POR_leg!BA52)","v":3},{"$f":"SUM(AUT_leg:POR_leg!BB52)","v":1},102,0.25]
[null,"Appliances",{"$f":"Sheet1!O219","v":"Optimal usage, on demand operation"},{"$f":"SUM(AUT_leg:POR_leg!D53)","v":0},{"$f":"SUM(AUT_leg:POR_leg!E53)","v":4},{"$f":"SUM(AUT_leg:POR_leg!F53)","v":0},{"$f":"SUM(AUT_leg:POR_leg!G53)","v":-1},{"$f":"SUM(AUT_leg:POR_leg!H53)","v":-1},{"$f":"SUM(AUT_leg:POR_leg!I53)","v":3},{"$f":"SUM(AUT_leg:POR_leg!J53)","v":1},{"$f":"SUM(AUT_leg:POR_leg!K53)","v":0},{"$f":"SUM(AUT_leg:POR_leg!L53)","v":0},{"$f":"SUM(AUT_leg:POR_leg!M53)","v":0},{"$f":"SUM(AUT_leg:POR_leg!N53)","v":0},{"$f":"SUM(AUT_leg:POR_leg!O53)","v":-1},{"$f":"SUM(AUT_leg:POR_leg!P53)","v":5},{"$f":"SUM(AUT_leg:POR_leg!Q53)","v":4},{"$f":"SUM(AUT_leg:POR_leg!R53)","v":3},{"$f":"SUM(AUT_leg:POR_leg!S53)","v":-1},{"$f":"SUM(AUT_leg:POR_leg!T53)","v":1},{"$f":"SUM(AUT_leg:POR_leg!U53)","v":5},{"$f":"SUM(AUT_leg:POR_leg!V53)","v":1},{"$f":"SUM(AUT_leg:POR_leg!W53)","v":5},{"$f":"SUM(AUT_leg:POR_leg!X53)","v":0},{"$f":"SUM(AUT_leg:POR_leg!Y53)","v":0},{"$f":"SUM(AUT_leg:POR_leg!Z53)","v":4},{"$f":"SUM(AUT_leg:POR_leg!AA53)","v":2},{"$f":"SUM(AUT_leg:POR_leg!AB53)","v":4},{"$f":"SUM(AUT_leg:POR_leg!AC53)","v":6},{"$f":"SUM(AUT_leg:POR_leg!AD53)","v":1},{"$f":"SUM(AUT_leg:POR_leg!AE53)","v":2},{"$f":"SUM(AUT_leg:POR_leg!AF53)","v":2},{"$f":"SUM(AUT_leg:POR_leg!AG53)","v":5},{"$f":"SUM(AUT_leg:POR_leg!AH53)","v":4},{"$f":"SUM(AUT_leg:POR_leg!AI53)","v":3},{"$f":"SUM(AUT_leg:POR_leg!AJ53)","v":2},{"$f":"SUM(AUT_leg:POR_leg!AK53)","v":2},{"$f":"SUM(AUT_leg:POR_leg!AL53)","v":3},{"$f":"SUM(AUT_leg:POR_leg!AM53)","v":6},{"$f":"SUM(AUT_leg:POR_leg!AN53)","v":5},{"$f":"SUM(AUT_leg:POR_leg!AO53)","v":2},{"$f":"SUM(AUT_leg:POR_leg!AP53)","v":2},{"$f":"SUM(AUT_leg:POR_leg!AQ53)","v":1},{"$f":"SUM(AUT_leg:POR_leg!AR53)","v":2},{"$f":"SUM(AUT_leg:POR_leg!AS53)","v":1},{"$f":"SUM(AUT_leg:POR_leg!AT53)","v":1},{"$f":"SUM(AUT_leg:POR_leg!AU53)","v":1},{"$f":"SUM(AUT_leg:POR_leg!AV53)","v":1},{"$f":"SUM(AUT_leg:POR_leg!AW53)","v":2},{"$f":"SUM(AUT_leg:POR_leg!AX53)","v":3},{"$f":"SUM(AUT_leg:POR_leg!AY53)","v":2},{"$f":"SUM(AUT_leg:POR_leg!AZ53)","v":5},{"$f":"SUM(AUT_leg:POR_leg!BA53)","v":4},{"$f":"SUM(AUT_leg:POR_leg!BB53)","v":1},107,0.26225490196078433]
[null,"Building automation",{"$f":"Sheet1!O221","v":"Building automation and management systems"},{"$f":"SUM(AUT_leg:POR_leg!D54)","v":0},{"$f":"SUM(AUT_leg:POR_leg!E54)","v":4},{"$f":"SUM(AUT_leg:POR_leg!F54)","v":0},{"$f":"SUM(AUT_leg:POR_leg!G54)","v":-1},{"$f":"SUM(AUT_leg:POR_leg!H54)","v":-1},{"$f":"SUM(AUT_leg:POR_leg!I54)","v":4},{"$f":"SUM(AUT_leg:POR_leg!J54)","v":1},{"$f":"SUM(AUT_leg:POR_leg!K54)","v":1},{"$f":"SUM(AUT_leg:POR_leg!L54)","v":1},{"$f":"SUM(AUT_leg:POR_leg!M54)","v":0},{"$f":"SUM(AUT_leg:POR_leg!N54)","v":0},{"$f":"SUM(AUT_leg:POR_leg!O54)","v":-1},{"$f":"SUM(AUT_leg:POR_leg!P54)","v":6},{"$f":"SUM(AUT_leg:POR_leg!Q54)","v":4},{"$f":"SUM(AUT_leg:POR_leg!R54)","v":3},{"$f":"SUM(AUT_leg:POR_leg!S54)","v":0},{"$f":"SUM(AUT_leg:POR_leg!T54)","v":1},{"$f":"SUM(AUT_leg:POR_leg!U54)","v":5},{"$f":"SUM(AUT_leg:POR_leg!V54)","v":1},{"$f":"SUM(AUT_leg:POR_leg!W54)","v":4},{"$f":"SUM(AUT_leg:POR_leg!X54)","v":0},{"$f":"SUM(AUT_leg:POR_leg!Y54)","v":0},{"$f":"SUM(AUT_leg:POR_leg!Z54)","v":5},{"$f":"SUM(AUT_leg:POR_leg!AA54)","v":3},{"$f":"SUM(AUT_leg:POR_leg!AB54)","v":4},{"$f":"SUM(AUT_leg:POR_leg!AC54)","v":6},{"$f":"SUM(AUT_leg:POR_leg!AD54)","v":1},{"$f":"SUM(AUT_leg:POR_leg!AE54)","v":2},{"$f":"SUM(AUT_leg:POR_leg!AF54)","v":4},{"$f":"SUM(AUT_leg:POR_leg!AG54)","v":5},{"$f":"SUM(AUT_leg:POR_leg!AH54)","v":4},{"$f":"SUM(AUT_leg:POR_leg!AI54)","v":2},{"$f":"SUM(AUT_leg:POR_leg!AJ54)","v":3},{"$f":"SUM(AUT_leg:POR_leg!AK54)","v":1},{"$f":"SUM(AUT_leg:POR_leg!AL54)","v":4},{"$f":"SUM(AUT_leg:POR_leg!AM54)","v":7},{"$f":"SUM(AUT_leg:POR_leg!AN54)","v":5},{"$f":"SUM(AUT_leg:POR_leg!AO54)","v":2},{"$f":"SUM(AUT_leg:POR_leg!AP54)","v":4},{"$f":"SUM(AUT_leg:POR_leg!AQ54)","v":3},{"$f":"SUM(AUT_leg:POR_leg!AR54)","v":3},{"$f":"SUM(AUT_leg:POR_leg!AS54)","v":2},{"$f":"SUM(AUT_leg:POR_leg!AT54)","v":2},{"$f":"SUM(AUT_leg:POR_leg!AU54)","v":1},{"$f":"SUM(AUT_leg:POR_leg!AV54)","v":2},{"$f":"SUM(AUT_leg:POR_leg!AW54)","v":2},{"$f":"SUM(AUT_leg:POR_leg!AX54)","v":4},{"$f":"SUM(AUT_leg:POR_leg!AY54)","v":3},{"$f":"SUM(AUT_leg:POR_leg!AZ54)","v":6},{"$f":"SUM(AUT_leg:POR_leg!BA54)","v":2},{"$f":"SUM(AUT_leg:POR_leg!BB54)","v":4},128,0.31372549019607843]
[null,"Building automation",{"$f":"Sheet1!O222","v":"Energy management system"},{"$f":"SUM(AUT_leg:POR_leg!D55)","v":0},{"$f":"SUM(AUT_leg:POR_leg!E55)","v":4},{"$f":"SUM(AUT_leg:POR_leg!F55)","v":0},{"$f":"SUM(AUT_leg:POR_leg!G55)","v":0},{"$f":"SUM(AUT_leg:POR_leg!H55)","v":-1},{"$f":"SUM(AUT_leg:POR_leg!I55)","v":3},{"$f":"SUM(AUT_leg:POR_leg!J55)","v":1},{"$f":"SUM(AUT_leg:POR_leg!K55)","v":1},{"$f":"SUM(AUT_leg:POR_leg!L55)","v":1},{"$f":"SUM(AUT_leg:POR_leg!M55)","v":0},{"$f":"SUM(AUT_leg:POR_leg!N55)","v":-1},{"$f":"SUM(AUT_leg:POR_leg!O55)","v":-1},{"$f":"SUM(AUT_leg:POR_leg!P55)","v":6},{"$f":"SUM(AUT_leg:POR_leg!Q55)","v":4},{"$f":"SUM(AUT_leg:POR_leg!R55)","v":3},{"$f":"SUM(AUT_leg:POR_leg!S55)","v":-1},{"$f":"SUM(AUT_leg:POR_leg!T55)","v":1},{"$f":"SUM(AUT_leg:POR_leg!U55)","v":5},{"$f":"SUM(AUT_leg:POR_leg!V55)","v":1},{"$f":"SUM(AUT_leg:POR_leg!W55)","v":4},{"$f":"SUM(AUT_leg:POR_leg!X55)","v":0},{"$f":"SUM(AUT_leg:POR_leg!Y55)","v":0},{"$f":"SUM(AUT_leg:POR_leg!Z55)","v":5},{"$f":"SUM(AUT_leg:POR_leg!AA55)","v":3},{"$f":"SUM(AUT_leg:POR_leg!AB55)","v":4},{"$f":"SUM(AUT_leg:POR_leg!AC55)","v":6},{"$f":"SUM(AUT_leg:POR_leg!AD55)","v":1},{"$f":"SUM(AUT_leg:POR_leg!AE55)","v":2},{"$f":"SUM(AUT_leg:POR_leg!AF55)","v":2},{"$f":"SUM(AUT_leg:POR_leg!AG55)","v":5},{"$f":"SUM(AUT_leg:POR_leg!AH55)","v":4},{"$f":"SUM(AUT_leg:POR_leg!AI55)","v":2},{"$f":"SUM(AUT_leg:POR_leg!AJ55)","v":3},{"$f":"SUM(AUT_leg:POR_leg!AK55)","v":2},{"$f":"SUM(AUT_leg:POR_leg!AL55)","v":4},{"$f":"SUM(AUT_leg:POR_leg!AM55)","v":7},{"$f":"SUM(AUT_leg:POR_leg!AN55)","v":5},{"$f":"SUM(AUT_leg:POR_leg!AO55)","v":2},{"$f":"SUM(AUT_leg:POR_leg!AP55)","v":3},{"$f":"SUM(AUT_leg:POR_leg!AQ55)","v":3},{"$f":"SUM(AUT_leg:POR_leg!AR55)","v":2},{"$f":"SUM(AUT_leg:POR_leg!AS55)","v":1},{"$f":"SUM(AUT_leg:POR_leg!AT55)","v":1},{"$f":"SUM(AUT_leg:POR_leg!AU55)","v":1},{"$f":"SUM(AUT_leg:POR_leg!AV55)","v":2},{"$f":"SUM(AUT_leg:POR_leg!AW55)","v":2},{"$f":"SUM(AUT_leg:POR_leg!AX55)","v":3},{"$f":"SUM(AUT_leg:POR_leg!AY55)","v":3},{"$f":"SUM(AUT_leg:POR_leg!AZ55)","v":5},{"$f":"SUM(AUT_leg:POR_leg!BA55)","v":2},{"$f":"SUM(AUT_leg:POR_leg!BB55)","v":3},118,0.28921568627450983]
[null,"Building automation",{"$f":"Sheet1!O223","v":"Measured consumption"},{"$f":"SUM(AUT_leg:POR_leg!D56)","v":0},{"$f":"SUM(AUT_leg:POR_leg!E56)","v":4},{"$f":"SUM(AUT_leg:POR_leg!F56)","v":0},{"$f":"SUM(AUT_leg:POR_leg!G56)","v":-1},{"$f":"SUM(AUT_leg:POR_leg!H56)","v":-1},{"$f":"SUM(AUT_leg:POR_leg!I56)","v":3},{"$f":"SUM(AUT_leg:POR_leg!J56)","v":1},{"$f":"SUM(AUT_leg:POR_leg!K56)","v":1},{"$f":"SUM(AUT_leg:POR_leg!L56)","v":1},{"$f":"SUM(AUT_leg:POR_leg!M56)","v":0},{"$f":"SUM(AUT_leg:POR_leg!N56)","v":-1},{"$f":"SUM(AUT_leg:POR_leg!O56)","v":-1},{"$f":"SUM(AUT_leg:POR_leg!P56)","v":6},{"$f":"SUM(AUT_leg:POR_leg!Q56)","v":4},{"$f":"SUM(AUT_leg:POR_leg!R56)","v":3},{"$f":"SUM(AUT_leg:POR_leg!S56)","v":0},{"$f":"SUM(AUT_leg:POR_leg!T56)","v":1},{"$f":"SUM(AUT_leg:POR_leg!U56)","v":5},{"$f":"SUM(AUT_leg:POR_leg!V56)","v":1},{"$f":"SUM(AUT_leg:POR_leg!W56)","v":4},{"$f":"SUM(AUT_leg:POR_leg!X56)","v":0},{"$f":"SUM(AUT_leg:POR_leg!Y56)","v":0},{"$f":"SUM(AUT_leg:POR_leg!Z56)","v":5},{"$f":"SUM(AUT_leg:POR_leg!AA56)","v":3},{"$f":"SUM(AUT_leg:POR_leg!AB56)","v":3},{"$f":"SUM(AUT_leg:POR_leg!AC56)","v":6},{"$f":"SUM(AUT_leg:POR_leg!AD56)","v":1},{"$f":"SUM(AUT_leg:POR_leg!AE56)","v":2},{"$f":"SUM(AUT_leg:POR_leg!AF56)","v":2},{"$f":"SUM(AUT_leg:POR_leg!AG56)","v":5},{"$f":"SUM(AUT_leg:POR_leg!AH56)","v":4},{"$f":"SUM(AUT_leg:POR_leg!AI56)","v":2},{"$f":"SUM(AUT_leg:POR_leg!AJ56)","v":3},{"$f":"SUM(AUT_leg:POR_leg!AK56)","v":2},{"$f":"SUM(AUT_leg:POR_leg!AL56)","v":4},{"$f":"SUM(AUT_leg:POR_leg!AM56)","v":7},{"$f":"SUM(AUT_leg:POR_leg!AN56)","v":5},{"$f":"SUM(AUT_leg:POR_leg!AO56)","v":2},{"$f":"SUM(AUT_leg:POR_leg!AP56)","v":3},{"$f":"SUM(AUT_leg:POR_leg!AQ56)","v":2},{"$f":"SUM(AUT_leg:POR_leg!AR56)","v":2},{"$f":"SUM(AUT_leg:POR_leg!AS56)","v":1},{"$f":"SUM(AUT_leg:POR_leg!AT56)","v":2},{"$f":"SUM(AUT_leg:POR_leg!AU56)","v":1},{"$f":"SUM(AUT_leg:POR_leg!AV56)","v":2},{"$f":"SUM(AUT_leg:POR_leg!AW56)","v":2},{"$f":"SUM(AUT_leg:POR_leg!AX56)","v":3},{"$f":"SUM(AUT_leg:POR_leg!AY56)","v":1},{"$f":"SUM(AUT_leg:POR_leg!AZ56)","v":3},{"$f":"SUM(AUT_leg:POR_leg!BA56)","v":1},{"$f":"SUM(AUT_leg:POR_leg!BB56)","v":2},111,0.27205882352941174]
[null,"Building automation",{"$f":"Sheet1!O224","v":"Improved smart-readiness"},{"$f":"SUM(AUT_leg:POR_leg!D57)","v":0},{"$f":"SUM(AUT_leg:POR_leg!E57)","v":4},{"$f":"SUM(AUT_leg:POR_leg!F57)","v":0},{"$f":"SUM(AUT_leg:POR_leg!G57)","v":-1},{"$f":"SUM(AUT_leg:POR_leg!H57)","v":-1},{"$f":"SUM(AUT_leg:POR_leg!I57)","v":1},{"$f":"SUM(AUT_leg:POR_leg!J57)","v":-1},{"$f":"SUM(AUT_leg:POR_leg!K57)","v":1},{"$f":"SUM(AUT_leg:POR_leg!L57)","v":1},{"$f":"SUM(AUT_leg:POR_leg!M57)","v":0},{"$f":"SUM(AUT_leg:POR_leg!N57)","v":0},{"$f":"SUM(AUT_leg:POR_leg!O57)","v":-1},{"$f":"SUM(AUT_leg:POR_leg!P57)","v":6},{"$f":"SUM(AUT_leg:POR_leg!Q57)","v":4},{"$f":"SUM(AUT_leg:POR_leg!R57)","v":3},{"$f":"SUM(AUT_leg:POR_leg!S57)","v":-1},{"$f":"SUM(AUT_leg:POR_leg!T57)","v":1},{"$f":"SUM(AUT_leg:POR_leg!U57)","v":5},{"$f":"SUM(AUT_leg:POR_leg!V57)","v":1},{"$f":"SUM(AUT_leg:POR_leg!W57)","v":4},{"$f":"SUM(AUT_leg:POR_leg!X57)","v":0},{"$f":"SUM(AUT_leg:POR_leg!Y57)","v":0},{"$f":"SUM(AUT_leg:POR_leg!Z57)","v":5},{"$f":"SUM(AUT_leg:POR_leg!AA57)","v":3},{"$f":"SUM(AUT_leg:POR_leg!AB57)","v":3},{"$f":"SUM(AUT_leg:POR_leg!AC57)","v":6},{"$f":"SUM(AUT_leg:POR_leg!AD57)","v":1},{"$f":"SUM(AUT_leg:POR_leg!AE57)","v":1},{"$f":"SUM(AUT_leg:POR_leg!AF57)","v":2},{"$f":"SUM(AUT_leg:POR_leg!AG57)","v":4},{"$f":"SUM(AUT_leg:POR_leg!AH57)","v":4},{"$f":"SUM(AUT_leg:POR_leg!AI57)","v":2},{"$f":"SUM(AUT_leg:POR_leg!AJ57)","v":3},{"$f":"SUM(AUT_leg:POR_leg!AK57)","v":2},{"$f":"SUM(AUT_leg:POR_leg!AL57)","v":4},{"$f":"SUM(AUT_leg:POR_leg!AM57)","v":7},{"$f":"SUM(AUT_leg:POR_leg!AN57)","v":5},{"$f":"SUM(AUT_leg:POR_leg!AO57)","v":2},{"$f":"SUM(AUT_leg:POR_leg!AP57)","v":3},{"$f":"SUM(AUT_leg:POR_leg!AQ57)","v":3},{"$f":"SUM(AUT_leg:POR_leg!AR57)","v":2},{"$f":"SUM(AUT_leg:POR_leg!AS57)","v":1},{"$f":"SUM(AUT_leg:POR_leg!AT57)","v":2},{"$f":"SUM(AUT_leg:POR_leg!AU57)","v":1},{"$f":"SUM(AUT_leg:POR_leg!AV57)","v":2},{"$f":"SUM(AUT_leg:POR_leg!AW57)","v":2},{"$f":"SUM(AUT_leg:POR_leg!AX57)","v":3},{"$f":"SUM(AUT_leg:POR_leg!AY57)","v":1},{"$f":"SUM(AUT_leg:POR_leg!AZ57)","v":4},{"$f":"SUM(AUT_leg:POR_leg!BA57)","v":2},{"$f":"SUM(AUT_leg:POR_leg!BB57)","v":2},108,0.26470588235294118]
["Processes","Compressed air system",{"$f":"Sheet1!O226","v":"Check the required pressure"},{"$f":"SUM(AUT_leg:POR_leg!D58)","v":0},{"$f":"SUM(AUT_leg:POR_leg!E58)","v":2},{"$f":"SUM(AUT_leg:POR_leg!F58)","v":0},{"$f":"SUM(AUT_leg:POR_leg!G58)","v":-1},{"$f":"SUM(AUT_leg:POR_leg!H58)","v":-1},{"$f":"SUM(AUT_leg:POR_leg!I58)","v":2},{"$f":"SUM(AUT_leg:POR_leg!J58)","v":3},{"$f":"SUM(AUT_leg:POR_leg!K58)","v":0},{"$f":"SUM(AUT_leg:POR_leg!L58)","v":0},{"$f":"SUM(AUT_leg:POR_leg!M58)","v":-1},{"$f":"SUM(AUT_leg:POR_leg!N58)","v":-1},{"$f":"SUM(AUT_leg:POR_leg!O58)","v":1},{"$f":"SUM(AUT_leg:POR_leg!P58)","v":6},{"$f":"SUM(AUT_leg:POR_leg!Q58)","v":4},{"$f":"SUM(AUT_leg:POR_leg!R58)","v":3},{"$f":"SUM(AUT_leg:POR_leg!S58)","v":-1},{"$f":"SUM(AUT_leg:POR_leg!T58)","v":0},{"$f":"SUM(AUT_leg:POR_leg!U58)","v":5},{"$f":"SUM(AUT_leg:POR_leg!V58)","v":1},{"$f":"SUM(AUT_leg:POR_leg!W58)","v":5},{"$f":"SUM(AUT_leg:POR_leg!X58)","v":1},{"$f":"SUM(AUT_leg:POR_leg!Y58)","v":0},{"$f":"SUM(AUT_leg:POR_leg!Z58)","v":4},{"$f":"SUM(AUT_leg:POR_leg!AA58)","v":3},{"$f":"SUM(AUT_leg:POR_leg!AB58)","v":3},{"$f":"SUM(AUT_leg:POR_leg!AC58)","v":6},{"$f":"SUM(AUT_leg:POR_leg!AD58)","v":2},{"$f":"SUM(AUT_leg:POR_leg!AE58)","v":2},{"$f":"SUM(AUT_leg:POR_leg!AF58)","v":1},{"$f":"SUM(AUT_leg:POR_leg!AG58)","v":5},{"$f":"SUM(AUT_leg:POR_leg!AH58)","v":4},{"$f":"SUM(AUT_leg:POR_leg!AI58)","v":2},{"$f":"SUM(AUT_leg:POR_leg!AJ58)","v":2},{"$f":"SUM(AUT_leg:POR_leg!AK58)","v":2},{"$f":"SUM(AUT_leg:POR_leg!AL58)","v":3},{"$f":"SUM(AUT_leg:POR_leg!AM58)","v":6},{"$f":"SUM(AUT_leg:POR_leg!AN58)","v":5},{"$f":"SUM(AUT_leg:POR_leg!AO58)","v":2},{"$f":"SUM(AUT_leg:POR_leg!AP58)","v":5},{"$f":"SUM(AUT_leg:POR_leg!AQ58)","v":2},{"$f":"SUM(AUT_leg:POR_leg!AR58)","v":2},{"$f":"SUM(AUT_leg:POR_leg!AS58)","v":2},{"$f":"SUM(AUT_leg:POR_leg!AT58)","v":1},{"$f":"SUM(AUT_leg:POR_leg!AU58)","v":1},{"$f":"SUM(AUT_leg:POR_leg!AV58)","v":1},{"$f":"SUM(AUT_leg:POR_leg!AW58)","v":1},{"$f":"SUM(AUT_leg:POR_leg!AX58)","v":3},{"$f":"SUM(AUT_leg:POR_leg!AY58)","v":3},{"$f":"SUM(AUT_leg:POR_leg!AZ58)","v":3},{"$f":"SUM(AUT_leg:POR_leg!BA58)","v":3},{"$f":"SUM(AUT_leg:POR_leg!BB58)","v":2},109,0.26715686274509803]
[null,"Compressed air system",{"$f":"Sheet1!O227","v":"Regular check for leakages"},{"$f":"SUM(AUT_leg:POR_leg!D59)","v":1},{"$f":"SUM(AUT_leg:POR_leg!E59)","v":2},{"$f":"SUM(AUT_leg:POR_leg!F59)","v":0},{"$f":"SUM(AUT_leg:POR_leg!G59)","v":-1},{"$f":"SUM(AUT_leg:POR_leg!H59)","v":-1},{"$f":"SUM(AUT_leg:POR_leg!I59)","v":2},{"$f":"SUM(AUT_leg:POR_leg!J59)","v":1},{"$f":"SUM(AUT_leg:POR_leg!K59)","v":0},{"$f":"SUM(AUT_leg:POR_leg!L59)","v":0},{"$f":"SUM(AUT_leg:POR_leg!M59)","v":-1},{"$f":"SUM(AUT_leg:POR_leg!N59)","v":-1},{"$f":"SUM(AUT_leg:POR_leg!O59)","v":1},{"$f":"SUM(AUT_leg:POR_leg!P59)","v":6},{"$f":"SUM(AUT_leg:POR_leg!Q59)","v":4},{"$f":"SUM(AUT_leg:POR_leg!R59)","v":3},{"$f":"SUM(AUT_leg:POR_leg!S59)","v":-1},{"$f":"SUM(AUT_leg:POR_leg!T59)","v":0},{"$f":"SUM(AUT_leg:POR_leg!U59)","v":5},{"$f":"SUM(AUT_leg:POR_leg!V59)","v":1},{"$f":"SUM(AUT_leg:POR_leg!W59)","v":5},{"$f":"SUM(AUT_leg:POR_leg!X59)","v":0},{"$f":"SUM(AUT_leg:POR_leg!Y59)","v":0},{"$f":"SUM(AUT_leg:POR_leg!Z59)","v":4},{"$f":"SUM(AUT_leg:POR_leg!AA59)","v":3},{"$f":"SUM(AUT_leg:POR_leg!AB59)","v":3},{"$f":"SUM(AUT_leg:POR_leg!AC59)","v":6},{"$f":"SUM(AUT_leg:POR_leg!AD59)","v":2},{"$f":"SUM(AUT_leg:POR_leg!AE59)","v":3},{"$f":"SUM(AUT_leg:POR_leg!AF59)","v":1},{"$f":"SUM(AUT_leg:POR_leg!AG59)","v":5},{"$f":"SUM(AUT_leg:POR_leg!AH59)","v":4},{"$f":"SUM(AUT_leg:POR_leg!AI59)","v":2},{"$f":"SUM(AUT_leg:POR_leg!AJ59)","v":2},{"$f":"SUM(AUT_leg:POR_leg!AK59)","v":2},{"$f":"SUM(AUT_leg:POR_leg!AL59)","v":3},{"$f":"SUM(AUT_leg:POR_leg!AM59)","v":6},{"$f":"SUM(AUT_leg:POR_leg!AN59)","v":5},{"$f":"SUM(AUT_leg:POR_leg!AO59)","v":2},{"$f":"SUM(AUT_leg:POR_leg!AP59)","v":5},{"$f":"SUM(AUT_leg:POR_leg!AQ59)","v":2},{"$f":"SUM(AUT_leg:POR_leg!AR59)","v":2},{"$f":"SUM(AUT_leg:POR_leg!AS59)","v":2},{"$f":"SUM(AUT_leg:POR_leg!AT59)","v":1},{"$f":"SUM(AUT_leg:POR_leg!AU59)","v":1},{"$f":"SUM(AUT_leg:POR_leg!AV59)","v":1},{"$f":"SUM(AUT_leg:POR_leg!AW59)","v":1},{"$f":"SUM(AUT_leg:POR_leg!AX59)","v":4},{"$f":"SUM(AUT_leg:POR_leg!AY59)","v":3},{"$f":"SUM(AUT_leg:POR_leg!AZ59)","v":4},{"$f":"SUM(AUT_leg:POR_leg!BA59)","v":3},{"$f":"SUM(AUT_leg:POR_leg!BB59)","v":2},110,0.26960784313725489]
[null,"Compressed air system",{"$f":"Sheet1!O228","v":"Waste heat recovery "},{"$f":"SUM(AUT_leg:POR_leg!D60)","v":0},{"$f":"SUM(AUT_leg:POR_leg!E60)","v":2},{"$f":"SUM(AUT_leg:POR_leg!F60)","v":0},{"$f":"SUM(AUT_leg:POR_leg!G60)","v":-1},{"$f":"SUM(AUT_leg:POR_leg!H60)","v":-1},{"$f":"SUM(AUT_leg:POR_leg!I60)","v":2},{"$f":"SUM(AUT_leg:POR_leg!J60)","v":1},{"$f":"SUM(AUT_leg:POR_leg!K60)","v":0},{"$f":"SUM(AUT_leg:POR_leg!L60)","v":0},{"$f":"SUM(AUT_leg:POR_leg!M60)","v":-1},{"$f":"SUM(AUT_leg:POR_leg!N60)","v":-1},{"$f":"SUM(AUT_leg:POR_leg!O60)","v":1},{"$f":"SUM(AUT_leg:POR_leg!P60)","v":6},{"$f":"SUM(AUT_leg:POR_leg!Q60)","v":4},{"$f":"SUM(AUT_leg:POR_leg!R60)","v":4},{"$f":"SUM(AUT_leg:POR_leg!S60)","v":-1},{"$f":"SUM(AUT_leg:POR_leg!T60)","v":0},{"$f":"SUM(AUT_leg:POR_leg!U60)","v":5},{"$f":"SUM(AUT_leg:POR_leg!V60)","v":1},{"$f":"SUM(AUT_leg:POR_leg!W60)","v":5},{"$f":"SUM(AUT_leg:POR_leg!X60)","v":0},{"$f":"SUM(AUT_leg:POR_leg!Y60)","v":0},{"$f":"SUM(AUT_leg:POR_leg!Z60)","v":4},{"$f":"SUM(AUT_leg:POR_leg!AA60)","v":3},{"$f":"SUM(AUT_leg:POR_leg!AB60)","v":3},{"$f":"SUM(AUT_leg:POR_leg!AC60)","v":6},{"$f":"SUM(AUT_leg:POR_leg!AD60)","v":1},{"$f":"SUM(AUT_leg:POR_leg!AE60)","v":2},{"$f":"SUM(AUT_leg:POR_leg!AF60)","v":1},{"$f":"SUM(AUT_leg:POR_leg!AG60)","v":5},{"$f":"SUM(AUT_leg:POR_leg!AH60)","v":4},{"$f":"SUM(AUT_leg:POR_leg!AI60)","v":4},{"$f":"SUM(AUT_leg:POR_leg!AJ60)","v":2},{"$f":"SUM(AUT_leg:POR_leg!AK60)","v":2},{"$f":"SUM(AUT_leg:POR_leg!AL60)","v":3},{"$f":"SUM(AUT_leg:POR_leg!AM60)","v":6},{"$f":"SUM(AUT_leg:POR_leg!AN60)","v":6},{"$f":"SUM(AUT_leg:POR_leg!AO60)","v":2},{"$f":"SUM(AUT_leg:POR_leg!AP60)","v":2},{"$f":"SUM(AUT_leg:POR_leg!AQ60)","v":2},{"$f":"SUM(AUT_leg:POR_leg!AR60)","v":2},{"$f":"SUM(AUT_leg:POR_leg!AS60)","v":1},{"$f":"SUM(AUT_leg:POR_leg!AT60)","v":1},{"$f":"SUM(AUT_leg:POR_leg!AU60)","v":1},{"$f":"SUM(AUT_leg:POR_leg!AV60)","v":1},{"$f":"SUM(AUT_leg:POR_leg!AW60)","v":1},{"$f":"SUM(AUT_leg:POR_leg!AX60)","v":3},{"$f":"SUM(AUT_leg:POR_leg!AY60)","v":1},{"$f":"SUM(AUT_leg:POR_leg!AZ60)","v":4},{"$f":"SUM(AUT_leg:POR_leg!BA60)","v":2},{"$f":"SUM(AUT_leg:POR_leg!BB60)","v":1},102,0.25]
[null,"Compressed air system",{"$f":"Sheet1!O229","v":"Regular maintenance of the compressor"},{"$f":"SUM(AUT_leg:POR_leg!D61)","v":0},{"$f":"SUM(AUT_leg:POR_leg!E61)","v":2},{"$f":"SUM(AUT_leg:POR_leg!F61)","v":0},{"$f":"SUM(AUT_leg:POR_leg!G61)","v":-1},{"$f":"SUM(AUT_leg:POR_leg!H61)","v":-1},{"$f":"SUM(AUT_leg:POR_leg!I61)","v":3},{"$f":"SUM(AUT_leg:POR_leg!J61)","v":3},{"$f":"SUM(AUT_leg:POR_leg!K61)","v":0},{"$f":"SUM(AUT_leg:POR_leg!L61)","v":0},{"$f":"SUM(AUT_leg:POR_leg!M61)","v":-1},{"$f":"SUM(AUT_leg:POR_leg!N61)","v":-1},{"$f":"SUM(AUT_leg:POR_leg!O61)","v":2},{"$f":"SUM(AUT_leg:POR_leg!P61)","v":5},{"$f":"SUM(AUT_leg:POR_leg!Q61)","v":4},{"$f":"SUM(AUT_leg:POR_leg!R61)","v":3},{"$f":"SUM(AUT_leg:POR_leg!S61)","v":-1},{"$f":"SUM(AUT_leg:POR_leg!T61)","v":0},{"$f":"SUM(AUT_leg:POR_leg!U61)","v":5},{"$f":"SUM(AUT_leg:POR_leg!V61)","v":2},{"$f":"SUM(AUT_leg:POR_leg!W61)","v":5},{"$f":"SUM(AUT_leg:POR_leg!X61)","v":1},{"$f":"SUM(AUT_leg:POR_leg!Y61)","v":0},{"$f":"SUM(AUT_leg:POR_leg!Z61)","v":3},{"$f":"SUM(AUT_leg:POR_leg!AA61)","v":3},{"$f":"SUM(AUT_leg:POR_leg!AB61)","v":4},{"$f":"SUM(AUT_leg:POR_leg!AC61)","v":6},{"$f":"SUM(AUT_leg:POR_leg!AD61)","v":2},{"$f":"SUM(AUT_leg:POR_leg!AE61)","v":2},{"$f":"SUM(AUT_leg:POR_leg!AF61)","v":1},{"$f":"SUM(AUT_leg:POR_leg!AG61)","v":3},{"$f":"SUM(AUT_leg:POR_leg!AH61)","v":4},{"$f":"SUM(AUT_leg:POR_leg!AI61)","v":2},{"$f":"SUM(AUT_leg:POR_leg!AJ61)","v":2},{"$f":"SUM(AUT_leg:POR_leg!AK61)","v":2},{"$f":"SUM(AUT_leg:POR_leg!AL61)","v":3},{"$f":"SUM(AUT_leg:POR_leg!AM61)","v":6},{"$f":"SUM(AUT_leg:POR_leg!AN61)","v":5},{"$f":"SUM(AUT_leg:POR_leg!AO61)","v":2},{"$f":"SUM(AUT_leg:POR_leg!AP61)","v":5},{"$f":"SUM(AUT_leg:POR_leg!AQ61)","v":3},{"$f":"SUM(AUT_leg:POR_leg!AR61)","v":3},{"$f":"SUM(AUT_leg:POR_leg!AS61)","v":3},{"$f":"SUM(AUT_leg:POR_leg!AT61)","v":1},{"$f":"SUM(AUT_leg:POR_leg!AU61)","v":1},{"$f":"SUM(AUT_leg:POR_leg!AV61)","v":1},{"$f":"SUM(AUT_leg:POR_leg!AW61)","v":1},{"$f":"SUM(AUT_leg:POR_leg!AX61)","v":4},{"$f":"SUM(AUT_leg:POR_leg!AY61)","v":4},{"$f":"SUM(AUT_leg:POR_leg!AZ61)","v":4},{"$f":"SUM(AUT_leg:POR_leg!BA61)","v":5},{"$f":"SUM(AUT_leg:POR_leg!BB61)","v":3},118,0.28921568627450983]
[null,"Steam system",{"$f":"Sheet1!O231","v":"Check the required pressure"},{"$f":"SUM(AUT_leg:POR_leg!D62)","v":0},{"$f":"SUM(AUT_leg:POR_leg!E62)","v":2},{"$f":"SUM(AUT_leg:POR_leg!F62)","v":0},{"$f":"SUM(AUT_leg:POR_leg!G62)","v":-1},{"$f":"SUM(AUT_leg:POR_leg!H62)","v":-1},{"$f":"SUM(AUT_leg:POR_leg!I62)","v":2},{"$f":"SUM(AUT_leg:POR_leg!J62)","v":2},{"$f":"SUM(AUT_leg:POR_leg!K62)","v":0},{"$f":"SUM(AUT_leg:POR_leg!L62)","v":0},{"$f":"SUM(AUT_leg:POR_leg!M62)","v":-1},{"$f":"SUM(AUT_leg:POR_leg!N62)","v":-1},{"$f":"SUM(AUT_leg:POR_leg!O62)","v":1},{"$f":"SUM(AUT_leg:POR_leg!P62)","v":6},{"$f":"SUM(AUT_leg:POR_leg!Q62)","v":4},{"$f":"SUM(AUT_leg:POR_leg!R62)","v":3},{"$f":"SUM(AUT_leg:POR_leg!S62)","v":1},{"$f":"SUM(AUT_leg:POR_leg!T62)","v":0},{"$f":"SUM(AUT_leg:POR_leg!U62)","v":5},{"$f":"SUM(AUT_leg:POR_leg!V62)","v":1},{"$f":"SUM(AUT_leg:POR_leg!W62)","v":5},{"$f":"SUM(AUT_leg:POR_leg!X62)","v":1},{"$f":"SUM(AUT_leg:POR_leg!Y62)","v":0},{"$f":"SUM(AUT_leg:POR_leg!Z62)","v":4},{"$f":"SUM(AUT_leg:POR_leg!AA62)","v":3},{"$f":"SUM(AUT_leg:POR_leg!AB62)","v":3},{"$f":"SUM(AUT_leg:POR_leg!AC62)","v":6},{"$f":"SUM(AUT_leg:POR_leg!AD62)","v":1},{"$f":"SUM(AUT_leg:POR_leg!AE62)","v":2},{"$f":"SUM(AUT_leg:POR_leg!AF62)","v":1},{"$f":"SUM(AUT_leg:POR_leg!AG62)","v":5},{"$f":"SUM(AUT_leg:POR_leg!AH62)","v":4},{"$f":"SUM(AUT_leg:POR_leg!AI62)","v":2},{"$f":"SUM(AUT_leg:POR_leg!AJ62)","v":2},{"$f":"SUM(AUT_leg:POR_leg!AK62)","v":2},{"$f":"SUM(AUT_leg:POR_leg!AL62)","v":3},{"$f":"SUM(AUT_leg:POR_leg!AM62)","v":7},{"$f":"SUM(AUT_leg:POR_leg!AN62)","v":5},{"$f":"SUM(AUT_leg:POR_leg!AO62)","v":2},{"$f":"SUM(AUT_leg:POR_leg!AP62)","v":5},{"$f":"SUM(AUT_leg:POR_leg!AQ62)","v":2},{"$f":"SUM(AUT_leg:POR_leg!AR62)","v":2},{"$f":"SUM(AUT_leg:POR_leg!AS62)","v":2},{"$f":"SUM(AUT_leg:POR_leg!AT62)","v":1},{"$f":"SUM(AUT_leg:POR_leg!AU62)","v":1},{"$f":"SUM(AUT_leg:POR_leg!AV62)","v":1},{"$f":"SUM(AUT_leg:POR_leg!AW62)","v":1},{"$f":"SUM(AUT_leg:POR_leg!AX62)","v":3},{"$f":"SUM(AUT_leg:POR_leg!AY62)","v":2},{"$f":"SUM(AUT_leg:POR_leg!AZ62)","v":3},{"$f":"SUM(AUT_leg:POR_leg!BA62)","v":2},{"$f":"SUM(AUT_leg:POR_leg!BB62)","v":2},108,0.26470588235294118]
[null,"Steam system",{"$f":"Sheet1!O232","v":"Check for leakages"},{"$f":"SUM(AUT_leg:POR_leg!D63)","v":1},{"$f":"SUM(AUT_leg:POR_leg!E63)","v":2},{"$f":"SUM(AUT_leg:POR_leg!F63)","v":0},{"$f":"SUM(AUT_leg:POR_leg!G63)","v":-1},{"$f":"SUM(AUT_leg:POR_leg!H63)","v":-1},{"$f":"SUM(AUT_leg:POR_leg!I63)","v":2},{"$f":"SUM(AUT_leg:POR_leg!J63)","v":2},{"$f":"SUM(AUT_leg:POR_leg!K63)","v":0},{"$f":"SUM(AUT_leg:POR_leg!L63)","v":0},{"$f":"SUM(AUT_leg:POR_leg!M63)","v":-1},{"$f":"SUM(AUT_leg:POR_leg!N63)","v":-1},{"$f":"SUM(AUT_leg:POR_leg!O63)","v":1},{"$f":"SUM(AUT_leg:POR_leg!P63)","v":6},{"$f":"SUM(AUT_leg:POR_leg!Q63)","v":4},{"$f":"SUM(AUT_leg:POR_leg!R63)","v":3},{"$f":"SUM(AUT_leg:POR_leg!S63)","v":2},{"$f":"SUM(AUT_leg:POR_leg!T63)","v":0},{"$f":"SUM(AUT_leg:POR_leg!U63)","v":5},{"$f":"SUM(AUT_leg:POR_leg!V63)","v":1},{"$f":"SUM(AUT_leg:POR_leg!W63)","v":5},{"$f":"SUM(AUT_leg:POR_leg!X63)","v":1},{"$f":"SUM(AUT_leg:POR_leg!Y63)","v":0},{"$f":"SUM(AUT_leg:POR_leg!Z63)","v":4},{"$f":"SUM(AUT_leg:POR_leg!AA63)","v":3},{"$f":"SUM(AUT_leg:POR_leg!AB63)","v":3},{"$f":"SUM(AUT_leg:POR_leg!AC63)","v":6},{"$f":"SUM(AUT_leg:POR_leg!AD63)","v":1},{"$f":"SUM(AUT_leg:POR_leg!AE63)","v":3},{"$f":"SUM(AUT_leg:POR_leg!AF63)","v":1},{"$f":"SUM(AUT_leg:POR_leg!AG63)","v":5},{"$f":"SUM(AUT_leg:POR_leg!AH63)","v":4},{"$f":"SUM(AUT_leg:POR_leg!AI63)","v":2},{"$f":"SUM(AUT_leg:POR_leg!AJ63)","v":2},{"$f":"SUM(AUT_leg:POR_leg!AK63)","v":2},{"$f":"SUM(AUT_leg:POR_leg!AL63)","v":3},{"$f":"SUM(AUT_leg:POR_leg!AM63)","v":7},{"$f":"SUM(AUT_leg:POR_leg!AN63)","v":5},{"$f":"SUM(AUT_leg:POR_leg!AO63)","v":2},{"$f":"SUM(AUT_leg:POR_leg!AP63)","v":5},{"$f":"SUM(AUT_leg:POR_leg!AQ63)","v":2},{"$f":"SUM(AUT_leg:POR_leg!AR63)","v":2},{"$f":"SUM(AUT_leg:POR_leg!AS63)","v":2},{"$f":"SUM(AUT_leg:POR_leg!AT63)","v":1},{"$f":"SUM(AUT_leg:POR_leg!AU63)","v":1},{"$f":"SUM(AUT_leg:POR_leg!AV63)","v":1},{"$f":"SUM(AUT_leg:POR_leg!AW63)","v":1},{"$f":"SUM(AUT_leg:POR_leg!AX63)","v":4},{"$f":"SUM(AUT_leg:POR_leg!AY63)","v":3},{"$f":"SUM(AUT_leg:POR_leg!AZ63)","v":4},{"$f":"SUM(AUT_leg:POR_leg!BA63)","v":2},{"$f":"SUM(AUT_leg:POR_leg!BB63)","v":2},114,0.27941176470588236]
[null,"Steam system",{"$f":"Sheet1!O233","v":"Regular maintenance of the boiler"},{"$f":"SUM(AUT_leg:POR_leg!D64)","v":0},{"$f":"SUM(AUT_leg:POR_leg!E64)","v":2},{"$f":"SUM(AUT_leg:POR_leg!F64)","v":0},{"$f":"SUM(AUT_leg:POR_leg!G64)","v":-1},{"$f":"SUM(AUT_leg:POR_leg!H64)","v":-1},{"$f":"SUM(AUT_leg:POR_leg!I64)","v":3},{"$f":"SUM(AUT_leg:POR_leg!J64)","v":3},{"$f":"SUM(AUT_leg:POR_leg!K64)","v":0},{"$f":"SUM(AUT_leg:POR_leg!L64)","v":0},{"$f":"SUM(AUT_leg:POR_leg!M64)","v":-1},{"$f":"SUM(AUT_leg:POR_leg!N64)","v":-1},{"$f":"SUM(AUT_leg:POR_leg!O64)","v":2},{"$f":"SUM(AUT_leg:POR_leg!P64)","v":6},{"$f":"SUM(AUT_leg:POR_leg!Q64)","v":4},{"$f":"SUM(AUT_leg:POR_leg!R64)","v":3},{"$f":"SUM(AUT_leg:POR_leg!S64)","v":1},{"$f":"SUM(AUT_leg:POR_leg!T64)","v":0},{"$f":"SUM(AUT_leg:POR_leg!U64)","v":5},{"$f":"SUM(AUT_leg:POR_leg!V64)","v":1},{"$f":"SUM(AUT_leg:POR_leg!W64)","v":5},{"$f":"SUM(AUT_leg:POR_leg!X64)","v":1},{"$f":"SUM(AUT_leg:POR_leg!Y64)","v":0},{"$f":"SUM(AUT_leg:POR_leg!Z64)","v":4},{"$f":"SUM(AUT_leg:POR_leg!AA64)","v":3},{"$f":"SUM(AUT_leg:POR_leg!AB64)","v":4},{"$f":"SUM(AUT_leg:POR_leg!AC64)","v":6},{"$f":"SUM(AUT_leg:POR_leg!AD64)","v":1},{"$f":"SUM(AUT_leg:POR_leg!AE64)","v":2},{"$f":"SUM(AUT_leg:POR_leg!AF64)","v":1},{"$f":"SUM(AUT_leg:POR_leg!AG64)","v":3},{"$f":"SUM(AUT_leg:POR_leg!AH64)","v":4},{"$f":"SUM(AUT_leg:POR_leg!AI64)","v":2},{"$f":"SUM(AUT_leg:POR_leg!AJ64)","v":2},{"$f":"SUM(AUT_leg:POR_leg!AK64)","v":2},{"$f":"SUM(AUT_leg:POR_leg!AL64)","v":3},{"$f":"SUM(AUT_leg:POR_leg!AM64)","v":7},{"$f":"SUM(AUT_leg:POR_leg!AN64)","v":5},{"$f":"SUM(AUT_leg:POR_leg!AO64)","v":2},{"$f":"SUM(AUT_leg:POR_leg!AP64)","v":5},{"$f":"SUM(AUT_leg:POR_leg!AQ64)","v":3},{"$f":"SUM(AUT_leg:POR_leg!AR64)","v":2},{"$f":"SUM(AUT_leg:POR_leg!AS64)","v":2},{"$f":"SUM(AUT_leg:POR_leg!AT64)","v":1},{"$f":"SUM(AUT_leg:POR_leg!AU64)","v":1},{"$f":"SUM(AUT_leg:POR_leg!AV64)","v":1},{"$f":"SUM(AUT_leg:POR_leg!AW64)","v":1},{"$f":"SUM(AUT_leg:POR_leg!AX64)","v":4},{"$f":"SUM(AUT_leg:POR_leg!AY64)","v":3},{"$f":"SUM(AUT_leg:POR_leg!AZ64)","v":4},{"$f":"SUM(AUT_leg:POR_leg!BA64)","v":4},{"$f":"SUM(AUT_leg:POR_leg!BB64)","v":3},117,0.28676470588235292]
[null,"Refrigeration",{"$f":"Sheet1!O235","v":"Optimisation of the required temperatures"},{"$f":"SUM(AUT_leg:POR_leg!D65)","v":0},{"$f":"SUM(AUT_leg:POR_leg!E65)","v":4},{"$f":"SUM(AUT_leg:POR_leg!F65)","v":0},{"$f":"SUM(AUT_leg:POR_leg!G65)","v":-1},{"$f":"SUM(AUT_leg:POR_leg!H65)","v":-1},{"$f":"SUM(AUT_leg:POR_leg!I65)","v":3},{"$f":"SUM(AUT_leg:POR_leg!J65)","v":1},{"$f":"SUM(AUT_leg:POR_leg!K65)","v":0},{"$f":"SUM(AUT_leg:POR_leg!L65)","v":0},{"$f":"SUM(AUT_leg:POR_leg!M65)","v":-1},{"$f":"SUM(AUT_leg:POR_leg!N65)","v":-1},{"$f":"SUM(AUT_leg:POR_leg!O65)","v":-1},{"$f":"SUM(AUT_leg:POR_leg!P65)","v":6},{"$f":"SUM(AUT_leg:POR_leg!Q65)","v":4},{"$f":"SUM(AUT_leg:POR_leg!R65)","v":3},{"$f":"SUM(AUT_leg:POR_leg!S65)","v":-1},{"$f":"SUM(AUT_leg:POR_leg!T65)","v":0},{"$f":"SUM(AUT_leg:POR_leg!U65)","v":5},{"$f":"SUM(AUT_leg:POR_leg!V65)","v":1},{"$f":"SUM(AUT_leg:POR_leg!W65)","v":5},{"$f":"SUM(AUT_leg:POR_leg!X65)","v":0},{"$f":"SUM(AUT_leg:POR_leg!Y65)","v":0},{"$f":"SUM(AUT_leg:POR_leg!Z65)","v":4},{"$f":"SUM(AUT_leg:POR_leg!AA65)","v":3},{"$f":"SUM(AUT_leg:POR_leg!AB65)","v":3},{"$f":"SUM(AUT_leg:POR_leg!AC65)","v":6},{"$f":"SUM(AUT_leg:POR_leg!AD65)","v":1},{"$f":"SUM(AUT_leg:POR_leg!AE65)","v":2},{"$f":"SUM(AUT_leg:POR_leg!AF65)","v":1},{"$f":"SUM(AUT_leg:POR_leg!AG65)","v":5},{"$f":"SUM(AUT_leg:POR_leg!AH65)","v":4},{"$f":"SUM(AUT_leg:POR_leg!AI65)","v":2},{"$f":"SUM(AUT_leg:POR_leg!AJ65)","v":2},{"$f":"SUM(AUT_leg:POR_leg!AK65)","v":2},{"$f":"SUM(AUT_leg:POR_leg!AL65)","v":3},{"$f":"SUM(AUT_leg:POR_leg!AM65)","v":6},{"$f":"SUM(AUT_leg:POR_leg!AN65)","v":5},{"$f":"SUM(AUT_leg:POR_leg!AO65)","v":2},{"$f":"SUM(AUT_leg:POR_leg!AP65)","v":4},{"$f":"SUM(AUT_leg:POR_leg!AQ65)","v":2},{"$f":"SUM(AUT_leg:POR_leg!AR65)","v":2},{"$f":"SUM(AUT_leg:POR_leg!AS65)","v":1},{"$f":"SUM(AUT_leg:POR_leg!AT65)","v":1},{"$f":"SUM(AUT_leg:POR_leg!AU65)","v":1},{"$f":"SUM(AUT_leg:POR_leg!AV65)","v":1},{"$f":"SUM(AUT_leg:POR_leg!AW65)","v":1},{"$f":"SUM(AUT_leg:POR_leg!AX65)","v":3},{"$f":"SUM(AUT_leg:POR_leg!AY65)","v":2},{"$f":"SUM(AUT_leg:POR_leg!AZ65)","v":5},{"$f":"SUM(AUT_leg:POR_leg!BA65)","v":3},{"$f":"SUM(AUT_leg:POR_leg!BB65)","v":1},104,0.25490196078431371]
[null,"Refrigeration",{"$f":"Sheet1!O236","v":"Waste heat recovery "},{"$f":"SUM(AUT_leg:POR_leg!D66)","v":0},{"$f":"SUM(AUT_leg:POR_leg!E66)","v":4},{"$f":"SUM(AUT_leg:POR_leg!F66)","v":0},{"$f":"SUM(AUT_leg:POR_leg!G66)","v":-1},{"$f":"SUM(AUT_leg:POR_leg!H66)","v":-1},{"$f":"SUM(AUT_leg:POR_leg!I66)","v":2},{"$f":"SUM(AUT_leg:POR_leg!J66)","v":1},{"$f":"SUM(AUT_leg:POR_leg!K66)","v":0},{"$f":"SUM(AUT_leg:POR_leg!L66)","v":0},{"$f":"SUM(AUT_leg:POR_leg!M66)","v":-1},{"$f":"SUM(AUT_leg:POR_leg!N66)","v":-1},{"$f":"SUM(AUT_leg:POR_leg!O66)","v":-1},{"$f":"SUM(AUT_leg:POR_leg!P66)","v":6},{"$f":"SUM(AUT_leg:POR_leg!Q66)","v":4},{"$f":"SUM(AUT_leg:POR_leg!R66)","v":4},{"$f":"SUM(AUT_leg:POR_leg!S66)","v":-1},{"$f":"SUM(AUT_leg:POR_leg!T66)","v":0},{"$f":"SUM(AUT_leg:POR_leg!U66)","v":5},{"$f":"SUM(AUT_leg:POR_leg!V66)","v":1},{"$f":"SUM(AUT_leg:POR_leg!W66)","v":5},{"$f":"SUM(AUT_leg:POR_leg!X66)","v":0},{"$f":"SUM(AUT_leg:POR_leg!Y66)","v":0},{"$f":"SUM(AUT_leg:POR_leg!Z66)","v":4},{"$f":"SUM(AUT_leg:POR_leg!AA66)","v":3},{"$f":"SUM(AUT_leg:POR_leg!AB66)","v":3},{"$f":"SUM(AUT_leg:POR_leg!AC66)","v":6},{"$f":"SUM(AUT_leg:POR_leg!AD66)","v":1},{"$f":"SUM(AUT_leg:POR_leg!AE66)","v":3},{"$f":"SUM(AUT_leg:POR_leg!AF66)","v":1},{"$f":"SUM(AUT_leg:POR_leg!AG66)","v":5},{"$f":"SUM(AUT_leg:POR_leg!AH66)","v":4},{"$f":"SUM(AUT_leg:POR_leg!AI66)","v":4},{"$f":"SUM(AUT_leg:POR_leg!AJ66)","v":2},{"$f":"SUM(AUT_leg:POR_leg!AK66)","v":2},{"$f":"SUM(AUT_leg:POR_leg!AL66)","v":4},{"$f":"SUM(AUT_leg:POR_leg!AM66)","v":6},{"$f":"SUM(AUT_leg:POR_leg!AN66)","v":6},{"$f":"SUM(AUT_leg:POR_leg!AO66)","v":2},{"$f":"SUM(AUT_leg:POR_leg!AP66)","v":3},{"$f":"SUM(AUT_leg:POR_leg!AQ66)","v":2},{"$f":"SUM(AUT_leg:POR_leg!AR66)","v":2},{"$f":"SUM(AUT_leg:POR_leg!AS66)","v":1},{"$f":"SUM(AUT_leg:POR_leg!AT66)","v":1},{"$f":"SUM(AUT_leg:POR_leg!AU66)","v":1},{"$f":"SUM(AUT_leg:POR_leg!AV66)","v":1},{"$f":"SUM(AUT_leg:POR_leg!AW66)","v":1},{"$f":"SUM(AUT_leg:POR_leg!AX66)","v":3},{"$f":"SUM(AUT_leg:POR_leg!AY66)","v":1},{"$f":"SUM(AUT_leg:POR_leg!AZ66)","v":4},{"$f":"SUM(AUT_leg:POR_leg!BA66)","v":2},{"$f":"SUM(AUT_leg:POR_leg!BB66)","v":1},105,0.25735294117647056]
[null,"Refrigeration",{"$f":"Sheet1!O237","v":"Install frequency control (i.e. VRF) on chiller compressor."},{"$f":"SUM(AUT_leg:POR_leg!D67)","v":0},{"$f":"SUM(AUT_leg:POR_leg!E67)","v":4},{"$f":"SUM(AUT_leg:POR_leg!F67)","v":0},{"$f":"SUM(AUT_leg:POR_leg!G67)","v":-1},{"$f":"SUM(AUT_leg:POR_leg!H67)","v":-1},{"$f":"SUM(AUT_leg:POR_leg!I67)","v":3},{"$f":"SUM(AUT_leg:POR_leg!J67)","v":1},{"$f":"SUM(AUT_leg:POR_leg!K67)","v":1},{"$f":"SUM(AUT_leg:POR_leg!L67)","v":1},{"$f":"SUM(AUT_leg:POR_leg!M67)","v":0},{"$f":"SUM(AUT_leg:POR_leg!N67)","v":-1},{"$f":"SUM(AUT_leg:POR_leg!O67)","v":-1},{"$f":"SUM(AUT_leg:POR_leg!P67)","v":6},{"$f":"SUM(AUT_leg:POR_leg!Q67)","v":4},{"$f":"SUM(AUT_leg:POR_leg!R67)","v":3},{"$f":"SUM(AUT_leg:POR_leg!S67)","v":0},{"$f":"SUM(AUT_leg:POR_leg!T67)","v":1},{"$f":"SUM(AUT_leg:POR_leg!U67)","v":5},{"$f":"SUM(AUT_leg:POR_leg!V67)","v":1},{"$f":"SUM(AUT_leg:POR_leg!W67)","v":5},{"$f":"SUM(AUT_leg:POR_leg!X67)","v":0},{"$f":"SUM(AUT_leg:POR_leg!Y67)","v":0},{"$f":"SUM(AUT_leg:POR_leg!Z67)","v":4},{"$f":"SUM(AUT_leg:POR_leg!AA67)","v":3},{"$f":"SUM(AUT_leg:POR_leg!AB67)","v":3},{"$f":"SUM(AUT_leg:POR_leg!AC67)","v":6},{"$f":"SUM(AUT_leg:POR_leg!AD67)","v":1},{"$f":"SUM(AUT_leg:POR_leg!AE67)","v":2},{"$f":"SUM(AUT_leg:POR_leg!AF67)","v":1},{"$f":"SUM(AUT_leg:POR_leg!AG67)","v":5},{"$f":"SUM(AUT_leg:POR_leg!AH67)","v":4},{"$f":"SUM(AUT_leg:POR_leg!AI67)","v":2},{"$f":"SUM(AUT_leg:POR_leg!AJ67)","v":3},{"$f":"SUM(AUT_leg:POR_leg!AK67)","v":2},{"$f":"SUM(AUT_leg:POR_leg!AL67)","v":4},{"$f":"SUM(AUT_leg:POR_leg!AM67)","v":6},{"$f":"SUM(AUT_leg:POR_leg!AN67)","v":5},{"$f":"SUM(AUT_leg:POR_leg!AO67)","v":2},{"$f":"SUM(AUT_leg:POR_leg!AP67)","v":3},{"$f":"SUM(AUT_leg:POR_leg!AQ67)","v":1},{"$f":"SUM(AUT_leg:POR_leg!AR67)","v":2},{"$f":"SUM(AUT_leg:POR_leg!AS67)","v":1},{"$f":"SUM(AUT_leg:POR_leg!AT67)","v":1},{"$f":"SUM(AUT_leg:POR_leg!AU67)","v":1},{"$f":"SUM(AUT_leg:POR_leg!AV67)","v":1},{"$f":"SUM(AUT_leg:POR_leg!AW67)","v":1},{"$f":"SUM(AUT_leg:POR_leg!AX67)","v":3},{"$f":"SUM(AUT_leg:POR_leg!AY67)","v":1},{"$f":"SUM(AUT_leg:POR_leg!AZ67)","v":4},{"$f":"SUM(AUT_leg:POR_leg!BA67)","v":2},{"$f":"SUM(AUT_leg:POR_leg!BB67)","v":1},106,0.25980392156862747]
[null,"Refrigeration",{"$f":"Sheet1!O238","v":"Install high efficiency or 2-rev electromotor on evaporation fan"},{"$f":"SUM(AUT_leg:POR_leg!D68)","v":0},{"$f":"SUM(AUT_leg:POR_leg!E68)","v":4},{"$f":"SUM(AUT_leg:POR_leg!F68)","v":1},{"$f":"SUM(AUT_leg:POR_leg!G68)","v":-1},{"$f":"SUM(AUT_leg:POR_leg!H68)","v":-1},{"$f":"SUM(AUT_leg:POR_leg!I68)","v":3},{"$f":"SUM(AUT_leg:POR_leg!J68)","v":1},{"$f":"SUM(AUT_leg:POR_leg!K68)","v":0},{"$f":"SUM(AUT_leg:POR_leg!L68)","v":1},{"$f":"SUM(AUT_leg:POR_leg!M68)","v":0},{"$f":"SUM(AUT_leg:POR_leg!N68)","v":-1},{"$f":"SUM(AUT_leg:POR_leg!O68)","v":-1},{"$f":"SUM(AUT_leg:POR_leg!P68)","v":6},{"$f":"SUM(AUT_leg:POR_leg!Q68)","v":4},{"$f":"SUM(AUT_leg:POR_leg!R68)","v":3},{"$f":"SUM(AUT_leg:POR_leg!S68)","v":0},{"$f":"SUM(AUT_leg:POR_leg!T68)","v":1},{"$f":"SUM(AUT_leg:POR_leg!U68)","v":4},{"$f":"SUM(AUT_leg:POR_leg!V68)","v":1},{"$f":"SUM(AUT_leg:POR_leg!W68)","v":5},{"$f":"SUM(AUT_leg:POR_leg!X68)","v":0},{"$f":"SUM(AUT_leg:POR_leg!Y68)","v":-1},{"$f":"SUM(AUT_leg:POR_leg!Z68)","v":3},{"$f":"SUM(AUT_leg:POR_leg!AA68)","v":2},{"$f":"SUM(AUT_leg:POR_leg!AB68)","v":2},{"$f":"SUM(AUT_leg:POR_leg!AC68)","v":6},{"$f":"SUM(AUT_leg:POR_leg!AD68)","v":2},{"$f":"SUM(AUT_leg:POR_leg!AE68)","v":2},{"$f":"SUM(AUT_leg:POR_leg!AF68)","v":2},{"$f":"SUM(AUT_leg:POR_leg!AG68)","v":4},{"$f":"SUM(AUT_leg:POR_leg!AH68)","v":3},{"$f":"SUM(AUT_leg:POR_leg!AI68)","v":3},{"$f":"SUM(AUT_leg:POR_leg!AJ68)","v":2},{"$f":"SUM(AUT_leg:POR_leg!AK68)","v":2},{"$f":"SUM(AUT_leg:POR_leg!AL68)","v":4},{"$f":"SUM(AUT_leg:POR_leg!AM68)","v":6},{"$f":"SUM(AUT_leg:POR_leg!AN68)","v":5},{"$f":"SUM(AUT_leg:POR_leg!AO68)","v":2},{"$f":"SUM(AUT_leg:POR_leg!AP68)","v":2},{"$f":"SUM(AUT_leg:POR_leg!AQ68)","v":2},{"$f":"SUM(AUT_leg:POR_leg!AR68)","v":2},{"$f":"SUM(AUT_leg:POR_leg!AS68)","v":1},{"$f":"SUM(AUT_leg:POR_leg!AT68)","v":1},{"$f":"SUM(AUT_leg:POR_leg!AU68)","v":1},{"$f":"SUM(AUT_leg:POR_leg!AV68)","v":1},{"$f":"SUM(AUT_leg:POR_leg!AW68)","v":1},{"$f":"SUM(AUT_leg:POR_leg!AX68)","v":3},{"$f":"SUM(AUT_leg:POR_leg!AY68)","v":2},{"$f":"SUM(AUT_leg:POR_leg!AZ68)","v":4},{"$f":"SUM(AUT_leg:POR_leg!BA68)","v":2},{"$f":"SUM(AUT_leg:POR_leg!BB68)","v":1},{"$f":"SUM(D68:BB68)","v":102},{"$f":"BC68/(51*8)","v":0.25}]
[null,"Refrigeration",{"$f":"Sheet1!O239","v":"Build a cooled front space for refrigeration units."},{"$f":"SUM(AUT_leg:POR_leg!D69)","v":0},{"$f":"SUM(AUT_leg:POR_leg!E69)","v":4},{"$f":"SUM(AUT_leg:POR_leg!F69)","v":0},{"$f":"SUM(AUT_leg:POR_leg!G69)","v":-1},{"$f":"SUM(AUT_leg:POR_leg!H69)","v":-1},{"$f":"SUM(AUT_leg:POR_leg!I69)","v":2},{"$f":"SUM(AUT_leg:POR_leg!J69)","v":1},{"$f":"SUM(AUT_leg:POR_leg!K69)","v":1},{"$f":"SUM(AUT_leg:POR_leg!L69)","v":1},{"$f":"SUM(AUT_leg:POR_leg!M69)","v":0},{"$f":"SUM(AUT_leg:POR_leg!N69)","v":-1},{"$f":"SUM(AUT_leg:POR_leg!O69)","v":1},{"$f":"SUM(AUT_leg:POR_leg!P69)","v":6},{"$f":"SUM(AUT_leg:POR_leg!Q69)","v":5},{"$f":"SUM(AUT_leg:POR_leg!R69)","v":3},{"$f":"SUM(AUT_leg:POR_leg!S69)","v":-1},{"$f":"SUM(AUT_leg:POR_leg!T69)","v":0},{"$f":"SUM(AUT_leg:POR_leg!U69)","v":5},{"$f":"SUM(AUT_leg:POR_leg!V69)","v":1},{"$f":"SUM(AUT_leg:POR_leg!W69)","v":4},{"$f":"SUM(AUT_leg:POR_leg!X69)","v":0},{"$f":"SUM(AUT_leg:POR_leg!Y69)","v":-1},{"$f":"SUM(AUT_leg:POR_leg!Z69)","v":4},{"$f":"SUM(AUT_leg:POR_leg!AA69)","v":2},{"$f":"SUM(AUT_leg:POR_leg!AB69)","v":2},{"$f":"SUM(AUT_leg:POR_leg!AC69)","v":5},{"$f":"SUM(AUT_leg:POR_leg!AD69)","v":1},{"$f":"SUM(AUT_leg:POR_leg!AE69)","v":2},{"$f":"SUM(AUT_leg:POR_leg!AF69)","v":2},{"$f":"SUM(AUT_leg:POR_leg!AG69)","v":4},{"$f":"SUM(AUT_leg:POR_leg!AH69)","v":4},{"$f":"SUM(AUT_leg:POR_leg!AI69)","v":2},{"$f":"SUM(AUT_leg:POR_leg!AJ69)","v":2},{"$f":"SUM(AUT_leg:POR_leg!AK69)","v":2},{"$f":"SUM(AUT_leg:POR_leg!AL69)","v":4},{"$f":"SUM(AUT_leg:POR_leg!AM69)","v":6},{"$f":"SUM(AUT_leg:POR_leg!AN69)","v":5},{"$f":"SUM(AUT_leg:POR_leg!AO69)","v":2},{"$f":"SUM(AUT_leg:POR_leg!AP69)","v":2},{"$f":"SUM(AUT_leg:POR_leg!AQ69)","v":2},{"$f":"SUM(AUT_leg:POR_leg!AR69)","v":2},{"$f":"SUM(AUT_leg:POR_leg!AS69)","v":1},{"$f":"SUM(AUT_leg:POR_leg!AT69)","v":1},{"$f":"SUM(AUT_leg:POR_leg!AU69)","v":1},{"$f":"SUM(AUT_leg:POR_leg!AV69)","v":1},{"$f":"SUM(AUT_leg:POR_leg!AW69)","v":1},{"$f":"SUM(AUT_leg:POR_leg!AX69)","v":3},{"$f":"SUM(AUT_leg:POR_leg!AY69)","v":1},{"$f":"SUM(AUT_leg:POR_leg!AZ69)","v":4},{"$f":"SUM(AUT_leg:POR_leg!BA69)","v":2},{"$f":"SUM(AUT_leg:POR_leg!BB69)","v":1},100,0.24509803921568626]
[null,"Refrigeration",{"$f":"Sheet1!O240","v":"Use hot refrigerant gas from the compressor for the initial stages of the defrosting cycle."},{"$f":"SUM(AUT_leg:POR_leg!D70)","v":0},{"$f":"SUM(AUT_leg:POR_leg!E70)","v":4},{"$f":"SUM(AUT_leg:POR_leg!F70)","v":0},{"$f":"SUM(AUT_leg:POR_leg!G70)","v":-1},{"$f":"SUM(AUT_leg:POR_leg!H70)","v":-1},{"$f":"SUM(AUT_leg:POR_leg!I70)","v":2},{"$f":"SUM(AUT_leg:POR_leg!J70)","v":1},{"$f":"SUM(AUT_leg:POR_leg!K70)","v":0},{"$f":"SUM(AUT_leg:POR_leg!L70)","v":0},{"$f":"SUM(AUT_leg:POR_leg!M70)","v":-1},{"$f":"SUM(AUT_leg:POR_leg!N70)","v":-1},{"$f":"SUM(AUT_leg:POR_leg!O70)","v":-1},{"$f":"SUM(AUT_leg:POR_leg!P70)","v":6},{"$f":"SUM(AUT_leg:POR_leg!Q70)","v":4},{"$f":"SUM(AUT_leg:POR_leg!R70)","v":3},{"$f":"SUM(AUT_leg:POR_leg!S70)","v":-1},{"$f":"SUM(AUT_leg:POR_leg!T70)","v":0},{"$f":"SUM(AUT_leg:POR_leg!U70)","v":5},{"$f":"SUM(AUT_leg:POR_leg!V70)","v":1},{"$f":"SUM(AUT_leg:POR_leg!W70)","v":5},{"$f":"SUM(AUT_leg:POR_leg!X70)","v":0},{"$f":"SUM(AUT_leg:POR_leg!Y70)","v":0},{"$f":"SUM(AUT_leg:POR_leg!Z70)","v":4},{"$f":"SUM(AUT_leg:POR_leg!AA70)","v":3},{"$f":"SUM(AUT_leg:POR_leg!AB70)","v":3},{"$f":"SUM(AUT_leg:POR_leg!AC70)","v":6},{"$f":"SUM(AUT_leg:POR_leg!AD70)","v":1},{"$f":"SUM(AUT_leg:POR_leg!AE70)","v":3},{"$f":"SUM(AUT_leg:POR_leg!AF70)","v":2},{"$f":"SUM(AUT_leg:POR_leg!AG70)","v":5},{"$f":"SUM(AUT_leg:POR_leg!AH70)","v":4},{"$f":"SUM(AUT_leg:POR_leg!AI70)","v":3},{"$f":"SUM(AUT_leg:POR_leg!AJ70)","v":2},{"$f":"SUM(AUT_leg:POR_leg!AK70)","v":2},{"$f":"SUM(AUT_leg:POR_leg!AL70)","v":4},{"$f":"SUM(AUT_leg:POR_leg!AM70)","v":6},{"$f":"SUM(AUT_leg:POR_leg!AN70)","v":5},{"$f":"SUM(AUT_leg:POR_leg!AO70)","v":2},{"$f":"SUM(AUT_leg:POR_leg!AP70)","v":2},{"$f":"SUM(AUT_leg:POR_leg!AQ70)","v":1},{"$f":"SUM(AUT_leg:POR_leg!AR70)","v":2},{"$f":"SUM(AUT_leg:POR_leg!AS70)","v":1},{"$f":"SUM(AUT_leg:POR_leg!AT70)","v":1},{"$f":"SUM(AUT_leg:POR_leg!AU70)","v":1},{"$f":"SUM(AUT_leg:POR_leg!AV70)","v":1},{"$f":"SUM(AUT_leg:POR_leg!AW70)","v":1},{"$f":"SUM(AUT_leg:POR_leg!AX70)","v":3},{"$f":"SUM(AUT_leg:POR_leg!AY70)","v":1},{"$f":"SUM(AUT_leg:POR_leg!AZ70)","v":4},{"$f":"SUM(AUT_leg:POR_leg!BA70)","v":2},{"$f":"SUM(AUT_leg:POR_leg!BB70)","v":1},101,0.24754901960784315]
[null,"Refrigeration",{"$f":"Sheet1!O241","v":"Use excess heat from other production processes for the production of cooling using adsorption/absorption cooling."},{"$f":"SUM(AUT_leg:POR_leg!D71)","v":0},{"$f":"SUM(AUT_leg:POR_leg!E71)","v":4},{"$f":"SUM(AUT_leg:POR_leg!F71)","v":0},{"$f":"SUM(AUT_leg:POR_leg!G71)","v":-1},{"$f":"SUM(AUT_leg:POR_leg!H71)","v":-1},{"$f":"SUM(AUT_leg:POR_leg!I71)","v":2},{"$f":"SUM(AUT_leg:POR_leg!J71)","v":1},{"$f":"SUM(AUT_leg:POR_leg!K71)","v":0},{"$f":"SUM(AUT_leg:POR_leg!L71)","v":0},{"$f":"SUM(AUT_leg:POR_leg!M71)","v":-1},{"$f":"SUM(AUT_leg:POR_leg!N71)","v":-1},{"$f":"SUM(AUT_leg:POR_leg!O71)","v":-1},{"$f":"SUM(AUT_leg:POR_leg!P71)","v":6},{"$f":"SUM(AUT_leg:POR_leg!Q71)","v":4},{"$f":"SUM(AUT_leg:POR_leg!R71)","v":3},{"$f":"SUM(AUT_leg:POR_leg!S71)","v":-1},{"$f":"SUM(AUT_leg:POR_leg!T71)","v":0},{"$f":"SUM(AUT_leg:POR_leg!U71)","v":5},{"$f":"SUM(AUT_leg:POR_leg!V71)","v":1},{"$f":"SUM(AUT_leg:POR_leg!W71)","v":5},{"$f":"SUM(AUT_leg:POR_leg!X71)","v":0},{"$f":"SUM(AUT_leg:POR_leg!Y71)","v":0},{"$f":"SUM(AUT_leg:POR_leg!Z71)","v":4},{"$f":"SUM(AUT_leg:POR_leg!AA71)","v":3},{"$f":"SUM(AUT_leg:POR_leg!AB71)","v":3},{"$f":"SUM(AUT_leg:POR_leg!AC71)","v":6},{"$f":"SUM(AUT_leg:POR_leg!AD71)","v":1},{"$f":"SUM(AUT_leg:POR_leg!AE71)","v":3},{"$f":"SUM(AUT_leg:POR_leg!AF71)","v":2},{"$f":"SUM(AUT_leg:POR_leg!AG71)","v":5},{"$f":"SUM(AUT_leg:POR_leg!AH71)","v":4},{"$f":"SUM(AUT_leg:POR_leg!AI71)","v":3},{"$f":"SUM(AUT_leg:POR_leg!AJ71)","v":2},{"$f":"SUM(AUT_leg:POR_leg!AK71)","v":2},{"$f":"SUM(AUT_leg:POR_leg!AL71)","v":4},{"$f":"SUM(AUT_leg:POR_leg!AM71)","v":6},{"$f":"SUM(AUT_leg:POR_leg!AN71)","v":5},{"$f":"SUM(AUT_leg:POR_leg!AO71)","v":2},{"$f":"SUM(AUT_leg:POR_leg!AP71)","v":2},{"$f":"SUM(AUT_leg:POR_leg!AQ71)","v":1},{"$f":"SUM(AUT_leg:POR_leg!AR71)","v":2},{"$f":"SUM(AUT_leg:POR_leg!AS71)","v":1},{"$f":"SUM(AUT_leg:POR_leg!AT71)","v":1},{"$f":"SUM(AUT_leg:POR_leg!AU71)","v":1},{"$f":"SUM(AUT_leg:POR_leg!AV71)","v":1},{"$f":"SUM(AUT_leg:POR_leg!AW71)","v":1},{"$f":"SUM(AUT_leg:POR_leg!AX71)","v":3},{"$f":"SUM(AUT_leg:POR_leg!AY71)","v":1},{"$f":"SUM(AUT_leg:POR_leg!AZ71)","v":4},{"$f":"SUM(AUT_leg:POR_leg!BA71)","v":2},{"$f":"SUM(AUT_leg:POR_leg!BB71)","v":1},101,0.24754901960784315]
[null,"Refrigeration",{"$f":"Sheet1!O242","v":"Utilisation of free cooling"},{"$f":"SUM(AUT_leg:POR_leg!D72)","v":0},{"$f":"SUM(AUT_leg:POR_leg!E72)","v":4},{"$f":"SUM(AUT_leg:POR_leg!F72)","v":0},{"$f":"SUM(AUT_leg:POR_leg!G72)","v":-1},{"$f":"SUM(AUT_leg:POR_leg!H72)","v":-1},{"$f":"SUM(AUT_leg:POR_leg!I72)","v":2},{"$f":"SUM(AUT_leg:POR_leg!J72)","v":1},{"$f":"SUM(AUT_leg:POR_leg!K72)","v":0},{"$f":"SUM(AUT_leg:POR_leg!L72)","v":0},{"$f":"SUM(AUT_leg:POR_leg!M72)","v":-1},{"$f":"SUM(AUT_leg:POR_leg!N72)","v":-1},{"$f":"SUM(AUT_leg:POR_leg!O72)","v":1},{"$f":"SUM(AUT_leg:POR_leg!P72)","v":6},{"$f":"SUM(AUT_leg:POR_leg!Q72)","v":4},{"$f":"SUM(AUT_leg:POR_leg!R72)","v":3},{"$f":"SUM(AUT_leg:POR_leg!S72)","v":-1},{"$f":"SUM(AUT_leg:POR_leg!T72)","v":0},{"$f":"SUM(AUT_leg:POR_leg!U72)","v":5},{"$f":"SUM(AUT_leg:POR_leg!V72)","v":1},{"$f":"SUM(AUT_leg:POR_leg!W72)","v":5},{"$f":"SUM(AUT_leg:POR_leg!X72)","v":0},{"$f":"SUM(AUT_leg:POR_leg!Y72)","v":0},{"$f":"SUM(AUT_leg:POR_leg!Z72)","v":4},{"$f":"SUM(AUT_leg:POR_leg!AA72)","v":3},{"$f":"SUM(AUT_leg:POR_leg!AB72)","v":3},{"$f":"SUM(AUT_leg:POR_leg!AC72)","v":6},{"$f":"SUM(AUT_leg:POR_leg!AD72)","v":1},{"$f":"SUM(AUT_leg:POR_leg!AE72)","v":3},{"$f":"SUM(AUT_leg:POR_leg!AF72)","v":2},{"$f":"SUM(AUT_leg:POR_leg!AG72)","v":5},{"$f":"SUM(AUT_leg:POR_leg!AH72)","v":4},{"$f":"SUM(AUT_leg:POR_leg!AI72)","v":3},{"$f":"SUM(AUT_leg:POR_leg!AJ72)","v":2},{"$f":"SUM(AUT_leg:POR_leg!AK72)","v":2},{"$f":"SUM(AUT_leg:POR_leg!AL72)","v":4},{"$f":"SUM(AUT_leg:POR_leg!AM72)","v":6},{"$f":"SUM(AUT_leg:POR_leg!AN72)","v":5},{"$f":"SUM(AUT_leg:POR_leg!AO72)","v":2},{"$f":"SUM(AUT_leg:POR_leg!AP72)","v":2},{"$f":"SUM(AUT_leg:POR_leg!AQ72)","v":1},{"$f":"SUM(AUT_leg:POR_leg!AR72)","v":3},{"$f":"SUM(AUT_leg:POR_leg!AS72)","v":1},{"$f":"SUM(AUT_leg:POR_leg!AT72)","v":1},{"$f":"SUM(AUT_leg:POR_leg!AU72)","v":1},{"$f":"SUM(AUT_leg:POR_leg!AV72)","v":1},{"$f":"SUM(AUT_leg:POR_leg!AW72)","v":1},{"$f":"SUM(AUT_leg:POR_leg!AX72)","v":3},{"$f":"SUM(AUT_leg:POR_leg!AY72)","v":1},{"$f":"SUM(AUT_leg:POR_leg!AZ72)","v":4},{"$f":"SUM(AUT_leg:POR_leg!BA72)","v":2},{"$f":"SUM(AUT_leg:POR_leg!BB72)","v":1},104,0.25490196078431371]
[null,"Refrigeration",{"$f":"Sheet1!O243","v":"Replacement of the equipment."},{"$f":"SUM(AUT_leg:POR_leg!D73)","v":0},{"$f":"SUM(AUT_leg:POR_leg!E73)","v":4},{"$f":"SUM(AUT_leg:POR_leg!F73)","v":0},{"$f":"SUM(AUT_leg:POR_leg!G73)","v":-1},{"$f":"SUM(AUT_leg:POR_leg!H73)","v":-1},{"$f":"SUM(AUT_leg:POR_leg!I73)","v":2},{"$f":"SUM(AUT_leg:POR_leg!J73)","v":1},{"$f":"SUM(AUT_leg:POR_leg!K73)","v":0},{"$f":"SUM(AUT_leg:POR_leg!L73)","v":0},{"$f":"SUM(AUT_leg:POR_leg!M73)","v":0},{"$f":"SUM(AUT_leg:POR_leg!N73)","v":-1},{"$f":"SUM(AUT_leg:POR_leg!O73)","v":2},{"$f":"SUM(AUT_leg:POR_leg!P73)","v":4},{"$f":"SUM(AUT_leg:POR_leg!Q73)","v":3},{"$f":"SUM(AUT_leg:POR_leg!R73)","v":2},{"$f":"SUM(AUT_leg:POR_leg!S73)","v":0},{"$f":"SUM(AUT_leg:POR_leg!T73)","v":1},{"$f":"SUM(AUT_leg:POR_leg!U73)","v":4},{"$f":"SUM(AUT_leg:POR_leg!V73)","v":1},{"$f":"SUM(AUT_leg:POR_leg!W73)","v":4},{"$f":"SUM(AUT_leg:POR_leg!X73)","v":0},{"$f":"SUM(AUT_leg:POR_leg!Y73)","v":0},{"$f":"SUM(AUT_leg:POR_leg!Z73)","v":5},{"$f":"SUM(AUT_leg:POR_leg!AA73)","v":3},{"$f":"SUM(AUT_leg:POR_leg!AB73)","v":4},{"$f":"SUM(AUT_leg:POR_leg!AC73)","v":6},{"$f":"SUM(AUT_leg:POR_leg!AD73)","v":2},{"$f":"SUM(AUT_leg:POR_leg!AE73)","v":2},{"$f":"SUM(AUT_leg:POR_leg!AF73)","v":2},{"$f":"SUM(AUT_leg:POR_leg!AG73)","v":5},{"$f":"SUM(AUT_leg:POR_leg!AH73)","v":4},{"$f":"SUM(AUT_leg:POR_leg!AI73)","v":3},{"$f":"SUM(AUT_leg:POR_leg!AJ73)","v":3},{"$f":"SUM(AUT_leg:POR_leg!AK73)","v":2},{"$f":"SUM(AUT_leg:POR_leg!AL73)","v":4},{"$f":"SUM(AUT_leg:POR_leg!AM73)","v":5},{"$f":"SUM(AUT_leg:POR_leg!AN73)","v":4},{"$f":"SUM(AUT_leg:POR_leg!AO73)","v":2},{"$f":"SUM(AUT_leg:POR_leg!AP73)","v":3},{"$f":"SUM(AUT_leg:POR_leg!AQ73)","v":3},{"$f":"SUM(AUT_leg:POR_leg!AR73)","v":4},{"$f":"SUM(AUT_leg:POR_leg!AS73)","v":2},{"$f":"SUM(AUT_leg:POR_leg!AT73)","v":1},{"$f":"SUM(AUT_leg:POR_leg!AU73)","v":1},{"$f":"SUM(AUT_leg:POR_leg!AV73)","v":1},{"$f":"SUM(AUT_leg:POR_leg!AW73)","v":1},{"$f":"SUM(AUT_leg:POR_leg!AX73)","v":3},{"$f":"SUM(AUT_leg:POR_leg!AY73)","v":3},{"$f":"SUM(AUT_leg:POR_leg!AZ73)","v":4},{"$f":"SUM(AUT_leg:POR_leg!BA73)","v":2},{"$f":"SUM(AUT_leg:POR_leg!BB73)","v":2},111,0.27205882352941174]
[null,"Water systems",{"$f":"Sheet1!O245","v":"Efficient pumps for the Water treatment system (if any)"},{"$f":"SUM(AUT_leg:POR_leg!D74)","v":0},{"$f":"SUM(AUT_leg:POR_leg!E74)","v":4},{"$f":"SUM(AUT_leg:POR_leg!F74)","v":0},{"$f":"SUM(AUT_leg:POR_leg!G74)","v":-1},{"$f":"SUM(AUT_leg:POR_leg!H74)","v":-1},{"$f":"SUM(AUT_leg:POR_leg!I74)","v":2},{"$f":"SUM(AUT_leg:POR_leg!J74)","v":1},{"$f":"SUM(AUT_leg:POR_leg!K74)","v":0},{"$f":"SUM(AUT_leg:POR_leg!L74)","v":0},{"$f":"SUM(AUT_leg:POR_leg!M74)","v":0},{"$f":"SUM(AUT_leg:POR_leg!N74)","v":-1},{"$f":"SUM(AUT_leg:POR_leg!O74)","v":-1},{"$f":"SUM(AUT_leg:POR_leg!P74)","v":6},{"$f":"SUM(AUT_leg:POR_leg!Q74)","v":4},{"$f":"SUM(AUT_leg:POR_leg!R74)","v":3},{"$f":"SUM(AUT_leg:POR_leg!S74)","v":6},{"$f":"SUM(AUT_leg:POR_leg!T74)","v":2},{"$f":"SUM(AUT_leg:POR_leg!U74)","v":5},{"$f":"SUM(AUT_leg:POR_leg!V74)","v":1},{"$f":"SUM(AUT_leg:POR_leg!W74)","v":5},{"$f":"SUM(AUT_leg:POR_leg!X74)","v":0},{"$f":"SUM(AUT_leg:POR_leg!Y74)","v":0},{"$f":"SUM(AUT_leg:POR_leg!Z74)","v":4},{"$f":"SUM(AUT_leg:POR_leg!AA74)","v":3},{"$f":"SUM(AUT_leg:POR_leg!AB74)","v":3},{"$f":"SUM(AUT_leg:POR_leg!AC74)","v":6},{"$f":"SUM(AUT_leg:POR_leg!AD74)","v":1},{"$f":"SUM(AUT_leg:POR_leg!AE74)","v":2},{"$f":"SUM(AUT_leg:POR_leg!AF74)","v":1},{"$f":"SUM(AUT_leg:POR_leg!AG74)","v":5},{"$f":"SUM(AUT_leg:POR_leg!AH74)","v":4},{"$f":"SUM(AUT_leg:POR_leg!AI74)","v":3},{"$f":"SUM(AUT_leg:POR_leg!AJ74)","v":3},{"$f":"SUM(AUT_leg:POR_leg!AK74)","v":2},{"$f":"SUM(AUT_leg:POR_leg!AL74)","v":4},{"$f":"SUM(AUT_leg:POR_leg!AM74)","v":6},{"$f":"SUM(AUT_leg:POR_leg!AN74)","v":5},{"$f":"SUM(AUT_leg:POR_leg!AO74)","v":2},{"$f":"SUM(AUT_leg:POR_leg!AP74)","v":3},{"$f":"SUM(AUT_leg:POR_leg!AQ74)","v":2},{"$f":"SUM(AUT_leg:POR_leg!AR74)","v":3},{"$f":"SUM(AUT_leg:POR_leg!AS74)","v":1},{"$f":"SUM(AUT_leg:POR_leg!AT74)","v":1},{"$f":"SUM(AUT_leg:POR_leg!AU74)","v":1},{"$f":"SUM(AUT_leg:POR_leg!AV74)","v":1},{"$f":"SUM(AUT_leg:POR_leg!AW74)","v":1},{"$f":"SUM(AUT_leg:POR_leg!AX74)","v":3},{"$f":"SUM(AUT_leg:POR_leg!AY74)","v":2},{"$f":"SUM(AUT_leg:POR_leg!AZ74)","v":3},{"$f":"SUM(AUT_leg:POR_leg!BA74)","v":2},{"$f":"SUM(AUT_leg:POR_leg!BB74)","v":1},113,0.27696078431372551]
[null,"Water systems",{"$f":"Sheet1!O246","v":"Advanced process of water recovery "},{"$f":"SUM(AUT_leg:POR_leg!D75)","v":0},{"$f":"SUM(AUT_leg:POR_leg!E75)","v":4},{"$f":"SUM(AUT_leg:POR_leg!F75)","v":0},{"$f":"SUM(AUT_leg:POR_leg!G75)","v":-1},{"$f":"SUM(AUT_leg:POR_leg!H75)","v":-1},{"$f":"SUM(AUT_leg:POR_leg!I75)","v":2},{"$f":"SUM(AUT_leg:POR_leg!J75)","v":1},{"$f":"SUM(AUT_leg:POR_leg!K75)","v":0},{"$f":"SUM(AUT_leg:POR_leg!L75)","v":0},{"$f":"SUM(AUT_leg:POR_leg!M75)","v":-1},{"$f":"SUM(AUT_leg:POR_leg!N75)","v":-1},{"$f":"SUM(AUT_leg:POR_leg!O75)","v":-1},{"$f":"SUM(AUT_leg:POR_leg!P75)","v":4},{"$f":"SUM(AUT_leg:POR_leg!Q75)","v":3},{"$f":"SUM(AUT_leg:POR_leg!R75)","v":3},{"$f":"SUM(AUT_leg:POR_leg!S75)","v":7},{"$f":"SUM(AUT_leg:POR_leg!T75)","v":2},{"$f":"SUM(AUT_leg:POR_leg!U75)","v":3},{"$f":"SUM(AUT_leg:POR_leg!V75)","v":1},{"$f":"SUM(AUT_leg:POR_leg!W75)","v":4},{"$f":"SUM(AUT_leg:POR_leg!X75)","v":0},{"$f":"SUM(AUT_leg:POR_leg!Y75)","v":1},{"$f":"SUM(AUT_leg:POR_leg!Z75)","v":4},{"$f":"SUM(AUT_leg:POR_leg!AA75)","v":3},{"$f":"SUM(AUT_leg:POR_leg!AB75)","v":3},{"$f":"SUM(AUT_leg:POR_leg!AC75)","v":4},{"$f":"SUM(AUT_leg:POR_leg!AD75)","v":1},{"$f":"SUM(AUT_leg:POR_leg!AE75)","v":2},{"$f":"SUM(AUT_leg:POR_leg!AF75)","v":1},{"$f":"SUM(AUT_leg:POR_leg!AG75)","v":3},{"$f":"SUM(AUT_leg:POR_leg!AH75)","v":4},{"$f":"SUM(AUT_leg:POR_leg!AI75)","v":4},{"$f":"SUM(AUT_leg:POR_leg!AJ75)","v":2},{"$f":"SUM(AUT_leg:POR_leg!AK75)","v":2},{"$f":"SUM(AUT_leg:POR_leg!AL75)","v":3},{"$f":"SUM(AUT_leg:POR_leg!AM75)","v":5},{"$f":"SUM(AUT_leg:POR_leg!AN75)","v":4},{"$f":"SUM(AUT_leg:POR_leg!AO75)","v":2},{"$f":"SUM(AUT_leg:POR_leg!AP75)","v":2},{"$f":"SUM(AUT_leg:POR_leg!AQ75)","v":1},{"$f":"SUM(AUT_leg:POR_leg!AR75)","v":2},{"$f":"SUM(AUT_leg:POR_leg!AS75)","v":1},{"$f":"SUM(AUT_leg:POR_leg!AT75)","v":1},{"$f":"SUM(AUT_leg:POR_leg!AU75)","v":1},{"$f":"SUM(AUT_leg:POR_leg!AV75)","v":1},{"$f":"SUM(AUT_leg:POR_leg!AW75)","v":1},{"$f":"SUM(AUT_leg:POR_leg!AX75)","v":3},{"$f":"SUM(AUT_leg:POR_leg!AY75)","v":1},{"$f":"SUM(AUT_leg:POR_leg!AZ75)","v":3},{"$f":"SUM(AUT_leg:POR_leg!BA75)","v":2},{"$f":"SUM(AUT_leg:POR_leg!BB75)","v":1},97,0.23774509803921567]
[null,"Production line",{"$f":"Sheet1!O248","v":"Optimisation of the production process and workflow"},{"$f":"SUM(AUT_leg:POR_leg!D76)","v":2},{"$f":"SUM(AUT_leg:POR_leg!E76)","v":2},{"$f":"SUM(AUT_leg:POR_leg!F76)","v":1},{"$f":"SUM(AUT_leg:POR_leg!G76)","v":1},{"$f":"SUM(AUT_leg:POR_leg!H76)","v":1},{"$f":"SUM(AUT_leg:POR_leg!I76)","v":5},{"$f":"SUM(AUT_leg:POR_leg!J76)","v":2},{"$f":"SUM(AUT_leg:POR_leg!K76)","v":2},{"$f":"SUM(AUT_leg:POR_leg!L76)","v":2},{"$f":"SUM(AUT_leg:POR_leg!M76)","v":-1},{"$f":"SUM(AUT_leg:POR_leg!N76)","v":-1},{"$f":"SUM(AUT_leg:POR_leg!O76)","v":-1},{"$f":"SUM(AUT_leg:POR_leg!P76)","v":4},{"$f":"SUM(AUT_leg:POR_leg!Q76)","v":3},{"$f":"SUM(AUT_leg:POR_leg!R76)","v":1},{"$f":"SUM(AUT_leg:POR_leg!S76)","v":0},{"$f":"SUM(AUT_leg:POR_leg!T76)","v":3},{"$f":"SUM(AUT_leg:POR_leg!U76)","v":4},{"$f":"SUM(AUT_leg:POR_leg!V76)","v":1},{"$f":"SUM(AUT_leg:POR_leg!W76)","v":4},{"$f":"SUM(AUT_leg:POR_leg!X76)","v":0},{"$f":"SUM(AUT_leg:POR_leg!Y76)","v":1},{"$f":"SUM(AUT_leg:POR_leg!Z76)","v":6},{"$f":"SUM(AUT_leg:POR_leg!AA76)","v":4},{"$f":"SUM(AUT_leg:POR_leg!AB76)","v":4},{"$f":"SUM(AUT_leg:POR_leg!AC76)","v":4},{"$f":"SUM(AUT_leg:POR_leg!AD76)","v":5},{"$f":"SUM(AUT_leg:POR_leg!AE76)","v":4},{"$f":"SUM(AUT_leg:POR_leg!AF76)","v":2},{"$f":"SUM(AUT_leg:POR_leg!AG76)","v":5},{"$f":"SUM(AUT_leg:POR_leg!AH76)","v":5},{"$f":"SUM(AUT_leg:POR_leg!AI76)","v":3},{"$f":"SUM(AUT_leg:POR_leg!AJ76)","v":2},{"$f":"SUM(AUT_leg:POR_leg!AK76)","v":2},{"$f":"SUM(AUT_leg:POR_leg!AL76)","v":5},{"$f":"SUM(AUT_leg:POR_leg!AM76)","v":5},{"$f":"SUM(AUT_leg:POR_leg!AN76)","v":4},{"$f":"SUM(AUT_leg:POR_leg!AO76)","v":2},{"$f":"SUM(AUT_leg:POR_leg!AP76)","v":2},{"$f":"SUM(AUT_leg:POR_leg!AQ76)","v":2},{"$f":"SUM(AUT_leg:POR_leg!AR76)","v":2},{"$f":"SUM(AUT_leg:POR_leg!AS76)","v":1},{"$f":"SUM(AUT_leg:POR_leg!AT76)","v":3},{"$f":"SUM(AUT_leg:POR_leg!AU76)","v":3},{"$f":"SUM(AUT_leg:POR_leg!AV76)","v":3},{"$f":"SUM(AUT_leg:POR_leg!AW76)","v":3},{"$f":"SUM(AUT_leg:POR_leg!AX76)","v":3},{"$f":"SUM(AUT_leg:POR_leg!AY76)","v":4},{"$f":"SUM(AUT_leg:POR_leg!AZ76)","v":6},{"$f":"SUM(AUT_leg:POR_leg!BA76)","v":2},{"$f":"SUM(AUT_leg:POR_leg!BB76)","v":3},135,0.33088235294117646]
[null,"Production line",{"$f":"Sheet1!O249","v":"Waste reduction & recycling in the production line "},{"$f":"SUM(AUT_leg:POR_leg!D77)","v":2},{"$f":"SUM(AUT_leg:POR_leg!E77)","v":2},{"$f":"SUM(AUT_leg:POR_leg!F77)","v":1},{"$f":"SUM(AUT_leg:POR_leg!G77)","v":1},{"$f":"SUM(AUT_leg:POR_leg!H77)","v":1},{"$f":"SUM(AUT_leg:POR_leg!I77)","v":4},{"$f":"SUM(AUT_leg:POR_leg!J77)","v":2},{"$f":"SUM(AUT_leg:POR_leg!K77)","v":2},{"$f":"SUM(AUT_leg:POR_leg!L77)","v":2},{"$f":"SUM(AUT_leg:POR_leg!M77)","v":0},{"$f":"SUM(AUT_leg:POR_leg!N77)","v":-1},{"$f":"SUM(AUT_leg:POR_leg!O77)","v":-1},{"$f":"SUM(AUT_leg:POR_leg!P77)","v":4},{"$f":"SUM(AUT_leg:POR_leg!Q77)","v":3},{"$f":"SUM(AUT_leg:POR_leg!R77)","v":3},{"$f":"SUM(AUT_leg:POR_leg!S77)","v":-1},{"$f":"SUM(AUT_leg:POR_leg!T77)","v":5},{"$f":"SUM(AUT_leg:POR_leg!U77)","v":4},{"$f":"SUM(AUT_leg:POR_leg!V77)","v":1},{"$f":"SUM(AUT_leg:POR_leg!W77)","v":4},{"$f":"SUM(AUT_leg:POR_leg!X77)","v":0},{"$f":"SUM(AUT_leg:POR_leg!Y77)","v":5},{"$f":"SUM(AUT_leg:POR_leg!Z77)","v":5},{"$f":"SUM(AUT_leg:POR_leg!AA77)","v":4},{"$f":"SUM(AUT_leg:POR_leg!AB77)","v":3},{"$f":"SUM(AUT_leg:POR_leg!AC77)","v":6},{"$f":"SUM(AUT_leg:POR_leg!AD77)","v":3},{"$f":"SUM(AUT_leg:POR_leg!AE77)","v":3},{"$f":"SUM(AUT_leg:POR_leg!AF77)","v":2},{"$f":"SUM(AUT_leg:POR_leg!AG77)","v":5},{"$f":"SUM(AUT_leg:POR_leg!AH77)","v":5},{"$f":"SUM(AUT_leg:POR_leg!AI77)","v":6},{"$f":"SUM(AUT_leg:POR_leg!AJ77)","v":2},{"$f":"SUM(AUT_leg:POR_leg!AK77)","v":2},{"$f":"SUM(AUT_leg:POR_leg!AL77)","v":3},{"$f":"SUM(AUT_leg:POR_leg!AM77)","v":4},{"$f":"SUM(AUT_leg:POR_leg!AN77)","v":3},{"$f":"SUM(AUT_leg:POR_leg!AO77)","v":2},{"$f":"SUM(AUT_leg:POR_leg!AP77)","v":2},{"$f":"SUM(AUT_leg:POR_leg!AQ77)","v":1},{"$f":"SUM(AUT_leg:POR_leg!AR77)","v":2},{"$f":"SUM(AUT_leg:POR_leg!AS77)","v":1},{"$f":"SUM(AUT_leg:POR_leg!AT77)","v":2},{"$f":"SUM(AUT_leg:POR_leg!AU77)","v":2},{"$f":"SUM(AUT_leg:POR_leg!AV77)","v":3},{"$f":"SUM(AUT_leg:POR_leg!AW77)","v":4},{"$f":"SUM(AUT_leg:POR_leg!AX77)","v":3},{"$f":"SUM(AUT_leg:POR_leg!AY77)","v":2},{"$f":"SUM(AUT_leg:POR_leg!AZ77)","v":3},{"$f":"SUM(AUT_leg:POR_leg!BA77)","v":1},{"$f":"SUM(AUT_leg:POR_leg!BB77)","v":1},128,0.31372549019607843]
[null,"Production line",{"$f":"Sheet1!O250","v":"Optimization of motor driven systems "},{"$f":"SUM(AUT_leg:POR_leg!D78)","v":0},{"$f":"SUM(AUT_leg:POR_leg!E78)","v":2},{"$f":"SUM(AUT_leg:POR_leg!F78)","v":0},{"$f":"SUM(AUT_leg:POR_leg!G78)","v":0},{"$f":"SUM(AUT_leg:POR_leg!H78)","v":-1},{"$f":"SUM(AUT_leg:POR_leg!I78)","v":4},{"$f":"SUM(AUT_leg:POR_leg!J78)","v":2},{"$f":"SUM(AUT_leg:POR_leg!K78)","v":1},{"$f":"SUM(AUT_leg:POR_leg!L78)","v":1},{"$f":"SUM(AUT_leg:POR_leg!M78)","v":-1},{"$f":"SUM(AUT_leg:POR_leg!N78)","v":-1},{"$f":"SUM(AUT_leg:POR_leg!O78)","v":1},{"$f":"SUM(AUT_leg:POR_leg!P78)","v":5},{"$f":"SUM(AUT_leg:POR_leg!Q78)","v":3},{"$f":"SUM(AUT_leg:POR_leg!R78)","v":3},{"$f":"SUM(AUT_leg:POR_leg!S78)","v":-1},{"$f":"SUM(AUT_leg:POR_leg!T78)","v":0},{"$f":"SUM(AUT_leg:POR_leg!U78)","v":3},{"$f":"SUM(AUT_leg:POR_leg!V78)","v":1},{"$f":"SUM(AUT_leg:POR_leg!W78)","v":4},{"$f":"SUM(AUT_leg:POR_leg!X78)","v":0},{"$f":"SUM(AUT_leg:POR_leg!Y78)","v":0},{"$f":"SUM(AUT_leg:POR_leg!Z78)","v":5},{"$f":"SUM(AUT_leg:POR_leg!AA78)","v":5},{"$f":"SUM(AUT_leg:POR_leg!AB78)","v":4},{"$f":"SUM(AUT_leg:POR_leg!AC78)","v":6},{"$f":"SUM(AUT_leg:POR_leg!AD78)","v":3},{"$f":"SUM(AUT_leg:POR_leg!AE78)","v":4},{"$f":"SUM(AUT_leg:POR_leg!AF78)","v":1},{"$f":"SUM(AUT_leg:POR_leg!AG78)","v":4},{"$f":"SUM(AUT_leg:POR_leg!AH78)","v":4},{"$f":"SUM(AUT_leg:POR_leg!AI78)","v":2},{"$f":"SUM(AUT_leg:POR_leg!AJ78)","v":2},{"$f":"SUM(AUT_leg:POR_leg!AK78)","v":2},{"$f":"SUM(AUT_leg:POR_leg!AL78)","v":3},{"$f":"SUM(AUT_leg:POR_leg!AM78)","v":5},{"$f":"SUM(AUT_leg:POR_leg!AN78)","v":4},{"$f":"SUM(AUT_leg:POR_leg!AO78)","v":2},{"$f":"SUM(AUT_leg:POR_leg!AP78)","v":3},{"$f":"SUM(AUT_leg:POR_leg!AQ78)","v":2},{"$f":"SUM(AUT_leg:POR_leg!AR78)","v":2},{"$f":"SUM(AUT_leg:POR_leg!AS78)","v":1},{"$f":"SUM(AUT_leg:POR_leg!AT78)","v":1},{"$f":"SUM(AUT_leg:POR_leg!AU78)","v":1},{"$f":"SUM(AUT_leg:POR_leg!AV78)","v":1},{"$f":"SUM(AUT_leg:POR_leg!AW78)","v":3},{"$f":"SUM(AUT_leg:POR_leg!AX78)","v":3},{"$f":"SUM(AUT_leg:POR_leg!AY78)","v":3},{"$f":"SUM(AUT_leg:POR_leg!AZ78)","v":5},{"$f":"SUM(AUT_leg:POR_leg!BA78)","v":4},{"$f":"SUM(AUT_leg:POR_leg!BB78)","v":1},112,0.27450980392156865]
[null,"Production line",{"$f":"Sheet1!O251","v":"High efficient transmission system"},{"$f":"SUM(AUT_leg:POR_leg!D79)","v":0},{"$f":"SUM(AUT_leg:POR_leg!E79)","v":2},{"$f":"SUM(AUT_leg:POR_leg!F79)","v":0},{"$f":"SUM(AUT_leg:POR_leg!G79)","v":0},{"$f":"SUM(AUT_leg:POR_leg!H79)","v":-1},{"$f":"SUM(AUT_leg:POR_leg!I79)","v":3},{"$f":"SUM(AUT_leg:POR_leg!J79)","v":1},{"$f":"SUM(AUT_leg:POR_leg!K79)","v":0},{"$f":"SUM(AUT_leg:POR_leg!L79)","v":0},{"$f":"SUM(AUT_leg:POR_leg!M79)","v":-1},{"$f":"SUM(AUT_leg:POR_leg!N79)","v":-1},{"$f":"SUM(AUT_leg:POR_leg!O79)","v":1},{"$f":"SUM(AUT_leg:POR_leg!P79)","v":6},{"$f":"SUM(AUT_leg:POR_leg!Q79)","v":4},{"$f":"SUM(AUT_leg:POR_leg!R79)","v":3},{"$f":"SUM(AUT_leg:POR_leg!S79)","v":-1},{"$f":"SUM(AUT_leg:POR_leg!T79)","v":0},{"$f":"SUM(AUT_leg:POR_leg!U79)","v":5},{"$f":"SUM(AUT_leg:POR_leg!V79)","v":1},{"$f":"SUM(AUT_leg:POR_leg!W79)","v":5},{"$f":"SUM(AUT_leg:POR_leg!X79)","v":0},{"$f":"SUM(AUT_leg:POR_leg!Y79)","v":0},{"$f":"SUM(AUT_leg:POR_leg!Z79)","v":4},{"$f":"SUM(AUT_leg:POR_leg!AA79)","v":5},{"$f":"SUM(AUT_leg:POR_leg!AB79)","v":3},{"$f":"SUM(AUT_leg:POR_leg!AC79)","v":6},{"$f":"SUM(AUT_leg:POR_leg!AD79)","v":3},{"$f":"SUM(AUT_leg:POR_leg!AE79)","v":3},{"$f":"SUM(AUT_leg:POR_leg!AF79)","v":1},{"$f":"SUM(AUT_leg:POR_leg!AG79)","v":4},{"$f":"SUM(AUT_leg:POR_leg!AH79)","v":5},{"$f":"SUM(AUT_leg:POR_leg!AI79)","v":2},{"$f":"SUM(AUT_leg:POR_leg!AJ79)","v":3},{"$f":"SUM(AUT_leg:POR_leg!AK79)","v":2},{"$f":"SUM(AUT_leg:POR_leg!AL79)","v":3},{"$f":"SUM(AUT_leg:POR_leg!AM79)","v":6},{"$f":"SUM(AUT_leg:POR_leg!AN79)","v":4},{"$f":"SUM(AUT_leg:POR_leg!AO79)","v":2},{"$f":"SUM(AUT_leg:POR_leg!AP79)","v":2},{"$f":"SUM(AUT_leg:POR_leg!AQ79)","v":1},{"$f":"SUM(AUT_leg:POR_leg!AR79)","v":2},{"$f":"SUM(AUT_leg:POR_leg!AS79)","v":1},{"$f":"SUM(AUT_leg:POR_leg!AT79)","v":1},{"$f":"SUM(AUT_leg:POR_leg!AU79)","v":1},{"$f":"SUM(AUT_leg:POR_leg!AV79)","v":1},{"$f":"SUM(AUT_leg:POR_leg!AW79)","v":3},{"$f":"SUM(AUT_leg:POR_leg!AX79)","v":3},{"$f":"SUM(AUT_leg:POR_leg!AY79)","v":2},{"$f":"SUM(AUT_leg:POR_leg!AZ79)","v":3},{"$f":"SUM(AUT_leg:POR_leg!BA79)","v":3},{"$f":"SUM(AUT_leg:POR_leg!BB79)","v":1},107,0.26225490196078433]
[null,"Production line",{"$f":"Sheet1!O252","v":"Reduction of the mAnnual labor"},{"$f":"SUM(AUT_leg:POR_leg!D80)","v":2},{"$f":"SUM(AUT_leg:POR_leg!E80)","v":2},{"$f":"SUM(AUT_leg:POR_leg!F80)","v":3},{"$f":"SUM(AUT_leg:POR_leg!G80)","v":2},{"$f":"SUM(AUT_leg:POR_leg!H80)","v":2},{"$f":"SUM(AUT_leg:POR_leg!I80)","v":1},{"$f":"SUM(AUT_leg:POR_leg!J80)","v":2},{"$f":"SUM(AUT_leg:POR_leg!K80)","v":1},{"$f":"SUM(AUT_leg:POR_leg!L80)","v":1},{"$f":"SUM(AUT_leg:POR_leg!M80)","v":-1},{"$f":"SUM(AUT_leg:POR_leg!N80)","v":-1},{"$f":"SUM(AUT_leg:POR_leg!O80)","v":1},{"$f":"SUM(AUT_leg:POR_leg!P80)","v":3},{"$f":"SUM(AUT_leg:POR_leg!Q80)","v":2},{"$f":"SUM(AUT_leg:POR_leg!R80)","v":2},{"$f":"SUM(AUT_leg:POR_leg!S80)","v":-1},{"$f":"SUM(AUT_leg:POR_leg!T80)","v":0},{"$f":"SUM(AUT_leg:POR_leg!U80)","v":2},{"$f":"SUM(AUT_leg:POR_leg!V80)","v":1},{"$f":"SUM(AUT_leg:POR_leg!W80)","v":3},{"$f":"SUM(AUT_leg:POR_leg!X80)","v":0},{"$f":"SUM(AUT_leg:POR_leg!Y80)","v":0},{"$f":"SUM(AUT_leg:POR_leg!Z80)","v":4},{"$f":"SUM(AUT_leg:POR_leg!AA80)","v":4},{"$f":"SUM(AUT_leg:POR_leg!AB80)","v":3},{"$f":"SUM(AUT_leg:POR_leg!AC80)","v":4},{"$f":"SUM(AUT_leg:POR_leg!AD80)","v":1},{"$f":"SUM(AUT_leg:POR_leg!AE80)","v":3},{"$f":"SUM(AUT_leg:POR_leg!AF80)","v":1},{"$f":"SUM(AUT_leg:POR_leg!AG80)","v":3},{"$f":"SUM(AUT_leg:POR_leg!AH80)","v":5},{"$f":"SUM(AUT_leg:POR_leg!AI80)","v":2},{"$f":"SUM(AUT_leg:POR_leg!AJ80)","v":2},{"$f":"SUM(AUT_leg:POR_leg!AK80)","v":1},{"$f":"SUM(AUT_leg:POR_leg!AL80)","v":3},{"$f":"SUM(AUT_leg:POR_leg!AM80)","v":4},{"$f":"SUM(AUT_leg:POR_leg!AN80)","v":3},{"$f":"SUM(AUT_leg:POR_leg!AO80)","v":2},{"$f":"SUM(AUT_leg:POR_leg!AP80)","v":2},{"$f":"SUM(AUT_leg:POR_leg!AQ80)","v":1},{"$f":"SUM(AUT_leg:POR_leg!AR80)","v":2},{"$f":"SUM(AUT_leg:POR_leg!AS80)","v":1},{"$f":"SUM(AUT_leg:POR_leg!AT80)","v":1},{"$f":"SUM(AUT_leg:POR_leg!AU80)","v":2},{"$f":"SUM(AUT_leg:POR_leg!AV80)","v":2},{"$f":"SUM(AUT_leg:POR_leg!AW80)","v":3},{"$f":"SUM(AUT_leg:POR_leg!AX80)","v":3},{"$f":"SUM(AUT_leg:POR_leg!AY80)","v":4},{"$f":"SUM(AUT_leg:POR_leg!AZ80)","v":5},{"$f":"SUM(AUT_leg:POR_leg!BA80)","v":1},{"$f":"SUM(AUT_leg:POR_leg!BB80)","v":1},100,0.24509803921568626]
[null,"Production line",{"$f":"Sheet1!O253","v":"Regular maintenance of the equipment"},{"$f":"SUM(AUT_leg:POR_leg!D81)","v":3},{"$f":"SUM(AUT_leg:POR_leg!E81)","v":2},{"$f":"SUM(AUT_leg:POR_leg!F81)","v":2},{"$f":"SUM(AUT_leg:POR_leg!G81)","v":2},{"$f":"SUM(AUT_leg:POR_leg!H81)","v":2},{"$f":"SUM(AUT_leg:POR_leg!I81)","v":4},{"$f":"SUM(AUT_leg:POR_leg!J81)","v":3},{"$f":"SUM(AUT_leg:POR_leg!K81)","v":2},{"$f":"SUM(AUT_leg:POR_leg!L81)","v":2},{"$f":"SUM(AUT_leg:POR_leg!M81)","v":0},{"$f":"SUM(AUT_leg:POR_leg!N81)","v":-1},{"$f":"SUM(AUT_leg:POR_leg!O81)","v":1},{"$f":"SUM(AUT_leg:POR_leg!P81)","v":5},{"$f":"SUM(AUT_leg:POR_leg!Q81)","v":3},{"$f":"SUM(AUT_leg:POR_leg!R81)","v":2},{"$f":"SUM(AUT_leg:POR_leg!S81)","v":0},{"$f":"SUM(AUT_leg:POR_leg!T81)","v":1},{"$f":"SUM(AUT_leg:POR_leg!U81)","v":4},{"$f":"SUM(AUT_leg:POR_leg!V81)","v":3},{"$f":"SUM(AUT_leg:POR_leg!W81)","v":5},{"$f":"SUM(AUT_leg:POR_leg!X81)","v":0},{"$f":"SUM(AUT_leg:POR_leg!Y81)","v":0},{"$f":"SUM(AUT_leg:POR_leg!Z81)","v":4},{"$f":"SUM(AUT_leg:POR_leg!AA81)","v":3},{"$f":"SUM(AUT_leg:POR_leg!AB81)","v":5},{"$f":"SUM(AUT_leg:POR_leg!AC81)","v":6},{"$f":"SUM(AUT_leg:POR_leg!AD81)","v":2},{"$f":"SUM(AUT_leg:POR_leg!AE81)","v":1},{"$f":"SUM(AUT_leg:POR_leg!AF81)","v":2},{"$f":"SUM(AUT_leg:POR_leg!AG81)","v":4},{"$f":"SUM(AUT_leg:POR_leg!AH81)","v":4},{"$f":"SUM(AUT_leg:POR_leg!AI81)","v":2},{"$f":"SUM(AUT_leg:POR_leg!AJ81)","v":2},{"$f":"SUM(AUT_leg:POR_leg!AK81)","v":2},{"$f":"SUM(AUT_leg:POR_leg!AL81)","v":3},{"$f":"SUM(AUT_leg:POR_leg!AM81)","v":6},{"$f":"SUM(AUT_leg:POR_leg!AN81)","v":4},{"$f":"SUM(AUT_leg:POR_leg!AO81)","v":2},{"$f":"SUM(AUT_leg:POR_leg!AP81)","v":4},{"$f":"SUM(AUT_leg:POR_leg!AQ81)","v":2},{"$f":"SUM(AUT_leg:POR_leg!AR81)","v":3},{"$f":"SUM(AUT_leg:POR_leg!AS81)","v":2},{"$f":"SUM(AUT_leg:POR_leg!AT81)","v":1},{"$f":"SUM(AUT_leg:POR_leg!AU81)","v":2},{"$f":"SUM(AUT_leg:POR_leg!AV81)","v":2},{"$f":"SUM(AUT_leg:POR_leg!AW81)","v":3},{"$f":"SUM(AUT_leg:POR_leg!AX81)","v":3},{"$f":"SUM(AUT_leg:POR_leg!AY81)","v":3},{"$f":"SUM(AUT_leg:POR_leg!AZ81)","v":2},{"$f":"SUM(AUT_leg:POR_leg!BA81)","v":4},{"$f":"SUM(AUT_leg:POR_leg!BB81)","v":3},131,0.32107843137254904]
[null,"Production line",{"$f":"Sheet1!O254","v":"Replacement of the equipment"},{"$f":"SUM(AUT_leg:POR_leg!D82)","v":3},{"$f":"SUM(AUT_leg:POR_leg!E82)","v":2},{"$f":"SUM(AUT_leg:POR_leg!F82)","v":2},{"$f":"SUM(AUT_leg:POR_leg!G82)","v":2},{"$f":"SUM(AUT_leg:POR_leg!H82)","v":2},{"$f":"SUM(AUT_leg:POR_leg!I82)","v":4},{"$f":"SUM(AUT_leg:POR_leg!J82)","v":3},{"$f":"SUM(AUT_leg:POR_leg!K82)","v":2},{"$f":"SUM(AUT_leg:POR_leg!L82)","v":2},{"$f":"SUM(AUT_leg:POR_leg!M82)","v":0},{"$f":"SUM(AUT_leg:POR_leg!N82)","v":-1},{"$f":"SUM(AUT_leg:POR_leg!O82)","v":2},{"$f":"SUM(AUT_leg:POR_leg!P82)","v":5},{"$f":"SUM(AUT_leg:POR_leg!Q82)","v":3},{"$f":"SUM(AUT_leg:POR_leg!R82)","v":2},{"$f":"SUM(AUT_leg:POR_leg!S82)","v":-1},{"$f":"SUM(AUT_leg:POR_leg!T82)","v":1},{"$f":"SUM(AUT_leg:POR_leg!U82)","v":4},{"$f":"SUM(AUT_leg:POR_leg!V82)","v":4},{"$f":"SUM(AUT_leg:POR_leg!W82)","v":4},{"$f":"SUM(AUT_leg:POR_leg!X82)","v":0},{"$f":"SUM(AUT_leg:POR_leg!Y82)","v":0},{"$f":"SUM(AUT_leg:POR_leg!Z82)","v":4},{"$f":"SUM(AUT_leg:POR_leg!AA82)","v":3},{"$f":"SUM(AUT_leg:POR_leg!AB82)","v":3},{"$f":"SUM(AUT_leg:POR_leg!AC82)","v":5},{"$f":"SUM(AUT_leg:POR_leg!AD82)","v":2},{"$f":"SUM(AUT_leg:POR_leg!AE82)","v":3},{"$f":"SUM(AUT_leg:POR_leg!AF82)","v":2},{"$f":"SUM(AUT_leg:POR_leg!AG82)","v":3},{"$f":"SUM(AUT_leg:POR_leg!AH82)","v":4},{"$f":"SUM(AUT_leg:POR_leg!AI82)","v":2},{"$f":"SUM(AUT_leg:POR_leg!AJ82)","v":2},{"$f":"SUM(AUT_leg:POR_leg!AK82)","v":2},{"$f":"SUM(AUT_leg:POR_leg!AL82)","v":4},{"$f":"SUM(AUT_leg:POR_leg!AM82)","v":5},{"$f":"SUM(AUT_leg:POR_leg!AN82)","v":3},{"$f":"SUM(AUT_leg:POR_leg!AO82)","v":2},{"$f":"SUM(AUT_leg:POR_leg!AP82)","v":2},{"$f":"SUM(AUT_leg:POR_leg!AQ82)","v":2},{"$f":"SUM(AUT_leg:POR_leg!AR82)","v":3},{"$f":"SUM(AUT_leg:POR_leg!AS82)","v":2},{"$f":"SUM(AUT_leg:POR_leg!AT82)","v":1},{"$f":"SUM(AUT_leg:POR_leg!AU82)","v":2},{"$f":"SUM(AUT_leg:POR_leg!AV82)","v":2},{"$f":"SUM(AUT_leg:POR_leg!AW82)","v":3},{"$f":"SUM(AUT_leg:POR_leg!AX82)","v":3},{"$f":"SUM(AUT_leg:POR_leg!AY82)","v":4},{"$f":"SUM(AUT_leg:POR_leg!AZ82)","v":3},{"$f":"SUM(AUT_leg:POR_leg!BA82)","v":3},{"$f":"SUM(AUT_leg:POR_leg!BB82)","v":2},126,0.30882352941176472]
[null,"Production line",{"$f":"Sheet1!O255","v":"Waste heat recovery "},{"$f":"SUM(AUT_leg:POR_leg!D83)","v":0},{"$f":"SUM(AUT_leg:POR_leg!E83)","v":2},{"$f":"SUM(AUT_leg:POR_leg!F83)","v":0},{"$f":"SUM(AUT_leg:POR_leg!G83)","v":0},{"$f":"SUM(AUT_leg:POR_leg!H83)","v":-1},{"$f":"SUM(AUT_leg:POR_leg!I83)","v":2},{"$f":"SUM(AUT_leg:POR_leg!J83)","v":1},{"$f":"SUM(AUT_leg:POR_leg!K83)","v":0},{"$f":"SUM(AUT_leg:POR_leg!L83)","v":0},{"$f":"SUM(AUT_leg:POR_leg!M83)","v":0},{"$f":"SUM(AUT_leg:POR_leg!N83)","v":-1},{"$f":"SUM(AUT_leg:POR_leg!O83)","v":-1},{"$f":"SUM(AUT_leg:POR_leg!P83)","v":6},{"$f":"SUM(AUT_leg:POR_leg!Q83)","v":4},{"$f":"SUM(AUT_leg:POR_leg!R83)","v":4},{"$f":"SUM(AUT_leg:POR_leg!S83)","v":-1},{"$f":"SUM(AUT_leg:POR_leg!T83)","v":1},{"$f":"SUM(AUT_leg:POR_leg!U83)","v":4},{"$f":"SUM(AUT_leg:POR_leg!V83)","v":1},{"$f":"SUM(AUT_leg:POR_leg!W83)","v":5},{"$f":"SUM(AUT_leg:POR_leg!X83)","v":0},{"$f":"SUM(AUT_leg:POR_leg!Y83)","v":0},{"$f":"SUM(AUT_leg:POR_leg!Z83)","v":4},{"$f":"SUM(AUT_leg:POR_leg!AA83)","v":3},{"$f":"SUM(AUT_leg:POR_leg!AB83)","v":3},{"$f":"SUM(AUT_leg:POR_leg!AC83)","v":6},{"$f":"SUM(AUT_leg:POR_leg!AD83)","v":2},{"$f":"SUM(AUT_leg:POR_leg!AE83)","v":2},{"$f":"SUM(AUT_leg:POR_leg!AF83)","v":2},{"$f":"SUM(AUT_leg:POR_leg!AG83)","v":4},{"$f":"SUM(AUT_leg:POR_leg!AH83)","v":4},{"$f":"SUM(AUT_leg:POR_leg!AI83)","v":4},{"$f":"SUM(AUT_leg:POR_leg!AJ83)","v":2},{"$f":"SUM(AUT_leg:POR_leg!AK83)","v":2},{"$f":"SUM(AUT_leg:POR_leg!AL83)","v":4},{"$f":"SUM(AUT_leg:POR_leg!AM83)","v":6},{"$f":"SUM(AUT_leg:POR_leg!AN83)","v":5},{"$f":"SUM(AUT_leg:POR_leg!AO83)","v":2},{"$f":"SUM(AUT_leg:POR_leg!AP83)","v":2},{"$f":"SUM(AUT_leg:POR_leg!AQ83)","v":1},{"$f":"SUM(AUT_leg:POR_leg!AR83)","v":2},{"$f":"SUM(AUT_leg:POR_leg!AS83)","v":1},{"$f":"SUM(AUT_leg:POR_leg!AT83)","v":1},{"$f":"SUM(AUT_leg:POR_leg!AU83)","v":1},{"$f":"SUM(AUT_leg:POR_leg!AV83)","v":1},{"$f":"SUM(AUT_leg:POR_leg!AW83)","v":3},{"$f":"SUM(AUT_leg:POR_leg!AX83)","v":3},{"$f":"SUM(AUT_leg:POR_leg!AY83)","v":2},{"$f":"SUM(AUT_leg:POR_leg!AZ83)","v":3},{"$f":"SUM(AUT_leg:POR_leg!BA83)","v":2},{"$f":"SUM(AUT_leg:POR_leg!BB83)","v":1},104,0.25490196078431371]
[null,"Production line",{"$f":"Sheet1!O256","v":"Low-carbon packaging "},{"$f":"SUM(AUT_leg:POR_leg!D84)","v":1},{"$f":"SUM(AUT_leg:POR_leg!E84)","v":2},{"$f":"SUM(AUT_leg:POR_leg!F84)","v":1},{"$f":"SUM(AUT_leg:POR_leg!G84)","v":1},{"$f":"SUM(AUT_leg:POR_leg!H84)","v":0},{"$f":"SUM(AUT_leg:POR_leg!I84)","v":3},{"$f":"SUM(AUT_leg:POR_leg!J84)","v":1},{"$f":"SUM(AUT_leg:POR_leg!K84)","v":1},{"$f":"SUM(AUT_leg:POR_leg!L84)","v":1},{"$f":"SUM(AUT_leg:POR_leg!M84)","v":-1},{"$f":"SUM(AUT_leg:POR_leg!N84)","v":-1},{"$f":"SUM(AUT_leg:POR_leg!O84)","v":-1},{"$f":"SUM(AUT_leg:POR_leg!P84)","v":5},{"$f":"SUM(AUT_leg:POR_leg!Q84)","v":3},{"$f":"SUM(AUT_leg:POR_leg!R84)","v":3},{"$f":"SUM(AUT_leg:POR_leg!S84)","v":-1},{"$f":"SUM(AUT_leg:POR_leg!T84)","v":3},{"$f":"SUM(AUT_leg:POR_leg!U84)","v":3},{"$f":"SUM(AUT_leg:POR_leg!V84)","v":1},{"$f":"SUM(AUT_leg:POR_leg!W84)","v":4},{"$f":"SUM(AUT_leg:POR_leg!X84)","v":0},{"$f":"SUM(AUT_leg:POR_leg!Y84)","v":3},{"$f":"SUM(AUT_leg:POR_leg!Z84)","v":4},{"$f":"SUM(AUT_leg:POR_leg!AA84)","v":5},{"$f":"SUM(AUT_leg:POR_leg!AB84)","v":3},{"$f":"SUM(AUT_leg:POR_leg!AC84)","v":6},{"$f":"SUM(AUT_leg:POR_leg!AD84)","v":2},{"$f":"SUM(AUT_leg:POR_leg!AE84)","v":2},{"$f":"SUM(AUT_leg:POR_leg!AF84)","v":1},{"$f":"SUM(AUT_leg:POR_leg!AG84)","v":2},{"$f":"SUM(AUT_leg:POR_leg!AH84)","v":4},{"$f":"SUM(AUT_leg:POR_leg!AI84)","v":2},{"$f":"SUM(AUT_leg:POR_leg!AJ84)","v":2},{"$f":"SUM(AUT_leg:POR_leg!AK84)","v":2},{"$f":"SUM(AUT_leg:POR_leg!AL84)","v":3},{"$f":"SUM(AUT_leg:POR_leg!AM84)","v":5},{"$f":"SUM(AUT_leg:POR_leg!AN84)","v":3},{"$f":"SUM(AUT_leg:POR_leg!AO84)","v":2},{"$f":"SUM(AUT_leg:POR_leg!AP84)","v":2},{"$f":"SUM(AUT_leg:POR_leg!AQ84)","v":1},{"$f":"SUM(AUT_leg:POR_leg!AR84)","v":2},{"$f":"SUM(AUT_leg:POR_leg!AS84)","v":1},{"$f":"SUM(AUT_leg:POR_leg!AT84)","v":1},{"$f":"SUM(AUT_leg:POR_leg!AU84)","v":1},{"$f":"SUM(AUT_leg:POR_leg!AV84)","v":1},{"$f":"SUM(AUT_leg:POR_leg!AW84)","v":4},{"$f":"SUM(AUT_leg:POR_leg!AX84)","v":3},{"$f":"SUM(AUT_leg:POR_leg!AY84)","v":2},{"$f":"SUM(AUT_leg:POR_leg!AZ84)","v":1},{"$f":"SUM(AUT_leg:POR_leg!BA84)","v":1},{"$f":"SUM(AUT_leg:POR_leg!BB84)","v":1},101,0.24754901960784315]
["Transport","Transport of goods",{"$f":"Sheet1!O258","v":"Optimisation of timetables"},{"$f":"SUM(AUT_leg:POR_leg!D85)","v":4},{"$f":"SUM(AUT_leg:POR_leg!E85)","v":2},{"$f":"SUM(AUT_leg:POR_leg!F85)","v":3},{"$f":"SUM(AUT_leg:POR_leg!G85)","v":1},{"$f":"SUM(AUT_leg:POR_leg!H85)","v":2},{"$f":"SUM(AUT_leg:POR_leg!I85)","v":5},{"$f":"SUM(AUT_leg:POR_leg!J85)","v":1},{"$f":"SUM(AUT_leg:POR_leg!K85)","v":2},{"$f":"SUM(AUT_leg:POR_leg!L85)","v":2},{"$f":"SUM(AUT_leg:POR_leg!M85)","v":0},{"$f":"SUM(AUT_leg:POR_leg!N85)","v":-1},{"$f":"SUM(AUT_leg:POR_leg!O85)","v":0},{"$f":"SUM(AUT_leg:POR_leg!P85)","v":5},{"$f":"SUM(AUT_leg:POR_leg!Q85)","v":4},{"$f":"SUM(AUT_leg:POR_leg!R85)","v":3},{"$f":"SUM(AUT_leg:POR_leg!S85)","v":-1},{"$f":"SUM(AUT_leg:POR_leg!T85)","v":1},{"$f":"SUM(AUT_leg:POR_leg!U85)","v":4},{"$f":"SUM(AUT_leg:POR_leg!V85)","v":3},{"$f":"SUM(AUT_leg:POR_leg!W85)","v":4},{"$f":"SUM(AUT_leg:POR_leg!X85)","v":0},{"$f":"SUM(AUT_leg:POR_leg!Y85)","v":0},{"$f":"SUM(AUT_leg:POR_leg!Z85)","v":5},{"$f":"SUM(AUT_leg:POR_leg!AA85)","v":3},{"$f":"SUM(AUT_leg:POR_leg!AB85)","v":4},{"$f":"SUM(AUT_leg:POR_leg!AC85)","v":6},{"$f":"SUM(AUT_leg:POR_leg!AD85)","v":1},{"$f":"SUM(AUT_leg:POR_leg!AE85)","v":2},{"$f":"SUM(AUT_leg:POR_leg!AF85)","v":1},{"$f":"SUM(AUT_leg:POR_leg!AG85)","v":4},{"$f":"SUM(AUT_leg:POR_leg!AH85)","v":4},{"$f":"SUM(AUT_leg:POR_leg!AI85)","v":2},{"$f":"SUM(AUT_leg:POR_leg!AJ85)","v":2},{"$f":"SUM(AUT_leg:POR_leg!AK85)","v":2},{"$f":"SUM(AUT_leg:POR_leg!AL85)","v":3},{"$f":"SUM(AUT_leg:POR_leg!AM85)","v":7},{"$f":"SUM(AUT_leg:POR_leg!AN85)","v":4},{"$f":"SUM(AUT_leg:POR_leg!AO85)","v":2},{"$f":"SUM(AUT_leg:POR_leg!AP85)","v":2},{"$f":"SUM(AUT_leg:POR_leg!AQ85)","v":1},{"$f":"SUM(AUT_leg:POR_leg!AR85)","v":2},{"$f":"SUM(AUT_leg:POR_leg!AS85)","v":1},{"$f":"SUM(AUT_leg:POR_leg!AT85)","v":2},{"$f":"SUM(AUT_leg:POR_leg!AU85)","v":1},{"$f":"SUM(AUT_leg:POR_leg!AV85)","v":1},{"$f":"SUM(AUT_leg:POR_leg!AW85)","v":1},{"$f":"SUM(AUT_leg:POR_leg!AX85)","v":3},{"$f":"SUM(AUT_leg:POR_leg!AY85)","v":2},{"$f":"SUM(AUT_leg:POR_leg!AZ85)","v":5},{"$f":"SUM(AUT_leg:POR_leg!BA85)","v":2},{"$f":"SUM(AUT_leg:POR_leg!BB85)","v":1},120,0.29411764705882354]
[null,"Transport of goods",{"$f":"Sheet1!O259","v":"Optimisation of routes"},{"$f":"SUM(AUT_leg:POR_leg!D86)","v":4},{"$f":"SUM(AUT_leg:POR_leg!E86)","v":2},{"$f":"SUM(AUT_leg:POR_leg!F86)","v":3},{"$f":"SUM(AUT_leg:POR_leg!G86)","v":1},{"$f":"SUM(AUT_leg:POR_leg!H86)","v":2},{"$f":"SUM(AUT_leg:POR_leg!I86)","v":5},{"$f":"SUM(AUT_leg:POR_leg!J86)","v":1},{"$f":"SUM(AUT_leg:POR_leg!K86)","v":2},{"$f":"SUM(AUT_leg:POR_leg!L86)","v":2},{"$f":"SUM(AUT_leg:POR_leg!M86)","v":0},{"$f":"SUM(AUT_leg:POR_leg!N86)","v":-1},{"$f":"SUM(AUT_leg:POR_leg!O86)","v":0},{"$f":"SUM(AUT_leg:POR_leg!P86)","v":5},{"$f":"SUM(AUT_leg:POR_leg!Q86)","v":3},{"$f":"SUM(AUT_leg:POR_leg!R86)","v":3},{"$f":"SUM(AUT_leg:POR_leg!S86)","v":-1},{"$f":"SUM(AUT_leg:POR_leg!T86)","v":1},{"$f":"SUM(AUT_leg:POR_leg!U86)","v":4},{"$f":"SUM(AUT_leg:POR_leg!V86)","v":3},{"$f":"SUM(AUT_leg:POR_leg!W86)","v":4},{"$f":"SUM(AUT_leg:POR_leg!X86)","v":0},{"$f":"SUM(AUT_leg:POR_leg!Y86)","v":0},{"$f":"SUM(AUT_leg:POR_leg!Z86)","v":4},{"$f":"SUM(AUT_leg:POR_leg!AA86)","v":3},{"$f":"SUM(AUT_leg:POR_leg!AB86)","v":4},{"$f":"SUM(AUT_leg:POR_leg!AC86)","v":6},{"$f":"SUM(AUT_leg:POR_leg!AD86)","v":1},{"$f":"SUM(AUT_leg:POR_leg!AE86)","v":2},{"$f":"SUM(AUT_leg:POR_leg!AF86)","v":1},{"$f":"SUM(AUT_leg:POR_leg!AG86)","v":4},{"$f":"SUM(AUT_leg:POR_leg!AH86)","v":4},{"$f":"SUM(AUT_leg:POR_leg!AI86)","v":2},{"$f":"SUM(AUT_leg:POR_leg!AJ86)","v":2},{"$f":"SUM(AUT_leg:POR_leg!AK86)","v":2},{"$f":"SUM(AUT_leg:POR_leg!AL86)","v":3},{"$f":"SUM(AUT_leg:POR_leg!AM86)","v":7},{"$f":"SUM(AUT_leg:POR_leg!AN86)","v":4},{"$f":"SUM(AUT_leg:POR_leg!AO86)","v":2},{"$f":"SUM(AUT_leg:POR_leg!AP86)","v":2},{"$f":"SUM(AUT_leg:POR_leg!AQ86)","v":1},{"$f":"SUM(AUT_leg:POR_leg!AR86)","v":2},{"$f":"SUM(AUT_leg:POR_leg!AS86)","v":2},{"$f":"SUM(AUT_leg:POR_leg!AT86)","v":1},{"$f":"SUM(AUT_leg:POR_leg!AU86)","v":1},{"$f":"SUM(AUT_leg:POR_leg!AV86)","v":1},{"$f":"SUM(AUT_leg:POR_leg!AW86)","v":1},{"$f":"SUM(AUT_leg:POR_leg!AX86)","v":3},{"$f":"SUM(AUT_leg:POR_leg!AY86)","v":2},{"$f":"SUM(AUT_leg:POR_leg!AZ86)","v":2},{"$f":"SUM(AUT_leg:POR_leg!BA86)","v":2},{"$f":"SUM(AUT_leg:POR_leg!BB86)","v":1},115,0.28186274509803921]
[null,"Transport of goods",{"$f":"Sheet1!O260","v":"Optimisation of loads"},{"$f":"SUM(AUT_leg:POR_leg!D87)","v":3},{"$f":"SUM(AUT_leg:POR_leg!E87)","v":2},{"$f":"SUM(AUT_leg:POR_leg!F87)","v":3},{"$f":"SUM(AUT_leg:POR_leg!G87)","v":1},{"$f":"SUM(AUT_leg:POR_leg!H87)","v":2},{"$f":"SUM(AUT_leg:POR_leg!I87)","v":4},{"$f":"SUM(AUT_leg:POR_leg!J87)","v":1},{"$f":"SUM(AUT_leg:POR_leg!K87)","v":2},{"$f":"SUM(AUT_leg:POR_leg!L87)","v":2},{"$f":"SUM(AUT_leg:POR_leg!M87)","v":0},{"$f":"SUM(AUT_leg:POR_leg!N87)","v":-1},{"$f":"SUM(AUT_leg:POR_leg!O87)","v":0},{"$f":"SUM(AUT_leg:POR_leg!P87)","v":5},{"$f":"SUM(AUT_leg:POR_leg!Q87)","v":3},{"$f":"SUM(AUT_leg:POR_leg!R87)","v":3},{"$f":"SUM(AUT_leg:POR_leg!S87)","v":-1},{"$f":"SUM(AUT_leg:POR_leg!T87)","v":1},{"$f":"SUM(AUT_leg:POR_leg!U87)","v":4},{"$f":"SUM(AUT_leg:POR_leg!V87)","v":3},{"$f":"SUM(AUT_leg:POR_leg!W87)","v":4},{"$f":"SUM(AUT_leg:POR_leg!X87)","v":0},{"$f":"SUM(AUT_leg:POR_leg!Y87)","v":0},{"$f":"SUM(AUT_leg:POR_leg!Z87)","v":5},{"$f":"SUM(AUT_leg:POR_leg!AA87)","v":3},{"$f":"SUM(AUT_leg:POR_leg!AB87)","v":4},{"$f":"SUM(AUT_leg:POR_leg!AC87)","v":6},{"$f":"SUM(AUT_leg:POR_leg!AD87)","v":1},{"$f":"SUM(AUT_leg:POR_leg!AE87)","v":2},{"$f":"SUM(AUT_leg:POR_leg!AF87)","v":1},{"$f":"SUM(AUT_leg:POR_leg!AG87)","v":4},{"$f":"SUM(AUT_leg:POR_leg!AH87)","v":4},{"$f":"SUM(AUT_leg:POR_leg!AI87)","v":2},{"$f":"SUM(AUT_leg:POR_leg!AJ87)","v":2},{"$f":"SUM(AUT_leg:POR_leg!AK87)","v":2},{"$f":"SUM(AUT_leg:POR_leg!AL87)","v":3},{"$f":"SUM(AUT_leg:POR_leg!AM87)","v":7},{"$f":"SUM(AUT_leg:POR_leg!AN87)","v":4},{"$f":"SUM(AUT_leg:POR_leg!AO87)","v":2},{"$f":"SUM(AUT_leg:POR_leg!AP87)","v":2},{"$f":"SUM(AUT_leg:POR_leg!AQ87)","v":1},{"$f":"SUM(AUT_leg:POR_leg!AR87)","v":2},{"$f":"SUM(AUT_leg:POR_leg!AS87)","v":1},{"$f":"SUM(AUT_leg:POR_leg!AT87)","v":1},{"$f":"SUM(AUT_leg:POR_leg!AU87)","v":1},{"$f":"SUM(AUT_leg:POR_leg!AV87)","v":1},{"$f":"SUM(AUT_leg:POR_leg!AW87)","v":1},{"$f":"SUM(AUT_leg:POR_leg!AX87)","v":3},{"$f":"SUM(AUT_leg:POR_leg!AY87)","v":2},{"$f":"SUM(AUT_leg:POR_leg!AZ87)","v":3},{"$f":"SUM(AUT_leg:POR_leg!BA87)","v":2},{"$f":"SUM(AUT_leg:POR_leg!BB87)","v":1},114,0.27941176470588236]
[null,"Transport of goods",{"$f":"Sheet1!O261","v":"Optimisation of the fleet"},{"$f":"SUM(AUT_leg:POR_leg!D88)","v":3},{"$f":"SUM(AUT_leg:POR_leg!E88)","v":2},{"$f":"SUM(AUT_leg:POR_leg!F88)","v":2},{"$f":"SUM(AUT_leg:POR_leg!G88)","v":1},{"$f":"SUM(AUT_leg:POR_leg!H88)","v":2},{"$f":"SUM(AUT_leg:POR_leg!I88)","v":4},{"$f":"SUM(AUT_leg:POR_leg!J88)","v":1},{"$f":"SUM(AUT_leg:POR_leg!K88)","v":2},{"$f":"SUM(AUT_leg:POR_leg!L88)","v":2},{"$f":"SUM(AUT_leg:POR_leg!M88)","v":0},{"$f":"SUM(AUT_leg:POR_leg!N88)","v":-1},{"$f":"SUM(AUT_leg:POR_leg!O88)","v":0},{"$f":"SUM(AUT_leg:POR_leg!P88)","v":5},{"$f":"SUM(AUT_leg:POR_leg!Q88)","v":3},{"$f":"SUM(AUT_leg:POR_leg!R88)","v":3},{"$f":"SUM(AUT_leg:POR_leg!S88)","v":-1},{"$f":"SUM(AUT_leg:POR_leg!T88)","v":1},{"$f":"SUM(AUT_leg:POR_leg!U88)","v":4},{"$f":"SUM(AUT_leg:POR_leg!V88)","v":2},{"$f":"SUM(AUT_leg:POR_leg!W88)","v":4},{"$f":"SUM(AUT_leg:POR_leg!X88)","v":0},{"$f":"SUM(AUT_leg:POR_leg!Y88)","v":0},{"$f":"SUM(AUT_leg:POR_leg!Z88)","v":5},{"$f":"SUM(AUT_leg:POR_leg!AA88)","v":3},{"$f":"SUM(AUT_leg:POR_leg!AB88)","v":4},{"$f":"SUM(AUT_leg:POR_leg!AC88)","v":6},{"$f":"SUM(AUT_leg:POR_leg!AD88)","v":1},{"$f":"SUM(AUT_leg:POR_leg!AE88)","v":2},{"$f":"SUM(AUT_leg:POR_leg!AF88)","v":1},{"$f":"SUM(AUT_leg:POR_leg!AG88)","v":4},{"$f":"SUM(AUT_leg:POR_leg!AH88)","v":4},{"$f":"SUM(AUT_leg:POR_leg!AI88)","v":2},{"$f":"SUM(AUT_leg:POR_leg!AJ88)","v":2},{"$f":"SUM(AUT_leg:POR_leg!AK88)","v":2},{"$f":"SUM(AUT_leg:POR_leg!AL88)","v":3},{"$f":"SUM(AUT_leg:POR_leg!AM88)","v":7},{"$f":"SUM(AUT_leg:POR_leg!AN88)","v":4},{"$f":"SUM(AUT_leg:POR_leg!AO88)","v":2},{"$f":"SUM(AUT_leg:POR_leg!AP88)","v":2},{"$f":"SUM(AUT_leg:POR_leg!AQ88)","v":2},{"$f":"SUM(AUT_leg:POR_leg!AR88)","v":2},{"$f":"SUM(AUT_leg:POR_leg!AS88)","v":1},{"$f":"SUM(AUT_leg:POR_leg!AT88)","v":1},{"$f":"SUM(AUT_leg:POR_leg!AU88)","v":1},{"$f":"SUM(AUT_leg:POR_leg!AV88)","v":1},{"$f":"SUM(AUT_leg:POR_leg!AW88)","v":1},{"$f":"SUM(AUT_leg:POR_leg!AX88)","v":3},{"$f":"SUM(AUT_leg:POR_leg!AY88)","v":2},{"$f":"SUM(AUT_leg:POR_leg!AZ88)","v":3},{"$f":"SUM(AUT_leg:POR_leg!BA88)","v":2},{"$f":"SUM(AUT_leg:POR_leg!BB88)","v":1},113,0.27696078431372551]
[null,"Transport of goods",{"$f":"Sheet1!O262","v":"Promote electromobility"},{"$f":"SUM(AUT_leg:POR_leg!D89)","v":3},{"$f":"SUM(AUT_leg:POR_leg!E89)","v":2},{"$f":"SUM(AUT_leg:POR_leg!F89)","v":2},{"$f":"SUM(AUT_leg:POR_leg!G89)","v":1},{"$f":"SUM(AUT_leg:POR_leg!H89)","v":2},{"$f":"SUM(AUT_leg:POR_leg!I89)","v":4},{"$f":"SUM(AUT_leg:POR_leg!J89)","v":1},{"$f":"SUM(AUT_leg:POR_leg!K89)","v":2},{"$f":"SUM(AUT_leg:POR_leg!L89)","v":2},{"$f":"SUM(AUT_leg:POR_leg!M89)","v":1},{"$f":"SUM(AUT_leg:POR_leg!N89)","v":-1},{"$f":"SUM(AUT_leg:POR_leg!O89)","v":0},{"$f":"SUM(AUT_leg:POR_leg!P89)","v":8},{"$f":"SUM(AUT_leg:POR_leg!Q89)","v":6},{"$f":"SUM(AUT_leg:POR_leg!R89)","v":3},{"$f":"SUM(AUT_leg:POR_leg!S89)","v":-1},{"$f":"SUM(AUT_leg:POR_leg!T89)","v":1},{"$f":"SUM(AUT_leg:POR_leg!U89)","v":6},{"$f":"SUM(AUT_leg:POR_leg!V89)","v":3},{"$f":"SUM(AUT_leg:POR_leg!W89)","v":6},{"$f":"SUM(AUT_leg:POR_leg!X89)","v":0},{"$f":"SUM(AUT_leg:POR_leg!Y89)","v":0},{"$f":"SUM(AUT_leg:POR_leg!Z89)","v":4},{"$f":"SUM(AUT_leg:POR_leg!AA89)","v":4},{"$f":"SUM(AUT_leg:POR_leg!AB89)","v":4},{"$f":"SUM(AUT_leg:POR_leg!AC89)","v":6},{"$f":"SUM(AUT_leg:POR_leg!AD89)","v":1},{"$f":"SUM(AUT_leg:POR_leg!AE89)","v":2},{"$f":"SUM(AUT_leg:POR_leg!AF89)","v":1},{"$f":"SUM(AUT_leg:POR_leg!AG89)","v":4},{"$f":"SUM(AUT_leg:POR_leg!AH89)","v":4},{"$f":"SUM(AUT_leg:POR_leg!AI89)","v":2},{"$f":"SUM(AUT_leg:POR_leg!AJ89)","v":2},{"$f":"SUM(AUT_leg:POR_leg!AK89)","v":2},{"$f":"SUM(AUT_leg:POR_leg!AL89)","v":4},{"$f":"SUM(AUT_leg:POR_leg!AM89)","v":7},{"$f":"SUM(AUT_leg:POR_leg!AN89)","v":4},{"$f":"SUM(AUT_leg:POR_leg!AO89)","v":2},{"$f":"SUM(AUT_leg:POR_leg!AP89)","v":2},{"$f":"SUM(AUT_leg:POR_leg!AQ89)","v":1},{"$f":"SUM(AUT_leg:POR_leg!AR89)","v":2},{"$f":"SUM(AUT_leg:POR_leg!AS89)","v":1},{"$f":"SUM(AUT_leg:POR_leg!AT89)","v":1},{"$f":"SUM(AUT_leg:POR_leg!AU89)","v":1},{"$f":"SUM(AUT_leg:POR_leg!AV89)","v":1},{"$f":"SUM(AUT_leg:POR_leg!AW89)","v":2},{"$f":"SUM(AUT_leg:POR_leg!AX89)","v":4},{"$f":"SUM(AUT_leg:POR_leg!AY89)","v":2},{"$f":"SUM(AUT_leg:POR_leg!AZ89)","v":3},{"$f":"SUM(AUT_leg:POR_leg!BA89)","v":1},{"$f":"SUM(AUT_leg:POR_leg!BB89)","v":1},126,0.30882352941176472]
[null,"Transport of goods",{"$f":"Sheet1!O263","v":"Promotion of modal shift for freight"},{"$f":"SUM(AUT_leg:POR_leg!D90)","v":3},{"$f":"SUM(AUT_leg:POR_leg!E90)","v":2},{"$f":"SUM(AUT_leg:POR_leg!F90)","v":2},{"$f":"SUM(AUT_leg:POR_leg!G90)","v":1},{"$f":"SUM(AUT_leg:POR_leg!H90)","v":2},{"$f":"SUM(AUT_leg:POR_leg!I90)","v":4},{"$f":"SUM(AUT_leg:POR_leg!J90)","v":1},{"$f":"SUM(AUT_leg:POR_leg!K90)","v":2},{"$f":"SUM(AUT_leg:POR_leg!L90)","v":2},{"$f":"SUM(AUT_leg:POR_leg!M90)","v":1},{"$f":"SUM(AUT_leg:POR_leg!N90)","v":-1},{"$f":"SUM(AUT_leg:POR_leg!O90)","v":0},{"$f":"SUM(AUT_leg:POR_leg!P90)","v":7},{"$f":"SUM(AUT_leg:POR_leg!Q90)","v":3},{"$f":"SUM(AUT_leg:POR_leg!R90)","v":3},{"$f":"SUM(AUT_leg:POR_leg!S90)","v":-1},{"$f":"SUM(AUT_leg:POR_leg!T90)","v":1},{"$f":"SUM(AUT_leg:POR_leg!U90)","v":5},{"$f":"SUM(AUT_leg:POR_leg!V90)","v":2},{"$f":"SUM(AUT_leg:POR_leg!W90)","v":4},{"$f":"SUM(AUT_leg:POR_leg!X90)","v":0},{"$f":"SUM(AUT_leg:POR_leg!Y90)","v":0},{"$f":"SUM(AUT_leg:POR_leg!Z90)","v":2},{"$f":"SUM(AUT_leg:POR_leg!AA90)","v":4},{"$f":"SUM(AUT_leg:POR_leg!AB90)","v":2},{"$f":"SUM(AUT_leg:POR_leg!AC90)","v":6},{"$f":"SUM(AUT_leg:POR_leg!AD90)","v":1},{"$f":"SUM(AUT_leg:POR_leg!AE90)","v":2},{"$f":"SUM(AUT_leg:POR_leg!AF90)","v":1},{"$f":"SUM(AUT_leg:POR_leg!AG90)","v":4},{"$f":"SUM(AUT_leg:POR_leg!AH90)","v":4},{"$f":"SUM(AUT_leg:POR_leg!AI90)","v":2},{"$f":"SUM(AUT_leg:POR_leg!AJ90)","v":2},{"$f":"SUM(AUT_leg:POR_leg!AK90)","v":2},{"$f":"SUM(AUT_leg:POR_leg!AL90)","v":3},{"$f":"SUM(AUT_leg:POR_leg!AM90)","v":7},{"$f":"SUM(AUT_leg:POR_leg!AN90)","v":4},{"$f":"SUM(AUT_leg:POR_leg!AO90)","v":2},{"$f":"SUM(AUT_leg:POR_leg!AP90)","v":2},{"$f":"SUM(AUT_leg:POR_leg!AQ90)","v":1},{"$f":"SUM(AUT_leg:POR_leg!AR90)","v":2},{"$f":"SUM(AUT_leg:POR_leg!AS90)","v":1},{"$f":"SUM(AUT_leg:POR_leg!AT90)","v":1},{"$f":"SUM(AUT_leg:POR_leg!AU90)","v":1},{"$f":"SUM(AUT_leg:POR_leg!AV90)","v":1},{"$f":"SUM(AUT_leg:POR_leg!AW90)","v":1},{"$f":"SUM(AUT_leg:POR_leg!AX90)","v":3},{"$f":"SUM(AUT_leg:POR_leg!AY90)","v":2},{"$f":"SUM(AUT_leg:POR_leg!AZ90)","v":1},{"$f":"SUM(AUT_leg:POR_leg!BA90)","v":2},{"$f":"SUM(AUT_leg:POR_leg!BB90)","v":2},111,0.27205882352941174]
[null,"Transport of goods",{"$f":"Sheet1!O264","v":"Regular maintenance"},{"$f":"SUM(AUT_leg:POR_leg!D91)","v":3},{"$f":"SUM(AUT_leg:POR_leg!E91)","v":2},{"$f":"SUM(AUT_leg:POR_leg!F91)","v":2},{"$f":"SUM(AUT_leg:POR_leg!G91)","v":2},{"$f":"SUM(AUT_leg:POR_leg!H91)","v":2},{"$f":"SUM(AUT_leg:POR_leg!I91)","v":4},{"$f":"SUM(AUT_leg:POR_leg!J91)","v":3},{"$f":"SUM(AUT_leg:POR_leg!K91)","v":2},{"$f":"SUM(AUT_leg:POR_leg!L91)","v":2},{"$f":"SUM(AUT_leg:POR_leg!M91)","v":0},{"$f":"SUM(AUT_leg:POR_leg!N91)","v":-1},{"$f":"SUM(AUT_leg:POR_leg!O91)","v":2},{"$f":"SUM(AUT_leg:POR_leg!P91)","v":6},{"$f":"SUM(AUT_leg:POR_leg!Q91)","v":4},{"$f":"SUM(AUT_leg:POR_leg!R91)","v":3},{"$f":"SUM(AUT_leg:POR_leg!S91)","v":-1},{"$f":"SUM(AUT_leg:POR_leg!T91)","v":1},{"$f":"SUM(AUT_leg:POR_leg!U91)","v":5},{"$f":"SUM(AUT_leg:POR_leg!V91)","v":3},{"$f":"SUM(AUT_leg:POR_leg!W91)","v":4},{"$f":"SUM(AUT_leg:POR_leg!X91)","v":0},{"$f":"SUM(AUT_leg:POR_leg!Y91)","v":0},{"$f":"SUM(AUT_leg:POR_leg!Z91)","v":4},{"$f":"SUM(AUT_leg:POR_leg!AA91)","v":3},{"$f":"SUM(AUT_leg:POR_leg!AB91)","v":3},{"$f":"SUM(AUT_leg:POR_leg!AC91)","v":6},{"$f":"SUM(AUT_leg:POR_leg!AD91)","v":1},{"$f":"SUM(AUT_leg:POR_leg!AE91)","v":2},{"$f":"SUM(AUT_leg:POR_leg!AF91)","v":2},{"$f":"SUM(AUT_leg:POR_leg!AG91)","v":4},{"$f":"SUM(AUT_leg:POR_leg!AH91)","v":4},{"$f":"SUM(AUT_leg:POR_leg!AI91)","v":2},{"$f":"SUM(AUT_leg:POR_leg!AJ91)","v":2},{"$f":"SUM(AUT_leg:POR_leg!AK91)","v":2},{"$f":"SUM(AUT_leg:POR_leg!AL91)","v":3},{"$f":"SUM(AUT_leg:POR_leg!AM91)","v":5},{"$f":"SUM(AUT_leg:POR_leg!AN91)","v":2},{"$f":"SUM(AUT_leg:POR_leg!AO91)","v":2},{"$f":"SUM(AUT_leg:POR_leg!AP91)","v":2},{"$f":"SUM(AUT_leg:POR_leg!AQ91)","v":1},{"$f":"SUM(AUT_leg:POR_leg!AR91)","v":3},{"$f":"SUM(AUT_leg:POR_leg!AS91)","v":2},{"$f":"SUM(AUT_leg:POR_leg!AT91)","v":1},{"$f":"SUM(AUT_leg:POR_leg!AU91)","v":1},{"$f":"SUM(AUT_leg:POR_leg!AV91)","v":1},{"$f":"SUM(AUT_leg:POR_leg!AW91)","v":1},{"$f":"SUM(AUT_leg:POR_leg!AX91)","v":3},{"$f":"SUM(AUT_leg:POR_leg!AY91)","v":2},{"$f":"SUM(AUT_leg:POR_leg!AZ91)","v":1},{"$f":"SUM(AUT_leg:POR_leg!BA91)","v":3},{"$f":"SUM(AUT_leg:POR_leg!BB91)","v":2},118,0.28921568627450983]
[null,"Transport of goods",{"$f":"Sheet1!O265","v":"Driver training"},{"$f":"SUM(AUT_leg:POR_leg!D92)","v":3},{"$f":"SUM(AUT_leg:POR_leg!E92)","v":2},{"$f":"SUM(AUT_leg:POR_leg!F92)","v":3},{"$f":"SUM(AUT_leg:POR_leg!G92)","v":1},{"$f":"SUM(AUT_leg:POR_leg!H92)","v":2},{"$f":"SUM(AUT_leg:POR_leg!I92)","v":4},{"$f":"SUM(AUT_leg:POR_leg!J92)","v":4},{"$f":"SUM(AUT_leg:POR_leg!K92)","v":2},{"$f":"SUM(AUT_leg:POR_leg!L92)","v":2},{"$f":"SUM(AUT_leg:POR_leg!M92)","v":0},{"$f":"SUM(AUT_leg:POR_leg!N92)","v":-1},{"$f":"SUM(AUT_leg:POR_leg!O92)","v":1},{"$f":"SUM(AUT_leg:POR_leg!P92)","v":5},{"$f":"SUM(AUT_leg:POR_leg!Q92)","v":3},{"$f":"SUM(AUT_leg:POR_leg!R92)","v":3},{"$f":"SUM(AUT_leg:POR_leg!S92)","v":-1},{"$f":"SUM(AUT_leg:POR_leg!T92)","v":1},{"$f":"SUM(AUT_leg:POR_leg!U92)","v":4},{"$f":"SUM(AUT_leg:POR_leg!V92)","v":2},{"$f":"SUM(AUT_leg:POR_leg!W92)","v":4},{"$f":"SUM(AUT_leg:POR_leg!X92)","v":1},{"$f":"SUM(AUT_leg:POR_leg!Y92)","v":0},{"$f":"SUM(AUT_leg:POR_leg!Z92)","v":5},{"$f":"SUM(AUT_leg:POR_leg!AA92)","v":2},{"$f":"SUM(AUT_leg:POR_leg!AB92)","v":4},{"$f":"SUM(AUT_leg:POR_leg!AC92)","v":6},{"$f":"SUM(AUT_leg:POR_leg!AD92)","v":1},{"$f":"SUM(AUT_leg:POR_leg!AE92)","v":2},{"$f":"SUM(AUT_leg:POR_leg!AF92)","v":1},{"$f":"SUM(AUT_leg:POR_leg!AG92)","v":4},{"$f":"SUM(AUT_leg:POR_leg!AH92)","v":4},{"$f":"SUM(AUT_leg:POR_leg!AI92)","v":2},{"$f":"SUM(AUT_leg:POR_leg!AJ92)","v":2},{"$f":"SUM(AUT_leg:POR_leg!AK92)","v":2},{"$f":"SUM(AUT_leg:POR_leg!AL92)","v":3},{"$f":"SUM(AUT_leg:POR_leg!AM92)","v":7},{"$f":"SUM(AUT_leg:POR_leg!AN92)","v":4},{"$f":"SUM(AUT_leg:POR_leg!AO92)","v":2},{"$f":"SUM(AUT_leg:POR_leg!AP92)","v":2},{"$f":"SUM(AUT_leg:POR_leg!AQ92)","v":2},{"$f":"SUM(AUT_leg:POR_leg!AR92)","v":2},{"$f":"SUM(AUT_leg:POR_leg!AS92)","v":3},{"$f":"SUM(AUT_leg:POR_leg!AT92)","v":1},{"$f":"SUM(AUT_leg:POR_leg!AU92)","v":1},{"$f":"SUM(AUT_leg:POR_leg!AV92)","v":1},{"$f":"SUM(AUT_leg:POR_leg!AW92)","v":1},{"$f":"SUM(AUT_leg:POR_leg!AX92)","v":3},{"$f":"SUM(AUT_leg:POR_leg!AY92)","v":2},{"$f":"SUM(AUT_leg:POR_leg!AZ92)","v":5},{"$f":"SUM(AUT_leg:POR_leg!BA92)","v":1},{"$f":"SUM(AUT_leg:POR_leg!BB92)","v":2},122,0.29901960784313725]
["Management & Maintenance measures","Management & Maintenance measures",{"$f":"Sheet1!O267","v":"Green supply chain management"},{"$f":"SUM(AUT_leg:POR_leg!D93)","v":3},{"$f":"SUM(AUT_leg:POR_leg!E93)","v":2},{"$f":"SUM(AUT_leg:POR_leg!F93)","v":2},{"$f":"SUM(AUT_leg:POR_leg!G93)","v":3},{"$f":"SUM(AUT_leg:POR_leg!H93)","v":3},{"$f":"SUM(AUT_leg:POR_leg!I93)","v":2},{"$f":"SUM(AUT_leg:POR_leg!J93)","v":0},{"$f":"SUM(AUT_leg:POR_leg!K93)","v":2},{"$f":"SUM(AUT_leg:POR_leg!L93)","v":2},{"$f":"SUM(AUT_leg:POR_leg!M93)","v":0},{"$f":"SUM(AUT_leg:POR_leg!N93)","v":-1},{"$f":"SUM(AUT_leg:POR_leg!O93)","v":-1},{"$f":"SUM(AUT_leg:POR_leg!P93)","v":6},{"$f":"SUM(AUT_leg:POR_leg!Q93)","v":3},{"$f":"SUM(AUT_leg:POR_leg!R93)","v":4},{"$f":"SUM(AUT_leg:POR_leg!S93)","v":0},{"$f":"SUM(AUT_leg:POR_leg!T93)","v":2},{"$f":"SUM(AUT_leg:POR_leg!U93)","v":6},{"$f":"SUM(AUT_leg:POR_leg!V93)","v":2},{"$f":"SUM(AUT_leg:POR_leg!W93)","v":4},{"$f":"SUM(AUT_leg:POR_leg!X93)","v":1},{"$f":"SUM(AUT_leg:POR_leg!Y93)","v":3},{"$f":"SUM(AUT_leg:POR_leg!Z93)","v":5},{"$f":"SUM(AUT_leg:POR_leg!AA93)","v":4},{"$f":"SUM(AUT_leg:POR_leg!AB93)","v":4},{"$f":"SUM(AUT_leg:POR_leg!AC93)","v":6},{"$f":"SUM(AUT_leg:POR_leg!AD93)","v":2},{"$f":"SUM(AUT_leg:POR_leg!AE93)","v":1},{"$f":"SUM(AUT_leg:POR_leg!AF93)","v":2},{"$f":"SUM(AUT_leg:POR_leg!AG93)","v":5},{"$f":"SUM(AUT_leg:POR_leg!AH93)","v":4},{"$f":"SUM(AUT_leg:POR_leg!AI93)","v":4},{"$f":"SUM(AUT_leg:POR_leg!AJ93)","v":4},{"$f":"SUM(AUT_leg:POR_leg!AK93)","v":2},{"$f":"SUM(AUT_leg:POR_leg!AL93)","v":3},{"$f":"SUM(AUT_leg:POR_leg!AM93)","v":5},{"$f":"SUM(AUT_leg:POR_leg!AN93)","v":3},{"$f":"SUM(AUT_leg:POR_leg!AO93)","v":2},{"$f":"SUM(AUT_leg:POR_leg!AP93)","v":2},{"$f":"SUM(AUT_leg:POR_leg!AQ93)","v":2},{"$f":"SUM(AUT_leg:POR_leg!AR93)","v":2},{"$f":"SUM(AUT_leg:POR_leg!AS93)","v":1},{"$f":"SUM(AUT_leg:POR_leg!AT93)","v":1},{"$f":"SUM(AUT_leg:POR_leg!AU93)","v":1},{"$f":"SUM(AUT_leg:POR_leg!AV93)","v":1},{"$f":"SUM(AUT_leg:POR_leg!AW93)","v":4},{"$f":"SUM(AUT_leg:POR_leg!AX93)","v":3},{"$f":"SUM(AUT_leg:POR_leg!AY93)","v":2},{"$f":"SUM(AUT_leg:POR_leg!AZ93)","v":3},{"$f":"SUM(AUT_leg:POR_leg!BA93)","v":1},{"$f":"SUM(AUT_leg:POR_leg!BB93)","v":1},128,0.31372549019607843]
[null,"Management & Maintenance measures",{"$f":"Sheet1!O268","v":"Improved energy management"},{"$f":"SUM(AUT_leg:POR_leg!D94)","v":3},{"$f":"SUM(AUT_leg:POR_leg!E94)","v":2},{"$f":"SUM(AUT_leg:POR_leg!F94)","v":2},{"$f":"SUM(AUT_leg:POR_leg!G94)","v":3},{"$f":"SUM(AUT_leg:POR_leg!H94)","v":2},{"$f":"SUM(AUT_leg:POR_leg!I94)","v":4},{"$f":"SUM(AUT_leg:POR_leg!J94)","v":2},{"$f":"SUM(AUT_leg:POR_leg!K94)","v":2},{"$f":"SUM(AUT_leg:POR_leg!L94)","v":2},{"$f":"SUM(AUT_leg:POR_leg!M94)","v":0},{"$f":"SUM(AUT_leg:POR_leg!N94)","v":0},{"$f":"SUM(AUT_leg:POR_leg!O94)","v":-1},{"$f":"SUM(AUT_leg:POR_leg!P94)","v":7},{"$f":"SUM(AUT_leg:POR_leg!Q94)","v":4},{"$f":"SUM(AUT_leg:POR_leg!R94)","v":3},{"$f":"SUM(AUT_leg:POR_leg!S94)","v":1},{"$f":"SUM(AUT_leg:POR_leg!T94)","v":1},{"$f":"SUM(AUT_leg:POR_leg!U94)","v":6},{"$f":"SUM(AUT_leg:POR_leg!V94)","v":1},{"$f":"SUM(AUT_leg:POR_leg!W94)","v":5},{"$f":"SUM(AUT_leg:POR_leg!X94)","v":1},{"$f":"SUM(AUT_leg:POR_leg!Y94)","v":0},{"$f":"SUM(AUT_leg:POR_leg!Z94)","v":5},{"$f":"SUM(AUT_leg:POR_leg!AA94)","v":3},{"$f":"SUM(AUT_leg:POR_leg!AB94)","v":5},{"$f":"SUM(AUT_leg:POR_leg!AC94)","v":6},{"$f":"SUM(AUT_leg:POR_leg!AD94)","v":1},{"$f":"SUM(AUT_leg:POR_leg!AE94)","v":2},{"$f":"SUM(AUT_leg:POR_leg!AF94)","v":2},{"$f":"SUM(AUT_leg:POR_leg!AG94)","v":5},{"$f":"SUM(AUT_leg:POR_leg!AH94)","v":4},{"$f":"SUM(AUT_leg:POR_leg!AI94)","v":3},{"$f":"SUM(AUT_leg:POR_leg!AJ94)","v":4},{"$f":"SUM(AUT_leg:POR_leg!AK94)","v":2},{"$f":"SUM(AUT_leg:POR_leg!AL94)","v":4},{"$f":"SUM(AUT_leg:POR_leg!AM94)","v":6},{"$f":"SUM(AUT_leg:POR_leg!AN94)","v":5},{"$f":"SUM(AUT_leg:POR_leg!AO94)","v":2},{"$f":"SUM(AUT_leg:POR_leg!AP94)","v":2},{"$f":"SUM(AUT_leg:POR_leg!AQ94)","v":2},{"$f":"SUM(AUT_leg:POR_leg!AR94)","v":2},{"$f":"SUM(AUT_leg:POR_leg!AS94)","v":1},{"$f":"SUM(AUT_leg:POR_leg!AT94)","v":2},{"$f":"SUM(AUT_leg:POR_leg!AU94)","v":1},{"$f":"SUM(AUT_leg:POR_leg!AV94)","v":1},{"$f":"SUM(AUT_leg:POR_leg!AW94)","v":3},{"$f":"SUM(AUT_leg:POR_leg!AX94)","v":5},{"$f":"SUM(AUT_leg:POR_leg!AY94)","v":2},{"$f":"SUM(AUT_leg:POR_leg!AZ94)","v":4},{"$f":"SUM(AUT_leg:POR_leg!BA94)","v":2},{"$f":"SUM(AUT_leg:POR_leg!BB94)","v":2},138,0.33823529411764708]
[null,"Management & Maintenance measures",{"$f":"Sheet1!O269","v":"Improved environmental awareness at the management level"},{"$f":"SUM(AUT_leg:POR_leg!D95)","v":3},{"$f":"SUM(AUT_leg:POR_leg!E95)","v":2},{"$f":"SUM(AUT_leg:POR_leg!F95)","v":2},{"$f":"SUM(AUT_leg:POR_leg!G95)","v":3},{"$f":"SUM(AUT_leg:POR_leg!H95)","v":2},{"$f":"SUM(AUT_leg:POR_leg!I95)","v":3},{"$f":"SUM(AUT_leg:POR_leg!J95)","v":1},{"$f":"SUM(AUT_leg:POR_leg!K95)","v":3},{"$f":"SUM(AUT_leg:POR_leg!L95)","v":3},{"$f":"SUM(AUT_leg:POR_leg!M95)","v":1},{"$f":"SUM(AUT_leg:POR_leg!N95)","v":0},{"$f":"SUM(AUT_leg:POR_leg!O95)","v":0},{"$f":"SUM(AUT_leg:POR_leg!P95)","v":6},{"$f":"SUM(AUT_leg:POR_leg!Q95)","v":5},{"$f":"SUM(AUT_leg:POR_leg!R95)","v":3},{"$f":"SUM(AUT_leg:POR_leg!S95)","v":1},{"$f":"SUM(AUT_leg:POR_leg!T95)","v":2},{"$f":"SUM(AUT_leg:POR_leg!U95)","v":5},{"$f":"SUM(AUT_leg:POR_leg!V95)","v":1},{"$f":"SUM(AUT_leg:POR_leg!W95)","v":5},{"$f":"SUM(AUT_leg:POR_leg!X95)","v":1},{"$f":"SUM(AUT_leg:POR_leg!Y95)","v":1},{"$f":"SUM(AUT_leg:POR_leg!Z95)","v":4},{"$f":"SUM(AUT_leg:POR_leg!AA95)","v":3},{"$f":"SUM(AUT_leg:POR_leg!AB95)","v":4},{"$f":"SUM(AUT_leg:POR_leg!AC95)","v":6},{"$f":"SUM(AUT_leg:POR_leg!AD95)","v":2},{"$f":"SUM(AUT_leg:POR_leg!AE95)","v":1},{"$f":"SUM(AUT_leg:POR_leg!AF95)","v":2},{"$f":"SUM(AUT_leg:POR_leg!AG95)","v":4},{"$f":"SUM(AUT_leg:POR_leg!AH95)","v":4},{"$f":"SUM(AUT_leg:POR_leg!AI95)","v":4},{"$f":"SUM(AUT_leg:POR_leg!AJ95)","v":4},{"$f":"SUM(AUT_leg:POR_leg!AK95)","v":2},{"$f":"SUM(AUT_leg:POR_leg!AL95)","v":3},{"$f":"SUM(AUT_leg:POR_leg!AM95)","v":6},{"$f":"SUM(AUT_leg:POR_leg!AN95)","v":4},{"$f":"SUM(AUT_leg:POR_leg!AO95)","v":2},{"$f":"SUM(AUT_leg:POR_leg!AP95)","v":2},{"$f":"SUM(AUT_leg:POR_leg!AQ95)","v":2},{"$f":"SUM(AUT_leg:POR_leg!AR95)","v":2},{"$f":"SUM(AUT_leg:POR_leg!AS95)","v":1},{"$f":"SUM(AUT_leg:POR_leg!AT95)","v":2},{"$f":"SUM(AUT_leg:POR_leg!AU95)","v":1},{"$f":"SUM(AUT_leg:POR_leg!AV95)","v":1},{"$f":"SUM(AUT_leg:POR_leg!AW95)","v":3},{"$f":"SUM(AUT_leg:POR_leg!AX95)","v":4},{"$f":"SUM(AUT_leg:POR_leg!AY95)","v":2},{"$f":"SUM(AUT_leg:POR_leg!AZ95)","v":4},{"$f":"SUM(AUT_leg:POR_leg!BA95)","v":1},{"$f":"SUM(AUT_leg:POR_leg!BB95)","v":2},135,0.33088235294117646]
["Occupant behaviour","Occupant behaviour",{"$f":"Sheet1!O271","v":"Employee engagement and training"},{"$f":"SUM(AUT_leg:POR_leg!D96)","v":5},{"$f":"SUM(AUT_leg:POR_leg!E96)","v":2},{"$f":"SUM(AUT_leg:POR_leg!F96)","v":3},{"$f":"SUM(AUT_leg:POR_leg!G96)","v":2},{"$f":"SUM(AUT_leg:POR_leg!H96)","v":3},{"$f":"SUM(AUT_leg:POR_leg!I96)","v":4},{"$f":"SUM(AUT_leg:POR_leg!J96)","v":2},{"$f":"SUM(AUT_leg:POR_leg!K96)","v":3},{"$f":"SUM(AUT_leg:POR_leg!L96)","v":3},{"$f":"SUM(AUT_leg:POR_leg!M96)","v":1},{"$f":"SUM(AUT_leg:POR_leg!N96)","v":0},{"$f":"SUM(AUT_leg:POR_leg!O96)","v":3},{"$f":"SUM(AUT_leg:POR_leg!P96)","v":7},{"$f":"SUM(AUT_leg:POR_leg!Q96)","v":3},{"$f":"SUM(AUT_leg:POR_leg!R96)","v":3},{"$f":"SUM(AUT_leg:POR_leg!S96)","v":2},{"$f":"SUM(AUT_leg:POR_leg!T96)","v":2},{"$f":"SUM(AUT_leg:POR_leg!U96)","v":6},{"$f":"SUM(AUT_leg:POR_leg!V96)","v":4},{"$f":"SUM(AUT_leg:POR_leg!W96)","v":5},{"$f":"SUM(AUT_leg:POR_leg!X96)","v":1},{"$f":"SUM(AUT_leg:POR_leg!Y96)","v":1},{"$f":"SUM(AUT_leg:POR_leg!Z96)","v":5},{"$f":"SUM(AUT_leg:POR_leg!AA96)","v":3},{"$f":"SUM(AUT_leg:POR_leg!AB96)","v":4},{"$f":"SUM(AUT_leg:POR_leg!AC96)","v":6},{"$f":"SUM(AUT_leg:POR_leg!AD96)","v":2},{"$f":"SUM(AUT_leg:POR_leg!AE96)","v":2},{"$f":"SUM(AUT_leg:POR_leg!AF96)","v":2},{"$f":"SUM(AUT_leg:POR_leg!AG96)","v":5},{"$f":"SUM(AUT_leg:POR_leg!AH96)","v":4},{"$f":"SUM(AUT_leg:POR_leg!AI96)","v":4},{"$f":"SUM(AUT_leg:POR_leg!AJ96)","v":3},{"$f":"SUM(AUT_leg:POR_leg!AK96)","v":4},{"$f":"SUM(AUT_leg:POR_leg!AL96)","v":4},{"$f":"SUM(AUT_leg:POR_leg!AM96)","v":6},{"$f":"SUM(AUT_leg:POR_leg!AN96)","v":5},{"$f":"SUM(AUT_leg:POR_leg!AO96)","v":2},{"$f":"SUM(AUT_leg:POR_leg!AP96)","v":3},{"$f":"SUM(AUT_leg:POR_leg!AQ96)","v":2},{"$f":"SUM(AUT_leg:POR_leg!AR96)","v":5},{"$f":"SUM(AUT_leg:POR_leg!AS96)","v":4},{"$f":"SUM(AUT_leg:POR_leg!AT96)","v":2},{"$f":"SUM(AUT_leg:POR_leg!AU96)","v":3},{"$f":"SUM(AUT_leg:POR_leg!AV96)","v":3},{"$f":"SUM(AUT_leg:POR_leg!AW96)","v":3},{"$f":"SUM(AUT_leg:POR_leg!AX96)","v":3},{"$f":"SUM(AUT_leg:POR_leg!AY96)","v":3},{"$f":"SUM(AUT_leg:POR_leg!AZ96)","v":5},{"$f":"SUM(AUT_leg:POR_leg!BA96)","v":2},{"$f":"SUM(AUT_leg:POR_leg!BB96)","v":4},168,0.41176470588235292]
[null,"Occupant behaviour",{"$f":"Sheet1!O272","v":"Motivation"},{"$f":"SUM(AUT_leg:POR_leg!D97)","v":4},{"$f":"SUM(AUT_leg:POR_leg!E97)","v":2},{"$f":"SUM(AUT_leg:POR_leg!F97)","v":3},{"$f":"SUM(AUT_leg:POR_leg!G97)","v":2},{"$f":"SUM(AUT_leg:POR_leg!H97)","v":3},{"$f":"SUM(AUT_leg:POR_leg!I97)","v":3},{"$f":"SUM(AUT_leg:POR_leg!J97)","v":1},{"$f":"SUM(AUT_leg:POR_leg!K97)","v":3},{"$f":"SUM(AUT_leg:POR_leg!L97)","v":3},{"$f":"SUM(AUT_leg:POR_leg!M97)","v":1},{"$f":"SUM(AUT_leg:POR_leg!N97)","v":0},{"$f":"SUM(AUT_leg:POR_leg!O97)","v":3},{"$f":"SUM(AUT_leg:POR_leg!P97)","v":6},{"$f":"SUM(AUT_leg:POR_leg!Q97)","v":3},{"$f":"SUM(AUT_leg:POR_leg!R97)","v":3},{"$f":"SUM(AUT_leg:POR_leg!S97)","v":2},{"$f":"SUM(AUT_leg:POR_leg!T97)","v":2},{"$f":"SUM(AUT_leg:POR_leg!U97)","v":5},{"$f":"SUM(AUT_leg:POR_leg!V97)","v":4},{"$f":"SUM(AUT_leg:POR_leg!W97)","v":5},{"$f":"SUM(AUT_leg:POR_leg!X97)","v":1},{"$f":"SUM(AUT_leg:POR_leg!Y97)","v":1},{"$f":"SUM(AUT_leg:POR_leg!Z97)","v":4},{"$f":"SUM(AUT_leg:POR_leg!AA97)","v":3},{"$f":"SUM(AUT_leg:POR_leg!AB97)","v":4},{"$f":"SUM(AUT_leg:POR_leg!AC97)","v":6},{"$f":"SUM(AUT_leg:POR_leg!AD97)","v":2},{"$f":"SUM(AUT_leg:POR_leg!AE97)","v":3},{"$f":"SUM(AUT_leg:POR_leg!AF97)","v":2},{"$f":"SUM(AUT_leg:POR_leg!AG97)","v":5},{"$f":"SUM(AUT_leg:POR_leg!AH97)","v":4},{"$f":"SUM(AUT_leg:POR_leg!AI97)","v":4},{"$f":"SUM(AUT_leg:POR_leg!AJ97)","v":3},{"$f":"SUM(AUT_leg:POR_leg!AK97)","v":4},{"$f":"SUM(AUT_leg:POR_leg!AL97)","v":3},{"$f":"SUM(AUT_leg:POR_leg!AM97)","v":6},{"$f":"SUM(AUT_leg:POR_leg!AN97)","v":5},{"$f":"SUM(AUT_leg:POR_leg!AO97)","v":2},{"$f":"SUM(AUT_leg:POR_leg!AP97)","v":3},{"$f":"SUM(AUT_leg:POR_leg!AQ97)","v":2},{"$f":"SUM(AUT_leg:POR_leg!AR97)","v":2},{"$f":"SUM(AUT_leg:POR_leg!AS97)","v":2},{"$f":"SUM(AUT_leg:POR_leg!AT97)","v":2},{"$f":"SUM(AUT_leg:POR_leg!AU97)","v":3},{"$f":"SUM(AUT_leg:POR_leg!AV97)","v":3},{"$f":"SUM(AUT_leg:POR_leg!AW97)","v":3},{"$f":"SUM(AUT_leg:POR_leg!AX97)","v":3},{"$f":"SUM(AUT_leg:POR_leg!AY97)","v":3},{"$f":"SUM(AUT_leg:POR_leg!AZ97)","v":5},{"$f":"SUM(AUT_leg:POR_leg!BA97)","v":2},{"$f":"SUM(AUT_leg:POR_leg!BB97)","v":3},156,0.38235294117647056]
[null,null,null,{"$f":"SUM(D3:D97)","v":160},{"$f":"SUM(E3:E97)","v":321},95,14,45,301,123,123,125,46,-55,-1,545,363,278,-40,88,462,141,451,14,9,378,293,271,525,118,165,154,390,378,228,216,205,350,589,422,202,252,163,190,127,114,105,110,153,319,168,336,202,126]
[null,null,null,{"$f":"D98/(95*8)","v":0.21052631578947367},{"$f":"E98/(95*8)","v":0.42236842105263156},0.125,1.8421052631578946E-2,5.921052631578947E-2,0.39605263157894738,0.1618421052631579,0.1618421052631579,0.16447368421052633,6.0526315789473685E-2,-7.2368421052631582E-2,-1.3157894736842105E-3,0.71710526315789469,0.47763157894736841,0.36578947368421055,-5.2631578947368418E-2,0.11578947368421053,0.60789473684210527,0.18552631578947368,0.59342105263157896,1.8421052631578946E-2,1.1842105263157895E-2,0.49736842105263157,0.38552631578947366,0.35657894736842105,0.69078947368421051,0.15526315789473685,0.21710526315789475,0.20263157894736841,0.51315789473684215,0.49736842105263157,0.3,0.28421052631578947,0.26973684210526316,0.46052631578947367,0.77500000000000002,0.55526315789473679,0.26578947368421052,0.33157894736842103,0.21447368421052632,0.25,0.16710526315789473,0.15,0.13815789473684212,0.14473684210526316,0.2013157894736842,0.41973684210526313,0.22105263157894736,0.44210526315789472,0.26578947368421052,0.16578947368421051]

{"sheet":"AUT_top","index":18,"n_rows":97,"n_cols":54,"rows_kept":97,"cut":false,"hidden":true,"merged":[[95,0,96,0],[95,1,96,1],[0,51,0,53],[0,8,0,14],[0,15,0,24],[0,25,0,37],[0,38,0,44],[0,45,0,50],[23,1,33,1],[84,0,91,0],[84,1,91,1],[92,0,94,0],[92,1,94,1],[0,3,0,7],[50,1,52,1],[53,1,56,1],[57,0,83,0],[57,1,60,1],[61,1,63,1],[64,1,72,1],[73,1,74,1],[75,1,83,1],[2,0,56,0],[34,1,39,1],[40,1,44,1],[45,1,49,1],[2,1,6,1],[7,1,16,1],[17,1,22,1]]}
[null,null,null,"Social",null,null,null,null,"Health",null,null,null,null,null,null,"Environment",null,null,null,null,null,null,null,null,null,"Economic",null,null,null,null,null,null,null,null,null,null,null,null,"Security & Safety",null,null,null,null,null,null,"Quality",null,null,null,null,null,"Time"]
[null,null,"EEM/NEB","Employee satisfaction","Alleviation of energy poverty","Customers (new, satisfaction, etc.)","Improved supply chain relationships","Work performance","Health and well-being","(avoided) mortality","Disease burden \"daly\"","Sickness & absenteeism","Improved air quality","Improved lighting","Reduced noise","Emission reduction","Impact of EE on RES target achievement ","Ecosystem degradation","Reduced water use ","Reduced material consumption","Reduced emissions (dust, CO2, chemical agents etc.)","Reduced noise pollution","Reduced use of non-renewable resources ","Reduced litigations risks","Reduced waste","Improvement of compatitiveness","Innovation impacts","Reduction of (maintenance) costs","Reduction of emission or disposal fees","Shorter production cycle","Increased production yields","Increased real estate value","Reduction of (operating) costs","Macro economy","Usage of waste streams","Turnover of energy efficiency goods ","Employment effects","Impact on public budgets","Energy security","Security of supply / self sufficiency","Supplier diversity ","Operation safety of equipment","Less maintenance","Electrical safety","Reduced injuries","Accurate monitoring","Right First Time","Increased quality of products","Increased corporate image","Increased regulatory compliance","Risk reduction","Increased productivity","Increased equipment lifetime","Reduced time of fault detection"]
["Building","Envelope","Improvement to visible building envelope elements",1,0,1,0,1,0,0,0,0,0,-1,0,1,1,-1,0,0,0,0,1,0,0,-1,0,0,0,0,0,1,1,1,0,0,0,0,1,1,0,1,1,0,0,0,0,0,1,0,0,0,0,0]
[null,null,"Improvements to non-visible building envelope elements",0,0,0,0,1,0,0,0,0,0,0,0,1,1,-1,0,0,0,0,1,0,0,-1,0,0,0,0,0,1,1,1,0,0,0,0,1,1,0,1,1,0,0,0,0,0,0,0,0,0,0,0]
[null,null,"Replacemert of windows",1,0,0,0,1,1,0,0,0,-1,-1,1,1,1,-1,0,0,0,1,1,0,0,-1,0,1,0,0,0,1,1,1,0,0,0,0,1,1,0,1,1,0,0,1,0,0,1,1,1,1,0,1]
[null,null,"Increasing the air-tightness of the building",1,0,0,0,1,1,0,1,1,-1,0,1,1,1,-1,0,0,0,1,1,0,0,0,0,1,0,0,0,1,1,1,0,0,0,0,1,1,0,1,1,0,0,1,0,0,0,1,1,1,1,0]
[null,null,"Shading to reduce summer heat gains",1,0,0,0,1,1,0,1,1,0,-1,1,0,1,-1,0,0,0,0,1,0,0,0,0,1,0,0,0,1,1,1,0,0,0,0,1,1,0,1,-1,0,0,0,0,0,0,1,1,1,0,0]
[null,"Heating system","Roomwise temperature control",1,0,1,0,1,1,0,1,1,0,0,0,1,1,-1,0,0,1,1,1,0,0,1,0,-1,1,0,0,1,1,0,0,0,0,0,1,1,0,-1,0,-1,0,1,0,0,0,0,0,1,1,1]
[null,null,"Zoning optimisation of the building",1,0,0,0,1,1,0,1,1,1,0,1,0,1,-1,0,0,1,1,1,0,0,1,0,0,1,0,0,1,1,1,0,0,0,0,1,1,0,-1,0,0,0,0,0,0,0,0,0,1,0,0]
[null,null,"Optimisation of the heating schedule",0,0,0,0,1,1,0,1,1,1,0,1,1,1,-1,0,0,1,1,1,0,0,1,0,0,1,0,0,1,1,0,1,0,0,0,1,1,0,-1,0,0,0,1,0,0,0,0,0,1,1,0]
[null,null,"Lowering setpoint temperature",1,0,0,0,-1,1,0,1,1,0,0,1,1,1,-1,0,0,1,1,1,0,0,1,0,0,1,0,0,0,1,1,1,0,0,0,1,1,0,-1,0,0,0,0,0,0,0,0,0,0,0,0]
[null,null,"Control optimisation",0,0,0,0,0,1,0,0,0,1,0,1,1,1,-1,0,0,1,1,1,0,0,1,0,0,1,0,0,1,1,1,1,0,0,0,1,1,0,-1,0,-1,0,0,0,0,0,0,0,1,1,0]
[null,null,"Insulation of the distribution network",0,0,0,0,0,0,0,0,0,0,0,1,1,1,-1,0,-1,1,1,1,0,0,1,0,-1,1,0,0,1,-1,1,0,0,0,0,1,1,0,1,-1,0,0,0,0,0,0,0,0,0,0,0]
[null,null,"Hydraulic balancing of the distribution network",0,0,0,0,0,0,0,0,0,1,0,1,1,1,-1,0,0,1,1,1,0,0,1,0,-1,1,0,0,1,1,1,0,0,0,0,1,1,0,-1,0,0,0,0,0,0,0,0,0,1,1,0]
[null,null,"New, more efficient heat generator",0,0,0,0,0,0,0,0,0,0,0,0,1,1,-1,0,0,1,1,1,0,0,1,0,0,1,0,0,1,-1,1,0,0,0,0,1,1,0,1,1,1,0,0,0,0,0,0,0,0,0,0]
[null,null,"Including a renewable based heat source",0,0,0,0,0,0,0,0,0,0,0,0,1,1,-1,0,0,1,1,1,0,0,-1,0,-1,1,0,0,1,-1,1,0,0,0,0,1,1,0,-1,1,1,0,0,0,0,0,0,0,0,0,0]
[null,null,"Energy efficient pumps",0,0,0,0,0,0,0,0,0,0,0,1,1,1,-1,0,0,1,1,1,0,0,1,0,-1,1,0,0,1,-1,1,0,0,0,0,1,1,0,-1,1,1,0,0,0,0,0,0,0,0,0,0]
[null,"DHW system","Reducing the DHW demand",-1,0,0,0,0,-1,1,-1,-1,0,0,0,1,1,-1,1,0,1,0,1,-1,0,0,0,1,0,0,0,1,1,0,0,0,0,-1,1,1,0,0,0,0,0,0,0,0,0,0,0,0,0,0]
[null,null,"Insulation of the distribution network",0,0,0,0,0,1,1,1,1,0,0,0,1,1,-1,1,0,1,0,1,1,0,0,0,0,0,0,0,1,1,0,0,0,0,0,1,1,0,0,0,0,0,0,0,0,0,0,0,0,0,0]
[null,null,"Lowering setpoint temperature",-1,0,0,0,0,-1,-1,-1,-1,0,0,0,1,1,-1,-1,0,1,0,1,-1,0,0,0,1,0,0,0,1,1,0,0,0,0,0,1,1,0,0,0,0,1,0,0,0,0,0,0,0,0,0]
[null,null,"Circulation network optimisation, decentralisation of DHW production",0,0,0,0,0,1,1,1,1,0,0,0,1,1,-1,1,0,1,0,1,1,0,0,0,0,0,0,0,1,1,0,0,0,0,0,1,1,0,0,0,0,0,0,0,0,0,0,0,0,0,0]
[null,null,"New, more efficient heat generator",0,0,0,0,0,0,0,0,0,0,0,0,1,1,-1,0,0,1,0,1,1,0,0,0,1,0,0,0,1,-1,0,0,0,0,0,1,1,0,0,1,0,0,0,0,0,0,0,0,0,0,0]
[null,null,"Including a renewable based heat source",0,0,0,0,0,0,0,0,0,0,0,0,0,0,0,0,0,1,0,1,0,0,0,0,-1,0,0,0,1,-1,1,0,0,0,0,0,1,0,0,-1,0,0,0,0,0,0,0,0,0,0,0]
[null,"Cooling system","Roomwise temperature control",1,0,0,0,1,1,0,1,1,0,0,0,1,1,-1,0,0,1,1,1,0,0,0,0,-1,1,0,0,1,1,0,0,0,0,0,1,1,0,1,0,0,0,1,1,1,0,0,1,0,1,1]
[null,null,"Zoning optimisation of the building",1,0,0,0,1,1,0,1,1,0,0,0,1,1,-1,0,0,1,0,1,0,0,0,0,0,1,0,0,1,1,0,0,0,0,0,1,1,0,1,0,0,0,1,0,0,0,0,0,0,1,0]
[null,null,"Optimisation of the cooling schedule",1,0,0,0,1,1,0,1,1,0,0,0,1,1,-1,0,0,1,1,1,0,0,0,0,0,1,0,0,1,1,0,0,0,0,0,1,1,0,1,0,0,0,0,1,1,0,0,0,0,1,0]
[null,null,"Increasing setpoint temperature",1,0,0,0,0,1,0,1,1,0,0,0,1,1,-1,0,0,1,1,1,0,0,0,0,0,1,0,0,1,1,0,0,0,0,0,1,1,0,0,0,0,0,0,0,0,0,0,0,0,0,0]
[null,null,"Control optimisation",0,0,0,0,0,1,0,1,1,0,0,0,1,1,-1,0,0,1,1,1,0,0,0,0,0,1,0,0,1,1,0,0,0,0,0,1,1,0,1,0,0,0,0,1,1,0,0,0,0,0,0]
[null,null,"Insulation of the distribution network",0,0,0,0,0,0,0,0,0,0,0,0,1,1,-1,0,0,1,1,1,0,0,0,0,-1,1,0,0,1,1,0,0,0,0,0,1,1,0,1,0,0,0,1,1,1,0,0,0,0,0,0]
[null,null,"Hydraulic balancing of the distribution network",0,0,0,0,0,0,0,0,0,0,0,0,1,1,-1,0,0,1,1,1,0,0,0,0,-1,1,0,0,1,1,0,0,0,0,0,1,1,0,1,0,0,0,1,1,1,0,0,0,0,0,0]
[null,null,"New, more efficient heat generator",0,0,0,0,0,0,0,0,0,0,0,0,1,1,-1,0,0,1,1,1,0,0,0,0,-1,1,0,0,1,1,0,0,0,0,0,1,1,0,1,0,0,0,0,0,0,0,0,0,0,0,0]
[null,null,"Energy efficient pumps",0,0,0,0,0,0,0,0,0,0,0,0,1,1,-1,0,0,1,1,1,0,0,0,0,-1,1,0,0,1,1,0,0,0,0,0,1,1,0,0,0,0,0,0,0,0,0,0,0,0,0,0]
[null,null,"Utilisation of free cooling",0,0,0,0,0,0,0,0,0,0,0,-1,1,1,-1,0,0,1,1,1,0,0,0,0,-1,1,0,0,1,1,0,0,0,0,0,1,1,0,0,-1,0,0,0,0,0,0,0,0,0,0,0]
[null,null,"Utilising the waste heat from the cooling system for heating&DHW",0,0,0,0,0,0,0,0,0,0,0,-1,1,1,-1,0,0,1,1,1,0,0,0,0,-1,1,0,0,1,1,0,0,0,0,0,1,1,0,0,-1,0,0,0,0,0,0,0,0,0,0,0]
[null,"Ventilation system","Schedule optimisation",1,0,0,0,1,1,0,1,1,1,0,0,1,1,1,0,0,1,0,1,0,0,0,0,1,1,0,0,1,1,0,0,0,0,0,1,1,0,1,1,0,0,0,0,0,0,0,0,0,0,0]
[null,null,"Control optimisation",1,0,0,0,1,1,0,0,0,1,0,0,1,1,1,0,0,1,0,1,0,0,0,0,0,0,0,0,1,1,0,0,0,0,0,1,1,0,1,1,0,0,0,0,0,0,0,0,0,0,0]
[null,null,"Air velocity optimisation",1,0,0,0,1,1,1,1,1,1,0,0,1,1,1,0,0,1,1,1,0,0,0,0,1,1,0,0,1,1,0,0,0,0,0,1,1,0,0,0,0,0,0,0,0,0,0,0,0,0,0]
[null,null,"Inlet air temperature optimisation",1,0,0,0,1,1,1,1,1,1,0,0,1,1,1,0,0,1,0,1,0,0,0,0,0,0,0,0,1,1,0,0,0,0,0,1,1,0,0,0,0,0,0,0,0,0,0,0,0,0,0]
[null,null,"Heat recovery",0,0,0,0,0,0,0,0,0,0,0,0,1,1,1,0,0,1,0,1,0,0,0,0,0,0,0,0,1,1,0,1,0,0,0,1,1,0,0,0,0,0,0,0,0,0,0,0,0,0,0]
[null,null,"Energy efficient fans",0,0,0,0,0,0,0,0,0,0,0,0,1,1,1,0,0,1,0,1,0,0,0,0,0,0,0,0,1,1,0,0,0,0,0,1,1,0,0,0,0,0,0,0,0,0,0,0,0,0,0]
[null,"Lighting","Energy efficient lights (e.g LED)",0,0,0,0,0,-1,0,0,0,0,1,0,0,1,1,0,0,0,0,0,0,0,0,0,1,0,0,0,1,1,0,0,0,0,0,1,1,0,0,0,0,1,1,1,1,0,0,1,0,0,1]
[null,null,"Level of illumination",1,0,1,0,1,1,0,1,1,0,1,0,0,-1,-1,0,0,0,0,0,1,0,0,1,0,0,0,0,0,-1,0,0,0,0,0,0,0,0,0,0,0,1,1,1,1,0,0,1,0,0,1]
[null,null,"Schedule optimisation",1,0,0,0,1,0,0,1,0,0,1,0,0,1,1,0,0,0,0,0,0,0,0,0,0,0,0,0,0,1,0,0,0,0,0,1,1,0,0,0,0,1,1,0,0,0,0,1,0,0,0]
[null,null,"Control optimisation",1,0,0,0,0,1,0,0,1,0,1,0,0,1,1,0,0,0,0,0,0,0,0,0,0,0,0,0,1,1,0,0,0,0,0,1,1,0,0,0,0,1,1,0,0,0,0,1,0,0,0]
[null,null,"Utilisation of natural light",1,0,1,0,1,1,0,1,1,0,1,0,0,1,1,0,0,0,0,0,0,0,0,1,1,0,0,0,1,1,0,0,0,0,0,1,1,0,0,0,0,1,1,0,0,0,0,1,0,0,0]
[null,"Renewable energy","Solar PV",1,0,1,1,0,0,0,0,0,0,0,0,1,0,-1,0,0,1,0,1,0,0,1,0,1,1,0,0,1,1,0,0,0,1,0,1,0,0,0,1,-1,0,0,0,0,0,0,0,0,0,0]
[null,null,"Wind turbine",0,0,1,1,0,0,0,0,0,0,0,0,1,0,-1,0,0,1,-1,1,0,0,0,0,-1,1,0,0,0,1,0,0,0,1,0,0,0,0,0,-1,-1,0,0,0,0,0,0,0,0,0,0]
[null,null,"Solar collector system",1,0,1,1,0,0,0,0,0,0,0,0,1,1,-1,0,0,1,0,1,0,0,0,0,-1,1,0,0,1,1,0,0,0,1,0,1,1,0,0,-1,0,0,0,0,0,0,0,0,0,0,0]
[null,null,"Geothermal heat pump system",0,0,1,1,0,0,0,0,0,0,0,0,1,1,-1,0,0,1,0,1,0,0,1,0,-1,1,0,0,1,1,0,0,0,0,0,1,0,0,0,-1,-1,0,0,0,0,0,0,0,0,0,0]
[null,null,"Passive measures",0,0,0,0,0,0,0,0,0,0,0,0,1,1,-1,0,0,1,0,1,0,0,1,0,1,1,0,0,1,1,0,0,0,0,0,1,1,0,0,1,0,0,0,0,0,0,0,0,0,0,0]
[null,"Appliances","Energy efficient appliances",0,0,0,0,0,0,0,0,0,0,0,0,1,1,-1,0,0,1,0,1,0,0,1,0,-1,1,0,0,1,1,0,0,0,0,0,1,1,0,0,0,0,0,0,0,0,1,0,0,0,0,0]
[null,null,"Reducing stand-by consumption",0,0,0,0,0,0,0,0,0,0,0,0,1,1,-1,0,0,1,0,1,0,0,1,0,0,1,0,0,0,1,0,0,0,0,0,1,1,0,0,0,0,0,0,0,0,0,0,0,0,0,0]
[null,null,"Optimal usage, on demand operation",0,0,0,0,0,0,0,0,0,0,0,0,1,1,-1,0,0,1,0,1,0,0,1,0,0,1,0,0,0,1,0,0,0,0,0,1,1,0,0,0,0,0,0,0,0,0,0,0,0,0,0]
[null,"Building automation","Building automation and management systems",1,0,0,0,1,0,0,1,1,1,0,0,1,1,-1,0,0,1,0,1,0,0,1,0,1,1,0,0,1,1,0,0,0,0,0,1,1,0,0,0,0,0,0,0,0,1,1,1,0,0,0]
[null,null,"Energy management system",1,0,0,0,0,0,0,0,0,1,0,0,1,1,-1,0,0,1,0,1,0,0,1,0,1,1,0,0,1,1,0,0,0,0,0,1,1,0,0,0,0,0,0,0,0,1,1,1,0,0,0]
[null,null,"Measured consumption",0,0,0,0,0,0,0,0,0,0,0,0,0,1,-1,0,0,1,0,1,0,0,1,0,1,1,0,0,1,1,0,0,0,0,0,1,1,0,0,0,0,0,0,0,0,0,1,1,0,0,0]
[null,null,"Improved smart-readiness",1,0,0,0,0,1,0,1,1,1,0,0,1,1,-1,0,0,1,0,1,0,0,1,0,1,1,0,0,1,1,0,0,0,0,0,1,1,0,0,0,0,0,0,0,0,0,0,0,0,0,0]
["Processes","Compressed air system","Check the required pressure",0,0,0,0,0,0,0,0,0,0,0,0,1,1,-1,0,0,1,0,0,0,0,1,0,0,0,0,0,0,1,0,0,0,0,0,1,1,0,1,0,0,1,1,1,1,0,0,1,0,0,0]
[null,null,"Regular check for leakages",0,0,0,0,0,0,0,0,0,0,0,0,1,1,-1,0,0,1,0,0,0,0,1,0,1,0,0,0,0,1,0,0,0,0,0,1,1,0,0,0,0,0,0,0,0,0,0,0,0,0,0]
[null,null,"Waste heat recovery ",0,0,0,0,0,0,0,0,0,0,0,0,1,1,-1,0,0,1,0,0,0,0,0,0,0,0,0,0,0,1,0,0,0,0,0,1,1,0,0,0,0,0,0,0,0,0,0,0,0,0,0]
[null,null,"Regular maintenance of the compressor",0,0,0,0,0,0,0,0,0,0,0,0,1,1,-1,0,0,1,0,0,0,0,1,0,0,0,0,0,0,1,0,0,0,0,0,1,1,0,0,0,0,0,0,0,0,0,1,0,0,0,0]
[null,"Steam system","Check the required pressure",0,0,0,0,0,0,1,0,0,0,0,0,1,1,-1,1,0,1,0,1,0,0,1,0,1,1,0,0,0,1,0,0,0,0,0,0,1,0,1,0,0,1,0,0,0,0,0,0,0,0,0]
[null,null,"Check for leakages",0,0,0,0,0,0,1,0,0,0,0,0,1,1,-1,1,0,1,0,1,0,0,1,0,1,1,0,0,0,1,0,0,0,0,0,0,1,0,1,0,0,1,0,0,0,0,0,0,0,0,0]
[null,null,"Regular maintenance of the boiler",0,0,0,0,0,0,1,0,0,1,0,0,1,1,-1,0,0,1,0,1,0,0,1,0,1,1,0,0,0,1,0,0,0,0,0,0,1,0,1,0,0,0,0,0,0,0,0,0,0,0,0]
[null,"Refrigeration","Optimisation of the required temperatures",1,0,1,0,1,1,0,0,0,1,0,0,1,1,-1,0,0,1,0,1,0,0,0,0,1,1,0,0,0,1,0,0,0,0,0,1]
[null,null,"Waste heat recovery ",0,0,0,0,0,0,0,0,0,0,0,0,1,1,-1,0,0,1,0,1,0,0,0,0,1,1,0,0,0,1,0,1,0,0,0,1,1,0,0,-1,0,0,0,0,0,0,0,0,0,0,0]
[null,null,"Install frequency control (i.e. VRF) on chiller compressor.",0,0,0,0,0,0,0,0,0,0,0,0,1,1,-1,0,0,1,0,1,0,0,0,0,-1,1,0,0,0,1,0,0,0,0,0,1,1,0,0,-1,0,0,0,0,0,0,0,0,0,0,0]
[null,null,"Install high efficiency or 2-rev electromotor on evaporation fan",0,0,0,0,0,0,0,0,0,0,0,0,1,1,-1,0,0,1,0,1,0,0,0,0,-1,1,0,0,0,1,0,0,0,0,0,1,1,0,0,-1,0,0,0,0,0,0,0,0,0,0,0]
[null,null,"Build a cooled front space for refrigeration units.",0,0,0,0,0,0,0,0,0,0,0,0,1,1,-1,0,0,1,0,1,0,0,0,0,-1,1,0,0,0,1,0,0,0,0,0,1,1,0,0,-1,0,0,0,0,0,0,0,0,0,0,0]
[null,null,"Use hot refrigerant gas from the compressor for the initial stages of the defrosting cycle.",0,0,0,0,0,0,0,0,0,0,0,0,1,1,-1,0,0,1,0,1,0,0,0,0,0,1,0,0,0,1,0,0,0,0,0,1,1,0,0,-1,0,0,0,0,0,0,0,0,0,0,0]
[null,null,"Use excess heat from other production processes for the production of cooling using adsorption/absorption cooling.",0,0,0,0,0,0,0,0,0,0,0,0,1,1,-1,0,0,1,0,1,0,0,0,0,0,1,0,0,0,1,0,0,0,0,0,1,1,0,0,-1,0,0,0,0,0,0,0,0,0,0,0]
[null,null,"Utilisation of free cooling",0,0,0,0,0,0,0,0,0,0,0,0,1,1,-1,0,0,1,0,1,0,0,0,0,-1,1,0,0,0,1,0,0,0,0,0,1,1,0,0,-1,0,0,0,0,0,0,0,0,0,0,0]
[null,null,"Replacement of the equipment.",0,0,0,0,0,0,0,0,0,0,0,0,1,1,-1,0,0,1,0,1,0,0,0,0,0,1,0,0,0,1,0,0,0,0,0,1,1,0,0,-1,0,0,0,0,0,0,0,0,0,0,0]
[null,"Water systems","Efficient pumps for the Water treatment system (if any)",0,0,0,0,0,0,0,0,0,0,0,0,0,0,0,0,0,0,0,0,0,0,0,0,0,0,0,0,0,0,0,0,0,0,0,0,0,0,0,0,0,0,0,0,0,0,0,0,0,0,0]
[null,null,"Advanced process of water recovery ",0,0,0,0,0,0,0,0,0,0,0,0,0,0,0,0,0,0,0,0,0,0,0,0,0,0,0,0,0,0,0,0,0,0,0,0,0,0,0,0,0,0,0,0,0,0,0,0,0,0,0]
[null,"Production line","Optimisation of the production process and workflow",1,0,0,0,1,1,0,0,1,1,0,0,0,0,0,0,0,0,0,1,0,0,1,1,1,1,1,1,0,0,0,1,0,0,0,1,1,0,0,0,0,0,1,1,0,1,0,1,1,0,1]
[null,null,"Waste reduction & recycling in the production line ",1,0,0,0,1,0,0,0,0,0,0,0,1,0,0,0,1,0,0,1,0,1,1,1,0,1,0,0,0,1,0,1,0,0,0,0,0,0,0,0,0,0,0,0,0,1,0,0,1,0,0]
[null,null,"Optimization of motor driven systems ",0,0,0,0,0,0,0,0,0,0,0,0,1,1,-1,0,0,1,0,1,0,0,1,0,1,0,0,0,0,1,0,0,0,0,0,1,1,0,0,0,0,0,1,0,0,0,0,0,1,1,1]
[null,null,"High efficient transmission system",0,0,0,0,0,0,0,0,0,0,0,0,1,1,-1,0,0,1,0,1,0,0,1,0,0,0,0,0,0,1,0,0,0,0,0,1,1,0,0,0,0,0,0,0,0,0,0,0,1,1,0]
[null,null,"Reduction of the manual labor",1,0,0,0,1,1,0,1,1,0,0,0,0,0,0,0,0,1,0,0,0,0,0,0,0,0,0,0,0,1,0,0,0,-1,0,0,0,0,1,1,0,0,0,1,0,0,0,1,1,1,1]
[null,null,"Regular maintenance of the equipment",0,0,0,0,1,0,0,1,1,0,0,0,1,1,-1,0,0,1,0,1,0,0,1,0,1,0,0,0,0,1,0,0,0,1,0,1,0,0,1,-1,0,-1,1,1,0,0,0,1,1,1,0]
[null,null,"Replacement of the equipment",0,0,0,0,1,0,0,0,0,0,0,0,0,0,0,0,0,0,0,0,0,0,0,0,0,0,0,0,0,0,0,0,0,0,0,0,0,0,1,-1,0,0,0,0,0,0,0,1,0,-1,0]
[null,null,"Waste heat recovery ",0,0,0,0,0,0,0,0,0,1,0,0,1,1,-1,0,0,1,0,1,0,0,1,0,0,1,0,1,0,1,0,0,0,0,0,1,1,0,0,0,0,0,0,0,0,0,0,0,0,0,0]
[null,null,"Low-carbon packaging ",0,0,1,1,0,0,0,0,0,0,0,0,0,0,0,0,0,0,0,1,0,0,0,0,0,0,0,0,0,0,0,0,0,0,0,0,0,0,0,0,0,0,0,0,0,0,0,0,0,0,0]
["Transport","Transport of goods","Optimisation of timetables",-1,0,1,0,1,1,1,1,0,0,0,0,0,0,0,0,0,0,0,0,0,0,1,0,0,0,0,0,0,1,0,0,0,0,0,0,0,0,0,0,0,0,0,0,0,0,0,0,1,0,0]
[null,null,"Optimisation of routes",-1,0,1,0,1,1,0,1,0,0,0,0,0,1,-1,0,0,1,0,1,0,0,1,0,0,0,0,0,0,1,0,0,0,0,0,0,0,0,0,0,0,0,0,0,0,0,0,0,1,0,0]
[null,null,"Optimisation of loads",0,0,1,0,1,0,0,0,0,0,0,0,1,1,-1,0,0,1,0,1,0,0,1,0,0,0,0,0,0,1,0,0,0,0,0,0,0,0,0,0,0,0,0,0,0,0,0,0,1,0,0]
[null,null,"Optimisation of the fleet",0,0,0,0,0,0,0,0,0,0,0,0,1,0,0,0,0,1,0,0,0,0,1,0,0,0,0,0,0,1,0,0,0,0,0,0,0,0,0,0,0,0,0,0,0,0,0,0,1,0,0]
[null,null,"Promote electromobility",0,0,0,0,0,0,0,0,0,1,0,1,1,1,-1,0,0,1,1,1,0,0,0,0,1,0,0,0,0,0,0,0,0,0,0,0,0,0,0,1,-1,0,0,0,0,0,0,0,0,0,0]
[null,null,"Promotion of modal shift for freight",0,0,0,0,0,0,0,0,0,1,0,0,1,1,-1,0,0,1,0,1,0,0,0,0,1,0,0,0,0,0,0,0,0,0,0,0,0,0,0,0,0,0,0,0,0,0,0,0,0,0,0]
[null,null,"Regular maintenance",0,0,0,0,0,0,0,0,0,0,0,0,0,0,-1,0,0,1,0,1,0,0,1,0,1,1,0,0,0,0,0,0,0,0,0,1,0,0,1,-1,0,1,0,0,0,0,0,0,0,0,0]
[null,null,"Driver training",1,0,0,0,0,1,1,1,0,0,0,0,0,1,-1,0,0,1,0,1,0,0,1,0,1,0,0,0,0,0,0,0,0,0,0,1,0,0,1,1,0,1,0,0,0,0,0,0,0,0,0]
["Management & Maintenance measures","Management & Maintenance measures","Green supply chain management",0,0,0,0,0,1,0,0,0,0,0,0,0,1,-1,0,1,1,0,0,0,0,0,0,0,1,0,0,0,0,0,0,0,0,0,0,0,0,0,0,0,0,0,0,0,0,0,0,1,0,0]
[null,null,"Improved energy management",0,0,0,0,0,1,0,0,0,1,0,0,1,1,-1,0,0,1,0,1,0,0,1,0,0,1,0,1,1,1,1,0,0,0,0,1,1,0,0,0,0,0,1,0,0,0,0,0,1,1,0]
[null,null,"Improved environmental awareness at the management level",1,0,0,0,0,1,0,0,0,0,0,0,1,1,-1,0,0,0,0,1,1,1,0,0,0,1,0,1,0,1,1,1,1,0,0,1,1,0,0,0,0,0,0,0,0,0,0,0,0,0,0]
["Occupant behaviour","Occupant behaviour","Employee engagement and training",1,0,1,1,1,1,1,1,1,0,0,0,1,1,-1,1,1,1,1,1,0,1,1,1,1,1,1,1,0,1,1,1,0,0,0,1,0,0,1,0,0,0,1,1,1,1,1,1,1,0,1]
[null,null,"Motivation",1,0,1,1,1,1,1,1,1,0,0,0,1,1,-1,1,1,1,1,1,0,1,1,1,1,1,1,1,0,1,1,1,0,0,0,1,0,0,1,0,0,0,1,1,1,1,1,1,1,0,1]

{"sheet":"ESP_top","index":19,"n_rows":97,"n_cols":54,"rows_kept":97,"cut":false,"hidden":true,"merged":[[0,51,0,53],[2,0,56,0],[2,1,6,1],[7,1,16,1],[17,1,22,1],[23,1,33,1],[34,1,39,1],[40,1,44,1],[45,1,49,1],[50,1,52,1],[0,3,0,7],[0,8,0,14],[0,15,0,24],[0,25,0,37],[0,38,0,44],[0,45,0,50],[53,1,56,1],[57,0,83,0],[57,1,60,1],[61,1,63,1],[64,1,72,1],[73,1,74,1],[75,1,83,1],[84,0,91,0],[84,1,91,1],[92,0,94,0],[92,1,94,1],[95,0,96,0],[95,1,96,1]]}
[null,null,null,"Social",null,null,null,null,"Health",null,null,null,null,null,null,"Environment",null,null,null,null,null,null,null,null,null,"Economic",null,null,null,null,null,null,null,null,null,null,null,null,"Security & Safety",null,null,null,null,null,null,"Quality",null,null,null,null,null,"Time"]
[null,null,"EEM/NEB","Employee satisfaction","Alleviation of energy poverty","Customers (new, satisfaction, etc.)","Improved supply chain relationships","Work performance","Health and well-being","(avoided) mortality","Disease burden \"daly\"","Sickness & absenteeism","Improved air quality","Improved lighting","Reduced noise","Emission reduction","Impact of EE on RES target achievement ","Ecosystem degradation","Reduced water use ","Reduced material consumption","Reduced emissions (dust, CO2, chemical agents etc.)","Reduced noise pollution","Reduced use of non-renewable resources ","Reduced litigations risks","Reduced waste","Improvement of compatitiveness","Innovation impacts","Reduction of (maintenance) costs","Reduction of emission or disposal fees","Shorter production cycle","Increased production yields","Increased real estate value","Reduction of (operating) costs","Macro economy","Usage of waste streams","Turnover of energy efficiency goods ","Employment effects","Impact on public budgets","Energy security","Security of supply / self sufficiency","Supplier diversity ","Operation safety of equipment","Less maintenance","Electrical safety","Reduced injuries","Accurate monitoring","Right First Time","Increased quality of products","Increased corporate image","Increased regulatory compliance","Risk reduction","Increased productivity","Increased equipment lifetime","Reduced time of fault detection"]
["Building","Envelope","Improvement to visible building envelope elements",0,1,0,0,1,1,0,0,1,null,null,null,1,null,null,null,0,null,null,1,0,1,0,0,1,0,0,0,0,0,0,0,0,0,0,0,0,0,0,0,0,0,0,0,0,0,0,0,0,0,0]
[null,null,"Improvements to non-visible building envelope elements",1,1,0,0,1,1,0,0,1,null,null,null,1,null,null,null,0,null,null,1,0,1,0,0,1,0,0,0,0,0,0,0,0,0,0,0,0,0,0,0,0,0,0,0,0,0,0,0,0,0,0]
[null,null,"Replacemert of windows",1,1,1,0,1,1,0,0,1,1,1,1,1,null,null,null,0,null,null,1,0,1,0,0,1,0,0,0,0,0,0,0,0,0,0,0,0,0,0,0,0,0,0,0,0,0,0,0,0,0,0]
[null,null,"Increasing the air-tightness of the building",1,0,0,0,1,1,0,0,1,null,null,null,1,null,null,null,0,null,null,1,0,0,0,0,1,0,0,0,0,0,0,0,0,0,0,0,0,0,0,0,0,0,0,0,0,0,0,0,0,0,0]
[null,null,"Shading to reduce summer heat gains",1,0,0,0,1,1,0,0,1,null,null,null,0,null,null,null,0,null,null,1,0,0,0,0,1,0,0,0,0,0,0,0,0,0,0,0,0,0,0,0,0,0,0,0,0,0,0,0,0,0,0]
[null,"Heating system","Roomwise temperature control",1,1,1,0,1,1,0,0,1,null,null,0,1,1,0,0,0,1,0,1,null,0,0,0,1,0,0,0,0,0,0,0,0,0,0,0,0,0,0,0,0,0,0,0,0,0,0,0,0,0,0]
[null,null,"Zoning optimisation of the building",1,1,1,0,1,1,0,0,1,1,null,0,1,0,0,0,0,1,0,1,null,0,0,0,1,0,0,0,0,0,0,0,0,0,0,0,0,0,0,0,0,0,0,0,0,0,0,0,0,0,0]
[null,null,"Optimisation of the heating schedule",1,1,1,0,1,1,0,0,1,null,null,0,1,0,0,0,0,1,0,1,null,0,0,0,1,0,0,0,0,0,0,0,0,0,0,0,0,0,0,0,0,0,0,0,0,0,0,0,0,0,0]
[null,null,"Lowering setpoint temperature",1,1,1,0,1,1,0,0,1,null,null,0,1,0,0,0,0,1,0,1,null,0,0,0,1,0,0,0,0,0,0,0,0,0,0,0,0,0,0,0,0,0,0,0,0,0,0,0,0,0,0]
[null,null,"Control optimisation",1,1,1,0,1,1,0,0,1,null,null,0,1,0,0,0,0,1,0,1,null,0,0,0,1,0,0,0,0,0,0,0,0,0,0,0,0,0,0,0,0,0,0,0,0,0,0,0,0,0,0]
[null,null,"Insulation of the distribution network",0,1,1,0,1,1,0,0,0,0,0,0,0,0,0,0,0,0,0,1,null,0,0,0,1,0,0,0,0,0,0,0,0,0,0,0,0,0,0,0,0,0,0,0,0,0,0,0,0,0,0]
[null,null,"Hydraulic balancing of the distribution network",0,1,1,0,1,1,0,0,0,0,0,0,0,0,0,1,0,0,0,1,null,0,0,0,1,0,0,0,0,0,0,0,0,0,0,0,0,0,0,0,0,0,0,0,0,0,0,0,0,0,0]
[null,null,"New, more efficient heat generator",1,1,1,0,1,1,0,0,1,0,0,0,0,0,0,0,0,0,1,1,null,0,0,0,1,0,0,0,0,0,0,0,0,0,0,0,0,0,0,0,0,0,0,0,0,0,0,0,0,0,0]
[null,null,"Including a renewable based heat source",1,1,1,0,1,1,0,0,0,0,null,0,1,1,0,0,0,1,1,1,null,0,0,0,1,0,0,0,0,0,0,0,0,0,1,0,0,0,0,0,0,0,0,0,0,0,0,0,0,0,0]
[null,null,"Energy efficient pumps",0,0,1,0,1,1,0,0,0,0,null,1,0,0,0,1,0,0,1,1,null,0,0,0,1,0,0,0,0,0,0,0,0,0,0,0,0,0,0,0,0,0,0,0,0,0,0,0,0,0,0]
[null,"DHW system","Reducing the DHW demand",-1,1,0,0,null,-1,0,0,0,0,0,0,1,1,-1,1,1,1,1,0,0,0,0,0,1,0,0,0,0,0,0,0,0,0,0,0,0,0,0,0,0,0,0,0,0,0,0,0,0,0,0]
[null,null,"Insulation of the distribution network",0,1,0,null,null,0,0,0,0,0,0,1,1,1,-1,1,1,1,1,0,0,0,0,0,1,0,0,0,0,0,0,0,0,0,0,0,0,0,0,0,0,0,0,0,0,0,0,0,0,0,0]
[null,null,"Lowering setpoint temperature",0,1,0,null,null,0,0,0,0,0,0,0,1,1,-1,1,1,1,1,0,0,0,0,0,1,0,0,0,0,0,0,0,0,0,0,0,0,0,0,0,0,0,0,0,0,0,0,0,0,0,0]
[null,null,"Circulation network optimisation, decentralisation of DHW production",0,1,0,null,null,0,0,0,0,0,0,0,1,1,-1,1,1,1,1,0,0,0,0,0,1,0,0,0,0,0,0,0,0,0,0,0,0,0,0,0,0,0,0,0,0,0,0,0,0,0,0]
[null,null,"New, more efficient heat generator",0,1,1,null,null,0,0,0,0,0,0,1,1,1,-1,1,1,1,1,0,0,0,0,0,1,0,0,0,0,0,0,0,0,0,0,0,0,0,0,0,0,0,0,0,0,0,0,0,0,0,0]
[null,null,"Including a renewable based heat source",0,1,0,0,0,0,0,0,0,1,0,1,1,1,-1,1,1,1,1,0,0,0,0,0,1,0,0,0,0,0,0,0,0,0,1,0,0,0,0,0,0,0,0,0,0,0,0,0,0,0,0]
[null,"Cooling system","Roomwise temperature control",1,1,1,0,1,null,null,null,null,null,null,0,0,0,0,0,0,0,0,0,0,0,0,0,1,0,0,0,0,0,0,0,0,0,0,0,0,0,0,0,0,0,0,0,0,0,0,0,0,0,0]
[null,null,"Zoning optimisation of the building",1,1,1,0,1,null,null,null,null,null,null,0,0,0,0,0,0,0,0,0,0,0,0,0,1,0,0,0,0,0,0,0,0,0,0,0,0,0,0,0,0,0,0,0,0,0,0,0,0,0,0]
[null,null,"Optimisation of the cooling schedule",1,1,1,0,1,null,null,null,null,null,null,0,0,0,0,0,0,0,0,0,0,0,0,0,1,0,0,0,0,0,0,0,0,0,0,0,0,0,0,0,0,0,0,0,0,0,0,0,0,0,0]
[null,null,"Increasing setpoint temperature",1,1,1,0,1,null,null,null,null,null,null,0,0,0,0,0,0,0,0,0,0,0,0,0,1,0,0,0,0,0,0,0,0,0,0,0,0,0,0,0,0,0,0,0,0,0,0,0,0,0,0]
[null,null,"Control optimisation",1,1,1,0,1,null,null,null,null,null,null,0,0,0,0,0,0,0,0,0,0,0,0,0,1,0,0,0,0,0,0,0,0,0,0,0,0,0,0,0,0,0,0,0,0,0,0,0,0,0,0]
[null,null,"Insulation of the distribution network",0,1,1,0,1,null,null,null,null,null,null,0,0,0,0,0,0,0,0,0,0,0,0,0,1,0,0,0,0,0,0,0,0,0,0,0,0,0,0,0,0,0,0,0,0,0,0,0,0,0,0]
[null,null,"Hydraulic balancing of the distribution network",0,1,1,0,1,null,null,null,null,null,null,0,0,0,0,0,0,0,0,0,0,0,0,0,1,0,0,0,0,0,0,0,0,0,0,0,0,0,0,0,0,0,0,0,0,0,0,0,0,0,0]
[null,null,"New, more efficient heat generator",1,1,1,0,1,null,null,null,null,null,null,0,0,0,0,0,0,0,0,0,0,0,0,0,1,0,0,0,0,0,0,0,0,0,0,0,0,0,0,0,0,0,0,0,0,0,0,0,0,0,0]
[null,null,"Energy efficient pumps",0,0,1,0,1,null,null,null,null,null,null,0,0,0,0,0,0,0,0,0,0,0,0,0,1,0,0,0,0,0,0,0,0,0,0,0,0,0,0,0,0,0,0,0,0,0,0,0,0,0,0]
[null,null,"Utilisation of free cooling",0,0,0,0,0,null,null,null,null,null,null,0,0,0,0,0,0,0,0,0,0,0,0,0,1,0,0,0,0,0,0,0,0,0,0,0,0,0,0,0,0,0,0,0,0,0,0,0,0,0,0]
[null,null,"Utilising the waste heat from the cooling system for heating&DHW",0,0,0,0,0,null,null,null,null,null,null,0,0,0,0,0,0,0,0,0,0,0,0,0,1,0,0,0,0,0,0,0,0,0,0,0,0,0,0,0,0,0,0,0,0,0,0,0,0,0,0]
[null,"Ventilation system","Schedule optimisation",1,0,1,0,1,null,null,null,null,null,null,0,0,0,0,0,0,0,0,0,0,0,0,0,1,0,0,0,0,0,0,0,0,0,0,0,0,0,0,0,0,0,0,0,0,0,0,0,0,0,0]
[null,null,"Control optimisation",1,0,1,0,1,null,null,null,null,null,null,0,0,0,0,0,0,0,0,0,0,0,0,0,1,0,0,0,0,0,0,0,0,0,0,0,0,0,0,0,0,0,0,0,0,0,0,0,0,0,0]
[null,null,"Air velocity optimisation",1,0,1,0,1,null,null,null,null,null,null,0,0,0,0,0,0,0,0,0,0,0,0,0,1,0,0,0,0,0,0,0,0,0,0,0,0,0,0,0,0,0,0,0,0,0,0,0,0,0,0]
[null,null,"Inlet air temperature optimisation",1,0,1,0,1,null,null,null,null,null,null,0,0,0,0,0,0,0,0,0,0,0,0,0,1,0,0,0,0,0,0,0,0,0,0,0,0,0,0,0,0,0,0,0,0,0,0,0,0,0,0]
[null,null,"Heat recovery",1,1,1,0,1,null,null,null,null,null,null,0,0,0,0,0,0,0,0,0,0,0,0,0,1,0,0,0,0,0,0,0,0,0,0,0,0,0,0,0,0,0,0,0,0,0,0,0,0,0,0]
[null,null,"Energy efficient fans",1,1,1,1,1,null,null,null,null,null,null,0,0,0,0,0,0,0,0,0,0,0,0,0,1,0,0,0,0,0,0,0,0,0,0,0,0,0,0,0,0,0,0,0,0,0,0,0,0,0,0]
[null,"Lighting","Energy efficient lights (e.g LED)",1,1,1,0,null,null,null,null,null,null,null,0,0,0,0,0,0,0,0,0,0,0,0,0,0,0,0,0,0,0,0,0,0,0,0,0,0,0,0,0,0,0,0,0,0,0,0,0,0,0,0]
[null,null,"Level of illumination",1,0,1,0,1,null,null,null,null,null,null,0,0,0,0,0,0,0,0,0,0,0,0,0,0,0,0,0,0,0,0,0,0,0,0,0,0,0,0,0,0,0,0,0,0,0,0,0,0,0,0]
[null,null,"Schedule optimisation",1,1,0,0,0,null,null,null,null,null,null,0,0,0,0,0,0,0,0,0,0,0,0,0,0,0,0,0,0,0,0,0,0,0,0,0,0,0,0,0,0,0,0,0,0,0,0,0,0,0,0]
[null,null,"Control optimisation",1,0,0,0,0,null,null,null,null,null,null,0,0,0,0,0,0,0,0,0,0,0,0,0,0,0,0,0,0,0,0,0,0,0,0,0,0,0,0,0,0,0,0,0,0,0,0,0,0,0,0]
[null,null,"Utilisation of natural light",1,1,0,0,0,null,null,null,null,null,null,0,0,0,0,0,0,0,0,0,0,0,0,0,0,0,0,0,0,0,0,0,0,0,0,0,0,0,0,0,0,0,0,0,0,0,0,0,0,0,0]
[null,"Renewable energy","Solar PV",0,1,0,0,null,null,null,null,null,null,null,1,0,0,0,0,0,0,0,0,0,0,0,0,0,0,0,0,0,0,0,0,0,0,0,0,0,0,0,0,0,0,0,0,0,0,0,0,0,0,0]
[null,null,"Wind turbine",0,1,0,0,null,null,null,null,null,null,null,-1,0,0,0,0,0,0,0,0,0,0,0,0,0,0,0,0,0,0,0,0,0,0,0,0,0,0,0,0,0,0,0,0,0,0,0,0,0,0,0]
[null,null,"Solar collector system",0,1,0,0,null,null,null,null,null,null,null,1,0,0,0,0,0,0,0,0,0,0,0,0,0,0,0,0,0,0,0,0,0,0,0,0,0,0,0,0,0,0,0,0,0,0,0,0,0,0,0]
[null,null,"Geothermal heat pump system",0,1,0,0,null,null,null,null,null,null,null,1,0,0,0,0,0,0,0,0,0,0,0,0,0,0,0,0,0,0,0,0,0,0,0,0,0,0,0,0,0,0,0,0,0,0,0,0,0,0,0]
[null,null,"Passive measures",0,1,0,0,null,null,null,null,null,null,null,1,0,0,0,0,0,0,0,0,0,0,0,0,0,0,0,0,0,0,0,0,0,0,0,0,0,0,0,0,0,0,0,0,0,0,0,0,0,0,0]
[null,"Appliances","Energy efficient appliances",0,1,0,0,1,null,null,null,null,null,null,0,0,0,0,0,1,1,1,0,0,0,0,0,0,0,0,0,0,0,0,0,0,0,0,0,0,0,0,0,0,0,0,0,0,0,0,0,0,0,0]
[null,null,"Reducing stand-by consumption",0,1,0,0,0,null,null,null,null,null,null,0,0,0,0,0,0,0,0,0,0,0,0,0,0,0,0,0,0,0,0,0,0,0,0,0,0,0,0,0,0,0,0,0,0,0,0,0,0,0,0]
[null,null,"Optimal usage, on demand operation",0,1,0,0,1,null,null,null,null,null,null,0,0,0,0,0,1,1,1,0,0,0,0,0,0,0,0,0,0,0,0,0,0,0,0,0,0,0,0,0,0,0,0,0,0,0,0,0,0,0,0]
[null,"Building automation","Building automation and management systems",0,0,0,0,0,0,0,0,0,0,0,0,0,0,0,0,0,0,0,1,0,0,0,0,1,0,0,0,0,0,0,0,0,0,0,0,0,0,0,0,0,0,0,0,0,0,0,0,0,0,0]
[null,null,"Energy management system",0,0,0,0,0,0,0,0,0,0,0,0,0,0,0,0,0,0,0,1,0,0,0,0,1,0,0,0,0,0,0,0,0,0,0,0,0,0,0,0,0,0,0,0,0,0,0,0,0,0,0]
[null,null,"Measured consumption",0,0,0,0,0,0,0,0,0,0,0,0,0,0,0,0,0,0,0,0,0,0,0,0,1,0,0,0,0,0,0,0,0,0,0,0,0,0,0,0,0,0,0,0,0,0,0,0,0,0,0]
[null,null,"Improved smart-readiness",0,0,0,0,0,0,0,0,0,0,0,0,0,0,0,0,0,0,0,0,0,0,0,0,1,0,0,0,0,0,0,0,0,0,0,0,0,0,0,0,0,0,0,0,0,0,0,0,0,0,0]
["Processes","Compressed air system","Check the required pressure",0,0,0,0,0,0,0,0,0,0,0,0,0,0,0,0,0,0,0,0,0,0,0,0,1,0,0,0,0,0,0,0,0,0,0,0,0,0,0,0,0,0,0,0,0,0,0,0,0,0,0]
[null,null,"Regular check for leakages",0,0,0,0,0,0,0,0,0,0,0,0,0,0,0,0,0,0,0,0,0,0,0,0,1,0,0,0,0,0,0,0,0,0,0,0,0,0,0,0,0,0,0,0,0,0,0,0,0,0,0]
[null,null,"Waste heat recovery ",0,0,0,0,0,0,0,0,0,0,0,0,0,0,0,0,0,0,0,0,0,0,0,0,0,0,0,0,0,0,0,0,0,0,0,0,0,0,0,0,0,0,0,0,0,0,0,0,0,0,0]
[null,null,"Regular maintenance of the compressor",0,0,0,0,0,0,0,0,0,0,0,0,0,0,0,0,0,0,0,1,0,0,0,0,1,0,0,0,0,0,0,0,0,0,0,0,0,0,0,0,0,0,0,0,0,0,0,0,0,0,0]
[null,"Steam system","Check the required pressure",0,0,0,0,0,0,0,0,0,0,0,0,0,0,0,0,0,0,0,0,0,0,0,0,1,0,0,0,0,0,0,0,0,0,0,0,0,0,0,0,0,0,0,0,0,0,0,0,0,1,0]
[null,null,"Check for leakages",0,0,0,0,0,0,0,0,0,0,0,0,0,0,0,0,0,0,0,0,0,0,0,0,1,0,0,0,0,0,0,0,0,0,0,0,0,0,0,0,0,0,0,0,0,0,0,0,0,1,0]
[null,null,"Regular maintenance of the boiler",0,0,0,0,0,0,0,0,0,0,0,0,0,0,0,0,0,0,0,0,0,0,0,0,1,0,0,0,0,0,0,0,0,0,0,0,0,0,0,0,0,0,0,0,0,0,0,0,0,1,0]
[null,"Refrigeration","Optimisation of the required temperatures",1,0,0,0,0,0,0,0,0,0,0,0,0,0,0,0,0,0,0,0,0,0,0,0,1,0,0,0,0,0,0,0,0,0,0,0,0,0,0,0,0,0,1,0,0,0,0,0,0,1,0]
[null,null,"Waste heat recovery ",0,0,0,0,0,0,0,0,0,0,0,0,0,0,0,0,0,0,0,0,0,0,0,0,1,0,0,0,0,0,0,0,0,0,0,0,0,0,0,0,0,0,0,0,0,0,0,0,0,1,0]
[null,null,"Install frequency control (i.e. VRF) on chiller compressor.",0,0,0,0,0,0,0,0,0,0,0,0,0,0,0,0,0,0,0,0,0,0,0,0,1,0,0,0,0,0,0,0,0,0,0,0,0,0,0,0,0,0,0,0,0,0,0,0,0,1,0]
[null,null,"Install high efficiency or 2-rev electromotor on evaporation fan",0,0,0,0,0,0,0,0,0,0,0,0,0,0,0,0,0,0,0,0,0,0,0,0,1,0,0,0,0,0,0,0,0,0,0,0,0,0,0,0,0,0,0,0,0,0,0,0,0,1,0]
[null,null,"Build a cooled front space for refrigeration units.",0,0,0,0,0,0,0,0,0,0,0,0,0,0,0,0,0,0,0,0,0,0,0,0,1,0,0,0,0,0,0,0,0,0,0,0,0,0,0,0,0,0,0,0,0,0,0,0,0,1,0]
[null,null,"Use hot refrigerant gas from the compressor for the initial stages of the defrosting cycle.",0,0,0,0,0,0,0,0,0,0,0,0,0,0,0,0,0,0,0,0,0,0,0,0,0,0,0,0,0,0,0,0,0,0,0,0,0,0,0,0,0,0,0,0,0,0,0,0,0,0,0]
[null,null,"Use excess heat from other production processes for the production of cooling using adsorption/absorption cooling.",0,0,0,0,0,0,0,0,0,0,0,0,0,0,0,0,0,0,0,0,0,0,0,0,0,0,0,0,0,0,0,0,0,0,0,0,0,0,0,0,0,0,0,0,0,0,0,0,0,0,0]
[null,null,"Utilisation of free cooling",0,0,0,0,0,0,0,0,0,0,0,0,0,0,0,0,0,0,0,0,0,0,0,0,0,0,0,0,0,0,0,0,0,0,0,0,0,0,0,0,0,0,0,0,0,0,0,0,0,0,0]
[null,null,"Replacement of the equipment.",1,0,0,0,0,0,0,0,0,0,0,0,0,0,0,0,0,0,0,0,0,0,0,0,1,0,0,0,0,0,0,0,0,0,0,0,0,0,0,0,0,0,0,0,0,0,0,0,0,0,0]
[null,"Water systems","Efficient pumps for the Water treatment system (if any)",0,0,0,0,0,0,0,0,0,0,0,0,0,0,0,0,0,0,0,0,0,0,0,0,0,0,0,0,0,0,1,1,0,0,0,0,0,0,0,0,0,0,0,0,0,1,0,0,1,0,0]
[null,null,"Advanced process of water recovery ",0,0,0,0,0,0,0,0,0,0,0,0,0,0,0,1,0,0,0,0,0,0,0,0,0,0,0,0,0,0,1,1,0,0,0,0,0,0,0,0,0,0,0,0,0,1,0,0,1,0,0]
[null,"Production line","Optimisation of the production process and workflow",0,0,0,0,0,1,1,1,1,1,1,1,1,1,0,0,0,0,0,1,1,1,1,0,1,1,1,1,1,1,1,1,1,1,1,0,0,0,0,1,0,1,0,1,1,0,0,0,1,1,1]
[null,null,"Waste reduction & recycling in the production line ",0,0,0,0,0,1,1,1,1,1,1,1,1,1,-1,1,1,1,1,1,1,1,1,0,1,1,1,1,1,1,1,1,1,1,1,0,0,0,0,0,0,0,0,0,0,1,1,0,0,0,0]
[null,null,"Optimization of motor driven systems ",0,0,0,0,0,1,1,1,1,1,1,1,0,0,0,0,0,0,0,0,0,0,1,0,1,1,1,1,1,1,1,1,1,1,1,1,0,0,0,1,1,1,0,1,1,0,1,1,1,1,1]
[null,null,"High efficient transmission system",0,0,0,0,0,1,1,1,1,1,1,1,0,0,0,0,0,0,0,0,0,0,1,0,1,1,1,1,1,1,1,1,1,1,1,0,0,0,0,0,0,0,null,1,1,0,0,1,1,1,1]
[null,null,"Reduction of the manual labor",-1,0,0,0,null,1,1,1,1,1,1,1,0,0,0,0,0,0,0,0,0,0,1,0,1,1,1,1,1,1,1,1,1,1,1,0,0,0,0,-1,0,0,0,-1,-1,-1,0,0,0,0,0]
[null,null,"Regular maintenance of the equipment",1,null,null,null,null,1,1,1,1,1,1,1,0,0,0,0,0,0,0,1,0,0,1,0,1,1,1,1,1,1,1,1,1,1,1,1,1,1,1,1,1,1,0,1,1,0,1,1,1,1,1]
[null,null,"Replacement of the equipment",1,null,null,null,null,1,1,1,1,1,1,1,0,0,0,0,0,0,0,0,0,0,1,0,1,1,1,1,1,1,1,1,1,1,1,0,0,0,0,1,0,1,0,1,1,0,1,1,1,1,1]
[null,null,"Waste heat recovery ",0,0,0,0,0,0,0,0,0,0,0,0,1,1,1,0,1,1,1,0,0,0,1,0,1,1,1,1,1,1,1,1,1,1,1,0,0,1,0,0,0,0,0,0,0,0,0,0,0,0,0]
[null,null,"Low-carbon packaging ",0,0,0,0,0,1,1,1,1,1,1,1,1,1,0,0,1,0,1,0,0,0,1,1,0,1,0,-1,0,-1,0,1,1,0,0,0,0,0,0,0,0,0,0,0,0,1,0,0,0,0,0]
["Transport","Transport of goods","Optimisation of timetables",1,0,1,0,1,1,1,0,1,1,0,0,1,1,-1,0,0,1,1,1,0,0,1,0,1,0,0,1,0,1,0,0,1,-1,0,0,1,0,0,0,0,0,0,0,0,1,0,0,1,0,0]
[null,null,"Optimisation of routes",1,0,1,0,1,0,1,0,1,1,0,0,1,1,-1,0,0,1,1,1,0,0,1,0,1,0,0,1,0,1,0,0,1,0,0,0,1,0,0,0,0,0,0,0,0,1,0,0,1,0,0]
[null,null,"Optimisation of loads",1,0,1,0,1,0,1,0,1,1,0,0,1,1,-1,0,0,1,1,1,0,0,1,0,1,0,0,1,0,1,0,0,1,0,0,0,1,0,0,0,0,0,0,0,0,1,0,0,1,0,0]
[null,null,"Optimisation of the fleet",1,0,1,0,1,0,1,0,1,1,0,0,1,1,-1,0,0,1,1,1,0,0,1,0,1,0,0,1,0,1,0,0,1,-1,0,0,1,0,0,0,0,0,0,0,0,1,0,0,1,0,0]
[null,null,"Promote electromobility",1,0,1,0,1,1,1,0,1,1,0,1,1,1,-1,0,0,1,1,1,0,0,1,1,1,0,0,1,0,1,0,0,1,0,0,0,1,0,0,0,0,0,0,0,0,1,0,0,1,0,0]
[null,null,"Promotion of modal shift for freight",1,0,1,0,1,0,1,0,1,1,0,0,1,1,-1,0,0,1,1,1,0,0,1,0,0,0,0,1,0,1,0,0,1,0,0,0,1,0,0,0,0,0,0,0,0,1,0,0,1,0,0]
[null,null,"Regular maintenance",1,0,1,0,1,0,1,0,1,1,0,1,1,1,-1,0,0,1,1,1,0,0,1,0,0,0,0,1,0,1,0,0,1,0,0,0,1,0,0,0,0,0,0,0,0,1,0,0,1,0,0]
[null,null,"Driver training",1,0,1,0,1,0,1,0,1,1,0,0,1,1,0,0,0,1,1,1,0,0,1,0,0,0,0,1,0,1,0,0,1,0,0,0,1,0,0,0,0,0,0,0,0,1,0,0,1,0,0]
["Management & Maintenance measures","Management & Maintenance measures","Green supply chain management",null,null,null,null,null,1,0,0,0,0,0,0,1,1,1,1,1,1,1,1,0,1,1,1,1,0,0,0,0,1,0,0,0,0,0,0,null,1,0,0,0,0,0,0,0,0,0,0,0,0,0]
[null,null,"Improved energy management",0,0,0,0,0,0,0,0,0,0,1,1,1,1,1,1,1,1,1,1,1,1,1,0,0,1,0,0,0,0,0,0,0,0,0,0,0,0,0,0,0,0,0,0,0,0,0,0,0,1,1]
[null,null,"Improved environmental awareness at the management level",1,0,0,0,0,0,0,0,0,1,1,1,1,1,1,1,1,1,1,1,0,1,1,1,1,1,0,0,1,1,0,1,0,1,0,0,0,0,0,0,0,0,0,0,0,0,0,0,0,0,0]
["Occupant behaviour","Occupant behaviour","Employee engagement and training",1,0,null,null,null,0,0,0,0,0,0,0,0,0,0,0,0,0,0,0,0,0,0,0,0,0,0,0,0,1,0,0,0,0,-1,0,0,0,0,0,0,0,0,0,0,1,0,1,1,1,1]
[null,null,"Motivation",1,0,null,null,null,0,0,0,0,0,0,0,0,0,0,0,0,0,0,0,0,0,0,0,0,0,0,0,0,0,0,0,0,0,0,0,0,0,0,0,0,0,0,0,0,0,0,0,1,1,1]

{"sheet":"GRC_top","index":20,"n_rows":97,"n_cols":56,"rows_kept":97,"cut":false,"hidden":true,"merged":[[0,51,0,53],[2,0,56,0],[2,1,6,1],[7,1,16,1],[17,1,22,1],[23,1,33,1],[34,1,39,1],[40,1,44,1],[45,1,49,1],[50,1,52,1],[0,3,0,8],[0,9,0,14],[0,15,0,24],[0,25,0,37],[0,38,0,44],[0,45,0,50],[53,1,56,1],[57,0,83,0],[57,1,60,1],[61,1,63,1],[64,1,72,1],[73,1,74,1],[75,1,83,1],[84,0,91,0],[84,1,91,1],[92,0,94,0],[92,1,94,1],[95,0,96,0],[95,1,96,1]]}
[null,null,null,"Social",null,null,null,null,null,"Health",null,null,null,null,null,"Environment",null,null,null,null,null,null,null,null,null,"Economic",null,null,null,null,null,null,null,null,null,null,null,null,"Security & Safety",null,null,null,null,null,null,"Quality",null,null,null,null,null,"Time"]
[null,null,"EEM/ NEB","Health and well-being","Alleviation of energy poverty","Employee satisfaction","Customers (new, satisfaction, etc.)","Improved supply chain relationships","Work performance","(avoided) mortality","Disease burden \"daly\"","Sickness & absenteeism","Improved air quality","Improved lighting","Reduced noise","Emission reduction","Impact of EE on RES target achievement ","Ecosystem degradation","Reduced water use ","Reduced material consumption","Reduced emissions (dust, CO2, chemical agents etc.)","Reduced noise pollution","Reduced use of non-renewable resources ","Reduced litigations risks","Reduced waste","Improvement of compatitiveness","Innovation impacts","Reduction of (maintenance) costs","Reduction of emission or disposal fees","Shorter production cycle","Increased production yields","Increased real estate value","Reduction of (operating) costs","Macro economy","Usage of waste streams","Turnover of energy efficiency goods ","Employment effects","Impact on public budgets","Energy security","Security of supply / self sufficiency","Supplier diversity ","Operation safety of equipment","Less maintenance","Electrical safety","Reduced injuries","Accurate monitoring","Right First Time","Increased quality of products","Increased corporate image","Increased regulatory compliance","Risk reduction","Increased productivity","Increased equipment lifetime","Reduced time of fault detection"]
["Building","Envelope","Improvement to visible building envelope elements",0,0,0,0,0,0,0,0,0,0,0,0,1,1,0,0,0,1,0,0,0,0,1,0,0,1,0,0,1,1,0,0,0,0,1,1,0,0,0,0,0,0,0,0,0,1,0,0,0,0,0,null,0]
[null,null,"Improvements to non-visible building envelope elements",0,0,0,0,0,0,0,0,0,0,0,0,1,1,0,0,0,1,0,0,0,0,1,0,0,1,0,0,1,1,0,0,0,0,1,1,0,0,0,0,0,0,0,0,0,0,0,0,0,0,0,null,0]
[null,null,"Replacemert of windows",0,0,0,0,0,0,0,0,0,0,0,0,1,1,0,0,0,1,0,0,0,0,1,0,0,1,0,0,1,1,0,0,0,0,1,1,0,0,0,0,0,0,0,0,0,0,0,0,0,0,0,null,0]
[null,null,"Increasing the air-tightness of the building",1,0,1,0,0,1,0,0,0,1,0,1,1,1,0,0,0,1,1,0,0,0,1,0,0,1,0,0,1,1,0,0,0,0,1,1,0,0,0,0,0,0,0,0,0,0,0,0,0,0,0,null,0]
[null,null,"Shading to reduce summer heat gains",1,0,1,0,0,1,0,0,0,0,0,0,1,1,0,0,0,1,0,0,0,0,1,0,0,1,0,0,1,1,0,0,0,0,1,1,0,0,0,0,0,0,0,0,0,0,0,0,0,0,0,null,0]
[null,"Heating system","Roomwise temperature control",0,0,0,0,0,0,0,0,0,0,0,0,1,1,0,0,0,1,0,0,0,0,1,0,0,1,0,0,1,1,0,0,0,0,1,1,0,0,0,0,0,0,0,0,0,0,0,0,0,0,0,null,0]
[null,null,"Zoning optimisation of the building",0,0,0,0,0,0,0,0,0,0,0,0,1,1,0,0,0,1,0,0,0,0,1,0,0,1,0,0,1,1,0,0,0,0,1,1,0,0,0," ",0,0,0,0,0,0,0,0,0,0,0,null,0]
[null,null,"Optimisation of the heating schedule",0,0,1,0,0,0,0,0,0,0,0,0,1,1,0,0,0,1,0,0,0,0,1,0,0,1,0,0,1,1,0,0,0,0,1,1,0,0,0,0,0,0,1,0,0,0,0,0,0,0,0,null,0]
[null,null,"Lowering setpoint temperature",0,0,0,0,0,0,0,0,0,0,0,0,1,1,0,0,0,1,0,0,0,0,1,0,0,1,0,0,1,1,0,0,0,0,1,1,0,0,0,0,0,0,0,0,0,0,0,0,0,0,0,null,0]
[null,null,"Control optimisation",0,0,0,0,0,0,0,0,0,0,0,0,1,1,0,0,0,1,0,0,0,0,1,0,0,1,0,0,1,1,0,0,0,0,1,1,0,0,0,0,0,0,1,0,0,0,0,1,0,0,0,null,0]
[null,null,"Insulation of the distribution network",0,0,0,0,0,0,0,0,0,0,0,0,1,1,0,0,0,1,0,0,0,0,1,0,0,1,0,0,1,1,0,0,0,0,1,1,0,0,0,0,0,0,0,0,0,0,0,0,0,0,0,null,0]
[null,null,"Hydraulic balancing of the distribution network",0,0,0,0,0,0,0,0,0,0,0,0,1,1,0,0,0,1,0,0,0,0,1,0,0,1,0,0,1,1,0,0,0,0,1,1,0,0,0,0,0,0,0,0,0,0,0,0,0,0,0,null,0]
[null,null,"New, more efficient heat generator",0,0,0,0,0,0,0,0,0,0,0,0,1,1,0,0,0,1,1,0,0,0,1,0,1,1,0,0,1,1,0,0,0,0,1,1,0,0,0,0,0,0,0,0,0,0,1,1,0,0,0,null,0]
[null,null,"Including a renewable based heat source",0,0,0,1,0,0,0,0,0,0,0,0,1,1,0,0,0,1,1,0,0,0,1,0,0,1,0,0,1,1,0,0,0,0,1,1,0,0,0,0,0,0,0,0,0,0,1,0,0,0,0,null,0]
[null,null,"Energy efficient pumps",0,0,0,0,0,0,0,0,0,0,0,0,1,1,0,0,0,1,1,0,0,0,1,0,0,1,0,0,1,1,0,0,0,0,1,1,0,0,0,0,0,0,0,0,0,0,1,0,0,0,0,null,0]
[null,"DHW system","Reducing the DHW demand",0,0,0,0,0,0,0,0,0,0,0,0,1,1,0,1,0,1,0,0,0,0,1,0,0,1,0,0,1,1,0,0,0,0,1,1,0,0,0,0,0,0,0,0,0,0,0,0,0,0,0,null,0]
[null,null,"Insulation of the distribution network",0,0,0,0,0,0,0,0,0,0,0,0,1,1,0,0,0,1,0,0,0,0,1,0,0,1,0,0,1,1,0,0,0,0,1,1,0,0,0,0,0,0,0,0,0,0,0,0,0,1,0,null,0]
[null,null,"Lowering setpoint temperature",0,0,0,0,0,0,0,0,0,0,0,0,1,1,0,0,0,1,0,0,0,0,1,0,0,1,0,0,1,1,0,0,0,0,1,1,0,0,0,0,0,0,0,0,0,0,0,0,0,0,0,null,0]
[null,null,"Circulation network optimisation, decentralisation of DHW production",0,0,0,0,0,0,0,0,0,0,0,0,1,1,0,0,0,1,0,0,0,0,1,0,0,1,0,0,1,1,0,0,0,0,1,1,0,0,0,0,0,0,0,0,0,0,0,0,0,0,0,null,0]
[null,null,"New, more efficient heat generator",0,0,0,0,0,0,0,0,0,0,0,0,1,1,0,0,0,1,1,0,0,0,1,0,1,1,0,0,1,1,0,0,0,0,1,1,0,0,0,0,0,0,0,0,0,0,1,1,0,0,0,null,0]
[null,null,"Including a renewable based heat source",0,0,0,1,0,0,0,0,0,0,0,0,1,0,0,0,0,1,1,0,0,0,1,0,0,1,0,0,1,1,0,0,0,0,1,1,0,0,0,0,0,0,0,0,0,1,1,0,0,0,0,null,0]
[null,"Cooling system","Roomwise temperature control",0,0,0,0,0,0,0,0,0,0,0,0,1,1,0,0,0,1,0,0,0,0,1,0,0,1,0,0,1,1,0,0,0,0,1,1,0,0,0,0,0,0,1,0,0,0,0,0,0,0,0,null,0]
[null,null,"Zoning optimisation of the building",0,0,0,0,0,0,0,0,0,0,0,0,1,1,0,0,0,1,0,0,0,0,1,0,0,1,0,0,1,1,0,0,0,0,1,1,0,0,0,0,0,0,0,0,0,0,0,0,0,0,0,null,0]
[null,null,"Optimisation of the cooling schedule",0,0,0,0,0,0,0,0,0,0,0,0,1,1,0,0,0,1,0,0,0,0,1,0,0,1,0,0,1,1,0,0,0,0,1,1,0,0,0,0,0,0,0,0,0,0,0,0,0,0,0,null,0]
[null,null,"Increasing setpoint temperature",0,0,0,0,0,0,0,0,0,0,0,0,1,1,0,0,0,1,0,0,0,0,1,0,0,1,0,0,1,1,0,0,0,0,1,1,0,0,0,0,0,0,0,0,0,0,0,0,0,0,0,null,0]
[null,null,"Control optimisation",0,0,0,0,0,0,0,0,0,0,0,0,1,1,0,0,0,1,0,0,0,0,1,0,0,1,0,0,1,1,0,0,0,0,1,1,0,0,0,0,0,0,1,0,0,0,0,1,0,0,0,null,0]
[null,null,"Insulation of the distribution network",0,0,0,0,0,0,0,0,0,0,0,0,1,1,0,0,0,1,0,0,0,0,1,0,0,1,0,0,1,1,0,0,0,0,1,1,0,0,0,0,0,0,0,0,0,0,0,0,0,1,0,null,0]
[null,null,"Hydraulic balancing of the distribution network",0,0,0,0,0,0,0,0,0,0,0,0,1,1,0,0,0,1,0,0,0,0,1,0,0,1,0,0,1,1,0,0,0,0,1,1,0,0,0,0,0,0,0,0,0,0,0,0,0,0,0,null,0]
[null,null,"New, more efficient heat generator",0,0,0,0,0,0,0,0,0,0,0,0,1,1,0,0,0,1,0,0,0,0,1,0,1,1,0,0,1,1,0,0,0,0,1,1,0,0,0,0,0,0,0,0,0,0,0,0,0,0,0,null,0]
[null,null,"Energy efficient pumps",0,0,0,0,0,0,0,0,0,0,0,0,1,1,0,0,0,1,1,0,0,0,1,0,0,1,0,0,1,1,0,0,0,0,1,1,0,0,0,0,0,0,0,0,0,0,0,0,0,0,0,null,0]
[null,null,"Utilisation of free cooling",1,0,1,0,0,1,0,0,0,1,0,0,1,1,0,0,0,1,0,0,0,0,1,0,0,1,0,0,1,1,0,0,0,0,1,1,0,0,0,0,0,0,0,0,0,0,0,0,0,0,0,null,0]
[null,null,"Utilising the waste heat from the cooling system for heating&DHW",0,0,0,0,0,0,0,0,0,0,0,0,1,1,0,0,0,1,0,0,0,0,1,0,0,1,0,0,1,1,0,0,0,0,1,1,0,0,0,0,0,0,0,0,0,0,0,0,0,1,0,null,0]
[null,"Ventilation system","Schedule optimisation",0,0,0,0,0,0,0,0,0,1,0,0,1,1,0,0,0,1,0,0,0,0,1,0,0,1,0,0,1,1,0,0,0,0,1,0,0,0,0,0,0,0,0,0,0,0,0,1,0,1,0,null,0]
[null,null,"Control optimisation",0,0,0,0,0,0,0,0,0,1,0,0,1,1,0,0,0,1,0,0,0,0,1,0,0,1,0,0,1,1,0,0,0,0,1,0,0,0,0,0,0,0,1,0,0,0,0,1,0,0,0,null,0]
[null,null,"Air velocity optimisation",0,0,0,0,0,0,0,0,1,1,0,0,1,1,0,0,0,1,0,0,0,0,1,0,0,1,0,0,1,1,0,0,0,0,1,0,0,0,0,0,0,0,0,0,0,0,0,0,0,0,0,null,0]
[null,null,"Inlet air temperature optimisation",0,0,0,0,0,0,0,0,0,1,0,0,1,1,0,0,0,1,0,0,0,0,1,0,0,1,0,0,1,1,0,0,0,0,1,0,0,0,0,0,0,0,0,0,0,0,0,0,0,0,0,null,0]
[null,null,"Heat recovery",0,0,0,0,0,0,0,0,0,0,0,0,1,1,0,0,0,1,0,0,0,0,1,0,0,1,0,0,1,1,0,1,0,0,1,0,0,0,0,0,0,0,0,0,0,0,0,0,0,1,0,null,0]
[null,null,"Energy efficient fans",0,0,0,0,0,0,0,0,0,0,0,0,1,1,0,0,0,1,1,0,0,0,1,0,0,1,0,0,1,1,0,0,0,0,1,0,0,0,0,0,0,0,0,0,0,0,0,0,0,0,0,null,0]
[null,"Lighting","Energy efficient lights (e.g LED)",0,0,0,0,0,0,0,0,0,0,1,0,1,1,0,0,0,1,0,0,0,0,1,0,0,1,0,0,1,1,0,0,0,0,1,0,0,0,0,0,0,0,0,0,0,1,1,0,0,0,0,null,0]
[null,null,"Level of illumination",1,0,1,0,0,1,0,0,1,1,1,0,1,1,0,0,0,1,0,0,0,0,1,0,0,1,0,0,1,1,0,0,0,0,1,0,0,0,0,0,0,0,0,0,0,0,0,0,1,0,0,null,0]
[null,null,"Schedule optimisation",0,0,0,0,0,0,0,0,0,0,1,0,1,1,0,0,0,1,0,0,0,0,1,0,0,1,0,0,1,1,0,0,0,0,1,0,0,0,0,0,0,0,0,0,0,0,0,0,0,0,0,null,0]
[null,null,"Control optimisation",0,0,0,0,0,0,0,0,0,0,1,0,1,1,0,0,0,1,0,0,0,0,1,0,0,1,0,0,1,1,0,0,0,0,1,0,0,0,0,0,0,0,1,0,0,0,0,0,0,0,0,null,0]
[null,null,"Utilisation of natural light",1,0,1,0,0,1,0,0,0,1,1,0,1,1,0,0,0,1,0,0,0,0,1,0,0,1,0,0,1,1,0,0,0,0,1,0,0,0,0,0,0,0,0,0,0,0,0,0,1,0,0,null,0]
[null,"Renewable energy","Solar PV",0,0,0,1,0,0,0,0,0,0,0,0,1,0,0,0,0,1,1,0,0,0,1,0,0,1,0,0,1,1,0,0,1,0,1,1,0,0,0,0,0,0,0,0,0,1,0,0,0,0,0,null,0]
[null,null,"Wind turbine",0,0,0,1,0,0,0,0,0,0,0,0,1,0,0,0,0,1,-1,0,0,0,1,0,0,1,0,0,1,1,0,0,1,0,1,1,0,0,0,0,0,0,0,0,0,1,0,0,0,0,0,null,0]
[null,null,"Solar collector system",0,0,0,1,0,0,0,0,0,0,0,0,1,0,0,0,0,1,1,0,0,0,1,0,0,1,0,0,1,1,0,0,0,0,1,1,0,0,0,0,0,0,0,0,0,1,0,0,0,0,0,null,0]
[null,null,"Geothermal heat pump system",0,0,0,1,0,0,0,0,0,0,0,0,1,0,0,0,0,1,1,0,0,0,1,0,0,1,0,0,1,1,0,0,0,0,1,1,0,0,0,0,0,0,0,0,0,1,0,0,0,0,0,null,0]
[null,null,"Passive measures",0,0,0,1,0,0,0,0,0,0,0,0,1,0,0,0,0,1,1,0,0,0,1,0,0,1,0,0,1,1,0,0,0,0,1,1,0,0,0,0,0,0,0,0,0,1,0,0,0,0,0,null,0]
[null,"Appliances","Energy efficient appliances",0,0,0,0,0,0,0,0,0,0,0,0,1,1,0,0,0,1,0,0,0,0,1,0,0,1,0,0,1,1,0,0,0,0,1,0,0,0,0,0,0,0,0,0,0,1,0,0,0,0,0,null,0]
[null,null,"Reducing stand-by consumption",0,0,0,0,0,0,0,0,0,0,0,0,1,1,0,0,0,1,0,0,0,0,1,0,0,1,0,0,1,1,0,0,0,0,1,0,0,0,0,0,0,0,0,0,0,0,0,0,0,0,0,null,0]
[null,null,"Optimal usage, on demand operation",0,0,0,0,0,0,0,0,0,0,0,0,1,1,0,0,0,1,0,0,0,0,1,0,0,1,0,0,1,1,0,0,0,0,1,0,0,0,0,0,0,0,0,0,0,0,0,0,0,1,0,null,0]
[null,"Building automation","Building automation and management systems",0,0,0,0,0,0,0,0,0,0,0,0,1,1,0,0,0,1,0,0,0,0,1,0,0,1,0,0,1,1,0,0,0,-1,1,1,0,0,0,0,0,0,1,0,0,0,1,0,1,0,1,null,0]
[null,null,"Energy management system",0,0,0,1,0,0,0,0,0,0,0,0,1,1,0,0,0,1,0,0,0,0,1,0,0,1,0,0,1,1,0,0,0,0,1,1,0,0,0,0,0,0,0,0,0,0,1,1,0,0,0,null,0]
[null,null,"Measured consumption",0,0,0,0,0,0,0,0,0,0,0,0,1,1,0,0,0,1,0,0,0,0,1,0,0,1,0,0,1,1,0,0,0,0,1,1,0,0,0,0,0,0,1,0,0,0,0,0,0,0,0,null,0]
[null,null,"Improved smart-readiness",0,0,0,0,0,0,0,0,0,0,0,0,1,1,0,0,0,1,0,0,0,0,1,0,0,1,0,0,1,1,0,0,0,0,1,1,0,0,0,0,0,0,0,0,0,0,0,0,0,0,0,null,0]
["Processes","Compressed air system","Check the required pressure",0,0,0,0,0,0,1,1,1,0,0,0,1,1,0,0,0,1,0,0,1,0,1,0,0,1,0,0,1,1,0,0,0,0,1,0,0,0,1,0,0,1,0,0,0,0,0,0,0,0,1,null,0]
[null,null,"Regular check for leakages",0,0,0,0,0,0,0,0,0,0,0,0,1,1,0,0,0,1,0,0,0,0,1,0,0,1,0,0,1,1,0,0,0,0,1,0,0,0,1,0,0,0,0,0,0,0,1,0,0,0,1,null,0]
[null,null,"Waste heat recovery ",0,0,0,0,0,0,0,0,0,0,0,0,1,1,1,0,0,1,0,0,0,0,1,0,0,1,0,0,1,1,0,1,0,0,1,0,0,0,1,0,0,0,0,0,0,0,0,0,0,0,0,null,0]
[null,null,"Regular maintenance of the compressor",0,0,0,0,0,0,1,0,0,0,0,1,1,1,0,0,0,1,1,0,1,0,1,0,1,1,0,0,0,1,0,0,0,0,1,0,0,0,1,1,1,1,0,0,0,0,1,1,0,1,1,null,0]
[null,"Steam system","Check the required pressure",0,0,0,0,0,0,1,1,1,0,0,0,1,1,1,0,0,1,0,0,1,0,1,0,0,1,0,0,1,1,0,0,0,0,1,1,0,0,1,0,0,1,0,0,0,0,0,0,0,0,1,null,0]
[null,null,"Check for leakages",1,0,1,0,0,1,1,1,1,0,0,0,1,1,1,1,0,1,0,0,1,0,1,0,0,1,0,0,1,1,0,0,0,0,1,1,0,0,1,0,0,1,0,0,0,0,0,0,0,0,1,null,0]
[null,null,"Regular maintenance of the boiler",0,0,0,0,0,0,1,0,0,0,0,1,1,1,1,0,0,1,1,0,1,0,1,0,0,1,0,0,0,1,0,0,0,0,1,1,0,0,1,1,1,1,0,0,0,0,1,1,0,1,1,null,0]
[null,"Refrigeration","Optimisation of the required temperatures",0,0,0,0,0,0,0,0,0,0,0,0,1,1,0,0,0,1,0,0,0,0,1,0,0,1,0,0,1,1,0,0,0,0,1,0,0,0,0,0,0,0,0,0,0,0,0,0,0,1,0,null,0]
[null,null,"Waste heat recovery ",0,0,0,0,0,0,0,0,0,0,0,0,1,1,1,0,0,1,0,0,0,0,1,0,0,1,0,0,1,1,0,1,0,0,1,0,0,0,0,0,0,0,0,0,0,0,0,0,0,0,0,null,0]
[null,null,"Install frequency control (i.e. VRF) on chiller compressor.",0,0,0,0,0,0,0,0,0,0,0,0,1,1,0,0,0,1,0,0,0,0,1,0,0,1,0,0,1,1,0,0,0,0,1,0,0,0,0,0,0,0,0,0,0,0,0,0,0,0,0,null,0]
[null,null,"Install high efficiency or 2-rev electromotor on evaporation fan",0,0,0,0,0,0,0,0,0,0,0,0,1,1,0,0,0,1,0,0,0,0,1,0,0,1,0,0,1,1,0,0,0,0,1,0,0,0,0,0,0,0,0,0,0,0,0,0,0,0,0,null,0]
[null,null,"Build a cooled front space for refrigeration units.",0,0,0,0,0,0,0,0,0,0,0,0,1,1,0,0,0,1,0,0,0,0,1,0,0,1,0,0,1,1,0,0,0,0,1,0,0,0,0,0,0,0,0,0,0,0,0,0,0,0,0,null,0]
[null,null,"Use hot refrigerant gas from the compressor for the initial stages of the defrosting cycle.",0,0,0,0,0,0,0,0,0,0,0,0,1,1,0,0,0,1,0,0,0,0,1,0,0,1,0,0,1,1,0,0,0,0,1,0,0,0,0,0,0,0,0,0,0,0,0,0,0,0,0,null,0]
[null,null,"Use excess heat from other production processes for the production of cooling using adsorption/absorption cooling.",0,0,0,0,0,0,0,0,0,0,0,0,1,1,0,0,0,1,0,0,0,0,1,0,0,1,0,0,1,1,0,0,0,0,1,0,0,0,0,0,0,0,0,0,0,0,0,0,0,0,0,null,0]
[null,null,"Utilisation of free cooling",0,0,0,0,0,0,0,0,0,0,0,0,1,1,0,0,0,1,0,0,0,0,1,0,0,1,0,0,1,1,0,0,0,0,1,0,0,0,0,0,0,0,0,0,0,0,0,0,0,0,0,null,0]
[null,null,"Replacement of the equipment.",0,0,0,0,0,0,0,0,0,0,0,1,1,1,0,0,0,1,0,0,0,0,1,0,1,1,1,0,1,1,0,0,0,0,1,0,0,0,0,1,1,0,0,0,0,0,0,1,1,0,1,null,0]
[null,"Water systems","Efficient pumps for the Water treatment system (if any)",0,0,0,0,0,0,0,0,0,0,0,0,1,1,0,0,0,1,1,0,0,0,1,0,0,1,0,0,1,1,0,0,0,0,1,0,0,0,0,0,0,0,0,0,0,0,0,0,0,0,0,null,0]
[null,null,"Advanced process of water recovery ",0,0,0,0,0,0,0,0,0,0,0,0,0,0,0,1,1,0,0,0,0,1,0,0,0,0,0,0,0,0,0,0,0,0,0,0,0,0,0,0,0,0,0,0,0,0,0,0,0,0,0,null,0]
[null,"Production line","Optimisation of the production process and workflow",0,0,0,0,0,0,0,0,0,0,0,0,1,1,0,0,0,1,0,0,0,0,1,0,0,1,1,1,0,1,1,0,0,-1,1,0,0,0,0,0,0,0,1,0,1,0,0,1,1,0,0,null,0]
[null,null,"Waste reduction & recycling in the production line ",0,0,0,0,0,0,0,0,0,0,0,0,1,1,1,0,1,1,0,0,0,1,1,0,0,1,0,0,1,1,1,1,0,0,1,0,0,0,0,0,0,0,0,0,0,1,0,0,0,0,0,null,0]
[null,null,"Optimization of motor driven systems ",0,0,0,0,0,0,0,0,0,0,0,0,1,1,0,0,0,1,0,0,0,0,1,0,0,1,1,1,1,1,0,0,0,0,1,0,0,0,0,0,0,0,0,0,0,0,0,0,0,1,0,null,0]
[null,null,"High efficient transmission system",0,0,0,0,0,0,0,0,0,0,0,0,1,1,0,0,0,1,0,0,0,0,1,0,0,1,0,0,1,1,1,0,0,0,1,0,0,0,1,0,0,0,0,0,0,0,0,0,0,0,0,null,0]
[null,null,"Reduction of the manual labor",1,0,1,0,0,1,1,1,1,0,0,0,0,0,0,0,0,0,0,0,0,0,0,0,-1,0,0,0,0,0,1,0,0,-1,0,0,0,0,0,0,0,0,0,0,1,0,0,0,1,0,0,null,0]
[null,null,"Regular maintenance of the equipment",0,0,0,0,0,0,0,0,0,0,0,0,1,1,0,0,0,1,0,0,0,0,1,0,1,1,0,0,0,1,0,0,0,0,1,0,0,0,1,1,1,0,0,0,1,0,1,1,0,1,1,null,0]
[null,null,"Replacement of the equipment",0,0,0,0,0,0,0,0,0,0,0,1,1,1,0,0,0,1,1,1,0,0,1,0,0,1,1,1,1,1,0,0,0,0,1,0,0,0,0,0,0,0,0,0,0,0,0,1,0,0,1,null,0]
[null,null,"Waste heat recovery ",0,0,0,0,0,0,0,0,0,0,0,0,1,1,1,0,0,1,0,0,0,0,1,0,0,1,0,0,1,1,0,1,0,0,1,0,0,0,0,0,0,0,0,0,0,0,0,0,0,0,0,null,0]
[null,null,"Low-carbon packaging ",0,0,0,1,0,0,0,0,0,0,0,0,1,1,0,0,0,1,0,0,0,0,1,0,0,1,0,0,0,1,0,0,0,0,1,0,0,0,0,0,0,0,0,0,0,1,0,0,0,0,0,null,0]
["Transport","Transport of goods","Optimisation of timetables",1,0,1,0,0,1,0,0,0,0,0,0,1,1,0,0,0,1,0,0,0,0,1,0,0,1,0,0,0,1,0,0,0,0,1,1,0,0,0,0,0,0,1,0,0,0,0,0,1,0,0,null,0]
[null,null,"Optimisation of routes",1,0,1,0,0,1,0,0,0,0,0,0,1,1,0,0,0,1,0,0,0,0,1,0,0,1,0,0,0,1,0,0,0,0,1,1,0,0,0,0,0,0,0,0,0,0,0,0,0,0,0,null,0]
[null,null,"Optimisation of loads",0,0,1,0,0,0,0,0,0,0,0,0,1,1,0,0,0,1,0,0,0,0,1,0,0,1,0,0,0,1,0,0,0,0,1,1,0,0,0,0,0,0,0,0,0,0,0,0,0,0,0,null,0]
[null,null,"Optimisation of the fleet",0,0,0,0,0,0,0,0,0,0,0,0,1,1,0,0,0,1,0,0,0,0,1,0,0,1,0,0,0,1,0,0,0,0,1,1,0,0,0,0,0,0,0,0,0,0,0,0,0,0,0,null,0]
[null,null,"Promote electromobility",0,0,0,0,0,0,0,0,0,0,0,0,1,1,0,0,0,1,0,0,0,0,1,0,0,1,0,0,0,1,0,0,0,0,1,1,0,0,0,0,0,0,0,0,0,1,0,0,0,0,0,null,0]
[null,null,"Promotion of modal shift for freight",0,0,0,0,0,0,0,0,0,0,0,0,1,1,0,0,0,1,0,0,0,0,1,0,0,1,0,0,0,1,0,0,0,0,1,1,0,0,0,0,0,0,0,0,0,0,0,0,0,0,0,null,0]
[null,null,"Regular maintenance",0,0,0,0,0,0,0,0,0,0,0,0,1,1,0,0,0,1,1,0,0,0,1,0,1,1,0,0,0,1,0,0,0,0,1,1,0,0,1,1,1,0,0,0,0,0,0,1,0,1,1,null,0]
[null,null,"Driver training",0,0,1,0,0,0,1,0,0,0,0,0,1,1,0,0,0,1,0,0,1,0,1,0,0,1,0,0,0,1,0,0,0,0,1,1,0,0,1,0,0,1,0,0,0,0,0,0,1,0,0,null,0]
["Management & Maintenance measures","Management & Maintenance measures","Green supply chain management",1,0,1,1,1,1,0,0,0,0,0,0,1,1,0,0,0,1,0,0,0,0,1,0,0,1,0,0,0,1,0,0,0,0,1,0,0,1,0,0,0,0,0,0,0,1,0,0,0,0,0,null,0]
[null,null,"Improved energy management",1,0,1,1,0,1,0,0,0,0,0,0,1,1,0,0,0,1,0,0,0,0,1,0,1,1,0,0,0,1,0,0,0,0,1,0,0,0,0,0,0,0,1,0,0,0,0,0,0,0,0,null,0]
[null,null,"Improved environmental awareness at the management level",1,0,1,1,0,1,0,0,0,0,0,0,1,1,0,0,0,1,0,0,0,0,1,0,0,1,0,0,0,1,0,0,0,0,1,0,0,0,0,0,0,0,0,0,0,1,0,0,0,0,0,null,0]
["Occupant behaviour","Occupant behaviour","Employee engagement and training",1,0,1,0,0,1,0,0,0,0,0,0,1,1,0,0,0,1,0,0,0,0,1,0,0,1,0,0,0,1,0,0,0,0,1,0,0,0,0,0,1,0,0,0,0,1,0,0,1,0,1,null,0]
[null,null,"Motivation",1,0,1,0,0,1,0,0,0,0,0,0,1,1,0,0,0,1,0,0,0,0,1,0,0,1,0,0,0,1,0,0,0,0,1,0,0,0,0,0,0,0,0,0,0,0,0,0,1,0,0,null,0]

{"sheet":"HUN_top","index":21,"n_rows":97,"n_cols":54,"rows_kept":97,"cut":false,"hidden":true,"merged":[[0,51,0,53],[2,0,56,0],[2,1,6,1],[7,1,16,1],[17,1,22,1],[23,1,33,1],[34,1,39,1],[40,1,44,1],[45,1,49,1],[50,1,52,1],[0,3,0,7],[0,8,0,14],[0,15,0,24],[0,25,0,37],[0,38,0,44],[0,45,0,50],[53,1,56,1],[57,0,83,0],[57,1,60,1],[61,1,63,1],[64,1,72,1],[73,1,74,1],[75,1,83,1],[84,0,91,0],[84,1,91,1],[92,0,94,0],[92,1,94,1],[95,0,96,0],[95,1,96,1]]}
[null,null,null,"Social",null,null,null,null,"Health",null,null,null,null,null,null,"Environment",null,null,null,null,null,null,null,null,null,"Economic",null,null,null,null,null,null,null,null,null,null,null,null,"Security & Safety",null,null,null,null,null,null,"Quality",null,null,null,null,null,"Time"]
[null,null,"EEM/NEB","Employee satisfaction","Alleviation of energy poverty","Customers (new, satisfaction, etc.)","Improved supply chain relationships","Work performance","Health and well-being","(avoided) mortality","Disease burden \"daly\"","Sickness & absenteeism","Improved air quality","Improved lighting","Reduced noise","Emission reduction","Impact of EE on RES target achievement ","Ecosystem degradation","Reduced water use ","Reduced material consumption","Reduced emissions (dust, CO2, chemical agents etc.)","Reduced noise pollution","Reduced use of non-renewable resources ","Reduced litigations risks","Reduced waste","Improvement of compatitiveness","Innovation impacts","Reduction of (maintenance) costs","Reduction of emission or disposal fees","Shorter production cycle","Increased production yields","Increased real estate value","Reduction of (operating) costs","Macro economy","Usage of waste streams","Turnover of energy efficiency goods ","Employment effects","Impact on public budgets","Energy security","Security of supply / self sufficiency","Supplier diversity ","Operation safety of equipment","Less maintenance","Electrical safety","Reduced injuries","Accurate monitoring","Right First Time","Increased quality of products","Increased corporate image","Increased regulatory compliance","Risk reduction","Increased productivity","Increased equipment lifetime","Reduced time of fault detection"]
["Building","Envelope","Improvement to visible building envelope elements",1,0,1,0,0,0,0,0,0,0,0,1,1,0,0,0,0,0,0,1,1,0,1,0,0,1,0,0,1,1,0,0,0,0,0,1,1,0,0,0,0,0,0,0,0,1,1,0,0,0,0]
[null,null,"Improvements to non-visible building envelope elements",0,0,0,0,0,0,0,0,0,0,0,1,1,0,0,0,0,0,0,1,1,0,0,0,0,1,0,0,1,1,0,0,0,0,0,1,1,0,0,0,0,0,0,0,0,0,1,0,0,0,0]
[null,null,"Replacemert of windows",1,0,0,0,0,0,0,0,1,1,0,1,1,0,0,0,0,0,0,1,1,0,0,0,0,1,0,0,1,1,0,0,0,0,0,1,1,0,0,0,0,0,0,0,0,0,1,0,0,0,0]
[null,null,"Increasing the air-tightness of the building",1,0,0,0,0,0,0,0,1,1,0,1,1,0,0,0,0,0,0,1,1,0,0,0,0,1,0,0,1,1,0,0,0,0,0,1,1,0,0,0,0,0,0,0,0,0,1,0,0,0,0]
[null,null,"Shading to reduce summer heat gains",1,0,0,0,1,0,0,0,1,0,1,0,1,0,0,0,0,0,0,1,1,0,0,0,0,1,0,0,1,1,0,0,0,0,0,1,1,0,0,0,0,0,0,0,0,0,1,0,0,0,0]
[null,"Heating system","Roomwise temperature control",1,0,0,0,0,0,0,0,1,1,0,0,1,0,0,0,0,0,0,1,1,0,0,0,-1,1,0,0,1,1,0,0,0,0,0,1,0,0,0,0,0,0,0,0,0,0,1,0,0,0,0]
[null,null,"Zoning optimisation of the building",0,0,0,0,0,0,0,0,0,0,0,0,1,0,0,0,0,0,0,1,1,0,0,0,0,1,0,0,1,1,0,0,0,0,0,1,0,0,0,0,0,0,0,0,0,0,1,0,0,0,0]
[null,null,"Optimisation of the heating schedule",0,0,0,0,0,0,0,0,0,0,0,0,1,0,0,0,0,0,0,1,1,0,0,0,0,1,0,0,1,1,0,0,0,0,0,1,0,0,0,0,0,0,0,0,0,0,1,0,0,0,0]
[null,null,"Lowering setpoint temperature",1,0,0,0,0,0,0,0,-1,-1,0,0,1,0,0,0,0,0,0,1,1,0,0,0,0,1,0,0,1,1,0,0,0,0,0,1,0,0,0,0,0,0,0,0,0,0,1,0,0,0,0]
[null,null,"Control optimisation",0,0,0,0,0,0,0,0,0,1,0,0,1,0,0,0,0,0,0,1,1,0,0,0,-1,1,0,0,1,1,0,0,0,0,0,1,0,0,0,0,0,0,0,0,0,0,1,0,0,0,0]
[null,null,"Insulation of the distribution network",0,0,0,0,0,0,0,0,0,0,0,0,1,0,0,0,0,0,0,1,1,0,0,0,0,1,0,0,1,1,0,0,0,0,0,1,0,0,0,0,0,0,0,0,0,0,1,0,0,0,0]
[null,null,"Hydraulic balancing of the distribution network",1,0,0,0,0,0,0,0,1,0,0,1,1,0,0,0,0,0,0,1,1,0,0,0,-1,1,0,0,1,1,0,0,0,0,0,1,0,0,0,0,0,0,0,0,0,0,1,0,0,0,0]
[null,null,"New, more efficient heat generator",0,0,0,0,0,0,0,0,0,0,0,0,1,0,0,0,0,0,0,1,1,0,0,1,1,1,0,0,1,1,0,0,0,0,0,1,0,0,0,1,0,0,0,0,0,0,1,0,0,1,1]
[null,null,"Including a renewable based heat source",0,0,0,0,0,0,0,0,0,0,0,0,1,1,0,0,0,1,0,1,1,0,0,1,0,1,0,0,1,1,0,0,0,0,0,1,1,0,0,0,0,0,0,0,0,1,1,0,0,0,0]
[null,null,"Energy efficient pumps",0,0,0,0,0,0,0,0,0,0,0,1,1,0,0,0,0,0,0,1,1,0,0,0,1,1,0,0,1,1,0,0,0,0,0,1,0,0,0,0,0,0,0,0,0,0,1,0,0,0,0]
[null,"DHW system","Reducing the DHW demand",1,0,0,0,0,0,0,0,0,0,0,0,1,0,0,1,0,0,0,1,1,1,0,0,0,1,0,0,1,1,0,0,0,0,0,1,0,0,0,0,0,0,0,0,0,0,1,0,0,0,0]
[null,null,"Insulation of the distribution network",0,0,0,0,0,0,0,0,0,0,0,0,1,0,0,0,0,0,0,1,1,0,0,0,0,1,0,0,1,1,0,0,0,0,0,1,0,0,0,0,0,0,0,0,0,0,1,0,0,0,0]
[null,null,"Lowering setpoint temperature",1,0,0,0,0,0,0,0,0,0,0,0,1,0,0,0,0,0,0,1,1,0,0,0,0,1,0,0,1,1,0,0,0,0,0,1,0,0,0,0,0,0,0,0,0,0,1,0,0,0,0]
[null,null,"Circulation network optimisation, decentralisation of DHW production",1,0,0,0,0,0,0,0,0,0,0,0,1,0,0,0,0,0,0,1,1,0,0,0,1,1,0,0,1,1,0,0,0,0,0,1,0,0,0,0,0,0,0,0,0,0,1,0,0,0,0]
[null,null,"New, more efficient heat generator",0,0,0,0,0,0,0,0,0,0,0,0,1,0,0,0,0,0,0,1,1,0,0,1,1,1,0,0,1,1,0,0,0,0,0,1,0,0,0,1,0,0,0,0,0,1,1,0,0,1,1]
[null,null,"Including a renewable based heat source",0,0,0,0,0,0,0,0,0,0,0,0,1,1,0,0,0,1,0,1,1,0,0,1,0,1,0,0,1,1,0,0,0,0,0,1,1,0,0,0,0,0,0,0,0,0,1,0,0,0,0]
[null,"Cooling system","Roomwise temperature control",1,0,0,0,0,0,0,0,1,1,0,0,1,0,0,0,0,0,0,1,1,0,0,0,-1,1,0,0,1,1,0,0,0,0,0,1,0,0,0,0,0,0,0,0,0,0,1,0,0,0,0]
[null,null,"Zoning optimisation of the building",0,0,0,0,0,0,0,0,0,0,0,0,1,0,0,0,0,0,0,1,1,0,0,0,0,1,0,0,1,1,0,0,0,0,0,1,0,0,0,0,0,0,0,0,0,0,1,0,0,0,0]
[null,null,"Optimisation of the cooling schedule",0,0,0,0,0,0,0,0,0,0,0,0,1,0,0,0,0,0,0,1,1,0,0,0,0,1,0,0,1,1,0,0,0,0,0,1,0,0,0,0,0,0,0,0,0,0,1,0,0,0,0]
[null,null,"Increasing setpoint temperature",1,0,0,0,0,0,0,0,-1,-1,0,0,1,0,0,0,0,0,0,1,1,0,0,0,0,1,0,0,1,1,0,0,0,0,0,1,0,0,0,0,0,0,0,0,0,0,1,0,0,0,0]
[null,null,"Control optimisation",0,0,0,0,0,0,0,0,1,1,0,0,1,1,0,0,0,0,0,1,1,0,0,0,-1,1,0,0,1,1,0,0,0,0,0,1,0,0,0,0,0,0,0,0,0,0,1,0,0,0,0]
[null,null,"Insulation of the distribution network",0,0,0,0,0,0,0,0,0,0,0,0,1,0,0,0,0,0,0,1,1,0,0,0,0,1,0,0,1,1,0,0,0,0,0,1,0,0,0,0,0,0,0,0,0,0,1,0,0,0,0]
[null,null,"Hydraulic balancing of the distribution network",1,0,0,0,0,0,0,0,1,0,0,0,1,0,0,0,0,0,0,1,1,0,0,0,0,1,0,0,1,1,0,0,0,0,0,1,0,0,0,0,0,0,0,0,0,0,1,0,0,0,0]
[null,null,"New, more efficient heat generator",0,0,0,0,0,0,0,0,0,0,0,0,1,0,0,0,0,0,0,1,1,0,0,0,1,1,0,0,1,1,0,0,0,0,0,1,0,0,0,1,0,0,0,0,0,0,1,0,0,1,1]
[null,null,"Energy efficient pumps",0,0,0,0,0,0,0,0,0,0,0,0,1,0,0,0,0,0,0,1,1,0,0,0,0,1,0,0,1,1,0,0,0,0,0,1,0,0,0,0,0,0,0,0,0,0,1,0,0,0,0]
[null,null,"Utilisation of free cooling",0,0,0,0,0,0,0,0,0,0,0,0,1,0,0,0,0,1,0,1,1,0,0,0,1,1,0,0,1,1,0,0,0,0,0,1,1,0,0,0,0,0,0,0,0,1,1,0,0,0,0]
[null,null,"Utilising the waste heat from the cooling system for heating&DHW",0,0,0,0,0,0,0,0,0,0,0,0,1,1,0,0,0,0,0,1,1,0,0,0,-1,1,0,0,1,1,0,1,0,0,0,1,1,0,0,0,0,0,0,0,0,0,1,0,0,0,0]
[null,"Ventilation system","Schedule optimisation",0,0,0,0,0,0,0,0,0,0,0,0,1,0,0,0,0,0,0,1,1,0,0,0,0,1,0,0,1,1,0,0,0,0,0,1,0,0,0,0,0,0,0,0,0,0,1,0,0,0,0]
[null,null,"Control optimisation",1,0,0,0,1,0,0,0,1,1,0,1,1,0,0,0,0,0,0,1,1,0,0,0,0,1,0,0,1,1,0,0,0,0,0,1,0,0,0,0,0,0,0,0,0,0,1,0,0,0,0]
[null,null,"Air velocity optimisation",1,0,0,0,0,0,0,0,1,1,0,1,1,0,0,0,0,0,0,1,1,0,0,0,0,1,0,0,1,1,0,0,0,0,0,1,0,0,0,0,0,0,0,0,0,0,1,0,0,0,0]
[null,null,"Inlet air temperature optimisation",1,0,0,0,0,0,0,0,1,1,0,0,1,0,0,0,0,0,0,1,1,0,0,0,0,1,0,0,1,1,0,0,0,0,0,1,0,0,0,0,0,0,0,0,0,0,1,0,0,0,0]
[null,null,"Heat recovery",0,0,0,0,0,0,0,0,0,0,0,0,1,0,0,0,0,0,0,1,1,0,0,0,0,1,0,0,1,1,0,1,0,0,0,1,1,0,0,0,0,0,0,0,0,1,1,0,0,0,0]
[null,null,"Energy efficient fans",0,0,0,0,0,0,0,0,0,0,0,1,1,0,0,0,0,0,0,1,1,0,0,0,0,1,0,0,1,1,0,0,0,0,0,1,0,0,0,0,0,0,0,0,0,0,1,0,0,0,0]
[null,"Lighting","Energy efficient lights (e.g LED)",0,0,0,0,0,0,0,0,0,0,1,0,1,0,0,0,0,0,0,1,1,0,0,0,1,1,0,0,1,1,0,0,0,0,0,1,0,0,0,0,0,0,0,0,0,1,1,0,0,0,0]
[null,null,"Level of illumination",1,0,0,0,1,0,0,0,0,0,1,0,1,0,0,0,0,0,0,1,1,0,0,0,0,1,0,0,1,1,0,0,0,0,0,1,0,0,0,0,0,0,0,0,0,0,1,0,0,0,0]
[null,null,"Schedule optimisation",0,0,0,0,0,0,0,0,0,0,0,0,1,0,0,0,0,0,0,1,1,0,0,0,0,1,0,0,1,1,0,0,0,0,0,1,0,0,0,0,0,0,0,0,0,0,1,0,0,0,0]
[null,null,"Control optimisation",0,0,0,0,1,0,0,0,0,0,1,0,1,0,0,0,0,0,0,1,1,0,0,0,-1,1,0,0,1,1,0,0,0,0,0,1,0,0,0,0,0,0,0,0,0,0,1,0,0,0,0]
[null,null,"Utilisation of natural light",1,0,0,0,0,0,0,0,0,0,1,0,1,1,0,0,0,0,0,1,1,0,0,0,0,1,0,0,1,1,0,0,0,0,0,1,1,0,0,1,0,0,0,0,0,1,1,0,0,1,1]
[null,"Renewable energy","Solar PV",0,0,1,0,0,0,0,0,0,0,0,0,1,1,0,0,0,1,0,1,1,0,1,0,-1,1,0,0,1,1,0,0,0,0,0,1,1,0,0,0,0,0,0,0,0,1,1,0,0,0,0]
[null,null,"Wind turbine",0,0,1,0,0,0,0,0,0,0,0,0,1,1,0,0,0,1,0,1,1,0,1,0,-1,1,0,0,1,1,0,0,0,0,0,1,1,0,0,0,0,0,0,0,0,1,1,0,0,0,0]
[null,null,"Solar collector system",0,0,1,0,0,0,0,0,0,0,0,0,1,1,0,0,0,1,0,1,1,0,1,0,-1,1,0,0,1,1,0,0,0,0,0,1,1,0,0,0,0,0,0,0,0,1,1,0,0,0,0]
[null,null,"Geothermal heat pump system",0,0,1,0,0,0,0,0,0,0,0,0,1,1,0,0,0,1,0,1,1,0,1,0,-1,1,0,0,1,1,0,0,0,0,0,1,1,0,0,0,0,0,0,0,0,1,1,0,0,0,0]
[null,null,"Passive measures",0,0,1,0,0,0,0,0,0,0,0,0,1,1,0,0,0,1,0,1,1,0,1,0,0,1,0,0,1,1,0,0,0,0,0,1,1,0,0,0,0,0,0,0,0,1,1,0,0,0,0]
[null,"Appliances","Energy efficient appliances",0,0,0,0,0,0,0,0,0,0,0,1,1,0,0,0,0,0,0,1,1,0,1,1,1,1,0,0,0,1,0,0,0,0,0,1,0,0,0,0,0,0,0,0,0,1,1,0,0,0,0]
[null,null,"Reducing stand-by consumption",0,0,0,0,0,0,0,0,0,0,0,0,1,0,0,0,0,0,0,1,1,0,1,0,0,1,0,0,0,1,0,0,0,0,0,1,0,0,0,0,0,0,0,0,0,0,1,0,0,0,0]
[null,null,"Optimal usage, on demand operation",0,0,0,0,0,0,0,0,0,0,0,0,1,0,0,0,0,0,0,1,1,0,1,0,1,1,0,0,0,1,0,0,0,0,0,1,0,0,0,0,1,0,0,0,0,0,1,0,0,0,1]
[null,"Building automation","Building automation and management systems",1,0,0,0,0,0,0,0,1,0,1,0,1,1,0,0,0,0,0,1,1,0,1,1,1,1,0,0,1,1,0,0,0,0,0,1,1,0,0,1,0,0,1,0,0,1,1,0,1,1,1]
[null,null,"Energy management system",0,0,1,0,0,0,0,0,0,0,0,0,1,1,0,0,0,0,0,1,1,0,1,1,1,1,0,0,1,0,0,0,0,0,0,1,0,0,0,0,0,0,1,0,0,1,1,0,0,0,1]
[null,null,"Measured consumption",0,0,0,0,0,0,0,0,0,0,0,0,1,1,0,0,0,0,0,1,1,0,0,0,1,1,0,0,1,0,0,0,0,0,0,1,0,0,0,0,0,0,1,0,0,0,1,0,0,0,1]
[null,null,"Improved smart-readiness",0,0,1,0,0,0,0,0,0,0,0,0,1,1,0,0,0,0,0,1,1,0,1,1,1,1,0,0,1,0,0,0,0,0,0,1,1,0,0,0,0,0,1,0,0,1,1,0,1,0,1]
["Processes","Compressed air system","Check the required pressure",0,0,0,0,0,0,0,0,0,0,0,0,1,0,0,0,0,0,0,1,1,0,0,0,0,1,0,0,1,1,0,0,0,0,0,1,0,0,0,1,0,0,0,0,0,0,1,0,0,1,1]
[null,null,"Regular check for leakages",0,0,0,0,0,0,0,0,1,1,0,0,1,0,0,0,1,1,0,1,1,0,0,0,0,1,0,0,1,1,0,0,0,0,0,0,0,0,1,1,0,1,0,0,0,0,1,0,1,1,1]
[null,null,"Waste heat recovery ",0,0,0,0,0,0,0,0,0,0,0,0,1,0,0,0,0,0,0,1,1,0,0,0,-1,1,0,0,1,1,0,1,0,0,0,1,1,0,0,0,0,0,0,0,0,1,1,0,0,0,0]
[null,null,"Regular maintenance of the compressor",0,0,0,0,1,0,0,0,1,0,0,1,1,0,0,0,0,0,0,1,1,0,1,0,1,1,1,1,1,0,0,0,0,0,0,1,0,0,1,1,1,1,0,0,0,0,1,0,1,1,1]
[null,"Steam system","Check the required pressure",0,0,0,0,0,0,0,0,0,0,0,0,1,0,0,0,0,0,0,1,1,0,0,0,0,1,0,0,1,1,0,0,0,0,0,1,0,0,0,0,0,0,0,0,0,0,1,0,0,0,0]
[null,null,"Check for leakages",0,0,0,0,0,0,0,0,1,0,0,1,1,0,0,0,1,1,0,1,1,0,0,0,0,1,0,0,1,1,0,0,0,0,0,0,0,0,0,1,0,1,0,0,0,0,1,0,1,1,1]
[null,null,"Regular maintenance of the boiler",0,0,0,0,1,0,0,0,1,0,0,0,1,0,0,0,0,0,0,1,1,0,1,0,1,1,1,1,1,0,0,0,0,0,0,1,0,0,0,1,1,1,0,0,0,0,1,0,1,1,1]
[null,"Refrigeration","Optimisation of the required temperatures",0,0,0,0,0,0,0,0,0,0,0,0,1,0,0,0,0,0,0,1,1,0,1,1,0,1,0,0,1,1,0,0,0,0,0,1,0,0,0,1,0,0,0,0,0,0,1,0,0,1,0]
[null,null,"Waste heat recovery ",0,0,0,0,0,0,0,0,0,0,0,0,1,1,0,0,0,0,0,1,1,0,1,1,0,1,0,0,1,1,0,0,0,0,0,1,1,0,0,0,0,0,0,0,0,1,1,0,0,0,0]
[null,null,"Install frequency control (i.e. VRF) on chiller compressor.",0,0,0,0,0,0,0,0,0,0,0,0,1,0,0,0,0,0,0,1,1,0,1,1,-1,1,0,0,1,1,0,0,0,0,0,1,0,0,0,0,0,0,0,0,0,0,1,0,0,0,0]
[null,null,"Install high efficiency or 2-rev electromotor on evaporation fan",0,0,0,0,0,0,0,0,0,0,0,0,1,0,0,0,0,0,0,1,1,0,1,1,-1,1,0,0,1,1,0,0,0,0,0,1,0,0,0,0,0,0,0,0,0,0,1,0,0,0,0]
[null,null,"Build a cooled front space for refrigeration units.",0,0,0,0,0,0,0,0,0,0,0,0,1,0,0,0,0,0,0,1,1,0,1,0,0,1,0,0,1,1,0,0,0,0,0,1,0,0,0,0,0,0,0,0,0,0,1,0,0,0,0]
[null,null,"Use hot refrigerant gas from the compressor for the initial stages of the defrosting cycle.",0,0,0,0,0,0,0,0,0,0,0,0,1,1,0,0,0,0,0,1,1,0,1,0,-1,1,0,0,1,1,0,1,0,0,0,1,1,0,0,0,0,0,0,0,0,0,1,0,0,0,0]
[null,null,"Use excess heat from other production processes for the production of cooling using adsorption/absorption cooling.",0,0,0,0,0,0,0,0,0,0,0,0,1,1,0,0,0,1,0,1,1,0,1,1,-1,1,0,0,1,1,0,1,0,0,0,1,1,0,0,0,0,0,0,0,0,0,1,0,0,0,0]
[null,null,"Utilisation of free cooling",0,0,0,0,0,0,0,0,0,0,0,0,1,1,0,0,0,1,0,1,1,0,1,0,0,1,0,0,1,1,0,0,0,0,0,1,1,0,0,0,0,0,0,0,0,1,1,0,0,0,0]
[null,null,"Replacement of the equipment.",0,0,0,0,0,0,0,0,0,0,0,0,1,0,0,0,0,1,0,1,1,0,1,1,1,1,0,0,1,1,0,0,0,0,0,1,0,0,1,1,1,0,0,0,0,0,1,0,1,1,0]
[null,"Water systems","Efficient pumps for the Water treatment system (if any)",0,0,0,0,0,0,0,0,0,0,0,1,1,0,0,0,0,0,0,1,1,0,1,0,1,1,0,0,1,1,0,0,0,0,0,1,0,0,0,0,0,0,0,0,0,0,1,0,0,0,0]
[null,null,"Advanced process of water recovery ",0,0,1,0,0,0,0,0,1,0,0,0,1,0,0,1,0,1,0,1,1,1,1,1,-1,1,0,0,1,1,0,1,0,0,0,0,0,0,1,0,0,1,0,0,0,1,1,0,0,0,0]
[null,"Production line","Optimisation of the production process and workflow",1,0,0,0,1,0,0,0,1,0,1,1,1,0,0,1,1,0,0,1,1,1,1,1,1,1,1,1,0,1,0,0,0,0,0,1,0,0,1,0,1,1,1,1,1,0,1,1,1,0,0]
[null,null,"Waste reduction & recycling in the production line ",0,0,0,0,0,0,0,0,0,0,0,0,1,0,0,1,1,0,0,1,1,1,1,1,1,1,0,0,0,1,0,1,0,0,0,1,0,0,0,0,0,0,1,1,-1,0,1,1,1,0,0]
[null,null,"Optimization of motor driven systems ",0,0,0,0,0,0,0,0,0,0,0,1,1,0,0,0,0,0,0,1,1,0,1,1,1,1,1,1,0,1,0,0,0,0,0,1,0,0,1,0,1,0,1,0,1,0,1,0,1,0,0]
[null,null,"High efficient transmission system",0,0,0,0,0,0,0,0,0,0,0,1,1,0,0,0,0,0,0,1,1,0,1,0,1,1,1,1,0,1,0,0,0,0,0,1,0,0,0,0,0,0,0,0,0,0,1,0,1,0,0]
[null,null,"Reduction of the manual labor",1,0,0,0,1,0,0,0,1,0,0,0,1,0,0,0,0,0,0,1,1,0,1,1,1,1,1,1,0,1,0,0,0,0,0,-1,0,0,0,0,0,0,0,1,1,0,1,1,1,0,0]
[null,null,"Regular maintenance of the equipment",1,0,0,0,1,0,0,0,1,0,0,1,1,0,0,0,1,1,0,1,1,1,1,0,1,1,1,1,0,0,0,0,0,0,0,1,0,0,1,1,1,1,0,1,1,0,1,1,1,1,0]
[null,null,"Replacement of the equipment",0,0,0,0,0,0,0,0,0,1,0,0,1,0,0,0,0,1,0,1,1,-1,1,1,1,1,1,1,1,1,0,0,0,0,0,1,0,0,1,1,1,1,0,1,1,0,1,1,1,1,0]
[null,null,"Waste heat recovery ",0,0,0,0,0,0,0,0,0,0,0,0,1,1,0,0,0,0,0,1,1,1,1,0,-1,1,0,0,0,1,0,1,0,0,0,1,1,0,0,0,0,0,0,0,0,1,1,0,0,0,0]
[null,null,"Low-carbon packaging ",0,0,1,1,0,0,0,0,0,0,0,0,1,0,0,0,1,0,0,1,1,0,1,1,0,1,0,0,0,0,0,0,0,0,0,0,0,0,0,0,0,0,0,0,1,1,1,0,0,0,0]
["Transport","Transport of goods","Optimisation of timetables",0,0,1,1,0,0,0,0,0,0,0,0,1,0,0,0,0,1,0,1,1,0,1,1,1,1,0,0,0,1,0,0,0,0,0,1,0,0,0,0,0,0,1,0,0,0,1,0,1,0,0]
[null,null,"Optimisation of routes",0,0,1,1,0,0,0,0,0,0,0,0,1,0,0,0,0,1,0,1,1,0,1,1,1,1,0,0,0,1,0,0,0,0,0,1,0,0,0,0,0,0,1,0,0,0,1,0,1,0,0]
[null,null,"Optimisation of loads",0,0,0,1,0,0,0,0,0,0,0,0,1,0,0,0,0,1,0,1,1,0,1,1,1,1,0,0,0,1,0,0,0,0,0,1,0,0,0,0,0,0,1,0,0,0,1,0,1,0,0]
[null,null,"Optimisation of the fleet",0,0,0,1,0,0,0,0,0,0,0,0,1,0,0,0,0,1,0,1,1,0,1,1,1,1,0,0,1,1,0,0,0,0,0,1,0,0,0,0,0,0,1,0,0,0,1,0,1,0,0]
[null,null,"Promote electromobility",1,0,1,1,0,0,0,0,0,0,0,0,1,1,0,0,0,1,0,1,1,-1,1,1,1,1,0,0,0,1,0,0,0,0,0,1,0,0,0,0,0,0,0,0,0,0,1,0,0,0,0]
[null,null,"Promotion of modal shift for freight",0,0,1,1,0,0,0,0,0,0,0,0,1,0,0,0,0,1,0,1,1,0,1,1,0,1,0,0,0,1,0,0,0,0,0,1,0,0,0,0,0,0,0,0,0,1,1,0,0,0,0]
[null,null,"Regular maintenance",1,0,0,1,1,0,0,0,1,0,0,1,1,0,0,0,0,1,0,1,1,1,1,0,1,1,0,0,0,0,0,0,0,0,0,1,0,0,0,1,0,0,0,0,0,0,1,0,1,1,0]
[null,null,"Driver training",0,0,1,1,1,0,0,0,1,0,0,0,1,0,0,0,0,1,0,1,1,0,1,1,1,1,0,0,0,1,0,0,0,0,0,1,0,0,1,0,0,1,0,0,0,0,1,0,1,0,0]
["Management & Maintenance measures","Management & Maintenance measures","Green supply chain management",0,0,0,1,0,0,0,0,0,0,0,0,1,0,0,1,1,1,0,1,1,0,1,1,0,1,0,0,0,0,0,1,0,0,0,1,1,1,0,0,0,0,0,0,0,1,1,0,0,0,0]
[null,null,"Improved energy management",0,0,0,0,0,0,0,0,0,0,0,0,1,0,0,0,0,0,0,1,1,0,1,1,0,1,0,0,0,1,0,0,0,0,0,1,1,0,0,0,0,0,0,0,0,1,1,0,0,0,0]
[null,null,"Improved environmental awareness at the management level",0,0,0,0,0,0,0,0,0,0,0,0,1,0,0,1,1,0,0,1,1,0,1,1,0,1,0,0,0,0,0,0,0,0,0,1,1,0,0,0,0,0,0,0,0,1,1,0,0,0,0]
["Occupant behaviour","Occupant behaviour","Employee engagement and training",1,0,0,0,1,0,0,0,1,1,1,1,1,0,0,1,1,1,0,1,1,1,1,0,1,1,1,1,0,1,0,0,0,0,0,1,0,0,1,1,1,1,0,0,0,1,1,0,1,1,0]
[null,null,"Motivation",1,0,0,0,1,0,0,0,0,0,0,0,1,0,0,1,0,1,0,1,1,1,1,0,1,1,1,1,0,1,0,0,0,0,0,1,0,0,1,1,1,1,0,0,0,1,1,0,1,1,0]

{"sheet":"ITA_top","index":22,"n_rows":97,"n_cols":54,"rows_kept":97,"cut":false,"hidden":true,"merged":[[0,51,0,53],[2,0,56,0],[2,1,6,1],[7,1,16,1],[17,1,22,1],[23,1,33,1],[34,1,39,1],[40,1,44,1],[45,1,49,1],[50,1,52,1],[0,3,0,7],[0,8,0,14],[0,15,0,24],[0,25,0,37],[0,38,0,44],[0,45,0,50],[53,1,56,1],[57,0,83,0],[57,1,60,1],[61,1,63,1],[64,1,72,1],[73,1,74,1],[75,1,83,1],[84,0,91,0],[84,1,91,1],[92,0,94,0],[92,1,94,1],[95,0,96,0],[95,1,96,1]]}
[null,null,null,"Social",null,null,null,null,"Health",null,null,null,null,null,null,"Environment",null,null,null,null,null,null,null,null,null,"Economic",null,null,null,null,null,null,null,null,null,null,null,null,"Security & Safety",null,null,null,null,null,null,"Quality",null,null,null,null,null,"Time"]
[null,null,"EEM/NEB","Employee satisfaction","Alleviation of energy poverty","Customers (new, satisfaction, etc.)","Improved supply chain relationships","Work performance","Health and well-being","(avoided) mortality","Disease burden \"daly\"","Sickness & absenteeism","Improved air quality","Improved lighting","Reduced noise","Emission reduction","Impact of EE on RES target achievement ","Ecosystem degradation","Reduced water use ","Reduced material consumption","Reduced emissions (dust, CO2, chemical agents etc.)","Reduced noise pollution","Reduced use of non-renewable resources ","Reduced litigations risks","Reduced waste","Improvement of compatitiveness","Innovation impacts","Reduction of (maintenance) costs","Reduction of emission or disposal fees","Shorter production cycle","Increased production yields","Increased real estate value","Reduction of (operating) costs","Macro economy","Usage of waste streams","Turnover of energy efficiency goods ","Employment effects","Impact on public budgets","Energy security","Security of supply / self sufficiency","Supplier diversity ","Operation safety of equipment","Less maintenance","Electrical safety","Reduced injuries","Accurate monitoring","Right First Time","Increased quality of products","Increased corporate image","Increased regulatory compliance","Risk reduction","Increased productivity","Increased equipment lifetime","Reduced time of fault detection"]
["Building","Envelope","Improvement to visible building envelope elements",1,0,0,0,0,1,0,0,0,0,0,0,1,0,1,0,0,1,0,0,0,0,0,0,0,0,0,0,1,1,0,0,1,0,0,0,0,0,0,0,0,0,0,0,0,1,0,0,0,0,0]
[null,null,"Improvements to non-visible building envelope elements",1,0,0,0,0,0,0,0,0,0,0,0,1,0,1,0,0,1,0,0,0,0,0,0,0,0,0,0,1,1,0,0,1,0,0,0,0,0,0,0,0,0,0,0,0,1,0,0,0,0,0]
[null,null,"Replacemert of windows",0,0,0,0,0,0,0,0,0,0,0,0,1,0,1,0,0,1,0,0,0,0,0,0,0,0,0,0,1,1,0,0,1,0,0,0,0,0,0,0,0,0,0,0,0,1,0,0,0,0,0]
[null,null,"Increasing the air-tightness of the building",0,0,0,0,0,0,0,0,0,0,0,0,1,0,1,0,-1,1,0,0,0,0,0,0,0,0,0,0,1,1,0,0,0,0,0,0,0,0,0,0,0,0,0,0,0,0,0,0,0,0,0]
[null,null,"Shading to reduce summer heat gains",1,0,0,0,1,1,0,0,0,0,0,0,1,0,1,0,0,1,0,0,0,0,0,0,0,0,0,0,1,1,0,0,1,0,0,0,0,0,0,0,0,0,0,0,0,0,0,0,0,0,0]
[null,"Heating system","Roomwise temperature control",1,0,0,0,1,1,0,0,1,0,0,0,1,0,1,0,0,1,0,0,0,0,0,0,0,0,0,0,1,1,0,0,1,0,0,0,0,0,0,0,0,0,0,0,0,0,0,0,0,0,0]
[null,null,"Zoning optimisation of the building",0,0,0,0,0,0,0,0,0,0,0,0,1,0,1,0,0,1,0,0,0,0,0,0,0,0,0,0,1,1,0,0,1,0,0,0,0,0,0,0,0,0,0,0,0,0,0,0,0,0,0]
[null,null,"Optimisation of the heating schedule",0,0,0,0,0,0,0,0,0,0,0,0,1,0,1,0,0,1,0,0,0,0,0,0,0,0,0,0,1,1,0,0,1,0,0,0,0,0,0,0,0,0,0,0,0,0,0,0,0,0,0]
[null,null,"Lowering setpoint temperature",0,0,0,0,0,0,0,0,-1,0,0,0,1,0,1,0,0,1,0,0,0,0,0,0,0,0,0,0,1,1,0,0,1,0,0,0,0,0,0,0,0,0,0,0,0,0,0,0,0,0,0]
[null,null,"Control optimisation",0,0,0,0,0,0,0,0,0,0,0,0,1,0,1,0,0,1,0,0,0,0,0,0,0,0,0,0,1,1,0,0,1,0,0,0,0,0,0,0,0,0,0,0,0,0,0,0,0,0,0]
[null,null,"Insulation of the distribution network",0,0,0,0,0,0,0,0,0,0,0,0,1,0,1,0,0,1,0,0,0,0,0,0,0,0,0,0,1,1,0,0,1,0,0,0,0,0,0,0,0,0,0,0,0,0,0,0,0,0,0]
[null,null,"Hydraulic balancing of the distribution network",0,0,0,0,0,0,0,0,0,0,0,0,1,0,1,0,0,1,0,0,0,0,0,0,0,0,0,0,1,1,0,0,1,0,0,0,0,0,0,0,0,0,0,0,0,0,0,0,0,0,0]
[null,null,"New, more efficient heat generator",0,0,0,0,0,0,0,0,0,0,0,0,1,0,1,0,0,1,0,0,0,0,0,0,1,0,0,0,0,1,0,0,1,0,0,0,0,0,0,1,0,0,0,0,0,0,0,0,0,0,0]
[null,null,"Including a renewable based heat source",0,0,0,0,0,0,0,0,0,0,0,0,1,1,1,0,0,1,0,1,0,0,0,0,0,0,0,0,0,1,0,0,1,0,0,1,1,1,0,0,0,0,0,0,0,1,0,0,0,0,0]
[null,null,"Energy efficient pumps",0,0,0,0,0,0,0,0,0,0,0,0,1,1,1,0,0,1,0,0,0,0,0,0,0,0,0,0,0,1,0,0,1,0,0,0,0,0,0,0,0,0,0,0,0,0,0,0,0,0,0]
[null,"DHW system","Reducing the DHW demand",0,0,0,0,0,0,0,0,0,0,0,0,1,0,1,1,0,1,0,0,0,0,0,0,0,0,0,0,1,1,0,0,0,0,0,0,0,0,0,0,0,0,0,0,0,0,0,0,0,0,0]
[null,null,"Insulation of the distribution network",0,0,0,0,0,0,0,0,0,0,0,0,1,0,1,0,0,1,0,0,0,0,0,0,0,0,0,0,1,1,0,0,1,0,0,0,0,0,0,0,0,0,0,0,0,0,0,0,0,0,0]
[null,null,"Lowering setpoint temperature",-1,0,0,0,0,-1,0,0,-1,0,0,0,1,0,1,0,0,1,0,0,0,0,0,0,1,0,0,0,0,1,0,0,0,0,0,0,0,0,0,0,0,0,0,0,0,0,0,0,0,0,0]
[null,null,"Circulation network optimisation, decentralisation of DHW production",0,0,0,0,0,0,0,0,0,0,0,0,1,0,1,0,0,1,0,0,0,0,0,0,1,0,0,0,1,1,0,0,0,0,0,0,0,0,0,0,0,0,0,0,0,0,0,0,0,0,0]
[null,null,"New, more efficient heat generator",0,0,0,0,0,0,0,0,0,0,0,0,1,0,1,0,0,1,0,0,0,0,0,0,1,0,0,0,1,1,0,0,1,0,0,0,0,0,0,0,0,0,0,0,0,1,0,0,0,0,0]
[null,null,"Including a renewable based heat source",0,0,0,0,0,0,0,0,0,0,0,0,1,1,1,0,0,1,0,1,0,0,0,0,0,0,0,0,1,1,0,0,0,0,0,1,1,1,0,0,0,0,0,0,0,1,0,1,0,0,0]
[null,"Cooling system","Roomwise temperature control",1,0,0,0,1,1,0,0,1,0,0,0,1,0,1,0,0,1,0,0,0,0,0,0,0,0,0,0,0,1,0,0,0,0,0,0,0,0,0,0,0,0,0,0,0,0,0,0,0,0,0]
[null,null,"Zoning optimisation of the building",0,0,0,0,0,1,0,0,0,0,0,0,1,0,1,0,0,1,0,0,0,0,0,0,0,0,0,0,0,1,0,0,0,0,0,0,0,0,0,0,0,0,0,0,0,0,0,0,0,0,0]
[null,null,"Optimisation of the cooling schedule",0,0,0,0,0,0,0,0,0,0,0,0,1,0,1,0,0,1,0,0,0,0,0,0,0,0,0,0,0,1,0,0,0,0,0,0,0,0,0,0,0,0,0,0,0,0,0,0,0,0,0]
[null,null,"Increasing setpoint temperature",-1,0,0,0,0,-1,0,0,-1,0,0,0,1,0,1,0,0,1,0,0,0,0,0,0,0,0,0,0,0,1,0,0,0,0,0,0,0,0,0,0,0,0,0,0,0,0,0,0,0,0,0]
[null,null,"Control optimisation",0,0,0,0,0,0,0,0,0,0,0,0,1,0,1,0,0,1,0,0,0,0,0,0,0,0,0,0,0,1,0,0,0,0,0,0,0,0,0,0,0,0,0,0,0,0,0,0,0,0,0]
[null,null,"Insulation of the distribution network",0,0,0,0,0,0,0,0,0,0,0,0,1,0,1,0,0,1,0,0,0,0,0,0,0,0,0,0,1,1,0,0,1,0,0,0,0,0,0,0,0,0,0,0,0,0,0,0,0,0,0]
[null,null,"Hydraulic balancing of the distribution network",0,0,0,0,0,0,0,0,0,0,0,0,1,0,1,0,0,1,0,0,0,0,0,0,1,0,0,0,1,1,0,0,1,0,0,0,0,0,0,0,0,0,0,0,0,0,0,0,0,0,1]
[null,null,"New, more efficient heat generator",0,0,0,0,0,0,0,0,0,0,0,0,1,0,1,0,0,1,0,0,0,0,0,0,0,0,0,0,1,1,0,0,1,0,0,0,0,0,0,1,0,0,0,0,0,1,0,0,1,0,0]
[null,null,"Energy efficient pumps",0,0,0,0,0,0,0,0,0,0,0,0,1,0,1,0,0,1,0,0,0,0,0,0,0,0,0,0,1,1,0,0,1,0,0,0,0,0,0,0,0,0,0,0,0,0,0,0,0,0,0]
[null,null,"Utilisation of free cooling",0,0,0,0,0,0,0,0,0,0,0,0,1,1,1,0,0,1,0,1,0,0,0,0,0,0,0,0,0,1,0,0,0,0,0,1,1,1,0,0,0,0,0,0,0,0,0,0,0,1,0]
[null,null,"Utilising the waste heat from the cooling system for heating&DHW",0,0,0,0,0,0,0,0,0,0,0,0,1,1,1,0,0,1,0,0,0,0,0,0,0,0,0,0,1,1,0,1,0,0,0,0,0,0,0,0,0,0,0,0,0,0,0,0,0,0,0]
[null,"Ventilation system","Schedule optimisation",0,0,0,0,0,0,0,0,0,1,0,0,1,0,1,0,0,1,0,0,0,0,0,0,0,0,0,0,0,1,0,0,0,0,0,0,0,0,0,1,0,0,0,0,0,0,0,0,0,0,0]
[null,null,"Control optimisation",0,0,0,0,0,0,0,0,1,1,0,0,1,0,1,0,0,1,0,0,0,0,0,0,0,0,0,0,0,1,0,0,0,0,0,0,0,0,0,1,0,0,0,0,0,0,0,0,0,0,0]
[null,null,"Air velocity optimisation",1,0,0,0,1,0,0,1,1,1,0,0,1,0,1,0,0,1,0,0,0,0,0,0,0,0,0,0,0,1,0,0,0,0,0,0,0,0,0,1,0,0,0,0,0,0,0,0,0,0,0]
[null,null,"Inlet air temperature optimisation",1,0,0,0,1,0,0,0,1,1,0,0,1,0,1,0,0,1,0,0,0,0,0,0,0,0,0,0,0,1,0,0,0,0,0,0,0,0,0,0,0,0,0,0,0,0,0,0,0,0,0]
[null,null,"Heat recovery",0,0,0,0,0,0,0,0,0,0,0,0,1,1,1,0,0,1,0,0,0,0,0,0,0,0,0,0,1,1,0,1,0,0,0,0,0,0,0,0,0,0,0,0,0,0,0,0,0,0,0]
[null,null,"Energy efficient fans",0,0,0,0,0,0,0,0,0,0,0,0,1,0,1,0,0,1,0,0,0,0,0,0,0,0,0,0,1,1,0,0,1,0,0,0,0,0,0,0,0,0,0,0,0,0,0,0,0,0,0]
[null,"Lighting","Energy efficient lights (e.g LED)",0,0,0,0,0,0,0,0,0,0,0,0,1,0,1,0,0,1,0,0,0,0,0,0,0,0,0,0,1,1,0,0,1,0,0,0,0,0,0,0,0,0,0,0,0,0,0,0,0,0,0]
[null,null,"Level of illumination",1,0,0,0,1,1,0,0,1,0,1,0,0,0,0,0,0,0,0,0,0,0,0,0,0,0,0,1,0,1,0,0,0,0,0,0,0,0,0,0,0,0,0,0,0,0,0,0,0,0,0]
[null,null,"Schedule optimisation",0,0,0,0,0,0,0,0,0,0,1,0,1,0,1,0,0,1,0,0,0,0,0,0,0,0,0,0,0,1,0,0,0,0,0,0,0,0,0,0,0,0,0,0,0,0,0,0,0,0,0]
[null,null,"Control optimisation",0,0,0,0,0,0,0,0,0,0,0,0,1,0,1,0,0,1,0,0,0,0,0,0,0,0,0,1,0,1,0,0,0,0,0,0,0,0,0,0,0,0,0,0,0,0,0,0,0,0,0]
[null,null,"Utilisation of natural light",1,0,0,0,1,1,0,0,1,0,1,0,1,1,1,0,0,1,0,1,0,0,0,0,0,0,0,1,0,1,0,0,0,0,0,0,0,0,0,1,0,0,0,0,0,0,0,0,0,0,0]
[null,"Renewable energy","Solar PV",0,0,1,1,0,0,0,0,0,0,0,0,1,1,1,0,0,1,0,1,0,0,0,0,0,0,0,0,1,1,0,0,1,0,0,1,1,1,0,0,0,0,0,0,0,1,0,0,0,0,0]
[null,null,"Wind turbine",0,0,0,0,0,0,-1,0,0,0,0,-1,1,1,1,0,0,1,-1,1,0,0,0,0,0,0,0,0,1,1,0,0,1,0,0,1,1,1,0,0,0,0,0,0,0,1,0,0,0,0,0]
[null,null,"Solar collector system",0,0,0,0,0,0,0,0,0,0,0,0,1,1,1,0,0,1,0,1,0,0,0,0,0,0,0,0,1,1,0,0,1,0,0,1,1,1,0,0,0,0,0,0,0,1,0,0,0,0,0]
[null,null,"Geothermal heat pump system",0,0,1,1,0,0,0,0,0,0,0,0,1,1,1,0,0,1,0,1,0,0,0,0,0,0,0,0,1,1,0,0,1,0,0,1,1,1,0,0,0,0,0,0,0,1,0,0,0,0,0]
[null,null,"Passive measures",0,0,0,0,0,0,0,0,0,0,0,0,1,1,1,0,0,1,0,1,0,0,0,0,0,0,0,0,1,1,0,0,1,0,0,1,1,1,0,0,0,0,0,0,0,1,0,0,0,0,0]
[null,"Appliances","Energy efficient appliances",0,0,0,0,0,0,0,0,0,0,0,0,1,0,1,0,0,1,0,0,0,0,0,0,0,0,0,0,1,1,0,0,1,0,0,0,0,0,0,0,0,0,0,0,0,0,0,0,0,0,0]
[null,null,"Reducing stand-by consumption",0,0,0,0,0,0,0,0,0,0,0,0,1,0,1,0,0,1,0,0,0,0,0,0,0,0,0,0,0,1,0,0,0,0,0,0,0,0,0,0,0,0,0,0,0,0,0,0,0,1,1]
[null,null,"Optimal usage, on demand operation",1,0,0,0,1,0,0,0,0,0,0,0,1,0,1,0,0,1,0,0,0,0,1,0,0,0,1,1,0,1,0,0,0,0,0,0,0,0,0,0,0,0,0,0,0,0,0,0,1,0,0]
[null,"Building automation","Building automation and management systems",0,0,0,0,0,1,0,0,0,0,0,0,1,0,1,1,0,1,0,0,0,0,0,0,0,0,0,0,1,1,0,0,0,0,0,0,0,0,0,0,0,0,1,0,0,0,0,0,0,0,0]
[null,null,"Energy management system",0,0,0,1,0,0,0,0,0,0,0,0,1,0,1,0,0,1,0,0,0,0,0,0,0,0,0,0,1,1,0,0,0,0,0,0,0,0,0,0,0,0,1,0,0,0,0,0,0,0,0]
[null,null,"Measured consumption",0,0,0,0,0,0,0,0,0,0,0,0,1,0,1,1,0,1,0,0,1,0,1,0,0,0,1,1,1,1,0,0,0,0,0,0,0,0,0,0,0,0,1,0,0,0,0,0,1,0,0]
[null,null,"Improved smart-readiness",0,0,0,0,0,0,0,0,0,0,0,0,1,0,1,0,0,1,0,0,0,0,0,0,0,0,0,0,0,0,0,0,0,0,0,0,0,0,0,0,0,0,1,0,0,0,0,0,1,0,0]
["Processes","Compressed air system","Check the required pressure",0,0,0,0,0,0,1,1,0,0,0,0,1,0,1,0,0,1,0,0,0,0,0,0,1,0,0,0,0,1,0,0,0,0,0,0,0,0,0,0,0,0,0,0,0,0,0,0,0,1,1]
[null,null,"Regular check for leakages",0,0,0,0,0,0,0,1,0,0,0,1,1,0,1,0,0,1,1,0,0,0,0,0,1,0,0,0,0,1,0,0,0,0,0,0,0,0,1,0,0,0,0,0,0,0,0,0,1,0,0]
[null,null,"Waste heat recovery ",0,0,0,0,0,0,0,0,0,0,0,0,1,1,1,0,0,1,0,0,0,0,0,0,0,0,0,0,1,1,0,1,0,0,0,0,0,0,0,0,0,0,0,0,0,0,0,0,0,0,0]
[null,null,"Regular maintenance of the compressor",0,0,0,0,0,0,0,0,0,0,0,0,1,0,1,0,0,1,0,0,0,0,1,0,1,0,1,1,0,1,0,0,0,0,0,0,0,0,0,0,0,0,0,0,0,0,0,0,1,1,1]
[null,"Steam system","Check the required pressure",0,0,0,0,0,0,1,1,0,0,0,0,1,0,1,0,0,1,0,0,0,0,0,0,1,0,0,0,0,1,0,0,0,0,0,0,0,0,1,0,0,0,0,0,0,0,0,0,0,1,1]
[null,null,"Check for leakages",0,0,0,0,0,0,0,1,0,0,0,1,1,0,1,0,0,1,1,0,0,0,0,0,1,0,0,0,0,1,0,0,0,0,0,0,0,0,0,0,0,0,0,0,0,0,0,0,1,1,1]
[null,null,"Regular maintenance of the boiler",0,0,0,0,0,0,0,0,0,0,0,0,1,0,1,0,0,1,0,0,0,0,1,0,1,0,1,1,0,1,0,0,0,0,0,0,0,0,0,0,0,0,0,0,0,0,0,0,1,1,1]
[null,"Refrigeration","Optimisation of the required temperatures",0,0,0,0,0,0,0,0,0,0,0,0,1,0,1,0,0,1,0,0,0,0,0,0,0,0,0,0,0,1,0,0,0,0,0,0,0,0,0,0,0,0,0,0,0,0,0,0,0,0,0]
[null,null,"Waste heat recovery ",0,0,0,0,0,0,0,0,0,0,0,0,1,1,1,0,0,1,0,0,0,0,0,0,0,0,0,0,1,1,0,1,0,0,0,0,0,0,0,0,0,0,0,0,0,0,0,0,0,0,0]
[null,null,"Install frequency control (i.e. VRF) on chiller compressor.",0,0,0,0,0,0,0,0,0,0,0,1,1,0,1,0,0,1,1,0,0,0,0,0,0,0,0,0,1,1,0,0,1,0,0,0,0,0,0,0,0,0,0,0,0,0,0,0,0,0,0]
[null,null,"Install high efficiency or 2-rev electromotor on evaporation fan",0,0,0,0,0,0,0,0,0,0,0,0,1,0,1,0,0,1,0,0,0,0,0,0,0,0,0,0,1,1,0,0,1,0,0,0,0,0,0,0,0,0,0,0,0,0,0,0,0,0,0]
[null,null,"Build a cooled front space for refrigeration units.",0,0,0,0,0,0,0,0,0,0,0,0,1,0,1,0,0,1,0,0,0,0,0,0,0,0,0,0,0,1,0,0,0,0,0,0,0,0,0,0,0,0,0,0,0,0,0,0,0,0,0]
[null,null,"Use hot refrigerant gas from the compressor for the initial stages of the defrosting cycle.",0,0,0,0,0,0,0,0,0,0,0,0,1,0,1,0,0,1,0,0,0,0,0,0,0,0,0,0,0,1,0,1,0,0,0,0,0,0,0,0,0,0,0,0,0,0,0,0,0,0,0]
[null,null,"Use excess heat from other production processes for the production of cooling using adsorption/absorption cooling.",0,0,0,0,0,0,0,0,0,0,0,0,1,1,1,0,0,1,0,0,0,0,0,0,0,0,0,0,1,1,0,0,0,0,0,1,1,1,0,0,0,0,0,0,0,0,0,0,0,0,0]
[null,null,"Utilisation of free cooling",0,0,0,0,0,0,0,0,0,0,0,1,1,1,1,0,0,1,1,1,0,0,0,0,0,0,0,0,0,1,0,0,0,0,0,1,1,1,0,0,0,0,0,0,0,0,0,0,0,1,0]
[null,null,"Replacement of the equipment.",0,0,0,0,0,0,0,0,0,0,0,1,1,0,1,0,0,1,1,0,0,0,0,0,1,0,0,0,1,1,0,0,1,0,0,0,0,0,0,0,0,0,0,0,0,0,0,0,0,1,1]
[null,"Water systems","Efficient pumps for the Water treatment system (if any)",0,0,0,0,0,0,0,0,0,0,0,1,1,0,1,0,0,1,1,0,0,0,0,0,0,0,0,0,1,1,0,0,0,0,0,0,0,0,0,0,0,0,0,0,0,0,0,0,0,0,0]
[null,null,"Advanced process of water recovery ",0,0,0,0,0,0,0,0,0,0,0,0,0,0,1,1,0,0,0,0,0,0,0,0,0,1,0,0,1,1,0,0,0,0,0,0,0,0,0,0,0,0,0,0,0,0,0,0,0,0,0]
[null,"Production line","Optimisation of the production process and workflow",1,0,1,1,1,0,0,0,1,0,0,0,1,0,1,1,1,1,0,0,0,1,1,0,0,0,1,1,0,1,0,0,0,0,0,0,0,0,0,0,0,0,0,1,1,0,0,0,1,0,0]
[null,null,"Waste reduction & recycling in the production line ",0,0,0,1,0,1,0,0,0,0,0,0,1,0,1,1,1,1,0,0,1,1,0,0,0,1,0,0,0,1,0,1,0,0,0,0,0,0,0,0,0,0,0,0,0,0,0,0,0,0,0]
[null,null,"Optimization of motor driven systems ",0,0,0,0,0,0,0,0,0,0,0,0,1,0,1,0,0,1,0,0,0,0,0,0,0,0,0,0,1,1,0,0,0,0,0,0,0,0,0,0,0,0,0,0,0,0,0,0,0,0,1]
[null,null,"High efficient transmission system",0,0,0,0,0,0,0,0,0,0,0,0,1,0,1,0,0,1,0,0,0,0,0,0,0,0,0,0,1,1,0,0,1,0,0,0,0,0,0,0,0,0,0,0,0,0,0,0,0,0,0]
[null,null,"Reduction of the manual labor",1,0,0,0,1,0,0,0,1,0,0,0,-1,0,-1,0,0,-1,0,0,0,0,0,0,0,0,1,1,0,1,0,0,0,0,0,0,0,0,0,0,0,0,0,0,1,0,0,1,1,0,0]
[null,null,"Regular maintenance of the equipment",0,0,0,0,0,1,1,1,1,0,0,1,1,0,1,0,0,1,1,0,0,0,1,0,0,0,1,1,1,1,0,0,0,0,0,0,0,0,1,0,0,1,0,0,1,0,0,1,1,1,1]
[null,null,"Replacement of the equipment",0,0,0,0,1,0,0,0,0,0,0,1,1,0,1,0,0,1,1,0,0,0,0,0,1,0,0,0,1,1,0,0,0,0,0,0,0,0,0,0,0,0,0,0,0,0,0,1,1,0,1]
[null,null,"Waste heat recovery ",0,0,0,0,0,0,0,0,0,0,0,0,1,1,1,0,0,1,0,0,0,1,0,0,0,0,0,0,1,1,0,1,0,0,0,0,0,0,0,0,0,0,0,0,0,0,0,0,0,0,0]
[null,null,"Low-carbon packaging ",0,1,0,0,0,0,0,0,0,0,0,0,1,0,1,0,0,1,0,0,0,0,0,0,0,0,0,0,0,0,0,0,0,0,0,0,0,0,0,0,0,0,0,0,0,0,0,0,0,0,0]
["Transport","Transport of goods","Optimisation of timetables",1,0,1,1,1,0,0,0,0,0,0,0,1,0,1,0,0,1,0,0,0,0,1,0,0,0,0,1,0,1,0,0,0,0,0,0,0,0,0,0,0,0,0,1,0,0,0,0,1,0,0]
[null,null,"Optimisation of routes",1,0,1,1,1,0,0,0,0,0,0,0,1,0,1,0,0,1,0,0,0,0,1,0,0,0,0,1,0,1,0,0,0,0,0,0,0,0,0,0,0,0,0,1,0,0,0,0,1,0,0]
[null,null,"Optimisation of loads",1,0,1,1,0,0,0,0,0,0,0,0,0,0,0,0,0,0,0,0,0,0,1,0,0,0,0,1,0,1,0,0,0,0,0,0,0,0,0,0,0,0,0,1,0,0,0,0,1,0,0]
[null,null,"Optimisation of the fleet",1,0,1,1,1,0,0,0,0,0,0,0,0,0,0,0,0,0,0,0,0,0,1,0,0,0,0,1,0,1,0,0,0,0,0,0,0,0,0,0,0,0,0,1,0,0,0,0,1,0,0]
[null,null,"Promote electromobility",1,0,0,0,0,0,0,0,0,0,0,0,1,0,1,0,0,1,0,0,0,0,0,0,0,0,0,0,0,0,0,0,0,0,0,0,0,0,0,0,0,0,0,0,0,0,0,0,0,0,0]
[null,null,"Promotion of modal shift for freight",1,0,0,0,1,0,0,0,0,0,0,0,1,0,1,0,0,1,0,1,0,0,0,0,0,0,0,0,0,0,0,0,0,0,0,0,0,0,0,0,0,0,0,0,0,0,0,0,0,0,0]
[null,null,"Regular maintenance",0,0,0,0,1,0,1,1,1,0,0,1,1,0,1,0,0,1,1,0,0,0,1,0,1,0,0,1,0,1,0,0,0,0,0,0,0,0,1,0,0,0,0,1,0,0,0,0,1,0,0]
[null,null,"Driver training",1,0,0,0,1,0,0,0,0,0,0,0,0,0,0,0,0,0,0,0,0,0,0,0,0,0,0,1,0,1,0,0,0,0,0,0,0,0,1,0,0,1,0,0,0,0,0,0,1,0,0]
["Management & Maintenance measures","Management & Maintenance measures","Green supply chain management",0,0,1,1,0,0,0,0,0,0,0,0,1,0,1,0,0,1,0,1,0,0,1,0,0,0,0,0,0,0,0,0,0,0,0,0,0,0,0,0,0,0,0,0,0,1,0,0,0,0,0]
[null,null,"Improved energy management",0,0,1,1,0,0,0,0,0,0,0,0,1,0,1,0,0,1,0,1,0,0,1,0,0,0,0,0,0,1,0,0,0,0,0,0,0,0,0,0,0,0,0,0,0,1,0,0,0,0,0]
[null,null,"Improved environmental awareness at the management level",0,0,1,1,0,0,0,0,0,0,0,0,1,0,1,0,0,1,0,0,0,0,1,0,0,0,0,0,0,1,0,0,0,0,0,0,0,0,0,0,0,0,0,0,0,1,0,0,0,0,0]
["Occupant behaviour","Occupant behaviour","Employee engagement and training",1,0,0,0,1,0,0,0,0,0,0,0,1,0,0,0,0,1,0,0,0,0,1,0,0,0,0,0,0,1,0,0,0,0,0,0,0,0,1,0,0,1,0,0,0,0,0,0,0,0,0]
[null,null,"Motivation",1,0,0,0,1,1,0,0,0,0,0,0,1,0,0,0,0,1,0,0,0,0,1,0,0,0,0,0,0,1,0,0,0,0,0,0,0,0,0,0,0,0,0,0,0,0,0,0,0,0,0]

{"sheet":"LAT_top","index":23,"n_rows":97,"n_cols":54,"rows_kept":97,"cut":false,"hidden":true,"merged":[[0,51,0,53],[2,0,56,0],[2,1,6,1],[7,1,16,1],[17,1,22,1],[23,1,33,1],[34,1,39,1],[40,1,44,1],[45,1,49,1],[50,1,52,1],[0,3,0,7],[0,8,0,14],[0,15,0,24],[0,25,0,37],[0,38,0,44],[0,45,0,50],[53,1,56,1],[57,0,83,0],[57,1,60,1],[61,1,63,1],[64,1,72,1],[73,1,74,1],[75,1,83,1],[84,0,91,0],[84,1,91,1],[92,0,94,0],[92,1,94,1],[95,0,96,0],[95,1,96,1]]}
[null,null,null,"Social",null,null,null,null,"Health",null,null,null,null,null,null,"Environment",null,null,null,null,null,null,null,null,null,"Economic",null,null,null,null,null,null,null,null,null,null,null,null,"Security & Safety",null,null,null,null,null,null,"Quality",null,null,null,null,null,"Time"]
[null,null,"EEM/NEB","Employee satisfaction","Alleviation of energy poverty","Customers (new, satisfaction, etc.)","Improved supply chain relationships","Work performance","Health and well-being","(avoided) mortality","Disease burden \"daly\"","Sickness & absenteeism","Improved air quality","Improved lighting","Reduced noise","Emission reduction","Impact of EE on RES target achievement ","Ecosystem degradation","Reduced water use ","Reduced material consumption","Reduced emissions (dust, CO2, chemical agents etc.)","Reduced noise pollution","Reduced use of non-renewable resources ","Reduced litigations risks","Reduced waste","Improvement of compatitiveness","Innovation impacts","Reduction of (maintenance) costs","Reduction of emission or disposal fees","Shorter production cycle","Increased production yields","Increased real estate value","Reduction of (operating) costs","Macro economy","Usage of waste streams","Turnover of energy efficiency goods ","Employment effects","Impact on public budgets","Energy security","Security of supply / self sufficiency","Supplier diversity ","Operation safety of equipment","Less maintenance","Electrical safety","Reduced injuries","Accurate monitoring","Right First Time","Increased quality of products","Increased corporate image","Increased regulatory compliance","Risk reduction","Increased productivity","Increased equipment lifetime","Reduced time of fault detection"]
["Building","Envelope","Improvement to visible building envelope elements",1,0,1,0,0,0,0,0,0,0,0,1,0,0,0,0,0,0,1,0,0,0,1,0,0,0,0,0,1,0,0,0,0,0,0,0,0,0,0,0,0,0,0,0,0,1,1,0,0,1,0]
[null,null,"Improvements to non-visible building envelope elements",1,0,0,0,0,0,0,0,0,0,0,1,0,0,0,0,0,0,1,0,0,0,1,0,0,0,0,0,1,1,0,0,0,0,0,0,0,0,0,0,0,0,0,0,0,1,1,0,0,1,0]
[null,null,"Replacemert of windows",1,0,0,0,-1,-1,0,0,0,-1,1,1,0,0,0,0,0,0,1,0,0,0,1,0,0,0,0,0,1,0,0,0,0,0,0,0,0,0,0,0,0,0,0,0,0,1,1,0,0,1,0]
[null,null,"Increasing the air-tightness of the building",-1,0,0,0,-1,-1,0,0,0,-1,0,1,0,0,0,0,0,0,1,0,0,0,1,0,0,0,0,0,0,1,0,0,0,0,0,0,0,0,0,0,0,0,0,0,0,1,1,0,0,0,0]
[null,null,"Shading to reduce summer heat gains",1,0,0,0,0,0,0,0,0,1,-1,0,0,0,0,0,0,0,0,0,0,0,1,0,-1,0,0,0,0,1,0,0,0,0,0,0,0,0,0,0,0,0,0,0,0,1,1,0,0,0,0]
[null,"Heating system","Roomwise temperature control",1,0,0,0,1,1,0,0,0,1,0,0,0,0,0,0,0,1,0,0,0,0,1,0,0,0,0,1,1,1,0,0,0,0,0,0,0,0,0,0,0,0,0,0,0,1,0,0,1,0,0]
[null,null,"Zoning optimisation of the building",1,0,0,0,0,0,0,0,0,1,0,1,0,0,0,0,0,1,1,0,0,0,1,0,0,0,0,0,1,1,0,0,0,0,0,0,0,0,0,0,0,0,0,0,0,1,0,0,0,0,0]
[null,null,"Optimisation of the heating schedule",1,0,0,0,0,0,0,0,0,1,0,0,0,0,0,0,0,1,0,0,0,0,1,0,0,0,0,1,1,1,0,0,0,0,0,0,0,0,0,0,0,0,0,0,0,1,0,0,1,0,0]
[null,null,"Lowering setpoint temperature",-1,0,0,0,-1,-1,0,0,0,1,0,0,0,0,0,0,0,1,0,0,0,0,1,0,0,0,0,-1,1,1,0,0,0,0,0,0,0,0,0,0,0,0,0,0,0,1,0,0,-1,0,0]
[null,null,"Control optimisation",1,0,0,0,0,0,0,0,0,1,0,0,0,0,0,0,0,1,0,0,0,0,1,0,0,0,0,0,1,1,0,0,0,0,0,0,0,0,1,0,0,0,1,0,0,1,0,1,0,0,1]
[null,null,"Insulation of the distribution network",0,0,0,0,0,0,0,0,0,0,0,0,0,0,0,0,0,1,0,0,0,0,1,0,1,0,0,0,1,1,0,0,0,0,0,0,0,0,0,0,0,0,0,0,0,1,0,0,0,1,0]
[null,null,"Hydraulic balancing of the distribution network",0,0,0,0,0,0,0,0,0,0,0,0,0,0,0,0,0,1,0,0,0,0,1,0,0,0,0,0,1,1,0,0,0,0,0,0,0,0,0,0,0,0,0,0,0,1,0,0,0,0,0]
[null,null,"New, more efficient heat generator",1,0,0,0,0,0,0,0,0,0,0,0,0,0,0,0,0,1,0,0,0,0,1,0,1,0,0,0,1,1,0,0,0,0,0,0,0,0,0,0,0,0,0,0,0,1,0,0,0,1,0]
[null,null,"Including a renewable based heat source",1,0,1,0,0,0,0,0,0,1,0,0,1,1,0,0,0,1,0,1,0,0,1,0,0,1,0,0,1,1,0,0,0,0,0,1,0,0,0,0,0,0,0,0,0,1,1,0,0,0,0]
[null,null,"Energy efficient pumps",0,0,0,0,0,0,0,0,0,0,0,0,1,0,0,0,0,1,0,0,0,0,1,0,0,0,0,0,1,1,0,0,0,0,0,0,0,0,0,0,0,0,0,0,0,1,0,0,0,0,0]
[null,"DHW system","Reducing the DHW demand",0,0,0,0,0,0,0,0,0,0,0,0,0,0,0,1,0,1,0,0,0,0,1,0,0,0,0,0,1,1,0,0,0,0,0,0,0,0,0,0,0,0,0,0,0,1,0,0,0,0,0]
[null,null,"Insulation of the distribution network",0,0,0,0,0,0,0,0,0,0,0,0,0,0,0,0,0,1,0,0,0,0,1,0,1,0,0,0,1,1,0,0,0,0,0,0,0,0,0,1,0,0,0,0,0,1,0,0,0,1,1]
[null,null,"Lowering setpoint temperature",-1,0,0,0,0,0,0,0,0,0,0,0,0,0,0,0,0,1,0,0,0,0,1,0,0,0,0,-1,1,1,0,0,0,0,0,0,0,0,0,0,0,0,0,0,0,1,0,0,-1,0,0]
[null,null,"Circulation network optimisation, decentralisation of DHW production",0,0,0,0,0,0,0,0,0,0,0,0,0,0,0,0,0,1,0,0,0,0,1,0,0,0,0,0,1,1,0,0,0,0,0,0,0,0,0,0,0,0,0,0,0,1,0,0,0,0,0]
[null,null,"New, more efficient heat generator",1,0,0,0,0,0,0,0,0,0,0,0,1,0,0,0,0,1,0,0,0,0,1,0,1,0,0,0,1,1,0,0,0,0,0,0,0,0,0,1,0,0,0,0,0,1,0,1,0,1,0]
[null,null,"Including a renewable based heat source",1,0,0,0,0,0,0,0,0,0,0,0,1,1,0,0,0,1,0,1,0,0,1,0,0,1,0,0,1,1,0,0,0,0,0,1,0,0,0,0,0,0,0,0,0,1,1,0,0,0,0]
[null,"Cooling system","Roomwise temperature control",1,0,0,0,1,1,0,0,0,1,0,0,0,0,0,0,0,1,0,0,0,0,1,0,0,0,0,1,1,1,0,0,0,0,0,0,0,0,0,0,0,0,1,0,0,1,0,0,1,0,0]
[null,null,"Zoning optimisation of the building",1,0,0,0,0,0,0,0,0,1,0,1,0,0,0,0,0,1,1,0,0,0,1,0,0,0,0,0,1,1,0,0,0,0,0,0,0,0,0,0,0,0,0,0,0,1,0,0,0,0,0]
[null,null,"Optimisation of the cooling schedule",1,0,0,0,0,0,0,0,0,1,0,0,0,0,0,0,0,1,0,0,0,0,1,0,0,0,0,1,1,1,0,0,0,0,0,0,0,0,0,0,0,0,0,0,0,1,0,0,1,0,0]
[null,null,"Increasing setpoint temperature",-1,0,0,0,0,0,0,0,0,-1,0,0,0,0,0,0,0,1,0,0,0,0,1,0,0,0,0,-1,1,1,0,0,0,0,0,0,0,0,0,0,0,0,0,0,0,1,0,0,-1,0,0]
[null,null,"Control optimisation",1,0,0,0,0,0,0,0,0,1,0,0,0,0,0,0,0,1,0,0,0,0,1,0,0,0,0,0,1,1,0,0,0,0,0,0,0,0,1,1,0,0,1,0,0,1,0,1,0,0,1]
[null,null,"Insulation of the distribution network",0,0,0,0,0,0,0,0,0,0,0,0,0,0,0,0,0,1,0,0,0,0,1,0,1,0,0,0,1,1,0,0,0,0,0,0,0,0,0,1,0,0,0,0,0,1,0,0,0,1,1]
[null,null,"Hydraulic balancing of the distribution network",0,0,0,0,0,0,0,0,0,0,0,0,0,0,0,0,0,1,0,0,0,0,1,0,0,0,0,0,1,1,0,0,0,0,0,0,0,0,0,0,0,0,0,0,0,1,0,0,0,0,0]
[null,null,"New, more efficient heat generator",1,0,0,0,0,0,0,0,0,0,0,0,1,0,0,0,0,1,0,0,0,0,1,0,1,0,0,0,1,1,0,0,0,0,0,0,0,0,0,1,0,0,0,0,0,1,0,0,0,1,0]
[null,null,"Energy efficient pumps",0,0,0,0,0,0,0,0,0,0,0,0,1,0,0,0,0,1,0,0,0,0,1,0,0,0,0,0,1,1,0,0,0,0,0,0,0,0,0,0,0,0,0,0,0,1,0,0,0,0,0]
[null,null,"Utilisation of free cooling",1,0,0,0,0,0,0,0,0,0,0,0,0,0,0,0,0,1,0,0,0,0,1,0,0,0,0,0,1,1,0,0,0,0,0,0,0,0,0,0,0,0,0,0,0,1,0,0,0,0,0]
[null,null,"Utilising the waste heat from the cooling system for heating&DHW",0,0,0,0,0,0,0,0,0,0,0,0,0,0,0,0,0,1,0,0,0,0,1,0,0,0,0,0,1,1,0,0,0,0,0,0,0,0,0,0,0,0,0,0,0,1,0,0,0,0,0]
[null,"Ventilation system","Schedule optimisation",1,0,0,0,0,0,0,0,0,1,0,0,0,0,0,0,0,1,0,0,0,0,1,0,0,0,0,0,1,1,0,0,0,0,0,0,0,0,0,0,0,0,0,0,0,1,0,0,0,0,0]
[null,null,"Control optimisation",1,0,0,0,0,0,0,0,0,1,0,0,0,0,0,0,0,1,0,0,0,0,1,0,0,0,0,0,1,1,0,0,0,0,0,0,0,0,1,1,0,0,1,0,0,1,0,0,0,0,0]
[null,null,"Air velocity optimisation",1,0,0,0,1,1,0,0,1,1,0,0,0,0,0,0,0,1,0,0,0,0,1,0,0,0,0,0,1,1,0,0,0,0,0,0,0,0,0,0,0,0,0,0,0,1,0,0,0,0,0]
[null,null,"Inlet air temperature optimisation",1,0,0,0,1,1,0,0,0,1,0,0,0,0,0,0,0,1,0,0,0,0,1,0,0,0,0,0,1,1,0,0,0,0,0,0,0,0,0,0,0,0,0,0,0,1,0,0,0,0,0]
[null,null,"Heat recovery",0,0,0,0,0,0,0,0,0,0,0,0,0,0,0,0,0,1,0,0,0,0,1,0,0,0,0,0,1,1,0,0,0,0,0,0,0,0,0,0,0,0,0,0,0,1,0,0,0,0,0]
[null,null,"Energy efficient fans",0,0,0,0,0,0,0,0,0,0,0,0,1,0,0,0,0,1,0,0,0,0,1,0,0,0,0,0,1,1,0,0,0,0,0,0,0,0,0,1,0,0,0,0,0,1,0,0,0,1,0]
[null,"Lighting","Energy efficient lights (e.g LED)",1,0,1,0,0,0,0,0,0,0,1,0,1,0,0,0,0,0,0,0,0,0,1,0,1,0,0,0,1,1,0,0,0,0,0,0,0,0,0,0,0,0,0,0,0,1,0,0,0,1,0]
[null,null,"Level of illumination",1,0,0,0,0,0,0,0,1,0,1,0,0,0,0,0,0,0,0,0,0,0,1,0,0,0,0,0,1,0,0,0,0,0,0,0,0,0,0,0,0,0,0,0,0,1,0,0,0,0,0]
[null,null,"Schedule optimisation",1,0,0,0,0,0,0,0,0,0,1,0,0,0,0,0,0,0,0,0,0,0,1,0,0,0,0,0,1,1,0,0,0,0,0,0,0,0,0,0,0,0,0,0,0,1,0,0,0,0,0]
[null,null,"Control optimisation",1,0,0,0,0,0,0,0,0,0,1,0,0,0,0,0,0,0,0,0,0,0,1,0,0,0,0,0,1,1,0,0,0,0,0,0,0,0,1,0,0,0,1,0,0,1,0,0,0,0,0]
[null,null,"Utilisation of natural light",1,0,0,0,0,0,0,0,1,0,1,0,0,0,0,0,0,0,0,0,0,0,1,0,0,0,0,0,1,0,0,0,0,0,0,0,0,0,0,0,0,0,0,0,0,1,0,0,0,0,0]
[null,"Renewable energy","Solar PV",1,0,1,0,0,0,0,0,0,1,0,0,1,1,0,0,0,1,0,1,0,0,1,0,0,1,0,0,1,1,0,0,0,0,0,0,1,0,0,0,0,0,0,0,0,1,1,0,0,0,0]
[null,null,"Wind turbine",1,0,-1,0,0,0,0,0,0,1,0,-1,1,1,0,0,0,1,-1,1,0,0,1,0,0,1,0,0,1,1,0,0,0,0,0,0,1,0,0,0,0,0,0,0,0,1,1,0,0,0,0]
[null,null,"Solar collector system",1,0,1,0,0,0,0,0,0,1,0,0,1,1,0,0,0,1,0,1,0,0,1,0,0,1,0,0,1,1,0,0,0,0,0,0,1,0,0,0,0,0,0,0,0,1,1,0,0,0,0]
[null,null,"Geothermal heat pump system",1,0,0,0,0,0,0,0,0,1,0,0,1,0,0,0,0,1,0,1,0,0,1,0,0,1,0,0,1,0,0,0,0,0,0,0,0,0,0,0,0,0,0,0,0,1,1,0,0,0,0]
[null,null,"Passive measures",1,0,0,0,0,0,0,0,0,1,0,0,1,0,0,0,0,1,0,0,0,0,1,0,0,0,0,0,1,0,0,0,0,0,0,0,0,0,0,0,0,0,0,0,0,1,1,0,0,0,0]
[null,"Appliances","Energy efficient appliances",1,0,0,0,0,0,0,0,0,0,0,1,1,0,0,1,0,1,1,0,0,0,1,0,0,0,1,1,1,1,0,0,0,0,0,0,0,0,0,0,0,0,0,0,0,1,1,0,1,1,0]
[null,null,"Reducing stand-by consumption",-1,0,0,0,0,0,0,0,0,0,0,0,1,0,0,0,0,1,0,0,0,0,1,0,0,0,0,0,1,1,0,0,0,0,0,0,0,0,0,0,0,0,0,0,0,1,0,0,0,0,0]
[null,null,"Optimal usage, on demand operation",-1,0,0,0,0,0,0,0,0,0,0,1,1,0,0,1,0,1,1,0,0,0,1,0,0,0,0,0,1,1,0,0,0,0,0,0,0,0,0,0,0,0,0,0,0,1,0,0,0,0,0]
[null,"Building automation","Building automation and management systems",1,0,0,0,0,0,0,0,0,0,0,0,1,0,0,0,0,1,0,0,0,0,1,0,0,0,0,0,1,1,0,0,0,0,0,0,0,0,1,0,0,0,1,0,0,1,0,1,0,0,1]
[null,null,"Energy management system",1,0,0,0,0,0,0,0,0,0,0,0,1,0,0,0,0,1,0,0,0,0,1,0,0,0,0,0,1,1,0,0,0,0,0,0,0,0,0,0,0,0,1,0,0,1,1,1,0,0,1]
[null,null,"Measured consumption",1,0,0,0,0,0,0,0,0,0,0,0,0,0,0,0,0,0,0,0,0,0,1,0,0,0,0,0,1,1,0,0,0,0,0,0,0,0,0,0,0,0,1,0,0,1,0,0,0,0,0]
[null,null,"Improved smart-readiness",1,0,0,0,0,0,0,0,0,0,0,0,0,0,0,0,0,0,0,0,0,0,1,0,0,0,0,0,1,0,0,0,0,0,0,0,0,0,0,0,0,0,0,0,0,1,0,0,0,0,0]
["Processes","Compressed air system","Check the required pressure",1,0,0,0,0,0,0,0,0,0,0,0,1,0,0,0,0,1,0,0,0,0,1,0,0,0,0,0,1,0,0,0,0,0,0,0,0,0,0,0,0,0,0,0,0,1,0,1,0,1,0]
[null,null,"Regular check for leakages",1,0,0,0,0,0,0,0,0,1,0,0,1,0,0,0,0,1,0,0,0,0,1,0,0,0,0,0,1,0,0,0,0,0,0,0,0,0,0,0,0,0,0,0,0,1,0,1,0,1,0]
[null,null,"Waste heat recovery ",1,0,0,0,0,0,0,0,0,0,0,0,1,0,0,0,0,1,0,0,0,0,1,0,0,0,0,0,1,1,0,0,0,0,0,0,0,0,0,0,0,0,0,0,0,1,0,0,0,1,0]
[null,null,"Regular maintenance of the compressor",1,0,0,0,0,0,0,0,0,1,0,0,1,0,0,0,0,1,0,0,0,0,1,0,0,0,0,0,1,0,0,0,0,0,0,0,0,0,1,0,0,1,1,0,0,1,0,1,0,1,1]
[null,"Steam system","Check the required pressure",1,0,0,0,0,0,0,0,0,0,0,0,1,0,0,0,0,1,0,0,0,0,1,0,0,0,0,0,1,0,0,0,0,0,0,0,0,0,0,0,0,0,0,0,0,1,0,1,0,1,0]
[null,null,"Check for leakages",1,0,0,0,0,0,0,0,0,1,0,0,1,0,0,0,0,1,0,0,0,0,1,0,0,0,0,0,1,0,0,0,0,0,0,0,0,0,0,0,0,0,0,0,0,1,0,1,0,1,0]
[null,null,"Regular maintenance of the boiler",1,0,0,0,0,0,0,0,0,1,0,0,1,0,0,0,0,1,0,0,0,0,1,0,0,0,0,0,1,0,0,0,0,0,0,0,0,0,1,0,0,1,1,0,0,1,0,1,0,1,1]
[null,"Refrigeration","Optimisation of the required temperatures",0,0,0,0,0,0,0,0,0,0,0,0,0,0,0,0,0,1,0,0,0,0,1,0,0,0,0,0,1,1,0,0,0,0,0,0,0,0,0,0,0,0,0,0,0,1,0,0,0,0,0]
[null,null,"Waste heat recovery ",0,0,0,0,0,0,0,0,0,0,0,0,1,0,0,0,0,1,0,0,0,0,1,0,0,0,0,0,1,1,0,0,0,0,0,0,0,0,0,0,0,0,0,0,0,1,0,0,0,0,0]
[null,null,"Install frequency control (i.e. VRF) on chiller compressor.",0,0,0,0,0,0,0,0,0,0,0,0,0,0,0,0,0,1,0,0,0,0,1,0,0,0,0,0,1,1,0,0,0,0,0,0,0,0,0,0,0,0,0,0,0,1,0,0,0,0,0]
[null,null,"Install high efficiency or 2-rev electromotor on evaporation fan",0,0,0,0,0,0,0,0,0,0,0,1,1,0,0,0,0,1,1,0,0,0,1,0,0,0,0,0,1,1,0,0,0,0,0,0,0,0,0,0,0,0,0,0,0,1,0,0,0,0,0]
[null,null,"Build a cooled front space for refrigeration units.",0,0,0,0,0,0,0,0,0,0,0,0,0,0,0,0,0,1,0,0,0,0,1,0,0,0,0,0,1,1,0,0,0,0,0,0,0,0,0,0,0,0,0,0,0,1,0,0,0,0,0]
[null,null,"Use hot refrigerant gas from the compressor for the initial stages of the defrosting cycle.",0,0,0,0,0,0,0,0,0,0,0,0,0,0,0,0,0,1,0,0,0,0,1,0,0,0,0,0,1,1,0,0,0,0,0,0,0,0,0,0,0,0,0,0,0,1,0,0,0,0,0]
[null,null,"Use excess heat from other production processes for the production of cooling using adsorption/absorption cooling.",0,0,0,0,0,0,0,0,0,0,0,0,0,0,0,0,0,1,0,0,0,0,1,0,0,0,0,0,1,1,0,0,0,0,0,0,0,0,0,0,0,0,0,0,0,1,0,0,0,0,0]
[null,null,"Utilisation of free cooling",0,0,0,0,0,0,0,0,0,0,0,0,0,0,0,0,0,1,0,0,0,0,1,0,0,0,0,0,1,1,0,0,0,0,0,0,0,0,0,0,0,0,0,0,0,1,0,0,0,0,0]
[null,null,"Replacement of the equipment.",1,0,0,0,0,0,0,0,0,0,0,1,1,0,0,0,0,1,1,0,0,0,1,0,1,0,0,0,1,1,0,0,0,0,0,0,0,0,1,1,0,0,0,0,0,1,0,1,0,1,1]
[null,"Water systems","Efficient pumps for the Water treatment system (if any)",0,0,0,0,0,0,0,0,0,0,0,0,0,0,0,1,0,0,0,0,0,0,1,0,0,0,0,0,1,1,0,0,0,0,0,0,0,0,0,0,0,0,0,0,0,1,0,0,0,0,0]
[null,null,"Advanced process of water recovery ",0,0,0,0,0,0,0,0,0,0,0,0,0,0,0,1,0,0,0,0,0,0,1,0,0,0,0,0,1,1,0,0,0,0,0,0,0,0,0,0,0,0,0,0,0,1,0,0,0,0,0]
[null,"Production line","Optimisation of the production process and workflow",1,0,0,0,1,1,0,0,1,1,0,1,1,0,0,1,1,1,1,0,0,0,1,0,0,1,1,1,1,1,0,0,0,0,0,0,0,0,0,0,0,0,0,0,0,1,0,0,1,0,0]
[null,null,"Waste reduction & recycling in the production line ",0,0,0,0,0,0,0,0,0,0,0,0,1,0,0,1,1,1,0,0,0,1,1,0,0,1,0,0,1,1,0,0,0,0,0,0,0,0,0,0,0,0,0,0,0,1,0,0,0,0,0]
[null,null,"Optimization of motor driven systems ",0,0,0,0,0,0,0,0,0,0,0,1,1,0,0,0,0,1,1,0,0,0,1,0,0,0,0,0,1,1,0,0,0,0,0,0,0,0,0,0,0,0,0,0,0,1,0,0,0,0,0]
[null,null,"High efficient transmission system",0,0,0,0,0,0,0,0,0,0,0,0,0,0,0,0,0,0,0,0,0,0,1,0,0,0,1,1,1,1,0,0,0,0,0,0,0,0,0,0,0,0,0,0,0,1,0,0,1,0,0]
[null,null,"Reduction of the manual labor",1,0,0,0,0,0,0,0,1,0,0,-1,0,0,0,0,1,0,-1,0,0,0,1,0,0,0,1,1,1,1,0,0,0,0,0,0,0,0,1,0,0,1,0,0,1,1,0,1,1,0,0]
[null,null,"Regular maintenance of the equipment",0,0,0,0,0,0,0,0,0,0,0,1,1,0,0,0,1,1,1,0,0,0,1,0,0,0,0,0,1,1,0,0,0,0,0,0,0,0,0,0,0,1,1,0,1,1,0,1,0,1,1]
[null,null,"Replacement of the equipment",1,0,0,0,1,1,0,0,0,0,0,1,1,0,0,0,1,1,1,0,0,0,1,0,1,0,1,1,1,1,0,0,0,0,0,0,0,0,1,1,0,0,0,0,1,1,0,1,1,1,1]
[null,null,"Waste heat recovery ",0,0,1,0,0,0,0,0,0,0,0,0,0,0,0,0,0,0,0,0,0,0,1,0,0,0,0,0,1,1,0,0,0,0,0,0,0,0,0,0,0,0,0,0,0,1,0,0,0,0,0]
[null,null,"Low-carbon packaging ",0,0,1,0,0,0,0,0,0,0,0,0,0,0,0,0,0,1,0,0,0,0,1,0,0,1,0,0,1,0,0,0,0,0,0,0,0,0,0,0,0,0,0,0,1,1,1,0,0,0,0]
["Transport","Transport of goods","Optimisation of timetables",0,0,0,1,0,0,0,0,1,0,0,0,1,0,0,0,0,1,0,0,0,0,1,0,0,0,0,0,0,1,0,0,0,0,0,0,0,0,0,0,0,0,0,0,1,1,0,0,0,0,0]
[null,null,"Optimisation of routes",0,0,0,1,0,0,0,0,0,0,0,0,1,0,0,0,0,1,0,0,0,0,1,0,0,0,0,0,0,1,0,0,0,0,0,0,0,0,0,0,0,0,0,0,1,1,0,0,0,0,0]
[null,null,"Optimisation of loads",0,0,0,1,0,0,0,0,0,0,0,0,1,0,0,0,1,1,0,0,0,0,1,0,0,0,0,0,0,1,0,0,0,0,0,0,0,0,0,0,0,0,0,0,1,1,0,0,0,0,0]
[null,null,"Optimisation of the fleet",0,0,0,1,0,0,0,0,0,1,0,0,1,0,0,0,0,1,0,0,0,0,1,0,0,0,0,0,0,1,0,0,0,0,0,0,0,0,0,0,0,0,0,0,1,1,0,0,0,0,0]
[null,null,"Promote electromobility",1,0,1,0,0,0,0,0,0,1,0,1,1,1,0,0,0,1,1,1,0,0,1,0,1,1,0,0,0,1,0,0,0,0,0,0,0,0,0,1,0,0,0,0,0,1,1,0,0,0,0]
[null,null,"Promotion of modal shift for freight",0,0,0,0,0,0,0,0,0,1,0,0,1,0,0,0,0,1,0,0,0,0,1,0,0,0,0,0,0,1,0,0,0,0,0,0,0,0,0,0,0,0,0,0,0,1,0,0,0,0,0]
[null,null,"Regular maintenance",1,0,0,0,0,0,0,0,0,0,0,0,1,0,0,0,0,1,0,0,0,0,1,0,0,0,0,0,0,0,0,0,0,0,0,0,0,0,0,0,0,0,1,0,0,1,0,0,0,0,0]
[null,null,"Driver training",1,0,0,0,0,0,0,0,1,0,0,0,1,0,0,0,0,1,0,0,0,0,1,0,0,0,0,0,0,0,0,0,0,0,0,0,0,0,0,1,0,1,0,0,0,1,0,1,0,0,0]
["Management & Maintenance measures","Management & Maintenance measures","Green supply chain management",0,0,1,1,0,0,0,0,0,1,0,0,1,0,1,1,1,1,0,0,0,1,1,0,0,0,1,1,0,0,0,0,0,0,0,0,0,1,0,0,0,0,0,0,1,1,0,0,1,0,0]
[null,null,"Improved energy management",0,0,1,1,0,0,0,0,0,1,1,0,1,0,0,1,0,1,0,0,1,0,1,0,0,1,0,0,0,1,0,0,0,0,0,0,0,0,0,0,0,0,1,0,0,1,1,1,0,0,1]
[null,null,"Improved environmental awareness at the management level",1,0,0,0,0,0,0,0,0,1,0,0,1,0,0,0,0,1,0,0,1,0,1,0,0,0,1,1,0,0,0,0,0,0,0,0,0,0,0,0,0,0,0,0,0,1,0,0,1,0,0]
["Occupant behaviour","Occupant behaviour","Employee engagement and training",1,0,1,0,0,0,0,0,1,1,1,1,1,0,0,1,1,1,1,0,0,1,1,0,1,0,1,1,0,1,0,0,0,0,0,0,0,0,0,1,0,1,0,1,1,1,0,1,1,0,0]
[null,null,"Motivation",1,0,0,0,0,0,0,0,0,0,0,0,1,0,0,0,0,1,0,0,0,1,1,0,0,0,1,1,0,1,0,0,0,0,0,0,0,0,0,0,0,0,0,0,1,1,0,1,1,0,0]

{"sheet":"POL_top","index":24,"n_rows":97,"n_cols":54,"rows_kept":97,"cut":false,"hidden":true,"merged":[[0,51,0,53],[2,0,56,0],[2,1,6,1],[7,1,16,1],[17,1,22,1],[23,1,33,1],[34,1,39,1],[40,1,44,1],[45,1,49,1],[50,1,52,1],[0,3,0,7],[0,8,0,14],[0,15,0,24],[0,25,0,37],[0,38,0,44],[0,45,0,50],[53,1,56,1],[57,0,83,0],[57,1,60,1],[61,1,63,1],[64,1,72,1],[73,1,74,1],[75,1,83,1],[84,0,91,0],[84,1,91,1],[92,0,94,0],[92,1,94,1],[95,0,96,0],[95,1,96,1]]}
[null,null,null,"Social",null,null,null,null,"Health",null,null,null,null,null,null,"Environment",null,null,null,null,null,null,null,null,null,"Economic",null,null,null,null,null,null,null,null,null,null,null,null,"Security & Safety",null,null,null,null,null,null,"Quality",null,null,null,null,null,"Time"]
[null,null,"EEM/NEB","Employee satisfaction","Alleviation of energy poverty","Customers (new, satisfaction, etc.)","Improved supply chain relationships","Work performance","Health and well-being","(avoided) mortality","Disease burden \"daly\"","Sickness & absenteeism","Improved air quality","Improved lighting","Reduced noise","Emission reduction","Impact of EE on RES target achievement ","Ecosystem degradation","Reduced water use ","Reduced material consumption","Reduced emissions (dust, CO2, chemical agents etc.)","Reduced noise pollution","Reduced use of non-renewable resources ","Reduced litigations risks","Reduced waste","Improvement of compatitiveness","Innovation impacts","Reduction of (maintenance) costs","Reduction of emission or disposal fees","Shorter production cycle","Increased production yields","Increased real estate value","Reduction of (operating) costs","Macro economy","Usage of waste streams","Turnover of energy efficiency goods ","Employment effects","Impact on public budgets","Energy security","Security of supply / self sufficiency","Supplier diversity ","Operation safety of equipment","Less maintenance","Electrical safety","Reduced injuries","Accurate monitoring","Right First Time","Increased quality of products","Increased corporate image","Increased regulatory compliance","Risk reduction","Increased productivity","Increased equipment lifetime","Reduced time of fault detection"]
["Building","Envelope","Improvement to visible building envelope elements",1,0,1,0,0,0,0,0,0,0,0,0,1,0,0,0,0,1,0,1,0,0,1,0,0,1,0,0,0,0,0,0,0,0,0,1,0,0,0,0,0,0,0,0,0,0,0,0,0,0,0]
[null,null,"Improvements to non-visible building envelope elements",0,0,0,0,0,0,0,0,0,0,0,0,1,0,0,0,0,1,0,1,0,0,1,0,0,1,0,0,0,0,0,0,0,0,0,1,0,0,0,0,0,0,0,0,0,0,0,0,0,0,0]
[null,null,"Replacemert of windows",1,0,0,0,0,0,0,0,1,0,0,0,1,0,0,0,0,1,0,1,0,0,1,0,0,1,0,0,0,0,0,0,0,0,0,1,0,0,0,0,0,0,0,0,0,0,0,0,0,0,0]
[null,null,"Increasing the air-tightness of the building",1,0,0,0,0,0,0,0,1,0,0,0,1,0,0,0,0,1,0,1,0,0,1,0,0,1,0,0,0,0,0,0,0,0,0,1,0,0,0,0,0,0,0,0,0,0,0,0,0,0,0]
[null,null,"Shading to reduce summer heat gains",1,0,0,0,0,0,0,0,0,0,0,0,1,0,0,0,0,1,0,1,0,0,1,0,0,1,0,0,0,0,0,0,0,0,0,1,0,0,0,0,0,0,0,0,0,0,0,0,0,0,0]
[null,"Heating system","Roomwise temperature control",1,0,0,0,0,0,0,0,0,0,0,0,1,0,0,0,0,1,0,1,0,0,1,0,0,1,0,0,0,0,0,0,0,0,0,1,0,0,0,0,0,0,0,0,0,0,0,0,0,0,0]
[null,null,"Zoning optimisation of the building",0,0,1,0,0,0,0,0,0,0,0,0,1,0,0,0,0,1,0,1,0,0,1,0,0,1,0,0,0,0,0,0,0,0,0,1,0,0,0,0,0,0,0,0,0,0,0,0,0,0,0]
[null,null,"Optimisation of the heating schedule",0,0,0,0,0,0,0,0,0,0,0,0,1,0,0,0,0,1,0,1,0,0,1,0,0,1,0,0,0,0,0,0,0,0,0,1,0,0,0,0,0,0,0,0,0,0,0,0,0,0,0]
[null,null,"Lowering setpoint temperature",-1,0,0,0,0,-1,0,0,-1,0,0,0,1,0,0,0,0,1,0,1,0,0,1,0,0,1,0,0,0,0,0,0,0,0,0,1,0,0,0,0,0,0,0,0,0,0,0,0,0,0,0]
[null,null,"Control optimisation",0,0,0,0,0,0,0,0,0,0,1,0,1,0,0,0,0,1,0,1,0,0,1,0,0,1,0,0,0,0,0,0,0,0,0,1,0,0,0,0,0,0,0,0,0,0,0,0,0,0,0]
[null,null,"Insulation of the distribution network",0,0,0,0,0,0,0,0,0,0,0,0,1,0,0,0,0,1,0,1,0,0,1,0,0,1,0,0,0,0,0,0,0,0,0,1,0,0,0,0,0,0,0,0,0,0,0,0,0,0,0]
[null,null,"Hydraulic balancing of the distribution network",0,0,0,0,0,0,0,0,0,0,0,1,1,0,0,0,0,1,0,1,0,0,1,0,0,1,0,0,0,0,0,0,0,0,0,1,0,0,0,0,0,0,0,0,0,0,0,0,0,0,0]
[null,null,"New, more efficient heat generator",0,0,0,0,0,0,0,0,0,0,0,0,1,0,0,0,0,1,0,1,0,0,1,0,0,1,0,0,0,0,0,0,0,0,0,1,0,0,0,0,0,0,0,0,0,0,0,0,0,0,0]
[null,null,"Including a renewable based heat source",0,0,0,0,0,0,0,0,0,0,0,0,1,0,0,0,0,1,0,1,0,0,1,0,0,1,0,0,0,0,0,0,0,0,0,1,0,0,0,0,0,0,0,0,0,0,0,0,0,0,0]
[null,null,"Energy efficient pumps",0,0,0,0,1,0,0,0,0,0,0,0,1,0,0,0,0,1,0,1,0,0,1,0,0,1,0,0,0,0,0,0,0,0,0,1,0,0,0,0,0,0,0,0,0,0,0,0,0,0,0]
[null,"DHW system","Reducing the DHW demand",-1,0,0,0,0,0,0,0,0,0,0,0,1,0,0,0,0,1,0,1,0,0,1,0,0,1,0,0,0,0,0,0,0,0,0,1,0,0,0,0,0,0,0,0,0,0,0,0,0,0,0]
[null,null,"Insulation of the distribution network",0,0,0,0,0,0,0,0,0,0,0,0,1,0,0,0,0,1,0,1,0,0,1,0,0,1,0,0,0,0,0,0,0,0,0,1,0,0,0,0,0,0,0,0,0,0,0,0,0,0,0]
[null,null,"Lowering setpoint temperature",-1,0,0,0,0,0,0,0,0,0,0,0,1,0,0,0,0,1,0,1,0,0,1,0,0,1,0,0,0,0,0,0,0,0,0,1,0,0,0,0,0,0,0,0,0,0,0,0,0,0,0]
[null,null,"Circulation network optimisation, decentralisation of DHW production",1,0,0,0,0,0,0,0,0,0,0,0,1,0,0,0,0,1,0,1,0,0,1,0,0,1,0,0,0,0,0,0,0,0,0,1,0,0,0,0,0,0,0,0,0,0,0,0,0,0,0]
[null,null,"New, more efficient heat generator",0,0,0,0,0,0,0,0,0,0,0,0,1,0,0,0,0,1,0,1,0,0,1,0,0,1,0,0,0,0,0,0,0,0,0,1,0,0,0,0,0,0,0,0,0,0,0,0,0,0,0]
[null,null,"Including a renewable based heat source",0,0,0,0,0,0,0,0,0,0,0,0,1,1,0,0,0,1,0,1,0,0,1,0,0,1,0,0,0,0,0,0,0,0,0,1,0,0,0,0,0,0,0,0,0,0,0,0,0,0,0]
[null,"Cooling system","Roomwise temperature control",1,0,0,0,0,1,0,0,1,1,0,0,1,0,0,0,0,1,0,1,0,0,1,0,0,1,0,0,0,0,0,0,0,0,0,1,0,0,0,0,0,0,0,0,0,0,0,0,0,0,0]
[null,null,"Zoning optimisation of the building",0,0,0,0,0,0,0,0,0,0,0,0,1,0,0,0,0,1,0,1,0,0,1,0,0,1,0,0,0,0,0,0,0,0,0,1,0,0,0,0,0,0,0,0,0,0,0,0,0,0,0]
[null,null,"Optimisation of the cooling schedule",0,0,0,0,0,0,0,0,0,0,0,0,1,0,0,0,0,1,0,1,0,0,1,0,0,1,0,0,0,0,0,0,0,0,0,1,0,0,0,0,0,0,0,0,0,0,0,0,0,0,0]
[null,null,"Increasing setpoint temperature",0,0,0,0,0,-1,0,0,0,0,0,0,1,0,0,0,0,1,0,1,0,0,1,0,0,1,0,0,0,0,0,0,0,0,0,1,0,0,0,0,0,0,0,0,0,0,0,0,0,0,0]
[null,null,"Control optimisation",0,0,0,0,0,0,0,0,0,0,0,0,1,0,0,0,0,1,0,1,0,0,1,0,0,1,0,0,0,0,0,0,0,0,0,1,0,0,0,0,0,0,0,0,0,0,0,0,0,0,0]
[null,null,"Insulation of the distribution network",0,0,0,0,0,0,0,0,0,0,0,0,1,0,0,0,0,1,0,1,0,0,1,0,0,1,0,0,0,0,0,0,0,0,0,1,0,0,0,0,0,0,0,0,0,0,0,0,0,0,0]
[null,null,"Hydraulic balancing of the distribution network",0,0,0,0,0,0,0,0,0,0,0,0,1,0,0,0,0,1,0,1,0,0,1,0,0,1,0,0,0,0,0,0,0,0,0,1,0,0,0,0,0,0,0,0,0,0,0,0,0,0,0]
[null,null,"New, more efficient heat generator",0,0,0,0,0,0,0,0,0,0,0,0,1,0,0,0,0,1,0,1,0,0,1,0,0,1,0,0,0,0,0,0,0,0,0,1,0,0,0,0,0,0,0,0,0,0,0,0,0,0,0]
[null,null,"Energy efficient pumps",0,0,0,0,0,0,0,0,0,0,0,0,1,1,0,0,0,1,0,1,0,0,1,0,0,1,0,0,0,0,0,0,0,0,0,1,0,0,0,0,0,0,0,0,0,0,0,0,0,0,0]
[null,null,"Utilisation of free cooling",0,0,0,0,0,0,0,0,0,0,0,0,1,0,0,0,0,1,0,1,0,0,1,0,0,1,0,0,0,0,0,0,0,0,0,1,0,0,0,0,0,0,0,0,0,0,0,0,0,0,0]
[null,null,"Utilising the waste heat from the cooling system for heating&DHW",0,0,0,0,0,0,0,0,0,0,0,0,1,0,0,0,0,1,0,1,0,0,1,0,0,1,0,0,0,0,0,0,0,0,0,1,0,0,0,0,0,0,0,0,0,0,0,0,0,0,0]
[null,"Ventilation system","Schedule optimisation",0,0,0,0,0,0,0,0,0,0,0,0,1,0,0,0,0,1,0,1,0,0,1,0,0,1,0,0,0,0,0,0,0,0,0,1,0,0,0,0,0,0,0,0,0,0,0,0,0,0,0]
[null,null,"Control optimisation",0,0,0,0,0,0,0,0,0,0,0,0,1,0,0,0,0,1,0,1,0,0,1,0,0,1,0,0,0,0,0,0,0,0,0,1,0,0,0,0,0,0,0,0,0,0,0,0,0,0,0]
[null,null,"Air velocity optimisation",0,0,0,0,0,0,0,0,0,0,0,0,1,0,0,0,0,1,0,1,0,0,1,0,0,1,0,0,0,0,0,0,0,0,0,1,0,0,0,0,0,0,0,0,0,0,0,0,0,0,0]
[null,null,"Inlet air temperature optimisation",0,0,0,0,0,0,0,0,0,0,0,0,1,0,0,0,0,1,0,1,0,0,1,0,0,1,0,0,0,0,0,0,0,0,0,1,0,0,0,0,0,0,0,0,0,0,0,0,0,0,0]
[null,null,"Heat recovery",0,0,0,0,0,0,0,0,0,0,0,0,1,0,0,0,0,1,0,1,0,0,1,0,0,1,0,0,0,0,0,0,0,0,0,1,0,0,0,0,0,0,0,0,0,0,0,0,0,0,0]
[null,null,"Energy efficient fans",0,0,0,0,0,0,0,0,0,0,0,0,1,0,0,0,0,1,0,1,0,0,1,0,0,1,0,0,0,0,0,0,0,0,0,1,0,0,0,0,0,0,0,0,0,0,0,0,0,0,0]
[null,"Lighting","Energy efficient lights (e.g LED)",0,0,0,0,0,0,0,0,0,0,0,0,1,0,0,0,0,1,0,1,0,0,1,0,0,1,0,0,0,0,0,0,0,0,0,1,0,0,0,0,0,0,0,0,0,0,0,0,0,0,0]
[null,null,"Level of illumination",0,0,0,0,1,0,0,0,0,0,0,0,1,0,0,0,0,1,0,1,0,0,1,0,0,1,0,0,0,0,0,0,0,0,0,1,0,0,0,0,0,0,0,0,0,0,0,0,1,0,0]
[null,null,"Schedule optimisation",0,0,0,0,1,0,0,0,0,0,0,0,1,0,0,0,0,1,0,1,0,0,1,0,0,1,0,0,0,0,0,0,0,0,0,1,0,0,0,0,0,0,0,0,0,0,0,0,1,0,0]
[null,null,"Control optimisation",0,0,0,0,1,0,0,0,0,0,0,0,1,0,0,0,0,1,0,1,0,0,1,0,0,1,0,0,0,0,0,0,0,0,0,1,0,0,0,0,0,0,0,0,0,0,0,0,1,0,0]
[null,null,"Utilisation of natural light",0,0,0,0,0,0,0,0,0,0,0,0,1,0,0,0,0,1,0,1,0,0,1,0,0,1,0,0,0,0,0,0,0,0,0,1,0,0,0,0,0,0,0,0,0,0,0,0,0,0,0]
[null,"Renewable energy","Solar PV",0,0,0,0,0,0,0,0,0,0,0,0,1,1,0,0,0,1,0,1,0,0,1,0,0,1,0,0,0,0,0,0,0,0,0,1,0,0,0,0,0,0,0,0,0,0,0,0,0,0,0]
[null,null,"Wind turbine",0,0,0,0,0,0,0,0,0,0,0,0,1,1,0,0,0,1,0,1,0,0,1,0,0,1,0,0,0,0,0,0,0,0,0,1,0,0,0,0,0,0,0,0,0,0,0,0,0,0,0]
[null,null,"Solar collector system",0,0,0,0,0,0,0,0,0,0,0,0,1,1,0,0,0,1,0,1,0,0,1,0,0,1,0,0,0,0,0,0,0,0,0,1,0,0,0,0,0,0,0,0,0,0,0,0,0,0,0]
[null,null,"Geothermal heat pump system",0,0,0,0,0,0,0,0,0,0,0,0,1,1,0,0,0,1,0,1,0,0,1,0,0,1,0,0,0,0,0,0,0,0,0,1,0,0,0,0,0,0,0,0,0,0,0,0,0,0,0]
[null,null,"Passive measures",0,0,0,0,0,0,0,0,0,0,0,0,1,0,0,0,0,1,0,1,0,0,1,0,0,1,0,0,0,0,0,0,0,0,0,1,0,0,0,0,0,0,0,0,0,0,0,0,0,0,0]
[null,"Appliances","Energy efficient appliances",0,0,0,0,0,0,0,0,0,0,0,0,1,0,0,0,0,1,0,1,0,0,1,0,0,1,0,0,0,0,0,0,0,0,0,1,0,0,0,0,0,0,0,0,0,0,0,0,0,0,0]
[null,null,"Reducing stand-by consumption",0,0,0,0,0,0,0,0,0,0,0,0,1,0,0,0,0,1,0,1,0,0,1,0,0,1,0,0,0,0,0,0,0,0,0,1,0,0,0,0,0,0,0,0,0,0,0,0,0,0,0]
[null,null,"Optimal usage, on demand operation",0,0,0,0,0,0,0,0,0,0,0,0,1,0,0,0,0,1,0,1,0,0,1,0,0,1,0,0,0,0,0,0,0,0,0,1,0,0,0,0,0,0,0,0,0,0,0,0,0,0,0]
[null,"Building automation","Building automation and management systems",0,0,0,0,0,0,0,0,0,0,0,0,1,0,0,0,0,1,0,1,0,0,1,0,0,1,0,0,0,0,0,0,0,0,0,1,0,0,0,0,0,0,0,0,0,0,0,0,1,0,0]
[null,null,"Energy management system",0,0,0,0,0,0,0,0,0,0,0,0,1,0,0,0,0,1,0,1,0,0,1,0,0,1,0,0,0,0,0,0,0,0,0,1,0,0,0,0,0,0,0,0,0,0,0,0,1,0,0]
[null,null,"Measured consumption",0,0,0,0,0,0,0,0,0,0,0,0,1,0,0,0,0,1,0,1,0,0,1,0,0,1,0,0,0,0,0,0,0,0,0,1,0,0,0,0,0,0,0,0,0,0,0,0,1,0,0]
[null,null,"Improved smart-readiness",0,0,0,0,0,0,0,0,0,0,0,0,1,0,0,0,0,1,0,1,0,0,1,0,0,1,0,0,0,0,0,0,0,0,0,1,0,0,0,0,0,0,0,0,0,0,0,0,1,0,0]
["Processes","Compressed air system","Check the required pressure",0,0,0,0,0,0,0,0,0,0,0,0,1,0,0,0,0,1,0,1,0,0,1,0,0,1,0,0,0,0,0,0,0,0,0,1,0,0,0,0,0,0,0,0,0,0,0,0,1,0,0]
[null,null,"Regular check for leakages",0,0,0,0,0,0,0,0,0,0,0,0,1,0,0,0,0,1,0,1,0,0,1,0,0,1,0,0,0,0,0,0,0,0,0,1,0,0,0,0,0,0,0,0,0,0,0,0,1,0,0]
[null,null,"Waste heat recovery ",0,0,0,0,0,0,0,0,0,0,0,0,1,0,0,0,0,1,0,1,0,0,1,0,0,1,0,0,0,0,0,0,0,0,0,1,0,0,0,0,0,0,0,0,0,0,0,0,1,0,0]
[null,null,"Regular maintenance of the compressor",0,0,0,0,0,0,0,0,0,0,0,0,1,0,0,0,0,1,0,1,0,0,1,0,0,1,0,0,0,0,0,0,0,0,0,1,0,0,0,0,0,0,0,0,0,0,0,0,1,0,0]
[null,"Steam system","Check the required pressure",0,0,0,0,0,0,0,0,0,0,0,0,1,0,0,0,0,1,0,1,0,0,1,0,0,1,0,0,0,0,0,0,0,0,0,1,0,0,0,0,0,0,0,0,0,0,0,0,1,0,0]
[null,null,"Check for leakages",0,0,0,0,0,0,0,0,0,0,0,0,1,0,0,0,0,1,0,1,0,0,1,0,0,1,0,0,0,0,0,0,0,0,0,1,0,0,0,0,0,0,0,0,0,0,0,0,1,0,0]
[null,null,"Regular maintenance of the boiler",0,0,0,0,0,0,0,0,0,0,0,0,1,0,0,0,0,1,0,1,0,0,null,0,0,1,0,0,0,0,0,0,0,0,0,1,0,0,0,0,0,0,0,0,0,0,0,0,1,0,0]
[null,"Refrigeration","Optimisation of the required temperatures",0,0,0,0,0,0,0,0,0,0,0,0,1,0,0,0,0,1,0,1,0,0,1,0,0,1,0,0,0,0,0,0,0,0,0,1,0,0,0,0,0,0,0,0,0,0,0,0,1,0,0]
[null,null,"Waste heat recovery ",0,0,0,0,0,0,0,0,0,0,0,0,1,0,0,0,0,1,0,1,0,0,1,0,0,1,0,0,0,0,0,0,0,0,0,1,0,0,0,0,0,0,0,0,0,0,0,0,1,0,0]
[null,null,"Install frequency control (i.e. VRF) on chiller compressor.",0,0,0,0,0,0,0,0,0,0,0,0,1,0,0,0,0,1,0,1,0,0,1,0,0,1,0,0,0,0,0,0,0,0,0,1,0,0,0,0,0,0,0,0,0,0,0,0,1,0,0]
[null,null,"Install high efficiency or 2-rev electromotor on evaporation fan",0,0,0,0,0,0,0,0,0,0,0,0,1,0,0,0,0,1,0,1,0,0,1,0,0,1,0,0,0,0,0,0,0,0,0,1,0,0,0,0,0,0,0,0,0,0,0,0,1,0,0]
[null,null,"Build a cooled front space for refrigeration units.",0,0,0,0,0,0,0,0,0,0,0,0,1,0,0,0,0,1,0,1,0,0,1,0,0,1,0,0,0,0,0,0,0,0,0,1,0,0,0,0,0,0,0,0,0,0,0,0,1,0,0]
[null,null,"Use hot refrigerant gas from the compressor for the initial stages of the defrosting cycle.",0,0,0,0,0,0,0,0,0,0,0,0,1,0,0,0,0,1,0,1,0,0,1,0,0,1,0,0,0,0,0,0,0,0,0,1,0,0,0,0,0,0,0,0,0,0,0,0,1,0,0]
[null,null,"Use excess heat from other production processes for the production of cooling using adsorption/absorption cooling.",0,0,0,0,0,0,0,0,0,0,0,0,1,0,0,0,0,1,0,1,0,0,1,0,0,1,0,0,0,0,0,0,0,0,0,1,0,0,0,0,0,0,0,0,0,0,0,0,1,0,0]
[null,null,"Utilisation of free cooling",0,0,0,0,0,0,0,0,0,0,0,0,1,0,0,0,0,1,0,1,0,0,1,0,0,1,0,0,0,0,0,0,0,0,0,1,0,0,0,0,0,0,0,0,0,0,0,0,1,0,0]
[null,null,"Replacement of the equipment.",0,0,0,0,0,0,0,0,0,0,0,0,1,0,0,0,0,1,0,1,0,0,1,0,0,1,0,0,0,0,0,0,0,0,0,1,0,0,0,0,0,0,0,0,0,0,0,0,1,0,0]
[null,"Water systems","Efficient pumps for the Water treatment system (if any)",0,0,0,0,0,0,0,0,0,0,0,0,1,0,1,0,0,1,0,1,0,0,1,0,0,1,0,0,0,0,0,0,0,0,0,1,0,0,0,0,0,0,0,0,0,0,0,0,1,0,0]
[null,null,"Advanced process of water recovery ",0,0,0,0,0,0,0,0,0,0,0,0,1,0,1,0,0,1,0,1,0,0,1,0,0,1,0,0,0,0,0,0,0,0,0,1,0,0,0,0,0,0,0,0,0,0,0,0,1,0,0]
[null,"Production line","Optimisation of the production process and workflow",0,0,0,0,0,0,0,0,0,0,0,0,1,0,0,0,0,1,0,1,0,0,1,0,0,1,0,0,0,0,0,0,0,0,0,1,0,0,0,0,0,0,0,0,1,0,0,0,1,0,0]
[null,null,"Waste reduction & recycling in the production line ",0,0,0,0,0,0,0,0,0,0,0,0,1,0,0,0,0,1,0,1,0,0,1,0,0,1,0,0,0,0,0,0,0,0,0,1,0,0,0,0,0,0,0,0,1,0,0,0,1,0,0]
[null,null,"Optimization of motor driven systems ",0,0,0,0,0,0,0,0,0,0,0,0,1,0,0,0,0,1,0,1,0,0,1,0,0,1,0,0,0,0,0,0,0,0,0,1,0,0,0,0,0,0,0,0,1,0,0,0,1,0,0]
[null,null,"High efficient transmission system",0,0,0,0,0,0,0,0,0,0,0,0,1,0,0,0,0,1,0,1,0,0,1,0,0,1,0,0,0,0,0,0,0,0,0,1,0,0,0,0,0,0,0,0,1,0,0,0,1,0,0]
[null,null,"Reduction of the manual labor",0,0,0,0,0,0,0,0,0,0,0,0,1,0,0,0,0,1,0,1,0,0,1,0,0,1,0,0,0,0,0,0,0,0,0,1,0,0,0,0,0,0,0,0,1,0,0,0,1,0,0]
[null,null,"Regular maintenance of the equipment",0,0,0,0,0,0,0,0,0,0,0,0,1,0,0,0,0,1,0,1,0,0,1,0,0,1,0,0,0,0,0,0,0,0,0,1,0,0,0,0,0,0,0,0,1,0,0,0,1,0,0]
[null,null,"Replacement of the equipment",0,0,0,0,0,0,0,0,0,0,0,0,1,0,0,0,0,1,0,1,0,0,1,0,0,1,0,0,0,0,0,0,0,0,0,1,0,0,0,0,0,0,0,0,1,0,0,0,1,0,0]
[null,null,"Waste heat recovery ",0,0,0,0,0,0,0,0,0,0,0,0,1,0,0,0,0,1,0,1,0,0,1,0,0,1,0,0,0,0,0,0,0,0,0,1,0,0,0,0,0,0,0,0,1,0,0,0,1,0,0]
[null,null,"Low-carbon packaging ",0,0,0,0,0,0,0,0,0,0,0,0,1,0,0,0,0,1,0,1,0,0,1,0,0,1,0,0,0,0,0,0,0,0,0,1,0,0,0,0,0,0,0,0,1,0,0,0,1,0,0]
["Transport","Transport of goods","Optimisation of timetables",0,0,0,0,0,0,0,0,0,0,0,0,1,0,0,0,0,1,0,1,0,0,1,0,0,1,0,0,0,0,0,0,0,0,0,1,0,0,0,0,0,0,0,0,0,0,0,0,0,0,0]
[null,null,"Optimisation of routes",0,0,0,0,0,0,0,0,0,0,0,0,1,0,0,0,0,1,0,1,0,0,1,0,0,1,0,0,0,0,0,0,0,0,0,1,0,0,0,0,0,0,0,0,0,0,0,0,0,0,0]
[null,null,"Optimisation of loads",0,0,0,0,0,0,0,0,0,0,0,0,1,0,0,0,0,1,0,1,0,0,1,0,0,1,0,0,0,0,0,0,0,0,0,1,0,0,0,0,0,0,0,0,0,0,0,0,0,0,0]
[null,null,"Optimisation of the fleet",0,0,0,0,0,0,0,0,0,0,0,0,1,0,0,0,0,1,0,1,0,0,1,0,0,1,0,0,0,0,0,0,0,0,0,1,0,0,0,0,0,0,0,0,0,0,0,0,0,0,0]
[null,null,"Promote electromobility",0,0,0,0,0,0,0,0,0,0,0,0,1,0,0,0,0,1,0,1,0,0,1,0,0,1,0,0,0,0,0,0,0,0,0,1,0,0,0,0,0,0,0,0,0,0,0,0,0,0,0]
[null,null,"Promotion of modal shift for freight",0,0,0,0,0,0,0,0,0,0,0,0,1,0,0,0,0,1,0,1,0,0,1,0,0,1,0,0,0,0,0,0,0,0,0,1,0,0,0,0,0,0,0,0,0,0,0,0,0,0,0]
[null,null,"Regular maintenance",0,0,0,0,0,0,0,0,0,0,0,0,1,0,0,0,0,1,0,1,0,0,1,0,0,1,0,0,0,0,0,0,0,0,0,1,0,0,0,0,0,0,0,0,0,0,0,0,0,0,0]
[null,null,"Driver training",1,0,0,0,1,0,0,0,0,0,0,0,1,0,0,0,0,1,0,1,0,0,1,0,0,1,0,0,0,0,0,0,0,0,0,1,0,0,0,0,0,0,0,0,0,0,0,0,0,0,0]
["Management & Maintenance measures","Management & Maintenance measures","Green supply chain management",0,0,0,0,0,0,0,0,0,0,0,0,1,0,0,0,0,1,0,1,0,0,1,0,0,1,0,0,0,0,0,0,0,0,0,1,0,0,0,0,0,0,0,0,0,0,0,0,1,0,0]
[null,null,"Improved energy management",0,0,0,0,0,0,0,0,0,0,0,0,1,0,0,0,0,1,0,1,0,0,1,0,0,1,0,0,0,0,0,0,0,0,0,1,0,0,0,0,0,0,0,0,0,0,0,0,1,0,0]
[null,null,"Improved environmental awareness at the management level",0,0,0,0,0,0,0,0,0,0,0,0,1,0,0,0,0,1,0,1,0,0,1,0,0,1,0,0,0,0,0,0,0,0,0,1,0,0,0,0,0,0,0,0,0,0,0,0,1,0,0]
["Occupant behaviour","Occupant behaviour","Employee engagement and training",0,0,0,0,1,0,0,0,0,0,0,0,1,0,0,0,0,1,0,1,0,0,1,0,0,1,0,0,0,0,0,0,0,0,0,1,0,0,0,0,0,0,0,0,1,0,0,0,1,0,0]
[null,null,"Motivation",0,0,0,0,1,0,0,0,0,0,0,0,1,0,0,0,0,1,0,1,0,0,1,0,0,1,0,0,0,0,0,0,0,0,0,1,0,0,0,0,0,0,0,0,1,0,0,0,1,0,0]

{"sheet":"POR_top","index":25,"n_rows":97,"n_cols":54,"rows_kept":97,"cut":false,"hidden":true,"merged":[[0,51,0,53],[2,0,56,0],[2,1,6,1],[7,1,16,1],[17,1,22,1],[23,1,33,1],[34,1,39,1],[40,1,44,1],[45,1,49,1],[50,1,52,1],[0,3,0,8],[0,9,0,14],[0,15,0,24],[0,25,0,37],[0,38,0,44],[0,45,0,50],[53,1,56,1],[57,0,83,0],[57,1,60,1],[61,1,63,1],[64,1,72,1],[73,1,74,1],[75,1,83,1],[84,0,91,0],[84,1,91,1],[92,0,94,0],[92,1,94,1],[95,0,96,0],[95,1,96,1]]}
[null,null,null,"Social",null,null,null,null,null,"Health",null,null,null,null,null,"Environment",null,null,null,null,null,null,null,null,null,"Economic",null,null,null,null,null,null,null,null,null,null,null,null,"Security & Safety",null,null,null,null,null,null,"Quality",null,null,null,null,null,"Time"]
[null,null,"EEM/ NEB","Health and well-being","Alleviation of energy poverty","Employee satisfaction","Customers (new, satisfaction, etc.)","Improved supply chain relationships","Work performance","(avoided) mortality","Disease burden \"daly\"","Sickness & absenteeism","Improved air quality","Improved lighting","Reduced noise","Emission reduction","Impact of EE on RES target achievement ","Ecosystem degradation","Reduced water use ","Reduced material consumption","Reduced emissions (dust, CO2, chemical agents etc.)","Reduced noise pollution","Reduced use of non-renewable resources ","Reduced litigations risks","Reduced waste","Improvement of compatitiveness","Innovation impacts","Reduction of (maintenance) costs","Reduction of emission or disposal fees","Shorter production cycle","Increased production yields","Increased real estate value","Reduction of (operating) costs","Macro economy","Usage of waste streams","Turnover of energy efficiency goods ","Employment effects","Impact on public budgets","Energy security","Security of supply / self sufficiency","Supplier diversity ","Operation safety of equipment","Less maintenance","Electrical safety","Reduced injuries","Accurate monitoring","Right First Time","Increased quality of products","Increased corporate image","Increased regulatory compliance","Risk reduction","Increased productivity","Increased equipment lifetime","Reduced time of fault detection"]
["Building","Envelope","Improvement to visible building envelope elements",1,0,1,1,0,1,0,0,0,0,1,0,1,0,1,0,0,1,0,1,0,0,1,0,1,1,0,0,1,1,1,0,1,0,1,1,1,0,0,1,0,0,0,0,0,1,0,0,0,0,0]
[null,null,"Improvements to non-visible building envelope elements",1,0,1,0,0,1,0,1,1,0,0,1,1,0,1,0,0,1,0,1,0,0,1,0,1,1,0,0,1,1,1,0,1,0,1,1,1,0,0,1,0,0,0,0,0,1,0,0,0,0,0]
[null,null,"Replacement of windows",1,0,1,1,0,1,0,1,1,1,1,1,1,0,1,0,0,1,0,1,0,0,1,0,1,1,0,0,1,1,1,0,1,0,1,1,1,0,0,1,0,0,0,0,0,1,0,0,0,0,0]
[null,null,"Increasing the air-tightness of the building",1,0,1,0,0,1,0,1,1,1,0,1,1,0,1,0,0,1,0,1,0,0,1,0,1,1,0,0,1,1,1,0,1,0,1,1,1,0,0,1,0,0,0,0,0,1,0,0,0,0,0]
[null,null,"Shading to reduce summer heat gains",1,0,1,0,0,1,1,1,1,0,1,0,1,0,1,0,0,1,0,1,0,0,1,0,1,1,0,0,1,1,1,0,1,0,1,1,1,0,0,1,0,0,0,0,0,1,0,0,0,0,0]
[null,"Heating system","Roomwise temperature control",1,0,1,0,0,1,1,1,1,1,0,0,1,0,1,0,0,1,0,1,0,0,1,0,0,1,0,0,1,1,1,0,1,0,0,1,1,0,0,0,0,0,0,0,0,0,0,0,1,1,0]
[null,null,"Zoning optimisation of the building",1,0,1,0,0,1,0,0,0,0,0,0,1,0,1,0,0,1,0,1,0,0,1,0,0,1,0,0,1,1,1,0,1,0,0,1,1,0,0,0,0,0,0,0,0,0,0,0,1,1,0]
[null,null,"Optimisation of the heating schedule",1,0,1,0,0,1,0,0,0,1,0,1,1,0,1,0,0,1,0,1,0,0,1,0,0,1,0,0,1,1,1,0,1,0,0,1,1,0,0,0,0,0,0,0,0,0,0,0,1,1,0]
[null,null,"Lowering setpoint temperature",1,0,1,0,0,-1,0,0,0,0,0,0,1,0,1,0,0,1,0,1,0,0,1,0,0,1,0,0,1,1,1,0,1,0,0,1,1,0,0,0,0,0,0,0,0,0,0,0,0,1,0]
[null,null,"Control optimisation",1,0,1,0,0,1,0,0,0,1,0,1,1,0,1,0,0,1,0,1,0,0,1,0,0,1,0,0,1,1,1,0,1,0,0,1,1,0,0,0,0,0,0,0,0,0,0,0,1,1,0]
[null,null,"Insulation of the distribution network",1,0,1,0,0,1,0,0,0,0,0,1,1,0,1,0,0,1,0,1,0,0,1,0,1,1,0,0,1,1,1,0,1,0,0,1,1,0,0,1,0,0,0,0,0,0,0,1,0,1,0]
[null,null,"Hydraulic balancing of the distribution network",1,0,1,0,0,1,0,0,0,0,0,1,1,0,1,0,0,1,0,1,0,0,1,0,1,1,0,0,1,1,1,0,1,0,0,1,1,0,0,1,0,0,0,0,0,0,0,1,0,1,0]
[null,null,"New, more efficient heat generator",1,0,1,0,0,1,1,0,0,0,0,1,1,0,1,0,0,1,0,1,0,0,1,0,1,1,0,0,1,1,1,0,1,0,0,1,1,0,1,1,1,0,0,0,0,0,0,0,0,1,0]
[null,null,"Including a renewable based heat source",0,0,0,0,0,0,1,0,0,0,0,0,1,0,1,0,0,1,0,1,0,0,1,0,0,1,0,0,1,1,1,0,1,0,0,1,1,0,0,0,0,0,0,0,0,0,0,0,0,1,0]
[null,null,"Energy efficient pumps",1,0,0,0,0,1,1,0,0,0,0,1,1,0,1,0,0,1,0,1,0,0,1,0,1,1,0,0,1,1,1,0,1,0,0,1,1,0,0,1,1,0,0,0,0,0,0,0,0,1,0]
[null,"DHW system","Reducing the DHW demand",1,0,0,0,0,1,0,0,0,0,0,0,1,0,1,0,0,1,0,1,0,0,1,0,0,1,0,0,1,1,1,0,1,0,0,1,1,0,0,0,0,0,0,0,0,0,0,0,0,1,0]
[null,null,"Insulation of the distribution network",1,0,1,0,0,1,0,0,0,0,0,1,1,0,1,0,0,1,0,1,0,0,1,0,1,1,0,0,1,1,1,0,1,0,0,1,1,0,0,1,0,0,0,0,0,0,0,1,0,1,0]
[null,null,"Lowering setpoint temperature",1,0,-1,0,0,1,0,0,0,0,0,0,1,0,1,0,0,1,0,1,0,0,1,0,0,1,0,0,1,1,1,0,1,0,0,1,1,0,0,0,0,0,0,0,0,0,0,0,0,1,0]
[null,null,"Circulation network optimisation, decentralisation of DHW production",1,0,1,0,0,1,0,0,0,0,0,0,1,0,1,0,0,1,0,1,0,0,1,0,0,1,0,0,1,1,1,0,1,0,0,1,1,0,1,0,0,0,0,0,0,0,0,0,0,1,0]
[null,null,"New, more efficient heat generator",1,0,1,0,0,1,1,0,0,0,0,0,1,0,1,0,0,1,0,1,0,0,1,0,0,1,0,0,1,1,1,0,1,0,0,1,1,0,0,0,1,0,0,0,0,0,0,0,0,1,0]
[null,null,"Including a renewable based heat source",0,0,0,0,0,0,1,0,0,0,0,0,1,0,1,0,0,1,0,1,0,0,1,0,0,1,0,0,1,1,1,0,1,0,0,1,1,0,0,0,0,0,0,0,0,0,0,0,0,1,0]
[null,"Cooling system","Roomwise temperature control",1,0,1,0,0,1,0,1,0,1,0,0,1,0,1,0,0,1,0,1,0,0,1,0,0,1,0,0,1,1,1,0,1,0,0,1,1,0,0,0,0,0,0,0,0,0,0,0,1,1,0]
[null,null,"Zoning optimisation of the building",1,0,1,0,0,1,0,0,0,0,0,0,1,0,1,0,0,1,0,1,0,0,1,0,0,1,0,0,1,1,1,0,1,0,0,1,1,0,0,0,0,0,0,0,0,0,0,0,1,1,0]
[null,null,"Optimisation of the cooling schedule",1,0,1,0,0,1,1,0,0,0,0,0,1,0,1,0,0,1,0,1,0,0,1,0,0,1,0,0,1,1,1,0,1,0,0,1,1,0,0,0,0,0,0,0,0,0,0,0,1,1,0]
[null,null,"Increasing setpoint temperature",1,0,-1,0,0,1,0,0,0,0,0,0,1,0,1,0,0,1,0,1,0,0,1,0,0,1,0,0,1,1,1,0,1,0,0,1,1,0,0,0,0,0,0,0,0,0,0,0,0,1,0]
[null,null,"Control optimisation",1,0,1,0,0,-1,0,0,0,0,0,0,1,0,1,0,0,1,0,1,0,0,1,0,0,1,0,0,1,1,1,0,1,0,0,1,1,0,0,0,0,0,0,0,0,0,0,1,0,1,0]
[null,null,"Insulation of the distribution network",1,0,1,0,0,1,0,0,0,0,0,1,1,0,1,0,0,1,0,1,0,0,1,0,0,1,0,0,1,1,1,0,1,0,0,1,1,0,0,0,0,0,0,0,0,0,0,0,0,1,0]
[null,null,"Hydraulic balancing of the distribution network",1,0,1,0,0,1,0,0,0,0,0,0,1,0,1,0,0,1,0,1,0,0,1,0,0,1,0,0,1,1,1,0,1,0,0,1,1,0,0,0,0,0,0,0,0,0,0,0,0,1,0]
[null,null,"New, more efficient heat generator",1,0,1,0,0,1,1,0,0,0,0,1,1,0,1,0,0,1,0,1,0,0,1,0,0,1,0,0,1,1,1,0,1,0,0,1,1,0,1,0,0,0,0,0,0,0,0,0,0,1,0]
[null,null,"Energy efficient pumps",1,0,1,0,0,1,0,0,0,0,0,1,1,0,1,0,0,1,0,1,0,0,1,0,1,1,0,0,1,1,1,0,1,0,0,1,1,0,1,1,1,0,0,0,0,0,0,0,0,1,0]
[null,null,"Utilisation of free cooling",1,0,1,0,0,1,1,0,0,0,0,0,1,0,1,0,0,1,0,1,0,0,1,0,1,1,0,0,1,1,1,0,1,0,0,1,1,0,0,1,0,0,0,0,0,0,0,0,0,1,0]
[null,null,"Utilising the waste heat from the cooling system for heating&DHW",1,0,1,0,0,1,1,0,0,0,0,0,1,0,1,0,0,1,0,1,0,0,1,0,0,1,0,0,1,1,1,0,1,0,0,1,1,0,0,0,0,0,0,0,0,0,0,0,0,1,0]
[null,"Ventilation system","Schedule optimisation",1,0,1,0,0,1,0,0,0,0,0,1,1,0,1,0,0,1,0,1,0,0,1,0,1,1,0,0,0,1,1,0,1,0,0,1,1,0,1,1,0,0,0,0,0,0,0,1,1,1,0]
[null,null,"Control optimisation",1,0,1,0,0,1,0,0,0,-1,0,0,1,0,1,0,0,1,0,1,0,0,1,0,1,1,0,0,0,1,1,0,1,0,0,1,1,0,1,1,0,0,0,0,0,0,1,1,1,1,0]
[null,null,"Air velocity optimisation",1,0,1,0,0,1,0,0,0,1,0,0,1,0,1,0,0,1,0,1,0,0,1,0,1,1,0,0,0,1,1,0,1,0,0,1,1,0,1,1,0,0,0,0,0,0,1,1,1,1,0]
[null,null,"Inlet air temperature optimisation",1,0,1,0,0,1,0,1,1,1,0,0,1,0,1,0,0,1,0,1,0,0,1,0,1,1,0,0,0,1,1,0,1,0,0,1,1,0,0,1,0,0,0,0,0,0,0,1,1,1,0]
[null,null,"Heat recovery",1,0,1,0,0,1,0,0,0,0,0,0,1,0,1,0,0,1,0,1,0,0,1,0,0,1,0,0,0,1,1,0,1,0,0,1,1,0,0,0,0,0,0,0,0,0,0,0,0,1,0]
[null,null,"Energy efficient fans",1,0,1,0,0,1,0,0,0,0,0,0,1,0,1,0,0,1,0,1,0,0,1,0,1,1,0,0,0,1,1,0,1,0,0,1,1,0,1,1,1,0,0,0,0,0,0,0,0,1,0]
[null,"Lighting","Energy efficient lights (e.g LED)",1,0,1,0,0,1,0,0,0,0,1,0,1,0,1,0,0,1,0,1,0,0,1,0,1,1,0,0,1,1,1,0,1,0,0,1,1,0,1,1,1,0,0,0,0,0,0,0,0,1,0]
[null,null,"Level of illumination",1,0,1,0,0,1,0,1,1,0,1,0,null,0,1,0,0,1,0,1,0,0,1,0,0,1,0,0,0,1,1,0,1,0,0,1,1,0,0,0,0,0,0,0,0,0,0,0,1,1,0]
[null,null,"Schedule optimisation",1,0,1,0,0,1,0,0,0,0,0,0,1,0,1,0,0,1,0,1,0,0,1,0,0,1,0,0,0,1,1,0,1,0,0,1,1,0,0,0,0,0,0,0,0,0,0,0,1,1,0]
[null,null,"Control optimisation",1,0,1,0,0,1,0,0,0,0,1,0,1,0,1,0,0,1,0,1,0,0,1,0,0,1,0,0,0,1,1,0,1,0,0,1,1,0,0,0,0,0,0,0,0,0,0,0,1,1,0]
[null,null,"Utilisation of natural light",1,0,1,0,0,1,0,1,1,1,1,0,1,0,1,0,0,1,0,1,0,0,1,0,1,1,0,0,0,1,1,0,1,0,0,1,1,0,0,1,0,0,0,0,0,0,0,0,1,1,0]
[null,"Renewable energy","Solar PV",0,0,0,0,0,0,1,0,0,0,0,0,1,0,1,0,0,1,0,1,0,0,1,0,0,1,0,0,1,1,1,0,0,0,0,1,1,1,0,0,0,0,0,0,0,1,0,0,0,0,0]
[null,null,"Wind turbine",0,0,0,0,0,0,1,0,0,0,0,-1,1,0,1,0,0,1,0,1,0,0,1,0,0,1,0,0,1,1,1,0,0,0,0,1,1,1,0,0,0,0,0,0,0,1,0,0,0,0,0]
[null,null,"Solar collector system",0,0,0,0,0,0,1,0,0,0,0,0,1,0,1,0,0,1,0,1,0,0,1,0,0,1,0,0,1,1,1,0,0,0,0,1,1,1,0,0,0,0,0,0,0,1,0,0,0,0,0]
[null,null,"Geothermal heat pump system",0,0,0,0,0,0,1,0,0,0,0,0,1,0,1,0,0,1,0,1,0,0,1,0,0,1,0,0,1,1,1,0,0,0,0,1,1,1,0,0,0,0,0,0,0,1,0,0,0,0,0]
[null,null,"Passive measures",0,0,0,0,0,1,1,0,0,0,0,0,1,0,1,0,0,1,0,1,0,0,1,0,0,1,0,0,1,1,1,0,0,0,0,1,1,1,0,0,0,0,0,0,0,1,0,0,0,0,0]
[null,"Appliances","Energy efficient appliances",0,0,0,0,0,0,1,0,0,0,0,1,1,0,1,0,0,1,0,1,0,0,1,0,1,1,0,0,1,1,1,0,1,0,0,1,1,0,1,1,1,0,0,0,0,0,0,0,0,1,0]
[null,null,"Reducing stand-by consumption",0,0,0,0,0,0,1,0,0,0,0,1,1,0,1,0,0,1,0,1,0,0,1,0,0,1,0,0,1,1,1,0,1,0,0,1,1,0,0,0,0,0,0,0,0,0,0,0,0,1,0]
[null,null,"Optimal usage, on demand operation",0,0,1,0,0,0,1,0,0,0,0,1,1,0,1,0,0,1,0,1,0,0,1,0,0,1,0,0,1,1,1,0,1,0,0,1,1,0,0,0,0,0,0,0,0,0,0,0,1,1,0]
[null,"Building automation","Building automation and management systems",1,0,1,0,0,1,1,1,1,1,1,1,1,0,1,0,0,1,0,1,0,0,1,0,1,1,0,0,1,1,1,0,1,0,0,1,1,0,1,1,1,0,0,0,0,0,0,1,1,1,1]
[null,null,"Energy management system",1,0,1,0,0,1,1,1,1,1,1,1,1,0,1,0,0,1,0,1,0,0,1,0,1,1,0,0,1,1,1,0,1,0,0,1,1,0,0,1,0,0,0,0,0,0,0,1,1,1,1]
[null,null,"Measured consumption",0,0,0,0,0,0,0,0,0,0,0,0,1,0,1,0,0,1,0,1,0,0,1,0,0,1,0,0,1,1,1,0,1,0,0,1,1,0,0,0,0,0,0,0,0,0,0,0,0,0,1]
[null,null,"Improved smart-readiness",1,0,1,0,0,1,1,1,1,1,1,1,1,0,1,0,0,1,0,1,0,0,1,0,1,1,0,0,1,1,1,0,1,0,0,1,1,0,0,1,0,0,0,0,0,0,0,0,1,1,1]
["Processes","Compressed air system","Check the required pressure",0,0,0,0,0,0,0,0,0,0,0,0,1,0,1,0,0,1,0,1,0,0,1,0,1,1,0,0,0,1,1,0,1,0,0,1,1,0,1,1,0,0,0,0,0,0,0,1,0,1,0]
[null,null,"Regular check for leakages",0,0,0,0,0,0,0,0,0,0,0,0,1,0,1,0,0,1,0,1,0,0,1,0,1,1,0,0,0,1,1,0,1,0,0,1,1,0,1,1,0,0,0,0,0,0,0,1,0,1,0]
[null,null,"Waste heat recovery ",0,0,0,0,0,0,0,0,0,0,0,0,1,0,1,0,0,1,0,1,0,0,1,0,1,1,0,0,0,1,1,1,1,0,0,1,1,0,0,1,0,0,0,0,0,0,0,0,0,1,0]
[null,null,"Regular maintenance of the compressor",0,0,0,0,0,0,0,0,0,0,0,0,1,0,1,0,0,1,0,1,0,0,1,0,1,1,0,0,0,1,1,0,1,0,0,1,1,0,1,1,0,0,0,0,0,0,0,1,0,1,1]
[null,"Steam system","Check the required pressure",0,0,0,0,0,0,0,0,0,0,0,0,1,0,1,1,0,1,0,1,0,0,1,0,1,1,0,0,0,1,1,0,1,0,0,1,1,0,1,1,0,0,0,0,0,0,0,1,0,1,0]
[null,null,"Check for leakages",0,0,0,0,0,0,0,0,0,0,0,0,1,0,1,1,0,1,0,1,0,0,1,0,1,1,0,0,0,1,1,0,1,0,0,1,1,0,1,1,0,0,0,0,0,0,0,1,0,1,0]
[null,null,"Regular maintenance of the boiler",0,0,0,0,0,0,0,0,0,0,0,0,1,0,1,1,0,1,0,1,0,0,1,0,1,1,0,0,0,1,1,0,1,0,0,1,1,0,1,1,0,0,0,0,0,0,0,1,0,1,1]
[null,"Refrigeration","Optimisation of the required temperatures",1,0,1,0,0,1,0,0,0,0,0,0,1,0,1,0,0,1,0,1,0,0,1,0,1,1,0,0,0,1,1,0,1,0,0,1,1,0,1,1,0,0,0,0,0,0,0,1,1,1,0]
[null,null,"Waste heat recovery ",1,0,1,0,0,1,0,0,0,0,0,0,1,0,1,0,0,1,0,1,0,0,1,0,1,1,0,0,0,1,1,1,1,0,0,1,1,0,0,1,0,0,0,0,0,0,0,0,0,1,0]
[null,null,"Install frequency control (i.e. VRF) on chiller compressor.",1,0,1,0,0,1,0,0,0,0,0,0,1,0,1,0,0,1,0,1,0,0,1,0,0,1,0,0,1,1,1,0,1,0,0,1,1,0,0,0,0,0,0,0,0,0,0,0,0,1,0]
[null,null,"Install high efficiency or 2-rev electromotor on evaporation fan",1,0,1,0,0,1,0,0,0,0,0,0,1,0,1,0,0,1,0,1,0,0,1,0,1,1,0,0,1,1,1,0,1,0,0,1,1,0,0,1,0,0,0,0,0,0,0,0,0,1,0]
[null,null,"Build a cooled front space for refrigeration units.",1,0,1,0,0,1,0,0,0,0,0,0,1,0,1,0,0,1,0,1,0,0,1,0,1,1,0,0,1,1,1,0,1,0,0,1,1,0,0,1,0,0,0,0,0,0,0,0,0,1,0]
[null,null,"Use hot refrigerant gas from the compressor for the initial stages of the defrosting cycle.",1,0,1,0,0,1,0,0,0,0,0,0,1,0,1,0,0,1,0,1,0,0,1,0,0,1,0,0,0,1,1,0,1,null,0,1,1,0,0,0,0,0,0,0,0,0,0,0,0,1,0]
[null,null,"Use excess heat from other production processes for the production of cooling using adsorption/absorption cooling.",1,0,1,0,0,1,0,0,0,0,0,0,1,0,1,0,0,1,0,1,0,0,1,0,0,1,0,0,0,1,1,0,1,0,0,1,1,0,0,0,0,0,0,0,0,0,0,0,0,1,0]
[null,null,"Utilisation of free cooling",1,0,1,0,0,1,0,0,0,0,0,0,1,0,1,0,0,1,0,1,0,0,1,0,0,1,0,0,1,1,1,0,1,0,0,1,1,0,0,0,0,0,0,0,0,0,0,0,0,1,0]
[null,null,"Replacement of the equipment.",1,0,1,0,0,1,0,0,0,0,0,0,1,0,1,0,0,1,0,1,0,0,1,0,1,1,0,0,1,1,1,0,1,0,0,1,1,0,1,1,1,0,0,0,0,0,0,1,0,1,0]
[null,"Water systems","Efficient pumps for the Water treatment system (if any)",1,0,1,0,0,1,0,0,0,0,0,0,1,0,1,1,0,1,0,1,0,0,1,0,1,1,0,0,1,1,1,0,1,0,0,1,1,0,1,1,1,0,0,0,0,0,0,0,0,1,0]
[null,null,"Advanced process of water recovery ",1,0,1,0,0,1,0,0,0,0,0,0,1,0,1,0,0,1,0,1,0,0,1,0,0,1,0,0,0,1,1,1,1,0,0,1,0,0,0,0,0,0,0,0,0,0,0,0,0,1,0]
[null,"Production line","Optimisation of the production process and workflow",1,0,1,0,0,1,0,0,0,0,0,0,1,0,1,0,1,1,0,1,0,0,1,0,1,1,0,0,0,1,1,0,1,0,0,1,1,0,0,1,0,0,0,1,1,1,0,0,1,0,0]
[null,null,"Waste reduction & recycling in the production line ",1,0,1,0,0,1,0,0,0,0,0,0,1,0,1,0,1,1,0,1,0,0,1,0,0,1,0,0,0,1,1,1,1,0,0,1,1,0,0,0,0,0,0,1,1,1,0,0,0,0,0]
[null,null,"Optimization of motor driven systems ",1,0,1,0,0,1,0,0,0,0,0,0,1,0,1,0,0,1,1,1,0,0,1,0,1,1,0,0,0,1,1,0,1,0,0,1,1,0,1,1,0,0,0,0,0,1,0,0,0,1,0]
[null,null,"High efficient transmission system",1,0,1,0,0,1,0,0,0,0,0,0,1,0,1,0,0,1,0,1,0,0,1,0,0,1,0,0,0,1,1,0,1,0,0,1,1,0,0,0,0,0,0,0,0,1,0,0,0,0,0]
[null,null,"Reduction of the manual labor",1,0,1,0,0,1,0,0,0,0,0,0,1,0,1,0,1,1,0,1,0,0,1,0,0,1,0,0,0,1,1,0,1,0,0,1,1,0,0,0,0,0,0,1,1,1,0,1,1,0,0]
[null,null,"Regular maintenance of the equipment",1,0,1,0,0,1,0,0,0,0,0,0,1,0,1,0,1,1,1,1,0,0,1,0,1,1,0,0,0,1,1,0,1,0,0,1,1,0,0,1,0,0,0,1,1,1,0,1,0,1,1]
[null,null,"Replacement of the equipment",1,0,1,0,0,1,0,0,0,0,0,0,1,0,1,0,1,1,0,1,0,0,1,0,1,1,0,0,1,1,1,0,1,0,0,1,1,0,0,1,0,0,0,1,1,1,0,1,0,1,0]
[null,null,"Waste heat recovery ",1,0,1,0,0,1,0,0,0,0,0,0,1,0,1,0,0,1,0,1,0,0,1,0,0,1,0,0,0,1,1,1,1,0,0,1,1,0,0,0,0,0,0,0,0,1,0,0,0,1,0]
[null,null,"Low-carbon packaging ",1,0,1,0,0,1,0,0,0,0,0,0,1,0,1,0,1,1,0,1,0,0,1,0,0,1,0,0,0,1,1,0,1,0,0,1,1,0,0,0,0,0,0,0,0,1,0,0,0,0,0]
["Transport","Transport of goods","Optimisation of timetables",1,0,1,1,1,1,0,0,0,0,0,0,1,0,1,0,1,1,0,1,0,0,1,0,0,1,0,0,0,1,1,0,1,0,0,1,0,0,0,0,0,0,0,0,0,0,0,0,1,0,0]
[null,null,"Optimisation of routes",1,0,1,1,1,1,0,0,0,0,0,0,1,0,1,0,0,1,0,1,0,0,1,0,0,1,0,0,0,1,1,0,1,0,0,1,0,0,0,0,0,0,0,0,0,0,0,0,0,0,0]
[null,null,"Optimisation of loads",1,0,1,1,1,1,0,0,0,0,0,0,1,0,1,0,0,1,0,1,0,0,1,0,0,1,0,0,0,1,1,0,1,0,0,1,0,0,0,0,0,0,0,0,0,0,0,0,0,0,0]
[null,null,"Optimisation of the fleet",1,0,1,1,1,1,0,0,0,0,0,0,1,0,1,0,0,1,0,1,0,0,1,0,1,1,0,0,0,1,1,0,1,0,0,1,0,0,0,1,0,0,0,0,0,0,0,0,0,0,0]
[null,null,"Promote electromobility",1,0,1,1,1,1,0,0,0,0,0,0,1,0,1,0,0,1,1,1,0,0,1,0,0,1,0,0,0,1,1,0,1,0,0,1,0,0,0,0,0,0,0,0,0,0,0,0,0,0,0]
[null,null,"Promotion of modal shift for freight",1,0,1,1,1,1,0,0,0,0,0,0,1,0,1,0,0,1,0,1,0,0,1,0,0,1,0,0,0,1,1,0,1,0,0,1,0,0,0,0,0,0,0,0,0,0,0,0,0,0,1]
[null,null,"Regular maintenance",1,0,1,1,1,1,0,0,0,0,0,0,1,0,1,0,0,1,0,1,0,0,1,0,1,1,0,0,0,1,1,0,1,0,0,1,0,0,0,1,0,0,0,0,0,0,0,0,0,0,0]
[null,null,"Driver training",1,0,1,1,1,1,0,0,0,0,0,0,1,0,1,0,0,1,0,1,1,0,1,0,1,1,0,0,0,1,1,0,1,0,0,1,0,0,0,1,0,0,0,0,0,0,0,0,0,0,0]
["Management & Maintenance measures","Management & Maintenance measures","Green supply chain management",1,0,1,0,1,1,0,0,0,0,0,0,1,0,1,0,0,1,0,1,0,1,1,0,1,1,0,0,0,1,1,1,1,0,0,1,0,0,0,1,0,0,0,0,0,1,0,0,0,0,0]
[null,null,"Improved energy management",1,0,1,0,1,1,0,0,0,0,0,0,1,0,1,0,0,1,0,1,0,0,1,0,1,1,0,0,0,1,1,0,1,0,0,1,1,0,0,1,0,0,0,0,0,1,0,0,0,1,0]
[null,null,"Improved environmental awareness at the management level",1,0,1,0,1,1,0,0,0,0,0,0,1,0,1,0,0,1,0,1,0,0,1,0,1,1,0,0,0,1,1,1,1,0,0,1,0,0,0,1,0,0,0,0,0,1,0,0,0,0,0]
["Occupant behaviour","Occupant behaviour","Employee engagement and training",1,0,1,0,0,1,0,0,0,0,0,0,1,0,1,0,1,1,0,1,1,1,1,1,1,1,1,1,0,1,1,1,1,1,0,1,1,0,1,1,1,1,0,1,1,1,0,1,1,1,0]
[null,null,"Motivation",1,0,1,0,0,1,0,0,0,0,0,0,1,0,1,0,1,1,0,1,1,1,1,1,1,1,1,1,0,1,1,1,1,1,0,1,1,0,1,1,0,1,0,1,1,1,0,1,1,1,0]

{"sheet":"AUT_emp","index":26,"n_rows":97,"n_cols":54,"rows_kept":97,"cut":false,"hidden":true,"merged":[[0,51,0,53],[2,0,56,0],[2,1,6,1],[7,1,16,1],[17,1,22,1],[23,1,33,1],[34,1,39,1],[40,1,44,1],[45,1,49,1],[50,1,52,1],[0,15,0,24],[0,25,0,37],[0,38,0,44],[0,45,0,50],[0,3,0,7],[0,8,0,14],[95,0,96,0],[95,1,96,1],[53,1,56,1],[57,0,83,0],[57,1,60,1],[61,1,63,1],[64,1,72,1],[73,1,74,1],[75,1,83,1],[84,0,91,0],[84,1,91,1],[92,0,94,0],[92,1,94,1]]}
[null,null,null,"Social",null,null,null,null,"Health",null,null,null,null,null,null,"Environment",null,null,null,null,null,null,null,null,null,"Economic",null,null,null,null,null,null,null,null,null,null,null,null,"Security & Safety",null,null,null,null,null,null,"Quality",null,null,null,null,null,"Time"]
[null,null,"EEM/NEB","Employee satisfaction","Alleviation of energy poverty","Customers (new, satisfaction, etc.)","Improved supply chain relationships","Work performance","Health and well-being","(avoided) mortality","Disease burden \"daly\"","Sickness & absenteeism","Improved air quality","Improved lighting","Reduced noise","Emission reduction","Impact of EE on RES target achievement ","Ecosystem degradation","Reduced water use ","Reduced material consumption","Reduced emissions (dust, CO2, chemical agents etc.)","Reduced noise pollution","Reduced use of non-renewable resources ","Reduced litigations risks","Reduced waste","Improvement of compatitiveness","Innovation impacts","Reduction of (maintenance) costs","Reduction of emission or disposal fees","Shorter production cycle","Increased production yields","Increased real estate value","Reduction of (operating) costs","Macro economy","Usage of waste streams","Turnover of energy efficiency goods ","Employment effects","Impact on public budgets","Energy security","Security of supply / self sufficiency","Supplier diversity ","Operation safety of equipment","Less maintenance","Electrical safety","Reduced injuries","Accurate monitoring","Right First Time","Increased quality of products","Increased corporate image","Increased regulatory compliance","Risk reduction","Increased productivity","Increased equipment lifetime","Reduced time of fault detection"]
["Building","Envelope","Improvement to visible building envelope elements",1,0,0,1,1,1,1,1,1,1,1,1,0,0,1,0,0,0,1,0,0,0,0,0,0,0,0,0,0,0,0,0,0,0,0,0,0,0,0,0,0,0,0,0,0,0,0,0,0,0,0]
[null,null,"Improvements to non-visible building envelope elements",0,0,0,0,1,1,1,1,1,1,0,1,0,0,1,0,0,0,1,0,0,0,0,0,0,0,0,0,0,0,0,0,0,0,0,0,0,0,0,0,0,0,0,0,0,0,0,0,0,0,0]
[null,null,"Replacemert of windows",1,0,0,0,1,1,1,1,1,1,1,1,0,0,0,0,0,0,1,0,0,0,0,0,0,0,0,0,0,0,0,0,0,0,0,0,0,0,0,0,0,0,0,0,0,0,0,0,0,0,0]
[null,null,"Increasing the air-tightness of the building",1,0,0,0,1,1,1,1,1,1,0,1,0,0,1,0,0,0,1,0,0,0,0,0,0,0,0,0,0,0,0,0,0,0,0,0,0,0,0,0,0,0,0,0,0,0,0,0,0,0,0]
[null,null,"Shading to reduce summer heat gains",1,0,0,0,1,1,1,1,1,1,1,1,0,0,1,0,0,0,0,0,0,0,0,0,0,0,0,0,0,0,0,0,0,0,0,0,0,0,0,0,0,0,0,0,0,0,0,0,0,0,0]
[null,"Heating system","Roomwise temperature control",1,0,0,0,1,1,1,1,1,1,0,0,0,0,1,0,0,0,0,0,0,0,0,0,0,0,0,0,0,0,0,0,0,0,0,0,0,0,0,0,0,0,0,0,0,0,0,0,0,0,0]
[null,null,"Zoning optimisation of the building",-1,0,0,0,1,0,0,0,0,0,0,0,0,0,1,0,0,0,0,0,0,0,0,0,0,0,0,0,0,0,0,0,0,0,0,0,0,0,0,0,0,0,0,0,0,0,0,0,0,0,0]
[null,null,"Optimisation of the heating schedule",0,0,0,0,0,1,0,0,0,0,0,0,1,0,0,0,0,0,0,0,0,0,0,0,0,0,0,0,0,0,0,0,0,0,0,0,0,0,0,0,0,0,0,0,0,0,0,0,0,0,0]
[null,null,"Lowering setpoint temperature",-1,0,0,0,0,0,0,0,0,0,0,0,0,0,0,0,0,0,0,0,0,0,0,0,0,0,0,0,0,0,0,0,0,0,0,0,0,0,0,0,0,0,0,0,0,0,0,0,0,0,0]
[null,null,"Control optimisation",0,0,0,0,1,0,0,0,0,1,0,0,0,0,0,0,0,0,0,0,0,0,0,0,0,0,0,0,0,0,0,0,0,0,0,0,0,0,0,0,0,0,0,0,0,0,0,0,0,0,0]
[null,null,"Insulation of the distribution network",0,0,0,0,0,1,0,1,1,0,0,0,0,0,0,0,0,0,0,0,0,0,0,0,0,0,0,0,0,0,0,0,0,0,0,0,0,0,0,0,0,0,0,0,0,0,0,0,0,0,0]
[null,null,"Hydraulic balancing of the distribution network",1,0,0,0,0,0,0,0,0,0,0,0,0,0,0,0,0,0,0,0,0,0,0,0,0,0,0,0,0,0,0,0,0,0,0,0,0,0,0,0,0,0,0,0,0,0,0,0,0,0,0]
[null,null,"New, more efficient heat generator",0,0,0,0,0,0,0,0,0,0,0,0,0,0,0,0,0,0,0,0,0,0,0,0,0,0,0,0,0,0,0,0,0,0,0,0,0,0,0,0,0,0,0,0,0,0,0,0,0,0,0]
[null,null,"Including a renewable based heat source",1,0,0,0,0,0,0,0,0,0,0,0,0,0,0,0,0,0,0,0,0,0,0,0,0,0,0,0,0,0,0,0,0,0,0,0,0,0,0,0,0,0,0,0,0,0,0,0,0,0,0]
[null,null,"Energy efficient pumps",0,0,0,0,0,0,0,0,0,0,0,0,0,0,0,0,0,0,0,0,0,0,0,0,0,0,0,0,0,0,0,0,0,0,0,0,0,0,0,0,0,0,0,0,0,0,0,0,0,0,0]
[null,"DHW system","Reducing the DHW demand",-1,0,0,0,0,0,0,0,0,0,0,0,0,0,0,0,0,0,0,0,0,0,0,0,0,0,0,0,0,0,0,0,0,0,0,0,0,0,0,0,0,0,0,0,0,0,0,0,0,0,0]
[null,null,"Insulation of the distribution network",1,0,0,0,0,0,0,0,0,0,0,0,0,0,0,0,0,0,0,0,0,0,0,0,0,0,0,0,0,0,0,0,0,0,0,0,0,0,0,0,0,0,0,0,0,0,0,0,0,0,0]
[null,null,"Lowering setpoint temperature",0,0,0,0,0,-1,-1,-1,-1,0,0,0,0,0,0,0,0,0,null,0,0,0,0,0,0,0,0,0,0,0,0,0,0,0,0,0,0,0,0,0,0,0,0,0,0,0,0,0,0,0,0]
[null,null,"Circulation network optimisation, decentralisation of DHW production",0,0,0,0,0,0,0,0,0,0,0,0,0,0,0,0,0,0,0,0,0,0,0,0,0,0,0,0,0,0,0,0,0,0,0,0,0,0,0,0,0,0,0,0,0,0,0,0,0,0,0]
[null,null,"New, more efficient heat generator",0,0,0,0,0,0,0,0,0,0,0,0,0,0,0,0,0,0,0,0,0,0,0,0,0,0,0,0,0,0,0,0,0,0,0,0,0,0,0,0,0,0,0,0,0,0,0,0,0,0,0]
[null,null,"Including a renewable based heat source",0,0,0,0,0,0,0,0,0,0,0,0,0,0,0,0,0,0,0,0,0,0,0,0,0,0,0,0,0,0,0,0,0,0,0,0,0,0,0,0,0,0,0,0,0,0,0,0,0,0,0]
[null,"Cooling system","Roomwise temperature control",1,0,0,0,1,1,0,0,0,0,0,0,0,0,0,0,0,0,0,0,0,0,0,0,0,0,0,0,0,0,0,0,0,0,0,0,0,0,0,0,0,0,0,0,0,0,0,0,0,0,0]
[null,null,"Zoning optimisation of the building",-1,0,0,0,0,0,0,0,0,0,0,0,0,0,0,0,0,0,0,0,0,0,0,0,0,0,0,0,0,0,0,0,0,0,0,0,0,0,0,0,0,0,0,0,0,0,0,0,0,0,0]
[null,null,"Optimisation of the cooling schedule",0,0,0,0,0,0,0,0,0,0,0,0,0,0,0,0,0,0,0,0,0,0,0,0,0,0,0,0,0,0,0,0,0,0,0,0,0,0,0,0,0,0,0,0,0,0,0,0,0,0,0]
[null,null,"Increasing setpoint temperature",0,0,0,0,0,0,0,0,0,0,0,0,0,0,0,0,0,0,0,0,0,0,0,0,0,0,0,0,0,0,0,0,0,0,0,0,0,0,0,0,0,0,0,0,0,0,0,0,0,0,0]
[null,null,"Control optimisation",1,0,0,0,0,0,0,0,0,0,0,0,0,0,0,0,0,0,0,0,0,0,0,0,0,0,0,0,0,0,0,0,0,0,0,0,0,0,0,0,0,0,0,0,0,0,0,0,0,0,0]
[null,null,"Insulation of the distribution network",0,0,0,0,0,0,0,0,0,0,0,0,0,0,0,0,0,0,0,0,0,0,0,0,0,0,0,0,0,0,0,0,0,0,0,0,0,0,0,0,0,0,0,0,0,0,0,0,0,0,0]
[null,null,"Hydraulic balancing of the distribution network",0,0,0,0,0,0,0,0,0,0,0,0,0,0,0,0,0,0,0,0,0,0,0,0,0,0,0,0,0,0,0,0,0,0,0,0,0,0,0,0,0,0,0,0,0,0,0,0,0,0,0]
[null,null,"New, more efficient heat generator",0,0,0,0,0,0,0,0,0,0,0,0,0,0,0,0,0,0,0,0,0,0,0,0,0,0,0,0,0,0,0,0,0,0,0,0,0,0,0,0,0,0,0,0,0,0,0,0,0,0,0]
[null,null,"Energy efficient pumps",0,0,0,0,0,0,0,0,0,0,0,0,0,0,0,0,0,0,0,0,0,0,0,0,0,0,0,0,0,0,0,0,0,0,0,0,0,0,0,0,0,0,0,0,0,0,0,0,0,0,0]
[null,null,"Utilisation of free cooling",0,0,0,0,0,0,0,0,0,0,0,0,0,0,0,0,0,0,0,0,0,0,0,0,0,0,0,0,0,0,0,0,0,0,0,0,0,0,0,0,0,0,0,0,0,0,0,0,0,0,0]
[null,null,"Utilising the waste heat from the cooling system for heating&DHW",0,0,0,0,0,0,0,0,0,0,0,0,0,0,0,0,0,0,0,0,0,0,0,0,0,0,0,0,0,0,0,0,0,0,0,0,0,0,0,0,0,0,0,0,0,0,0,0,0,0,0]
[null,"Ventilation system","Schedule optimisation",0,0,0,0,0,0,0,0,0,0,0,0,0,0,0,0,0,0,0,0,0,0,0,0,0,0,0,0,0,0,0,0,0,0,0,0,0,0,0,0,0,0,0,0,0,0,0,0,0,0,0]
[null,null,"Control optimisation",0,0,0,0,0,0,0,0,0,0,0,0,0,0,0,0,0,0,0,0,0,0,0,0,0,0,0,0,0,0,0,0,0,0,0,0,0,0,0,0,0,0,0,0,0,0,0,0,0,0,0]
[null,null,"Air velocity optimisation",1,0,0,0,0,1,0,1,1,0,0,1,0,0,0,0,0,0,0,0,0,0,0,0,0,0,0,0,0,0,0,0,0,0,0,0,0,0,0,0,0,0,0,0,0,0,0,0,0,0,0]
[null,null,"Inlet air temperature optimisation",1,0,0,0,0,1,0,1,1,0,0,1,0,0,0,0,0,0,0,0,0,0,0,0,0,0,0,0,0,0,0,0,0,0,0,0,0,0,0,0,0,0,0,0,0,0,0,0,0,0,0]
[null,null,"Heat recovery",0,0,0,0,0,0,0,0,0,0,0,0,0,0,0,0,0,0,0,0,0,0,0,0,0,0,0,0,0,0,0,0,0,0,0,0,0,0,0,0,0,0,0,0,0,0,0,0,0,0,0]
[null,null,"Energy efficient fans",0,0,0,0,0,0,0,0,0,0,0,0,0,0,0,0,0,0,0,0,0,0,0,0,0,0,0,0,0,0,0,0,0,0,0,0,0,0,0,0,0,0,0,0,0,0,0,0,0,0,0]
[null,"Lighting","Energy efficient lights (e.g LED)",0,0,0,0,0,0,0,0,0,0,0,0,0,0,0,0,0,0,0,0,0,0,0,0,0,0,0,0,0,0,0,0,0,0,0,0,0,0,0,0,0,0,0,0,0,0,0,0,0,0,0]
[null,null,"Level of illumination",1,0,0,0,1,1,0,1,1,0,1,0,0,0,0,0,0,0,0,0,0,0,0,0,0,0,0,0,0,0,0,0,0,0,0,0,0,0,0,0,0,0,0,0,0,0,0,0,0,0,0]
[null,null,"Schedule optimisation",1,0,0,0,0,0,0,0,0,0,1,0,0,0,0,0,0,0,0,0,0,0,0,0,0,0,0,0,0,0,0,0,0,0,0,0,0,0,0,0,0,0,0,0,0,0,0,0,0,0,0]
[null,null,"Control optimisation",1,0,0,0,0,0,0,0,0,0,1,0,0,0,0,0,0,0,0,0,0,0,0,0,0,0,0,0,0,0,0,0,0,0,0,0,0,0,0,0,0,0,0,0,0,0,0,0,0,0,0]
[null,null,"Utilisation of natural light",1,0,0,0,1,1,0,1,1,0,1,0,0,0,0,0,0,0,0,0,0,0,0,0,0,0,0,0,0,0,0,0,0,0,0,0,0,0,0,0,0,0,0,0,0,0,0,0,0,0,0]
[null,"Renewable energy","Solar PV",1,0,0,0,0,0,0,0,0,0,0,0,0,0,0,0,0,0,0,0,0,0,0,0,0,0,0,0,0,0,0,0,0,0,0,0,0,0,0,0,0,0,0,0,0,0,0,0,0,0,0]
[null,null,"Wind turbine",0,0,0,0,0,0,0,0,0,0,0,0,0,0,0,0,0,0,0,0,0,0,0,0,0,0,0,0,0,0,0,0,0,0,0,0,0,0,0,0,0,0,0,0,0,0,0,0,0,0,0]
[null,null,"Solar collector system",1,0,0,0,0,0,0,0,0,0,0,0,0,0,0,0,0,0,0,0,0,0,0,0,0,0,0,0,0,0,0,0,0,0,0,0,0,0,0,0,0,0,0,0,0,0,0,0,0,0,0]
[null,null,"Geothermal heat pump system",0,0,0,0,0,0,0,0,0,0,0,0,0,0,0,0,0,0,0,0,0,0,0,0,0,0,0,0,0,0,0,0,0,0,0,0,0,0,0,0,0,0,0,0,0,0,0,0,0,0,0]
[null,null,"Passive measures",0,0,0,0,0,0,0,0,0,0,0,0,0,0,0,0,0,0,0,0,0,0,0,0,0,0,0,0,0,0,0,0,0,0,0,0,0,0,0,0,0,0,0,0,0,0,0,0,0,0,0]
[null,"Appliances","Energy efficient appliances",1,0,0,0,0,0,0,0,0,0,0,0,0,0,0,0,0,0,0,0,0,0,0,0,0,0,0,0,0,0,0,0,0,0,0,0,0,0,0,0,0,0,0,0,0,0,0,0,0,0,0]
[null,null,"Reducing stand-by consumption",0,0,0,0,0,0,0,0,0,0,0,0,0,0,0,0,0,0,0,0,0,0,0,0,0,0,0,0,0,0,0,0,0,0,0,0,0,0,0,0,0,0,0,0,0,0,0,0,0,0,0]
[null,null,"Optimal usage, on demand operation",0,0,0,0,0,0,0,0,0,0,0,0,0,0,0,0,0,0,0,0,0,0,0,0,0,0,0,0,0,0,0,0,0,0,0,0,0,0,0,0,0,0,0,0,0,0,0,0,0,0,0]
[null,"Building automation","Building automation and management systems",0,0,0,0,0,0,0,0,0,0,0,0,0,0,0,0,0,0,0,0,0,0,0,0,0,0,0,0,0,0,0,0,0,0,0,0,0,0,0,0,0,0,0,0,0,0,0,0,0,0,0]
[null,null,"Energy management system",0,0,0,0,0,0,0,0,0,0,0,0,0,0,0,0,0,0,0,0,0,0,0,0,0,0,0,0,0,0,0,0,0,0,0,0,0,0,0,0,0,0,0,0,0,0,0,0,0,0,0]
[null,null,"Measured consumption",0,0,0,0,0,0,0,0,0,0,0,0,0,0,0,0,0,0,0,0,0,0,0,0,0,0,0,0,0,0,0,0,0,0,0,0,0,0,0,0,0,0,0,0,0,0,0,0,0,0,0]
[null,null,"Improved smart-readiness",0,0,0,0,0,0,0,0,0,0,0,0,0,0,0,0,0,0,0,0,0,0,0,0,0,0,0,0,0,0,0,0,0,0,0,0,0,0,0,0,0,0,0,0,0,0,0,0,0,0,0]
["Processes","Compressed air system","Check the required pressure",0,0,0,0,0,0,1,1,0,0,0,0,0,0,0,0,0,0,0,0,0,0,0,0,0,0,0,0,0,0,0,0,0,0,0,0,0,0,0,0,0,0,0,0,0,0,0,0,0,0,0]
[null,null,"Regular check for leakages",0,0,0,0,0,0,0,0,0,0,0,0,0,0,0,0,0,0,0,0,0,0,0,0,0,0,0,0,0,0,0,0,0,0,0,0,0,0,0,0,0,0,0,0,0,0,0,0,0,0,0]
[null,null,"Waste heat recovery ",0,0,0,0,0,0,0,0,0,0,0,0,0,0,0,0,0,0,0,0,0,0,0,0,0,0,0,0,0,0,0,0,0,0,0,0,0,0,0,0,0,0,0,0,0,0,0,0,0,0,0]
[null,null,"Regular maintenance of the compressor",0,0,0,0,0,0,1,0,0,0,0,0,0,0,0,0,0,0,0,0,0,0,0,0,0,0,0,0,0,0,0,0,0,0,0,0,0,0,0,0,0,0,0,0,0,0,0,0,0,0,0]
[null,"Steam system","Check the required pressure",0,0,0,0,0,1,1,0,0,0,0,0,0,0,0,0,0,0,0,0,0,0,0,0,0,0,0,0,0,0,0,0,0,0,0,0,0,0,0,0,0,0,0,0,0,0,0,0,0,0,0]
[null,null,"Check for leakages",0,0,0,0,0,1,1,1,0,0,0,0,0,0,0,0,0,0,0,0,0,0,0,0,0,0,0,0,0,0,0,0,0,0,0,0,0,0,0,0,0,0,0,0,0,0,0,0,0,0,0]
[null,null,"Regular maintenance of the boiler",0,0,0,0,0,1,1,1,0,0,0,0,0,0,0,0,0,0,0,0,0,0,0,0,0,0,0,0,0,0,0,0,0,0,0,0,0,0,0,0,0,0,0,0,0,0,0,0,0,0,0]
[null,"Refrigeration","Optimisation of the required temperatures",0,0,0,0,0,0,0,0,0,0,0,0,0,0,0,0,0,0,0,0,0,0,0,0,0,0,0,0,0,0,0,0,0,0,0,0,0,0,0,0,0,0,0,0,0,0,0,0,0,0,0]
[null,null,"Waste heat recovery ",0,0,0,0,0,0,0,0,0,0,0,0,0,0,0,0,0,0,0,0,0,0,0,0,0,0,0,0,0,0,0,0,0,0,0,0,0,0,0,0,0,0,0,0,0,0,0,0,0,0,0]
[null,null,"Install frequency control (i.e. VRF) on chiller compressor.",0,0,0,0,0,0,0,0,0,0,0,0,0,0,0,0,0,0,0,0,0,0,0,0,0,0,0,0,0,0,0,0,0,0,0,0,0,0,0,0,0,0,0,0,0,0,0,0,0,0,0]
[null,null,"Install high efficiency or 2-rev electromotor on evaporation fan",0,0,0,0,0,0,0,0,0,0,0,0,0,0,0,0,0,0,0,0,0,0,0,0,0,0,0,0,0,0,0,0,0,0,0,0,0,0,0,0,0,0,0,0,0,0,0,0,0,0,0]
[null,null,"Build a cooled front space for refrigeration units.",0,0,0,0,0,0,0,0,0,0,0,0,0,0,0,0,0,0,0,0,0,0,0,0,0,0,0,0,0,0,0,0,0,0,0,0,0,0,0,0,0,0,0,0,0,0,0,0,0,0,0]
[null,null,"Use hot refrigerant gas from the compressor for the initial stages of the defrosting cycle.",0,0,0,0,0,0,0,0,0,0,0,0,0,0,0,0,0,0,0,0,0,0,0,0,0,0,0,0,0,0,0,0,0,0,0,0,0,0,0,0,0,0,0,0,0,0,0,0,0,0,0]
[null,null,"Use excess heat from other production processes for the production of cooling using adsorption/absorption cooling.",0,0,0,0,0,0,0,0,0,0,0,0,0,0,0,0,0,0,0,0,0,0,0,0,0,0,0,0,0,0,0,0,0,0,0,0,0,0,0,0,0,0,0,0,0,0,0,0,0,0,0]
[null,null,"Utilisation of free cooling",0,0,0,0,0,0,0,0,0,0,0,0,0,0,0,0,0,0,0,0,0,0,0,0,0,0,0,0,0,0,0,0,0,0,0,0,0,0,0,0,0,0,0,0,0,0,0,0,0,0,0]
[null,null,"Replacement of the equipment.",0,0,0,0,0,0,0,0,0,0,0,0,0,0,0,0,0,0,0,0,0,0,0,0,0,0,0,0,0,0,0,0,0,0,0,0,0,0,0,0,0,0,0,0,0,0,0,0,0,0,0]
[null,"Water systems","Efficient pumps for the Water treatment system (if any)",0,0,0,0,0,0,0,0,0,0,0,0,0,0,0,0,0,0,0,0,0,0,0,0,0,0,0,0,0,0,0,0,0,0,0,0,0,0,0,0,0,0,0,0,0,0,0,0,0,0,0]
[null,null,"Advanced process of water recovery ",0,0,0,0,0,0,0,0,0,0,0,0,0,0,0,0,0,0,0,0,0,0,0,0,0,0,0,0,0,0,0,0,0,0,0,0,0,0,0,0,0,0,0,0,0,0,0,0,0,0,0]
[null,"Production line","Optimisation of the production process and workflow",1,0,0,0,1,1,1,1,1,0,0,0,0,0,0,0,0,0,0,0,0,0,0,0,0,0,0,0,0,0,0,0,0,0,0,0,0,0,0,0,0,0,0,0,0,0,0,0,0,0,0]
[null,null,"Waste reduction & recycling in the production line ",1,0,0,0,0,0,0,0,0,0,0,0,0,0,0,0,0,0,0,0,0,0,0,0,0,0,0,0,0,0,0,0,0,0,0,0,0,0,0,0,0,0,0,0,0,0,0,0,0,0,0]
[null,null,"Optimization of motor driven systems ",0,0,0,0,0,0,0,0,0,0,0,0,0,0,0,0,0,0,0,0,0,0,0,0,0,0,0,0,0,0,0,0,0,0,0,0,0,0,0,0,0,0,0,0,0,0,0,0,0,0,0]
[null,null,"High efficient transmission system",0,0,0,0,0,1,0,0,0,0,0,0,0,0,0,0,0,0,0,0,0,0,0,0,0,0,0,0,0,0,0,0,0,0,0,0,0,0,0,0,0,0,0,0,0,0,0,0,0,0,0]
[null,null,"Reduction of the manual labor",1,0,0,0,1,1,1,0,0,0,0,0,0,0,0,0,0,0,0,0,0,0,0,0,0,0,0,0,0,0,0,0,0,0,0,0,0,0,0,0,0,0,0,0,0,0,0,0,0,0,0]
[null,null,"Regular maintenance of the equipment",0,0,0,0,0,1,1,0,1,0,0,0,0,0,0,0,0,0,0,0,0,0,0,0,0,0,0,0,0,0,0,0,0,0,0,0,0,0,0,0,0,0,0,0,0,0,0,0,0,0,0]
[null,null,"Replacement of the equipment",1,0,0,0,1,1,1,0,1,0,0,0,0,0,0,0,0,0,0,0,0,0,0,0,0,0,0,0,0,0,0,0,0,0,0,0,0,0,0,0,0,0,0,0,0,0,0,0,0,0,0]
[null,null,"Waste heat recovery ",0,0,0,0,0,0,0,0,0,0,0,0,0,0,0,0,0,0,0,0,0,0,0,0,0,0,0,0,0,0,0,0,0,0,0,0,0,0,0,0,0,0,0,0,0,0,0,0,0,0,0]
[null,null,"Low-carbon packaging ",0,0,0,0,0,0,0,0,0,0,0,0,0,0,0,0,0,0,0,0,0,0,0,0,0,0,0,0,0,0,0,0,0,0,0,0,0,0,0,0,0,0,0,0,0,0,0,0,0,0,0]
["Transport","Transport of goods","Optimisation of timetables",1,0,0,1,1,1,0,0,0,0,0,0,0,0,0,0,0,0,0,0,0,0,0,0,0,0,0,0,0,0,0,0,0,0,0,0,0,0,0,0,0,0,0,0,0,0,0,0,0,0,0]
[null,null,"Optimisation of routes",1,0,0,1,1,1,0,1,1,0,0,0,0,0,0,0,0,0,0,0,0,0,0,0,0,0,0,0,0,0,0,0,0,0,0,0,0,0,0,0,0,0,0,0,0,0,0,0,0,0,0]
[null,null,"Optimisation of loads",1,0,0,1,1,1,0,1,0,0,0,0,0,0,0,0,0,0,0,0,0,0,0,0,0,0,0,0,0,0,0,0,0,0,0,0,0,0,0,0,0,0,0,0,0,0,0,0,0,0,0]
[null,null,"Optimisation of the fleet",-1,0,0,0,0,0,0,0,0,0,0,0,0,0,0,0,0,0,0,0,0,0,0,0,0,0,0,0,0,0,0,0,0,0,0,0,0,0,0,0,0,0,0,0,0,0,0,0,0,0,0]
[null,null,"Promote electromobility",1,0,0,0,0,0,0,0,0,0,0,0,0,0,0,0,0,0,0,0,0,0,0,0,0,0,0,0,0,0,0,0,0,0,0,0,0,0,0,0,0,0,0,0,0,0,0,0,0,0,0]
[null,null,"Promotion of modal shift for freight",-1,0,0,0,-1,0,0,0,0,0,0,0,0,0,0,0,0,0,0,0,0,0,0,0,0,0,0,0,0,0,0,0,0,0,0,0,0,0,0,0,0,0,0,0,0,0,0,0,0,0,0]
[null,null,"Regular maintenance",0,0,0,0,0,1,1,0,0,0,0,0,0,0,0,0,0,0,0,0,0,0,0,0,0,0,0,0,0,0,0,0,0,0,0,0,0,0,0,0,0,0,0,0,0,0,0,0,0,0,0]
[null,null,"Driver training",1,0,0,0,0,1,0,1,0,0,0,0,0,0,0,0,0,0,0,0,0,0,0,0,0,0,0,0,0,0,0,0,0,0,0,0,0,0,0,0,0,0,0,0,0,0,0,0,0,0,0]
["Management & Maintenance measures","Management & Maintenance measures","Green supply chain management",1,0,0,0,0,0,0,0,0,0,0,0,0,0,0,0,0,0,0,0,0,0,0,0,0,0,0,0,0,0,0,0,0,0,0,0,0,0,0,0,0,0,0,0,0,0,0,0,0,0,0]
[null,null,"Improved energy management",0,0,0,0,0,0,0,0,0,0,0,0,0,0,0,0,0,0,0,0,0,0,0,0,0,0,0,0,0,0,0,0,0,0,0,0,0,0,0,0,0,0,0,0,0,0,0,0,0,0,0]
[null,null,"Improved environmental awareness at the management level",0,0,0,0,0,0,0,0,0,0,0,0,0,0,0,0,0,0,0,0,0,0,0,0,0,0,0,0,0,0,0,0,0,0,0,0,0,0,0,0,0,0,0,0,0,0,0,0,0,0,0]
["Occupant behaviour","Occupant behaviour","Employee engagement and training",1,0,1,1,1,1,1,1,1,0,0,0,0,0,0,0,0,0,0,0,0,0,0,0,0,0,0,0,0,0,0,0,0,0,0,0,0,0,0,0,0,0,0,0,0,0,0,0,0,0,0]
[null,null,"Motivation",1,0,1,1,1,1,1,1,1,0,0,0,0,0,0,0,0,0,0,0,0,0,0,0,0,0,0,0,0,0,0,0,0,0,0,0,0,0,0,0,0,0,0,0,0,0,0,0,0,0,0]

{"sheet":"ESP_emp","index":27,"n_rows":97,"n_cols":54,"rows_kept":97,"cut":false,"hidden":true,"merged":[[0,51,0,53],[2,0,56,0],[2,1,6,1],[7,1,16,1],[17,1,22,1],[23,1,33,1],[34,1,39,1],[40,1,44,1],[45,1,49,1],[50,1,52,1],[0,3,0,7],[0,8,0,14],[0,15,0,24],[0,25,0,37],[0,38,0,44],[0,45,0,50],[53,1,56,1],[57,0,83,0],[57,1,60,1],[61,1,63,1],[64,1,72,1],[73,1,74,1],[75,1,83,1],[84,0,91,0],[84,1,91,1],[92,0,94,0],[92,1,94,1],[95,0,96,0],[95,1,96,1]]}
[null,null,null,"Social",null,null,null,null,"Health",null,null,null,null,null,null,"Environment",null,null,null,null,null,null,null,null,null,"Economic",null,null,null,null,null,null,null,null,null,null,null,null,"Security & Safety",null,null,null,null,null,null,"Quality",null,null,null,null,null,"Time"]
[null,null,"EEM/NEB","Employee satisfaction","Alleviation of energy poverty","Customers (new, satisfaction, etc.)","Improved supply chain relationships","Work performance","Health and well-being","(avoided) mortality","Disease burden \"daly\"","Sickness & absenteeism","Improved air quality","Improved lighting","Reduced noise","Emission reduction","Impact of EE on RES target achievement ","Ecosystem degradation","Reduced water use ","Reduced material consumption","Reduced emissions (dust, CO2, chemical agents etc.)","Reduced noise pollution","Reduced use of non-renewable resources ","Reduced litigations risks","Reduced waste","Improvement of compatitiveness","Innovation impacts","Reduction of (maintenance) costs","Reduction of emission or disposal fees","Shorter production cycle","Increased production yields","Increased real estate value","Reduction of (operating) costs","Macro economy","Usage of waste streams","Turnover of energy efficiency goods ","Employment effects","Impact on public budgets","Energy security","Security of supply / self sufficiency","Supplier diversity ","Operation safety of equipment","Less maintenance","Electrical safety","Reduced injuries","Accurate monitoring","Right First Time","Increased quality of products","Increased corporate image","Increased regulatory compliance","Risk reduction","Increased productivity","Increased equipment lifetime","Reduced time of fault detection"]
["Building","Envelope","Improvement to visible building envelope elements",1,0,0,0,1,1,0,1,1,1,1,0,1,0,0,0,0,1,0,0,0,0,1,0,0,1,0,0,1,0,0,0,0,0,0,0,0,0,0,0,0,0,0,0,0,1,1,0,0,0,0]
[null,null,"Improvements to non-visible building envelope elements",1,0,0,0,1,1,0,1,1,1,1,0,1,0,0,0,0,1,0,0,0,0,1,0,0,1,0,0,1,0,0,0,0,0,0,0,0,0,0,0,0,0,0,0,0,0,1,0,0,0,0]
[null,null,"Replacemert of windows",1,0,0,0,1,1,0,1,1,1,1,1,1,0,0,0,0,1,0,0,0,0,1,0,0,1,0,0,1,0,0,0,0,0,0,0,0,0,0,0,0,0,0,0,0,1,1,0,0,0,0]
[null,null,"Increasing the air-tightness of the building",1,0,0,0,1,1,0,1,1,1,1,0,1,0,0,0,0,1,0,0,0,0,1,0,0,1,0,0,1,0,0,0,0,0,0,0,0,0,0,0,0,0,0,0,0,0,1,0,0,0,0]
[null,null,"Shading to reduce summer heat gains",1,0,0,0,1,1,0,1,1,1,1,0,1,0,0,0,0,1,0,0,0,0,1,0,0,1,0,0,1,0,0,0,0,0,0,0,0,0,0,0,0,0,0,0,0,1,1,0,0,0,0]
[null,"Heating system","Roomwise temperature control",1,0,0,0,1,1,0,1,1,0,0,0,1,0,0,0,0,1,0,0,0,0,1,1,0,1,0,0,0,0,0,0,0,0,0,0,0,0,0,0,0,0,1,0,0,0,0,0,0,1,0]
[null,null,"Zoning optimisation of the building",0,0,0,0,0,1,0,1,1,0,0,0,1,0,0,0,0,1,0,0,0,0,1,1,1,1,0,0,0,0,0,0,0,0,0,0,0,0,0,0,0,0,0,0,0,0,0,0,0,1,0]
[null,null,"Optimisation of the heating schedule",1,0,0,0,1,1,0,1,1,0,0,0,1,0,0,0,0,1,0,0,0,0,1,1,1,1,0,0,0,0,0,0,0,0,0,0,0,0,0,0,0,0,0,0,0,0,0,0,0,1,0]
[null,null,"Lowering setpoint temperature",-1,0,0,0,-1,-1,0,-1,-1,0,0,0,1,0,0,0,0,1,0,0,0,0,1,0,0,1,0,0,0,0,0,0,0,0,0,0,0,0,0,0,0,0,0,0,0,0,0,0,0,0,0]
[null,null,"Control optimisation",1,0,0,0,1,1,0,1,1,0,0,0,1,0,0,0,0,1,0,0,0,0,1,1,1,1,0,0,0,1,0,0,0,0,0,0,0,0,0,1,0,1,1,0,0,0,1,1,0,1,1]
[null,null,"Insulation of the distribution network",0,0,0,0,0,0,0,0,0,0,0,0,1,0,0,0,0,1,0,0,0,0,1,0,0,1,0,0,1,1,0,0,0,0,0,0,0,0,0,0,0,0,0,0,0,0,0,0,0,1,0]
[null,null,"Hydraulic balancing of the distribution network",0,0,0,0,0,0,0,0,0,0,0,0,0,0,0,1,0,0,0,0,0,0,1,0,1,0,0,0,0,1,0,0,0,0,0,0,0,0,0,0,0,0,0,0,0,0,0,0,0,1,0]
[null,null,"New, more efficient heat generator",0,0,0,0,0,0,0,0,0,0,0,1,1,0,0,0,0,1,1,0,0,0,1,1,0,1,0,0,0,1,0,0,0,0,0,0,0,0,0,1,0,0,0,0,0,0,0,0,0,0,0]
[null,null,"Including a renewable based heat source",0,0,0,0,0,0,0,0,0,0,0,0,1,0,0,0,0,1,0,1,0,0,1,1,0,1,0,0,0,0,0,0,0,0,0,0,0,0,0,0,0,0,0,0,0,1,0,0,0,0,0]
[null,null,"Energy efficient pumps",0,0,0,0,0,0,0,0,0,0,0,1,1,0,0,0,0,1,1,0,0,0,1,1,0,1,0,0,0,1,0,0,0,0,0,0,0,0,0,0,0,0,0,0,0,0,1,0,0,0,0]
[null,"DHW system","Reducing the DHW demand",0,0,0,0,0,0,0,0,0,0,0,0,1,0,0,1,0,1,0,0,0,0,1,0,0,1,0,0,0,0,0,0,0,0,0,0,0,0,0,0,0,0,0,0,0,0,0,0,0,0,0]
[null,null,"Insulation of the distribution network",0,0,0,0,0,0,0,0,0,0,0,0,1,0,0,0,0,1,0,0,0,0,1,0,0,1,0,0,1,0,0,0,0,0,0,0,0,0,0,1,0,1,0,0,0,0,0,0,0,0,0]
[null,null,"Lowering setpoint temperature",-1,0,0,0,0,0,0,0,0,0,0,0,1,0,0,0,0,1,0,0,0,0,1,0,0,1,0,0,0,0,0,0,0,0,0,0,0,0,0,0,0,0,0,0,0,0,0,0,0,0,0]
[null,null,"Circulation network optimisation, decentralisation of DHW production",0,0,0,0,0,0,0,0,0,0,0,0,1,0,0,0,0,1,0,0,0,0,1,1,1,0,0,0,0,0,0,1,0,0,0,0,0,0,0,1,0,0,0,0,0,0,1,1,0,1,0]
[null,null,"New, more efficient heat generator",0,0,0,0,0,0,0,0,0,0,0,1,1,0,0,0,0,1,1,0,0,0,1,1,1,1,0,0,0,0,0,0,0,0,0,0,0,0,0,0,0,0,0,0,0,0,0,0,0,0,0]
[null,null,"Including a renewable based heat source",0,0,0,0,0,0,0,0,0,0,0,0,1,0,0,0,0,1,0,1,0,0,1,1,0,1,0,0,0,0,0,0,0,0,0,0,0,0,0,0,0,0,0,0,0,1,0,0,0,0,0]
[null,"Cooling system","Roomwise temperature control",1,0,0,0,1,1,0,0,0,0,0,0,1,0,0,0,0,1,0,0,0,0,1,1,0,0,0,0,0,0,0,0,0,0,0,0,0,0,0,0,0,0,0,0,0,0,0,0,0,0,0]
[null,null,"Zoning optimisation of the building",1,0,0,0,1,1,0,0,0,0,0,0,1,0,0,0,0,1,0,0,0,0,1,1,0,0,0,0,0,0,0,0,0,0,0,0,0,0,0,0,0,0,0,0,0,0,0,0,0,0,0]
[null,null,"Optimisation of the cooling schedule",1,0,0,0,1,1,0,0,0,0,0,0,1,0,0,0,0,1,0,0,0,0,1,1,0,0,0,0,0,0,0,0,0,0,0,0,0,0,0,0,0,0,0,0,0,0,0,0,0,0,0]
[null,null,"Increasing setpoint temperature",-1,0,0,0,-1,-1,0,0,0,0,0,0,1,0,0,0,0,1,0,0,0,0,1,0,0,0,0,0,0,0,0,0,0,0,0,0,0,0,0,0,0,0,0,0,0,0,0,0,0,0,0]
[null,null,"Control optimisation",1,0,0,0,1,1,0,0,0,1,0,0,1,0,0,0,0,1,0,0,0,0,1,1,1,0,0,0,0,0,0,0,0,0,0,0,0,0,0,1,0,0,1,0,0,0,1,0,0,1,1]
[null,null,"Insulation of the distribution network",0,0,0,0,0,0,0,0,0,0,0,0,1,0,0,0,0,1,0,0,0,0,1,0,1,0,0,0,0,0,0,0,0,0,0,0,0,0,0,0,0,0,0,0,0,0,0,0,0,0,0]
[null,null,"Hydraulic balancing of the distribution network",0,0,0,0,0,0,0,0,0,0,0,1,0,0,0,1,0,0,1,0,0,0,1,1,1,0,0,0,0,0,0,0,0,0,0,0,0,0,0,1,0,0,0,0,0,0,0,0,0,1,0]
[null,null,"New, more efficient heat generator",0,0,0,0,0,0,0,0,0,0,0,1,1,0,0,0,0,1,1,0,0,0,1,1,0,0,0,0,0,1,0,0,0,0,0,0,0,0,0,1,0,0,0,0,0,0,0,0,0,0,0]
[null,null,"Energy efficient pumps",0,0,0,0,0,0,0,0,0,0,0,1,1,0,0,0,0,1,1,0,0,0,1,1,0,0,0,0,0,0,0,0,0,0,0,0,0,0,0,1,0,0,0,0,0,0,0,0,0,0,0]
[null,null,"Utilisation of free cooling",0,0,0,0,0,0,0,0,0,0,0,0,1,0,0,0,0,1,0,1,0,0,1,1,0,0,0,0,0,0,0,0,0,0,0,0,1,0,0,0,0,0,0,0,0,0,0,0,0,0,0]
[null,null,"Utilising the waste heat from the cooling system for heating&DHW",0,0,0,0,0,0,0,0,0,0,0,0,1,0,0,0,0,1,0,0,0,0,1,1,-1,0,0,0,0,0,0,1,0,0,0,0,1,0,0,0,0,0,0,0,0,1,0,0,0,0,0]
[null,"Ventilation system","Schedule optimisation",0,0,0,0,0,0,0,0,0,0,0,0,1,0,0,0,0,1,0,0,0,0,1,0,1,1,0,0,0,1,0,0,0,0,0,0,0,0,0,1,0,0,0,0,0,0,0,0,0,0,0]
[null,null,"Control optimisation",0,0,0,0,0,0,0,0,0,1,0,0,1,0,0,0,0,1,0,0,0,0,1,0,1,1,0,0,0,1,0,0,0,0,0,0,0,0,0,1,0,0,1,0,0,0,0,0,0,1,1]
[null,null,"Air velocity optimisation",1,0,0,0,0,1,0,0,0,0,0,0,1,0,0,0,0,1,1,0,0,0,1,0,0,1,0,0,0,1,0,0,0,0,0,0,0,0,0,1,0,0,0,0,0,0,0,0,0,0,0]
[null,null,"Inlet air temperature optimisation",0,0,0,0,0,0,0,0,0,0,0,0,1,0,0,0,0,1,0,0,0,0,1,0,0,1,0,0,0,0,0,0,0,0,0,0,0,0,0,0,0,0,0,0,0,0,0,0,0,0,0]
[null,null,"Heat recovery",0,0,0,0,0,0,0,0,0,0,0,0,1,0,0,0,0,1,0,1,0,0,1,0,-1,1,0,0,0,0,0,0,0,0,0,0,0,0,0,-1,0,0,0,0,0,0,0,0,0,0,0]
[null,null,"Energy efficient fans",0,0,0,0,0,0,0,0,0,0,0,1,1,0,0,0,0,1,1,0,0,0,1,0,0,1,0,0,0,0,0,0,0,0,0,0,0,0,0,0,0,0,0,0,0,0,0,0,0,1,0]
[null,"Lighting","Energy efficient lights (e.g LED)",0,0,0,0,0,0,0,0,0,0,0,0,1,0,0,0,0,0,0,0,0,0,1,0,0,1,0,0,0,0,0,0,0,0,0,0,0,0,0,1,0,0,0,0,0,0,0,0,0,0,0]
[null,null,"Level of illumination",1,0,0,0,1,1,0,1,0,0,1,0,1,0,0,0,0,0,0,0,0,0,1,1,0,1,0,0,0,0,0,0,0,0,0,0,0,0,0,0,0,1,0,0,0,0,1,1,0,0,0]
[null,null,"Schedule optimisation",1,0,0,0,0,0,0,0,0,0,1,0,1,0,0,0,0,0,0,0,0,0,1,0,0,1,0,0,0,0,0,0,0,0,0,0,0,0,0,0,0,0,0,0,0,0,0,0,0,0,0]
[null,null,"Control optimisation",1,0,0,0,0,1,0,0,0,0,1,0,1,0,0,0,0,0,0,0,0,0,1,0,1,1,0,0,0,0,0,0,0,0,0,0,0,0,0,0,0,0,1,0,0,0,0,0,0,0,1]
[null,null,"Utilisation of natural light",1,0,0,0,1,1,0,1,0,0,1,0,1,0,0,0,0,0,0,0,0,0,1,0,0,1,0,0,0,0,0,0,0,0,0,0,1,0,0,0,0,0,0,0,0,0,0,0,0,0,0]
[null,"Renewable energy","Solar PV",0,0,0,0,0,0,0,0,0,0,0,0,1,0,0,0,0,1,0,1,0,0,1,0,-1,1,0,0,1,1,0,0,0,0,0,1,1,0,0,-1,0,0,0,0,0,1,0,0,0,0,0]
[null,null,"Wind turbine",0,0,0,0,0,0,0,0,0,0,0,0,1,0,-1,0,0,1,-1,1,0,0,1,0,-1,1,0,0,1,1,0,0,0,0,0,1,1,0,0,-1,0,0,0,0,0,1,0,0,0,0,0]
[null,null,"Solar collector system",0,0,0,0,0,0,0,0,0,0,0,0,1,0,0,0,0,1,0,1,0,0,1,0,-1,1,0,0,1,1,0,0,0,0,0,1,1,0,0,-1,0,0,0,0,0,1,0,0,0,0,0]
[null,null,"Geothermal heat pump system",0,0,0,0,0,0,0,0,0,0,0,0,1,0,0,0,0,1,0,1,0,0,1,0,-1,1,0,0,1,1,0,0,0,0,0,1,1,0,0,-1,0,0,0,0,0,1,0,0,0,0,0]
[null,null,"Passive measures",0,1,0,0,0,0,0,0,0,0,0,0,1,0,0,0,0,1,0,1,0,0,1,0,-1,1,0,0,1,1,0,0,0,0,0,1,1,0,0,-1,0,0,0,0,0,1,0,0,0,0,0]
[null,"Appliances","Energy efficient appliances",0,0,0,0,0,0,0,0,0,0,0,0,1,0,0,0,0,1,0,0,0,0,1,0,0,1,0,0,1,1,0,0,0,0,0,0,0,0,0,0,0,0,0,0,0,0,0,0,0,0,0]
[null,null,"Reducing stand-by consumption",0,0,0,0,0,0,0,0,0,0,0,0,1,0,0,0,0,1,0,0,0,0,1,0,0,1,0,0,0,1,0,0,0,0,0,0,0,0,0,0,0,0,0,0,0,0,0,0,0,0,0]
[null,null,"Optimal usage, on demand operation",0,0,0,0,null,0,0,0,0,0,0,0,1,0,0,0,0,1,0,0,0,0,1,1,1,1,0,0,0,1,0,0,0,0,0,0,0,0,0,1,0,0,0,0,0,0,0,0,0,1,0]
[null,"Building automation","Building automation and management systems",1,0,0,0,1,0,0,0,0,0,1,0,0,0,0,1,1,1,1,1,0,1,1,1,0,0,1,1,1,0,0,0,0,0,0,0,0,0,0,0,0,0,0,0,0,1,0,0,1,0,0]
[null,null,"Energy management system",0,0,0,0,0,0,0,0,0,0,0,0,1,0,0,1,0,1,0,1,0,0,1,0,1,1,0,0,1,0,0,0,0,0,0,0,0,0,0,0,0,0,0,0,0,1,1,0,0,0,0]
[null,null,"Measured consumption",0,0,0,0,0,0,0,0,0,0,0,0,0,0,0,0,0,0,0,0,0,0,1,0,1,0,0,0,0,0,0,0,0,0,0,0,0,0,0,1,0,0,1,0,0,0,0,0,0,0,0]
[null,null,"Improved smart-readiness",1,0,0,0,1,0,0,0,0,0,0,1,0,0,0,0,0,0,0,0,0,0,1,1,0,0,0,0,0,0,0,0,0,0,0,0,0,0,0,0,0,1,null,0,0,0,0,0,0,0,0]
["Processes","Compressed air system","Check the required pressure",0,0,0,0,0,0,0,0,0,0,0,0,0,0,0,0,0,0,0,0,0,0,0,0,-1,0,0,0,0,1,0,0,0,0,0,0,0,0,0,0,0,0,1,0,0,0,0,0,0,0,0]
[null,null,"Regular check for leakages",0,0,0,0,0,0,0,0,0,0,0,0,1,0,0,0,0,1,0,0,0,0,0,0,-1,0,0,0,0,1,0,0,0,0,0,1,0,0,0,0,0,0,1,0,0,0,0,0,0,0,0]
[null,null,"Waste heat recovery ",0,0,0,0,0,0,0,0,0,0,0,0,1,0,0,0,0,1,0,1,0,0,1,1,0,0,0,0,0,0,0,1,0,0,0,0,0,0,0,0,0,0,0,0,0,0,0,0,0,0,0]
[null,null,"Regular maintenance of the compressor",0,0,0,0,0,0,0,0,0,0,0,0,0,0,0,0,0,0,0,0,0,0,0,0,1,0,0,0,0,0,0,0,0,0,0,1,0,0,1,0,1,1,0,0,0,0,0,0,0,0,0]
[null,"Steam system","Check the required pressure",0,0,0,0,0,0,0,0,0,0,0,0,1,0,0,0,0,1,0,1,0,0,0,0,0,0,0,0,0,1,0,0,0,0,0,0,0,0,0,0,0,0,0,0,0,0,0,0,0,0,0]
[null,null,"Check for leakages",0,0,0,0,0,0,0,0,0,0,0,0,1,0,0,0,0,1,0,1,0,0,0,0,0,0,0,0,0,1,0,0,0,0,0,1,1,0,1,0,0,1,0,0,0,0,0,0,0,0,0]
[null,null,"Regular maintenance of the boiler",0,0,0,0,0,0,0,0,0,0,0,0,0,0,0,0,0,0,0,0,0,0,0,0,1,0,0,0,0,0,0,0,0,0,0,0,0,0,0,0,0,0,0,0,0,0,0,0,0,0,0]
[null,"Refrigeration","Optimisation of the required temperatures",0,0,0,0,0,0,0,0,0,0,0,0,1,0,0,0,0,1,0,0,0,0,1,0,0,1,0,0,0,1,0,null,0,0,0,0,0,0,0,0,0,0,0,0,0,0,0,0,0,0,0]
[null,null,"Waste heat recovery ",0,0,0,0,0,0,0,0,0,0,0,0,1,0,0,0,0,1,0,0,0,0,1,0,0,1,0,0,0,1,0,1,0,0,0,0,0,0,0,0,0,0,0,0,0,0,0,0,0,0,0]
[null,null,"Install frequency control (i.e. VRF) on chiller compressor.",0,0,0,0,0,0,0,0,0,0,0,0,1,0,0,0,0,1,0,0,0,0,1,0,0,1,0,0,0,1,0,0,0,0,0,0,0,0,0,0,0,0,0,0,0,0,0,0,0,0,0]
[null,null,"Install high efficiency or 2-rev electromotor on evaporation fan",0,0,0,0,0,0,0,0,0,0,0,0,1,0,0,0,0,1,0,0,0,0,1,0,0,1,0,0,0,1,0,0,0,0,0,0,0,0,0,0,0,0,0,0,0,0,0,0,0,0,0]
[null,null,"Build a cooled front space for refrigeration units.",0,0,0,0,0,0,0,0,0,0,0,0,1,0,0,0,0,1,0,0,0,0,1,0,0,1,0,0,0,null,0,0,0,0,0,0,0,0,0,0,0,0,0,0,0,0,0,0,0,0,0]
[null,null,"Use hot refrigerant gas from the compressor for the initial stages of the defrosting cycle.",0,0,0,0,0,0,0,0,0,0,0,0,1,0,0,0,0,1,0,0,0,0,1,0,0,1,0,0,0,1,0,0,0,0,0,0,0,0,0,0,0,0,0,0,0,0,0,0,0,0,0]
[null,null,"Use excess heat from other production processes for the production of cooling using adsorption/absorption cooling.",0,0,0,0,0,0,0,0,0,0,0,0,1,0,0,0,0,1,0,0,0,0,1,0,0,1,0,0,0,1,0,1,0,0,0,0,0,0,0,0,0,0,0,0,0,0,0,0,0,0,0]
[null,null,"Utilisation of free cooling",0,0,0,0,0,0,0,0,0,0,0,0,1,0,0,0,0,1,0,0,0,0,1,0,0,1,0,0,0,1,0,0,0,0,0,0,0,0,0,0,0,0,0,0,0,0,0,0,0,0,0]
[null,null,"Replacement of the equipment.",0,0,0,0,0,null,null,null,null,null,null,null,1,0,0,0,0,1,0,0,0,0,1,0,0,1,0,0,0,1,0,0,0,0,0,0,0,0,0,0,0,0,0]
[null,"Water systems","Efficient pumps for the Water treatment system (if any)",0,0,0,0,0,0,0,0,0,0,0,0,1,0,0,0,0,1,0,1,0,0,1,1,0,0,0,0,0,0,0,0,0,0,0,0,0,0,0,0,0,0,0,0,0,0,0,0,0,0,0]
[null,null,"Advanced process of water recovery ",0,0,0,0,0,0,0,0,0,0,0,0,0,0,0,1,0,0,0,0,0,1,1,1,0,0,0,0,0,0,0,1,0,0,0,0,0,0,0,0,0,0,0,0,0,0,0,0,1,0,0]
[null,"Production line","Optimisation of the production process and workflow",0,0,0,0,0,0,0,0,0,0,0,0,1,0,0,0,0,1,0,0,0,null,0,0,0,0,1,1,0,1,0,0,0,0,0,0,0,0,0,0,0,0,0,0,1,1,0,0,1,0,0]
[null,null,"Waste reduction & recycling in the production line ",0,0,0,0,0,0,0,0,0,0,0,0,1,0,0,1,1,1,0,0,0,1,0,1,0,0,0,0,0,0,0,1,0,0,0,0,0,0,0,0,0,0,0,0,0,0,0,0,0,0,0]
[null,null,"Optimization of motor driven systems ",0,0,0,0,0,0,0,0,0,0,0,1,1,0,0,0,0,1,1,0,0,0,0,0,0,0,0,0,0,1,0,0,0,0,0,0,0,0,0,0,0,0,0,0,0,0,0,0,0,0,0]
[null,null,"High efficient transmission system",0,0,0,0,0,0,0,0,0,0,0,0,1,0,0,0,0,1,0,0,0,0,0,0,0,0,1,1,0,1,0,0,0,0,0,0,0,0,0,0,0,0,0,0,0,0,0,0,0,0,0]
[null,null,"Reduction of the manual labor",1,0,0,0,1,0,0,0,1,0,0,0,0,0,0,0,0,0,0,0,0,0,0,0,0,0,0,1,0,1,0,0,0,0,0,0,0,0,0,0,0,0,0,0,0,0,0,0,0,0,0]
[null,null,"Regular maintenance of the equipment",0,0,0,0,0,0,0,0,0,0,0,1,0,0,0,0,0,0,0,0,0,0,0,0,1,0,0,0,0,0,0,0,0,0,0,0,0,0,1,0,1,0,0,0,0,0,0,0,0,1,0]
[null,null,"Replacement of the equipment",0,0,0,0,0,0,0,0,0,0,0,0,1,0,0,0,0,1,0,0,0,0,0,0,0,0,0,0,0,0,0,0,0,0,0,0,0,0,0,0,0,0,0,0,0,0,0,0,0,0,0]
[null,null,"Waste heat recovery ",0,0,0,0,0,0,0,0,0,0,0,0,1,0,0,0,0,1,0,0,0,0,0,0,0,0,0,0,0,1,0,0,0,0,0,0,0,0,0,0,0,0,0,0,0,0,0,0,0,0,0]
[null,null,"Low-carbon packaging ",0,0,1,0,0,0,0,0,0,0,0,0,1,0,0,0,0,1,0,0,0,0,0,1,0,0,0,0,0,0,0,0,0,0,0,0,0,0,0,0,0,0,0,0,0,1,1,0,0,0,0]
["Transport","Transport of goods","Optimisation of timetables",1,0,0,1,1,0,0,0,0,0,0,0,1,0,0,0,0,1,0,1,0,0,0,0,0,1,1,0,0,1,0,0,0,-1,0,0,0,0,0,0,0,0,0,0,0,1,0,0,1,0,0]
[null,null,"Optimisation of routes",1,0,0,1,1,0,0,0,0,0,0,0,1,0,0,0,0,1,0,1,0,0,0,0,0,1,1,0,0,1,0,0,0,-1,0,0,0,0,0,0,0,0,0,0,0,0,0,0,1,0,0]
[null,null,"Optimisation of loads",0,0,0,0,0,0,0,0,0,0,0,0,1,0,0,0,0,1,0,1,0,0,0,0,0,1,1,0,0,1,0,0,0,-1,0,0,0,0,0,0,0,0,0,0,0,0,0,0,1,0,0]
[null,null,"Optimisation of the fleet",0,0,0,0,0,0,0,0,0,0,0,0,1,0,0,0,0,1,0,1,0,0,0,0,0,1,1,0,0,1,0,0,0,-1,0,0,0,0,0,0,0,0,0,0,0,0,0,0,1,0,0]
[null,null,"Promote electromobility",0,0,0,0,0,0,0,0,0,0,0,1,1,0,0,0,0,1,1,1,0,0,0,0,0,1,0,0,0,1,0,0,0,0,0,0,0,0,0,0,0,0,0,0,0,0,0,0,0,0,0]
[null,null,"Promotion of modal shift for freight",0,0,0,0,0,0,0,0,0,0,0,0,1,0,0,0,0,1,0,1,0,0,0,0,0,1,0,0,0,1,0,0,0,0,0,0,0,0,0,0,0,0,0,0,0,0,0,0,0,0,0]
[null,null,"Regular maintenance",0,0,0,0,0,0,0,0,0,0,0,0,0,0,0,0,0,0,0,0,0,0,0,0,1,0,0,0,0,1,0,0,0,0,0,0,0,0,1,0,0,0,0,0,0,0,0,0,0,0,0]
[null,null,"Driver training",0,0,0,0,1,0,0,0,0,0,0,0,1,0,0,0,0,1,0,1,0,0,0,0,0,1,0,0,0,1,0,0,0,0,0,0,0,0,0,1,0,1,0,0,0,1,0,1,1,0,0]
["Management & Maintenance measures","Management & Maintenance measures","Green supply chain management",0,0,0,1,0,0,0,0,0,0,0,0,1,0,0,0,1,1,0,1,0,0,1,0,0,0,0,0,0,0,0,0,0,0,0,0,0,0,0,0,0,0,0,0,0,1,0,0,0,0,0]
[null,null,"Improved energy management",0,0,0,0,0,0,0,0,0,0,0,0,1,0,0,0,0,1,0,1,0,0,1,0,0,0,0,0,0,0,0,0,0,0,0,0,1,0,0,0,0,0,0,0,0,0,1,0,0,0,0]
[null,null,"Improved environmental awareness at the management level",0,0,0,0,0,0,0,0,0,0,0,0,0,0,0,0,0,0,0,0,0,0,1,1,0,0,0,0,0,0,0,0,0,0,0,0,1,0,0,0,0,0,0,0,0,1,0,0,0,0,0]
["Occupant behaviour","Occupant behaviour","Employee engagement and training",1,0,0,0,0,0,0,0,0,0,0,0,1,0,0,0,0,1,0,1,0,0,0,0,0,0,0,0,0,0,0,0,0,0,0,0,0,0,0,0,0,1,0,0,1,0,0,0,0,0,0]
[null,null,"Motivation",1,0,0,0,1,1,0,0,0,0,0,0,0,0,0,0,0,0,0,0,0,0,0,0,0,0,0,0,0,0,0,0,0,0,0,0,0,0,0,0,0,0,0,0,0,0,0,0,0,0,0]

{"sheet":"GRC_emp","index":28,"n_rows":97,"n_cols":54,"rows_kept":97,"cut":false,"hidden":true,"merged":[[0,51,0,53],[2,0,56,0],[2,1,6,1],[7,1,16,1],[17,1,22,1],[23,1,33,1],[34,1,39,1],[40,1,44,1],[45,1,49,1],[50,1,52,1],[0,3,0,8],[0,9,0,14],[0,15,0,24],[0,25,0,37],[0,38,0,44],[0,45,0,50],[53,1,56,1],[57,0,83,0],[57,1,60,1],[61,1,63,1],[64,1,72,1],[73,1,74,1],[75,1,83,1],[84,0,91,0],[84,1,91,1],[92,0,94,0],[92,1,94,1],[95,0,96,0],[95,1,96,1]]}
[null,null,null,"Social",null,null,null,null,null,"Health",null,null,null,null,null,"Environment",null,null,null,null,null,null,null,null,null,"Economic",null,null,null,null,null,null,null,null,null,null,null,null,"Security & Safety",null,null,null,null,null,null,"Quality",null,null,null,null,null,"Time"]
[null,null,"EEM/ NEB","Health and well-being","Alleviation of energy poverty","Employee satisfaction","Customers (new, satisfaction, etc.)","Improved supply chain relationships","Work performance","(avoided) mortality","Disease burden \"daly\"","Sickness & absenteeism","Improved air quality","Improved lighting","Reduced noise","Emission reduction","Impact of EE on RES target achievement ","Ecosystem degradation","Reduced water use ","Reduced material consumption","Reduced emissions (dust, CO2, chemical agents etc.)","Reduced noise pollution","Reduced use of non-renewable resources ","Reduced litigations risks","Reduced waste","Improvement of compatitiveness","Innovation impacts","Reduction of (maintenance) costs","Reduction of emission or disposal fees","Shorter production cycle","Increased production yields","Increased real estate value","Reduction of (operating) costs","Macro economy","Usage of waste streams","Turnover of energy efficiency goods ","Employment effects","Impact on public budgets","Energy security","Security of supply / self sufficiency","Supplier diversity ","Operation safety of equipment","Less maintenance","Electrical safety","Reduced injuries","Accurate monitoring","Right First Time","Increased quality of products","Increased corporate image","Increased regulatory compliance","Risk reduction","Increased productivity","Increased equipment lifetime","Reduced time of fault detection"]
["Building","Envelope","Improvement to visible building envelope elements",1,0,0,0,0,0,0,0,0,0,0,0,0,0,0,0,0,0,0,0,0,0,1,0,0,0,0,0,0,0,0,0,0,0,0,1,0,0,0,0,0,0,0,0,0,0,0,0,1,0,0]
[null,null,"Improvements to non-visible building envelope elements",1,0,0,0,0,0,0,0,0,0,0,0,0,0,0,0,0,0,0,0,0,0,1,0,0,0,0,0,0,0,0,0,0,0,0,1,0,0,0,0,0,0,0,0,0,0,0,0,0,0,0]
[null,null,"Replacemert of windows",1,0,1,0,0,1,0,0,0,0,0,0,0,0,0,0,0,0,0,0,0,0,1,0,0,0,0,0,0,1,0,0,0,0,0,1,0,0,0,0,0,0,0,0,0,0,0,0,1,0,0]
[null,null,"Increasing the air-tightness of the building",1,0,1,0,0,1,0,0,0,1,0,1,0,0,0,0,0,0,0,0,0,0,1,0,0,0,0,0,0,1,0,0,0,0,0,1,0,0,0,0,0,0,0,0,0,0,0,0,1,0,0]
[null,null,"Shading to reduce summer heat gains",1,0,1,0,0,1,0,0,0,0,0,0,0,0,0,0,0,0,0,0,0,0,1,0,0,0,0,0,0,1,0,0,0,0,0,1,0,0,0,0,0,0,0,0,0,0,0,0,1,0,0]
[null,"Heating system","Roomwise temperature control",1,0,0,0,0,1,0,0,0,0,0,0,1,1,0,0,0,1,0,0,0,0,1,0,0,0,0,0,0,1,0,0,0,0,0,1,0,0,0,0,0,0,0,0,0,0,0,0,0,0,0]
[null,null,"Zoning optimisation of the building",0,0,0,0,0,0,0,0,0,0,0,0,0,0,0,0,0,0,0,0,0,0,0,0,0,0,0,0,0,0,0,0,0,0,0,0,0,0,0,0,0,0,0,0,0,0,0,0,0,0,0]
[null,null,"Optimisation of the heating schedule",1,0,1,0,0,0,0,0,0,0,0,0,0,0,0,0,0,0,0,0,0,0,1,0,0,0,0,0,0,0,0,0,0,0,0,0,0,0,0,0,0,0,1,0,0,0,0,0,0,0,0]
[null,null,"Lowering setpoint temperature",-1,0,0,0,0,-1,0,0,0,0,0,0,1,1,0,0,0,1,0,0,0,0,0,0,0,0,0,0,0,0,0,0,0,0,0,0,0,0,0,0,0,0,0,0,0,0,0,0,-1,0,0]
[null,null,"Control optimisation",0,0,0,0,0,0,0,0,0,0,0,0,0,0,0,0,0,1,0,0,0,0,0,0,0,0,0,0,0,0,0,0,0,0,0,0,0,0,0,0,0,0,0,0,0,0,0,1,0,0,0]
[null,null,"Insulation of the distribution network",0,0,0,0,0,0,0,0,0,0,0,0,0,0,0,0,0,0,0,0,0,0,0,0,0,0,0,0,0,0,0,0,0,0,0,0,0,0,0,0,0,0,0,0,0,0,0,0,0,0,0]
[null,null,"Hydraulic balancing of the distribution network",0,0,0,0,0,0,0,0,0,0,0,0,0,0,0,0,0,0,0,0,0,0,0,0,0,0,0,0,0,0,0,0,0,0,0,0,0,0,0,0,0,0,0,0,0,0,0,0,0,0,0]
[null,null,"New, more efficient heat generator",0,0,0,0,0,0,0,0,0,0,0,0,0,0,0,0,0,0,0,0,0,0,0,0,1,0,0,0,0,0,0,0,0,0,0,0,0,0,0,0,0,0,0,0,0,0,0,0,0,0,0]
[null,null,"Including a renewable based heat source",0,0,0,0,0,0,0,0,0,0,0,0,0,0,0,0,0,0,0,0,0,0,0,0,0,0,0,0,0,0,0,0,0,0,0,0,0,0,0,0,0,0,0,0,0,0,0,0,0,0,0]
[null,null,"Energy efficient pumps",0,0,0,0,0,0,0,0,0,0,0,0,0,0,0,0,0,0,0,0,0,0,0,0,0,0,0,0,0,0,0,0,0,0,0,0,0,0,0,0,0,0,0,0,0,0,0,0,0,0,0]
[null,"DHW system","Reducing the DHW demand",0,0,0,0,0,0,0,0,0,0,0,0,0,0,0,1,0,0,0,0,0,0,0,0,0,0,0,0,0,0,0,0,0,0,0,0,0,0,0,0,0,0,0,0,0,0,0,0,0,0,0]
[null,null,"Insulation of the distribution network",0,0,0,0,0,0,0,0,0,0,0,0,0,0,0,0,0,0,0,0,0,0,0,0,0,0,0,0,0,0,0,0,0,0,0,0,0,0,0,0,0,0,0,0,0,0,0,0,0,0,0]
[null,null,"Lowering setpoint temperature",0,0,0,0,0,0,0,0,0,0,0,0,1,1,0,0,0,1,0,0,0,0,0,0,0,0,0,0,0,0,0,0,0,0,0,0,0,0,0,0,0,0,0,0,0,0,0,0,0,0,0]
[null,null,"Circulation network optimisation, decentralisation of DHW production",0,0,0,0,0,0,0,0,0,0,0,0,0,0,0,0,0,0,0,0,0,0,0,0,0,0,0,0,0,0,0,0,0,0,0,0,0,0,0,0,0,0,0,0,0,0,0,0,0,0,0]
[null,null,"New, more efficient heat generator",0,0,0,0,0,0,0,0,0,0,0,0,0,0,0,0,0,0,0,0,0,0,0,0,1,0,0,0,0,0,0,0,0,0,0,0,0,0,0,0,0,0,0,0,0,0,0,0,0,0,0]
[null,null,"Including a renewable based heat source",0,0,0,0,0,0,0,0,0,0,0,0,0,0,0,0,0,0,0,0,0,0,0,0,0,0,0,0,0,0,0,0,0,0,0,0,0,0,0,0,0,0,0,0,0,0,0,0,0,0,0]
[null,"Cooling system","Roomwise temperature control",1,0,0,0,0,1,0,0,0,0,0,0,1,1,0,0,0,1,0,0,0,0,1,0,0,0,0,0,0,1,0,0,0,0,0,1,0,0,0,0,0,0,0,0,0,0,0,0,0,0,0]
[null,null,"Zoning optimisation of the building",1,0,0,0,0,0,0,0,0,0,0,0,0,0,0,0,0,0,0,0,0,0,0,0,0,0,0,0,0,0,0,0,0,0,0,0,0,0,0,0,0,0,0,0,0,0,0,0,0,0,0]
[null,null,"Optimisation of the cooling schedule",1,0,0,0,0,0,0,0,0,0,0,0,1,1,0,0,0,1,0,0,0,0,0,0,0,0,0,0,0,0,0,0,0,0,0,0,0,0,0,0,0,0,0,0,0,0,0,0,0,0,0]
[null,null,"Increasing setpoint temperature",-1,0,0,0,0,-1,0,0,0,0,0,0,1,1,0,0,0,1,0,0,0,0,0,0,0,0,0,0,0,0,0,0,0,0,0,0,0,0,0,0,0,0,0,0,0,0,0,0,0,0,0]
[null,null,"Control optimisation",0,0,0,0,0,0,0,0,0,0,0,0,1,1,0,0,0,0,0,0,0,0,0,0,0,0,0,0,0,0,0,0,0,0,0,0,0,0,0,0,0,0,0,0,0,0,0,1,0,0,0]
[null,null,"Insulation of the distribution network",0,0,0,0,0,0,0,0,0,0,0,0,0,0,0,0,0,0,0,0,0,0,0,0,0,0,0,0,0,0,0,0,0,0,0,0,0,0,0,0,0,0,0,0,0,0,0,0,0,0,0]
[null,null,"Hydraulic balancing of the distribution network",0,0,0,0,0,0,0,0,0,0,0,0,0,0,0,0,0,0,0,0,0,0,0,0,0,0,0,0,0,0,0,0,0,0,0,0,0,0,0,0,0,0,0,0,0,0,0,0,0,0,0]
[null,null,"New, more efficient heat generator",0,0,0,0,0,0,0,0,0,0,0,0,0,0,0,0,0,0,0,0,0,0,0,0,1,0,0,0,0,0,0,0,0,0,0,0,0,0,0,0,0,0,0,0,0,0,0,0,0,0,0]
[null,null,"Energy efficient pumps",0,0,0,0,0,0,0,0,0,0,0,0,0,0,0,0,0,0,1,0,0,0,0,0,0,0,0,0,0,1,0,0,0,0,0,0,0,0,0,0,0,0,0,0,0,0,0,0,0,0,0]
[null,null,"Utilisation of free cooling",0,0,0,0,0,1,0,0,0,1,0,0,0,0,0,0,0,0,0,0,0,0,0,0,0,0,0,0,0,0,0,0,0,0,0,0,0,0,0,0,0,0,0,0,0,0,0,0,0,0,0]
[null,null,"Utilising the waste heat from the cooling system for heating&DHW",0,0,0,0,0,0,0,0,0,0,0,0,0,0,0,0,0,0,0,0,0,0,0,0,0,0,0,0,0,0,0,0,0,0,0,0,0,0,0,0,0,0,0,0,0,0,0,0,0,0,0]
[null,"Ventilation system","Schedule optimisation",0,0,0,0,0,0,0,0,0,1,0,0,0,0,0,0,0,0,0,0,0,0,1,0,0,0,0,0,0,1,0,0,0,0,0,0,0,0,0,0,0,0,0,0,0,0,0,1,0,0,0]
[null,null,"Control optimisation",0,0,0,0,0,0,0,0,0,1,0,0,0,0,0,0,0,1,0,0,0,0,0,0,0,0,0,0,0,0,0,0,0,0,0,0,0,0,0,0,0,0,0,0,0,0,0,1,0,0,0]
[null,null,"Air velocity optimisation",1,0,1,0,0,1,0,0,1,1,0,0,1,1,0,0,0,1,0,0,0,0,0,0,0,0,0,0,0,1,0,0,0,0,0,0,0,0,0,0,0,0,0,0,0,0,0,0,0,0,0]
[null,null,"Inlet air temperature optimisation",0,0,0,0,0,0,0,0,0,1,0,0,0,0,0,0,0,0,0,0,0,0,0,0,0,0,0,0,0,1,0,0,0,0,0,0,0,0,0,0,0,0,0,0,0,0,0,0,0,0,0]
[null,null,"Heat recovery",0,0,0,0,0,0,0,0,0,0,0,0,0,0,0,0,0,0,0,0,0,0,0,0,0,0,0,0,0,0,0,0,0,0,0,0,0,0,0,0,0,0,0,0,0,0,0,0,0,0,0]
[null,null,"Energy efficient fans",0,0,0,0,0,0,0,0,0,0,0,0,0,0,0,0,0,0,1,0,0,0,0,0,0,0,0,0,0,0,0,0,0,0,0,0,0,0,0,0,0,0,0,0,0,0,0,0,0,0,0]
[null,"Lighting","Energy efficient lights (e.g LED)",1,0,0,0,0,0,0,0,0,0,1,0,1,1,0,0,0,1,0,1,0,0,1,0,0,1,0,0,0,1,0,0,0,0,0,0,0,0,0,0,0,0,0,0,0,1,0,0,0,0,0]
[null,null,"Level of illumination",1,0,1,0,0,1,0,0,1,1,1,0,1,1,0,0,0,1,0,0,0,0,1,0,0,1,0,0,0,1,0,0,0,0,0,0,0,0,0,0,0,0,0,0,0,0,0,0,1,0,0]
[null,null,"Schedule optimisation",0,0,0,0,0,0,0,0,0,0,1,0,0,0,0,0,0,1,0,0,0,0,0,0,0,0,0,0,0,1,0,0,0,0,0,0,0,0,0,0,0,0,0,0,0,0,0,0,0,0,0]
[null,null,"Control optimisation",0,0,0,0,0,0,0,0,0,0,1,0,1,0,0,0,0,1,0,0,0,0,0,0,0,0,0,0,0,0,0,0,0,0,0,0,0,0,0,0,0,0,0,0,0,0,0,0,0,0,0]
[null,null,"Utilisation of natural light",1,0,1,0,0,1,0,0,0,1,1,0,1,1,0,0,0,1,0,0,0,0,1,0,0,1,0,0,0,1,0,0,0,0,0,0,0,0,0,0,0,0,0,0,0,0,0,0,1,0,0]
[null,"Renewable energy","Solar PV",0,0,0,1,0,0,0,0,0,0,0,0,1,0,0,0,0,0,0,0,0,0,0,0,0,0,0,0,0,0,0,0,0,0,0,0,0,0,0,0,0,0,0,0,0,0,0,0,0,0,0]
[null,null,"Wind turbine",0,0,0,1,0,0,0,0,0,0,0,0,1,0,0,0,0,0,0,0,0,0,0,0,0,0,0,0,0,0,0,0,0,0,0,0,0,0,0,0,0,0,0,0,0,0,0,0,0,0,0]
[null,null,"Solar collector system",0,0,0,1,0,0,0,0,0,0,0,0,1,0,0,0,0,0,0,0,0,0,0,0,0,0,0,0,0,0,0,0,0,0,0,0,0,0,0,0,0,0,0,0,0,0,0,0,0,0,0]
[null,null,"Geothermal heat pump system",0,0,0,1,0,0,0,0,0,0,0,0,1,0,0,0,0,0,0,0,0,0,0,0,0,0,0,0,0,0,0,0,0,0,0,0,0,0,0,0,0,0,0,0,0,0,0,0,0,0,0]
[null,null,"Passive measures",1,0,0,1,0,0,0,0,0,0,0,0,1,0,0,0,0,0,0,0,0,0,0,0,0,0,0,0,0,0,0,0,0,0,0,0,0,0,0,0,0,0,0,0,0,0,0,0,0,0,0]
[null,"Appliances","Energy efficient appliances",0,0,0,0,0,0,0,0,0,0,0,0,1,0,0,0,0,1,0,0,0,0,1,0,0,0,0,0,0,0,0,0,0,0,0,0,0,0,0,0,0,0,0,0,0,1,0,0,0,0,0]
[null,null,"Reducing stand-by consumption",0,0,0,0,0,0,0,0,0,0,0,0,0,0,0,0,0,0,0,0,0,0,0,0,0,0,0,0,0,0,0,0,0,0,0,0,0,0,0,0,0,0,0,0,0,0,0,0,0,0,0]
[null,null,"Optimal usage, on demand operation",0,0,0,0,0,0,0,0,0,0,0,0,1,1,0,0,0,0,0,0,0,0,0,0,0,0,0,0,0,0,0,0,0,0,0,0,0,0,0,0,0,0,0,0,0,0,0,0,0,1,0]
[null,"Building automation","Building automation and management systems",0,0,0,0,0,0,0,0,0,0,0,0,1,1,0,0,0,0,0,1,0,0,0,0,0,0,0,0,0,0,0,0,0,-1,0,1,0,0,0,0,0,1,1,0,0,0,0,1,1,1,1]
[null,null,"Energy management system",0,0,0,1,0,0,0,0,0,0,0,0,0,0,0,0,0,0,0,0,0,0,0,0,0,0,0,0,0,0,0,0,0,0,0,0,0,0,0,0,0,0,0,0,0,0,0,0,0,0,0]
[null,null,"Measured consumption",0,0,0,0,0,0,0,0,0,0,0,0,0,0,0,0,0,0,0,0,0,0,0,0,0,0,0,0,0,0,0,0,0,0,0,0,0,0,0,0,0,0,1,0,0,0,0,0,0,0,0]
[null,null,"Improved smart-readiness",1,0,0,0,0,0,0,0,0,0,0,0,1,1,0,0,0,0,0,0,0,0,0,0,0,0,0,0,0,0,0,0,0,0,0,0,0,0,0,0,0,0,0,0,0,0,0,0,0,0,0]
["Processes","Compressed air system","Check the required pressure",0,0,0,0,0,0,0,1,0,0,0,0,0,0,0,0,0,0,0,0,1,0,0,0,0,0,0,0,0,1,0,0,0,0,0,0,0,0,0,0,0,1,0,0,0,0,0,0,0,0,0]
[null,null,"Regular check for leakages",0,0,0,0,0,0,0,0,0,0,0,0,0,0,0,0,0,0,0,0,0,0,0,0,0,0,0,0,0,0,0,0,0,0,0,0,0,0,1,0,0,1,0,0,0,0,0,0,0,0,0]
[null,null,"Waste heat recovery ",0,0,0,0,0,0,0,0,0,0,0,0,0,0,0,0,0,0,0,0,0,0,0,0,0,0,0,0,0,0,0,0,0,0,0,0,0,0,0,0,0,0,0,0,0,0,0,0,0,0,0]
[null,null,"Regular maintenance of the compressor",0,0,0,0,0,0,1,0,0,0,0,1,1,1,0,0,0,0,0,0,1,0,0,0,1,0,0,0,0,0,0,0,0,0,0,0,0,0,1,1,0,1,0,0,0,0,0,1,0,1,1]
[null,"Steam system","Check the required pressure",0,0,0,0,0,0,0,1,0,0,0,0,0,0,0,0,0,0,0,0,1,0,0,0,0,0,0,0,0,1,0,0,0,0,0,0,0,0,0,0,0,1,0,0,0,0,0,0,0,0,0]
[null,null,"Check for leakages",0,0,0,0,0,1,0,0,0,0,0,0,0,0,0,0,0,0,0,0,0,0,0,0,0,0,0,0,0,0,0,0,0,0,0,0,0,0,1,0,0,1,0,0,0,0,0,0,0,0,0]
[null,null,"Regular maintenance of the boiler",0,0,0,0,0,0,1,0,0,0,0,1,1,0,0,0,0,0,0,0,1,0,0,0,0,0,0,0,0,0,0,0,0,0,0,0,0,0,1,1,0,1,0,0,0,0,0,1,0,1,1]
[null,"Refrigeration","Optimisation of the required temperatures",0,0,0,0,0,0,0,0,0,0,0,0,0,0,0,0,0,1,0,0,0,0,0,0,0,0,0,0,0,1,0,0,0,0,0,0,0,0,0,0,0,0,0,0,0,0,0,0,0,0,0]
[null,null,"Waste heat recovery ",0,0,0,0,0,0,0,0,0,0,0,0,0,0,0,0,0,0,0,0,0,0,0,0,0,0,0,0,0,0,0,0,0,0,0,0,0,0,0,0,0,0,0,0,0,0,0,0,0,0,0]
[null,null,"Install frequency control (i.e. VRF) on chiller compressor.",0,0,0,0,0,0,0,0,0,0,0,0,0,0,0,0,0,0,0,0,0,0,0,0,0,0,0,0,0,0,0,0,0,0,0,0,0,0,0,0,0,0,0,0,0,0,0,0,0,0,0]
[null,null,"Install high efficiency or 2-rev electromotor on evaporation fan",0,0,0,0,0,0,0,0,0,0,0,0,0,0,0,0,0,0,0,0,0,0,0,0,0,0,0,0,0,0,0,0,0,0,0,0,0,0,0,0,0,0,0,0,0,0,0,0,0,0,0]
[null,null,"Build a cooled front space for refrigeration units.",0,0,0,0,0,0,0,0,0,0,0,0,0,0,0,0,0,0,0,0,0,0,0,0,0,0,0,0,0,0,0,0,0,0,0,0,0,0,0,0,0,0,0,0,0,0,0,0,0,0,0]
[null,null,"Use hot refrigerant gas from the compressor for the initial stages of the defrosting cycle.",0,0,0,0,0,0,0,0,0,0,0,0,0,0,0,0,0,0,0,0,0,0,0,0,0,0,0,0,0,0,0,0,0,0,0,0,0,0,0,0,0,0,0,0,0,0,0,0,0,0,0]
[null,null,"Use excess heat from other production processes for the production of cooling using adsorption/absorption cooling.",0,0,0,0,0,0,0,0,0,0,0,0,0,0,0,0,0,0,0,0,0,0,0,0,0,0,0,0,0,0,0,0,0,0,0,0,0,0,0,0,0,0,0,0,0,0,0,0,0,0,0]
[null,null,"Utilisation of free cooling",0,0,0,0,0,0,0,0,0,0,0,0,0,0,0,0,0,0,0,0,0,0,0,0,0,0,0,0,0,0,0,0,0,0,0,0,0,0,0,0,0,0,0,0,0,0,0,0,0,0,0]
[null,null,"Replacement of the equipment.",0,0,0,0,0,0,0,0,0,0,0,1,0,0,0,0,0,0,0,0,0,0,0,0,1,0,1,0,0,0,0,0,0,0,0,0,0,0,0,1,0,0,0,0,0,0,0,1,1,0,0]
[null,"Water systems","Efficient pumps for the Water treatment system (if any)",0,0,0,0,0,0,0,0,0,0,0,0,0,1,0,0,0,0,0,0,0,0,0,0,0,0,0,0,0,0,0,0,0,0,0,0,0,0,0,0,0,0,0,0,0,0,0,0,0,0,0]
[null,null,"Advanced process of water recovery ",0,0,0,0,0,0,0,0,0,0,0,0,0,0,0,0,0,0,0,0,0,1,0,0,0,0,0,0,0,0,0,0,0,0,0,0,0,0,0,0,0,0,0,0,0,0,0,0,0,0,0]
[null,"Production line","Optimisation of the production process and workflow",0,0,0,0,0,0,0,0,0,0,0,0,1,1,0,0,0,1,0,0,0,0,1,0,0,1,1,1,0,1,0,0,0,-1,0,0,0,0,0,0,0,1,1,1,1,0,0,1,1,0,0]
[null,null,"Waste reduction & recycling in the production line ",0,0,0,0,0,0,0,0,0,0,0,0,0,0,0,0,1,0,0,0,0,1,0,0,0,0,0,0,0,0,0,1,0,0,0,0,0,0,0,0,0,0,0,0,0,1,0,0,0,0,0]
[null,null,"Optimization of motor driven systems ",0,0,0,0,0,0,0,0,0,0,0,0,0,0,0,0,0,0,0,0,0,0,0,0,0,0,0,0,0,1,0,0,0,0,0,0,0,0,0,0,0,0,0,0,0,0,0,0,0,0,0]
[null,null,"High efficient transmission system",0,0,0,0,0,0,0,0,0,0,0,0,0,0,0,0,0,0,0,0,0,0,0,0,0,0,0,0,0,0,0,0,0,0,0,0,0,0,1,0,0,0,0,0,0,0,0,0,0,0,0]
[null,null,"Reduction of the manual labor",1,0,1,0,0,1,1,1,1,0,0,0,0,0,0,0,0,0,0,1,0,0,0,0,0,1,0,0,0,1,0,0,0,-1,0,0,0,0,1,0,0,1,0,0,0,0,0,0,1,0,0]
[null,null,"Regular maintenance of the equipment",1,0,0,0,0,0,1,0,0,0,0,0,1,1,0,0,0,0,0,0,0,0,0,0,1,0,0,0,0,0,0,0,0,0,0,0,0,0,1,1,0,0,0,0,0,0,0,1,0,1,1]
[null,null,"Replacement of the equipment",0,0,0,0,0,0,0,0,0,0,0,1,1,1,0,0,0,0,0,1,0,0,1,0,0,0,1,1,0,0,0,0,0,0,0,0,0,0,0,0,0,0,0,0,0,0,0,1,0,0,1]
[null,null,"Waste heat recovery ",0,0,0,0,0,0,0,0,0,0,0,0,0,0,0,0,0,0,0,0,0,0,0,0,0,0,0,0,0,0,0,1,0,0,0,0,0,0,0,0,0,0,0,0,0,0,0,0,0,0,0]
[null,null,"Low-carbon packaging ",0,0,0,1,0,0,0,0,0,0,0,0,0,0,0,0,0,0,0,0,0,0,0,0,0,0,0,0,0,0,0,0,0,0,0,0,0,0,0,0,0,0,0,0,0,1,0,0,0,0,0]
["Transport","Transport of goods","Optimisation of timetables",1,0,1,0,0,1,0,0,0,0,0,0,1,0,0,0,0,1,0,0,0,0,0,0,0,0,0,0,0,1,0,0,0,0,0,1,0,0,0,0,0,0,1,0,0,0,0,0,1,0,0]
[null,null,"Optimisation of routes",1,0,1,0,0,1,0,0,0,0,0,0,1,0,0,0,0,1,0,0,0,0,0,0,0,0,0,0,0,1,0,0,0,0,0,1,0,0,0,0,0,1,0,0,0,0,0,0,0,0,0]
[null,null,"Optimisation of loads",1,0,1,0,0,0,0,0,0,0,0,0,1,0,0,0,0,0,0,0,0,0,0,0,0,0,0,0,0,1,0,0,0,0,0,1,0,0,0,0,0,1,0,0,0,0,0,0,0,0,0]
[null,null,"Optimisation of the fleet",1,0,0,0,0,0,0,0,0,0,0,0,1,0,0,0,0,0,0,0,0,0,0,0,0,1,0,0,0,1,0,0,0,0,0,1,0,0,0,0,0,1,0,0,0,0,0,0,0,0,0]
[null,null,"Promote electromobility",0,0,0,1,0,0,0,0,0,0,0,0,1,0,0,0,0,1,0,1,0,0,0,0,0,1,0,0,0,1,0,0,0,0,0,1,0,0,0,0,0,0,0,0,0,1,0,0,0,0,0]
[null,null,"Promotion of modal shift for freight",0,0,0,0,0,0,0,0,0,0,0,0,1,0,0,0,0,0,0,0,0,0,0,0,0,0,0,0,0,0,0,0,0,0,0,1,0,0,0,0,0,0,0,0,0,0,0,0,0,0,0]
[null,null,"Regular maintenance",1,0,0,0,0,0,1,0,0,0,0,0,1,1,0,0,0,1,0,0,0,0,0,0,1,0,0,0,0,0,0,0,0,0,0,1,0,0,1,1,0,0,0,0,0,0,0,1,0,1,1]
[null,null,"Driver training",1,0,1,0,0,0,1,0,0,0,0,0,1,1,0,0,0,1,0,0,1,0,1,0,0,1,0,0,0,1,0,0,0,0,0,1,0,0,1,0,0,1,0,0,0,0,0,0,1,0,0]
["Management & Maintenance measures","Management & Maintenance measures","Green supply chain management",0,0,0,0,0,0,0,0,0,0,0,0,0,0,0,0,0,0,0,0,0,0,0,0,0,0,0,0,0,0,0,0,0,0,0,0,0,0,0,0,0,0,0,0,0,0,0,0,0,0,0]
[null,null,"Improved energy management",0,0,0,0,0,0,0,0,0,0,0,0,0,0,0,0,0,0,0,0,0,0,0,0,0,0,0,0,0,0,0,0,0,0,0,0,0,0,0,0,0,0,0,0,0,0,0,0,0,0,0]
[null,null,"Improved environmental awareness at the management level",0,0,0,0,0,0,0,0,0,0,0,0,0,0,0,0,0,0,0,0,0,0,0,0,0,0,0,0,0,0,0,0,0,0,0,0,0,0,0,0,0,0,0,0,0,0,0,0,0,0,0]
["Occupant behaviour","Occupant behaviour","Employee engagement and training",1,0,1,1,0,1,1,0,0,0,0,0,1,0,0,0,0,0,0,0,0,0,1,0,0,1,0,0,0,1,0,0,0,0,1,0,0,0,0,0,1,1,0,0,0,1,0,1,1,0,1]
[null,null,"Motivation",1,0,1,0,0,0,0,0,0,0,0,0,1,0,0,0,0,0,0,0,0,0,0,0,0,0,0,0,0,0,0,0,0,0,0,0,0,0,0,0,0,0,0,0,0,0,0,0,1,0,0]

{"sheet":"HUN_emp","index":29,"n_rows":97,"n_cols":54,"rows_kept":97,"cut":false,"hidden":true,"merged":[[0,51,0,53],[2,0,56,0],[2,1,6,1],[7,1,16,1],[17,1,22,1],[23,1,33,1],[34,1,39,1],[40,1,44,1],[45,1,49,1],[50,1,52,1],[0,3,0,7],[0,8,0,14],[0,15,0,24],[0,25,0,37],[0,38,0,44],[0,45,0,50],[53,1,56,1],[57,0,83,0],[57,1,60,1],[61,1,63,1],[64,1,72,1],[73,1,74,1],[75,1,83,1],[84,0,91,0],[84,1,91,1],[92,0,94,0],[92,1,94,1],[95,0,96,0],[95,1,96,1]]}
[null,null,null,"Social",null,null,null,null,"Health",null,null,null,null,null,null,"Environment",null,null,null,null,null,null,null,null,null,"Economic",null,null,null,null,null,null,null,null,null,null,null,null,"Security & Safety",null,null,null,null,null,null,"Quality",null,null,null,null,null,"Time"]
[null,null,"EEM/NEB","Employee satisfaction","Alleviation of energy poverty","Customers (new, satisfaction, etc.)","Improved supply chain relationships","Work performance","Health and well-being","(avoided) mortality","Disease burden \"daly\"","Sickness & absenteeism","Improved air quality","Improved lighting","Reduced noise","Emission reduction","Impact of EE on RES target achievement ","Ecosystem degradation","Reduced water use ","Reduced material consumption","Reduced emissions (dust, CO2, chemical agents etc.)","Reduced noise pollution","Reduced use of non-renewable resources ","Reduced litigations risks","Reduced waste","Improvement of compatitiveness","Innovation impacts","Reduction of (maintenance) costs","Reduction of emission or disposal fees","Shorter production cycle","Increased production yields","Increased real estate value","Reduction of (operating) costs","Macro economy","Usage of waste streams","Turnover of energy efficiency goods ","Employment effects","Impact on public budgets","Energy security","Security of supply / self sufficiency","Supplier diversity ","Operation safety of equipment","Less maintenance","Electrical safety","Reduced injuries","Accurate monitoring","Right First Time","Increased quality of products","Increased corporate image","Increased regulatory compliance","Risk reduction","Increased productivity","Increased equipment lifetime","Reduced time of fault detection"]
["Building","Envelope","Improvement to visible building envelope elements",1,0,0,0,0,0,0,0,0,0,0,1,1,0,0,0,0,0,0,1,0,0,0,0,0,0,0,0,0,0,0,0,0,0,0,0,0,0,0,0,0,0,0,0,0,1,0,0,0,0,0]
[null,null,"Improvements to non-visible building envelope elements",0,0,0,0,0,0,0,0,0,0,0,1,1,0,0,0,0,0,0,1,0,0,0,0,0,0,0,0,0,0,0,0,0,0,0,0,0,0,0,0,0,0,0,0,0,0,0,0,0,0,0]
[null,null,"Replacemert of windows",1,0,0,0,0,0,0,0,1,1,0,1,1,0,0,0,0,0,0,1,0,0,0,0,0,0,0,0,0,0,0,0,0,0,0,0,0,0,0,0,0,0,0,0,0,0,0,0,0,0,0]
[null,null,"Increasing the air-tightness of the building",1,0,0,0,0,0,0,0,1,1,0,1,1,0,0,0,0,0,0,1,0,0,0,0,0,0,0,0,0,0,0,0,0,0,0,0,0,0,0,0,0,0,0,0,0,0,0,0,0,0,0]
[null,null,"Shading to reduce summer heat gains",1,0,0,0,1,0,0,0,1,0,1,0,1,0,0,0,0,0,0,1,0,0,0,0,0,0,0,0,0,0,0,0,0,0,0,0,0,0,0,0,0,0,0,0,0,0,0,0,0,0,0]
[null,"Heating system","Roomwise temperature control",1,0,0,0,0,0,0,0,1,1,0,0,1,0,0,0,0,0,0,1,0,0,0,0,0,0,0,0,0,0,0,0,0,0,0,0,0,0,0,0,0,0,0,0,0,0,0,0,0,0,0]
[null,null,"Zoning optimisation of the building",0,0,0,0,0,0,0,0,0,0,0,0,1,0,0,0,0,0,0,1,0,0,0,0,0,0,0,0,0,0,0,0,0,0,0,0,0,0,0,0,0,0,0,0,0,0,0,0,0,0,0]
[null,null,"Optimisation of the heating schedule",0,0,0,0,0,0,0,0,0,0,0,0,1,0,0,0,0,0,0,1,0,0,0,0,0,0,0,0,0,0,0,0,0,0,0,0,0,0,0,0,0,0,0,0,0,0,0,0,0,0,0]
[null,null,"Lowering setpoint temperature",-1,0,0,0,0,0,0,0,-1,-1,0,0,1,0,0,0,0,0,0,1,0,0,0,0,0,0,0,0,0,0,0,0,0,0,0,0,0,0,0,0,0,0,0,0,0,0,0,0,0,0,0]
[null,null,"Control optimisation",0,0,0,0,0,0,0,0,0,1,0,0,1,0,0,0,0,0,0,1,0,0,0,0,0,0,0,0,0,0,0,0,0,0,0,0,0,0,0,0,0,0,0,0,0,0,0,0,0,0,0]
[null,null,"Insulation of the distribution network",0,0,0,0,0,0,0,0,0,0,0,0,1,0,0,0,0,0,0,1,0,0,0,0,0,0,0,0,0,0,0,0,0,0,0,0,0,0,0,0,0,0,0,0,0,0,0,0,0,0,0]
[null,null,"Hydraulic balancing of the distribution network",1,0,0,0,0,0,0,0,1,0,0,1,1,0,0,0,0,0,0,1,0,0,0,0,0,0,0,0,0,0,0,0,0,0,0,0,0,0,0,0,0,0,0,0,0,0,0,0,0,0,0]
[null,null,"New, more efficient heat generator",0,0,0,0,0,0,0,0,0,0,0,0,1,0,0,0,0,0,0,1,0,0,0,0,0,0,0,0,0,0,0,0,0,0,0,0,0,0,0,0,0,0,0,0,0,0,0,0,0,0,0]
[null,null,"Including a renewable based heat source",0,0,0,0,0,0,0,0,0,0,0,0,1,0,0,0,0,1,0,1,0,0,0,0,0,0,0,0,0,0,0,0,0,0,0,0,0,0,0,0,0,0,0,0,0,1,0,0,0,0,0]
[null,null,"Energy efficient pumps",0,0,0,0,0,0,0,0,0,0,0,1,1,0,0,0,0,0,0,1,0,0,0,0,0,0,0,0,0,0,0,0,0,0,0,0,0,0,0,0,0,0,0,0,0,0,0,0,0,0,0]
[null,"DHW system","Reducing the DHW demand",-1,0,0,0,0,0,0,0,0,0,0,0,1,0,0,0,0,0,0,1,0,1,0,0,0,0,0,0,0,0,0,0,0,0,0,0,0,0,0,0,0,0,0,0,0,0,0,0,0,0,0]
[null,null,"Insulation of the distribution network",0,0,0,0,0,0,0,0,0,0,0,0,1,0,0,0,0,0,0,1,0,0,0,0,0,0,0,0,0,0,0,0,0,0,0,0,0,0,0,0,0,0,0,0,0,0,0,0,0,0,0]
[null,null,"Lowering setpoint temperature",-1,0,0,0,0,0,0,0,0,0,0,0,1,0,0,0,0,0,0,1,0,0,0,0,0,0,0,0,0,0,0,0,0,0,0,0,0,0,0,0,0,0,0,0,0,0,0,0,0,0,0]
[null,null,"Circulation network optimisation, decentralisation of DHW production",1,0,0,0,0,0,0,0,0,0,0,0,1,0,0,0,0,0,0,1,0,0,0,0,0,0,0,0,0,0,0,0,0,0,0,0,0,0,0,0,0,0,0,0,0,0,0,0,0,0,0]
[null,null,"New, more efficient heat generator",0,0,0,0,0,0,0,0,0,0,0,0,1,0,0,0,0,0,0,1,0,0,0,0,0,0,0,0,0,0,0,0,0,0,0,0,0,0,0,0,0,0,0,0,0,1,0,0,0,0,0]
[null,null,"Including a renewable based heat source",0,0,0,0,0,0,0,0,0,0,0,0,1,0,0,0,0,1,0,1,0,0,0,0,0,0,0,0,0,0,0,0,0,0,0,0,0,0,0,0,0,0,0,0,0,0,0,0,0,0,0]
[null,"Cooling system","Roomwise temperature control",1,0,0,0,0,0,0,0,1,1,0,0,1,0,0,0,0,0,0,1,0,0,0,0,0,0,0,0,0,0,0,0,0,0,0,0,0,0,0,0,0,0,0,0,0,0,0,0,0,0,0]
[null,null,"Zoning optimisation of the building",0,0,0,0,0,0,0,0,0,0,0,0,1,0,0,0,0,0,0,1,0,0,0,0,0,0,0,0,0,0,0,0,0,0,0,0,0,0,0,0,0,0,0,0,0,0,0,0,0,0,0]
[null,null,"Optimisation of the cooling schedule",0,0,0,0,0,0,0,0,0,0,0,0,1,0,0,0,0,0,0,1,0,0,0,0,0,0,0,0,0,0,0,0,0,0,0,0,0,0,0,0,0,0,0,0,0,0,0,0,0,0,0]
[null,null,"Increasing setpoint temperature",-1,0,0,0,0,0,0,0,-1,-1,0,0,1,0,0,0,0,0,0,1,0,0,0,0,0,0,0,0,0,0,0,0,0,0,0,0,0,0,0,0,0,0,0,0,0,0,0,0,0,0,0]
[null,null,"Control optimisation",0,0,0,0,0,0,0,0,1,1,0,0,1,0,0,0,0,0,0,1,0,0,0,0,0,0,0,0,0,0,0,0,0,0,0,0,0,0,0,0,0,0,0,0,0,0,0,0,0,0,0]
[null,null,"Insulation of the distribution network",0,0,0,0,0,0,0,0,0,0,0,0,1,0,0,0,0,0,0,1,0,0,0,0,0,0,0,0,0,0,0,0,0,0,0,0,0,0,0,0,0,0,0,0,0,0,0,0,0,0,0]
[null,null,"Hydraulic balancing of the distribution network",1,0,0,0,0,0,0,0,1,0,0,0,1,0,0,0,0,0,0,1,0,0,0,0,0,0,0,0,0,0,0,0,0,0,0,0,0,0,0,0,0,0,0,0,0,0,0,0,0,0,0]
[null,null,"New, more efficient heat generator",0,0,0,0,0,0,0,0,0,0,0,0,1,0,0,0,0,0,0,1,0,0,0,0,0,0,0,0,0,0,0,0,0,0,0,0,0,0,0,0,0,0,0,0,0,0,0,0,0,0,0]
[null,null,"Energy efficient pumps",0,0,0,0,0,0,0,0,0,0,0,0,1,0,0,0,0,0,0,1,0,0,0,0,0,0,0,0,0,0,0,0,0,0,0,0,0,0,0,0,0,0,0,0,0,0,0,0,0,0,0]
[null,null,"Utilisation of free cooling",0,0,0,0,0,0,0,0,0,0,0,0,1,0,0,0,0,1,0,1,0,0,0,0,0,0,0,0,0,0,0,0,0,0,0,0,0,0,0,0,0,0,0,0,0,1,0,0,0,0,0]
[null,null,"Utilising the waste heat from the cooling system for heating&DHW",0,0,0,0,0,0,0,0,0,0,0,0,1,0,0,0,0,0,0,1,0,0,0,0,0,0,0,0,0,0,0,0,0,0,0,0,0,0,0,0,0,0,0,0,0,0,0,0,0,0,0]
[null,"Ventilation system","Schedule optimisation",0,0,0,0,0,0,0,0,0,0,0,0,1,0,0,0,0,0,0,1,0,0,0,0,0,0,0,0,0,0,0,0,0,0,0,0,0,0,0,0,0,0,0,0,0,0,0,0,0,0,0]
[null,null,"Control optimisation",1,0,0,0,1,0,0,0,1,1,0,1,1,0,0,0,0,0,0,1,0,0,0,0,0,0,0,0,0,0,0,0,0,0,0,0,0,0,0,0,0,0,0,0,0,0,0,0,0,0,0]
[null,null,"Air velocity optimisation",1,0,0,0,0,0,0,0,1,1,0,1,1,0,0,0,0,0,0,1,0,0,0,0,0,0,0,0,0,0,0,0,0,0,0,0,0,0,0,0,0,0,0,0,0,0,0,0,0,0,0]
[null,null,"Inlet air temperature optimisation",1,0,0,0,0,0,0,0,1,1,0,0,1,0,0,0,0,0,0,1,0,0,0,0,0,0,0,0,0,0,0,0,0,0,0,0,0,0,0,0,0,0,0,0,0,0,0,0,0,0,0]
[null,null,"Heat recovery",0,0,0,0,0,0,0,0,0,0,0,0,1,0,0,0,0,0,0,1,0,0,0,0,0,0,0,0,0,0,0,0,0,0,0,0,0,0,0,0,0,0,0,0,0,1,0,0,0,0,0]
[null,null,"Energy efficient fans",0,0,0,0,0,0,0,0,0,0,0,1,1,0,0,0,0,0,0,1,0,0,0,0,0,0,0,0,0,0,0,0,0,0,0,0,0,0,0,0,0,0,0,0,0,0,0,0,0,0,0]
[null,"Lighting","Energy efficient lights (e.g LED)",0,0,0,0,0,0,0,0,0,0,1,0,1,0,0,0,0,0,0,1,0,0,0,0,0,0,0,0,0,0,0,0,0,0,0,0,0,0,0,0,0,0,0,0,0,1,0,0,0,0,0]
[null,null,"Level of illumination",1,0,0,0,1,0,0,0,0,0,1,0,1,0,0,0,0,0,0,1,0,0,0,0,0,0,0,0,0,0,0,0,0,0,0,0,0,0,0,0,0,0,0,0,0,0,0,0,0,0,0]
[null,null,"Schedule optimisation",0,0,0,0,0,0,0,0,0,0,0,0,1,0,0,0,0,0,0,1,0,0,0,0,0,0,0,0,0,0,0,0,0,0,0,0,0,0,0,0,0,0,0,0,0,0,0,0,0,0,0]
[null,null,"Control optimisation",0,0,0,0,1,0,0,0,0,0,1,0,1,0,0,0,0,0,0,1,0,0,0,0,0,0,0,0,0,0,0,0,0,0,0,0,0,0,0,0,0,0,0,0,0,0,0,0,0,0,0]
[null,null,"Utilisation of natural light",1,0,0,0,0,0,0,0,0,0,1,0,1,0,0,0,0,0,0,1,0,0,0,0,0,0,0,0,0,0,0,0,0,0,0,0,0,0,0,0,0,0,0,0,0,1,0,0,0,0,0]
[null,"Renewable energy","Solar PV",0,0,0,0,0,0,0,0,0,0,0,0,1,0,0,0,0,1,0,1,0,0,0,0,0,0,0,0,0,0,0,0,0,0,0,0,0,0,0,0,0,0,0,0,0,1,0,0,0,0,0]
[null,null,"Wind turbine",0,0,0,0,0,0,0,0,0,0,0,0,1,0,0,0,0,1,0,1,0,0,0,0,0,0,0,0,0,0,0,0,0,0,0,0,0,0,0,0,0,0,0,0,0,1,0,0,0,0,0]
[null,null,"Solar collector system",0,0,0,0,0,0,0,0,0,0,0,0,1,0,0,0,0,1,0,1,0,0,0,0,0,0,0,0,0,0,0,0,0,0,0,0,0,0,0,0,0,0,0,0,0,1,0,0,0,0,0]
[null,null,"Geothermal heat pump system",0,0,0,0,0,0,0,0,0,0,0,0,1,0,0,0,0,1,0,1,0,0,0,0,0,0,0,0,0,0,0,0,0,0,0,0,0,0,0,0,0,0,0,0,0,1,0,0,0,0,0]
[null,null,"Passive measures",0,0,0,0,0,0,0,0,0,0,0,0,1,0,0,0,0,1,0,1,0,0,0,0,0,0,0,0,0,0,0,0,0,0,0,0,0,0,0,0,0,0,0,0,0,1,0,0,0,0,0]
[null,"Appliances","Energy efficient appliances",0,0,0,0,0,0,0,0,0,0,0,1,1,0,0,0,0,0,0,1,0,0,0,0,0,0,0,0,0,0,0,0,0,0,0,0,0,0,0,0,0,0,0,0,0,1,0,0,0,0,0]
[null,null,"Reducing stand-by consumption",0,0,0,0,0,0,0,0,0,0,0,0,1,0,0,0,0,0,0,1,0,0,0,0,0,0,0,0,0,0,0,0,0,0,0,0,0,0,0,0,0,0,0,0,0,0,0,0,0,0,0]
[null,null,"Optimal usage, on demand operation",0,0,0,0,0,0,0,0,0,0,0,0,1,0,0,0,0,0,0,1,0,0,0,0,0,0,0,0,0,0,0,0,0,0,0,0,0,0,0,0,1,0,0,0,0,0,0,0,0,0,0]
[null,"Building automation","Building automation and management systems",1,0,0,0,0,0,0,0,1,0,1,0,1,0,0,0,0,0,0,1,0,0,0,0,0,0,0,0,0,0,0,0,0,0,0,0,0,0,0,0,0,0,0,0,0,1,0,0,0,0,0]
[null,null,"Energy management system",0,0,0,0,0,0,0,0,0,0,0,0,1,0,0,0,0,0,0,1,0,0,0,0,0,0,0,0,0,0,0,0,0,0,0,0,0,0,0,0,0,0,0,0,0,1,0,0,0,0,0]
[null,null,"Measured consumption",0,0,0,0,0,0,0,0,0,0,0,0,1,0,0,0,0,0,0,1,0,0,0,0,0,0,0,0,0,0,0,0,0,0,0,0,0,0,0,0,0,0,0,0,0,0,0,0,0,0,0]
[null,null,"Improved smart-readiness",0,0,0,0,0,0,0,0,0,0,0,0,1,0,0,0,0,0,0,1,0,0,0,0,0,0,0,0,0,0,0,0,0,0,0,0,0,0,0,0,0,0,0,0,0,1,0,0,0,0,0]
["Processes","Compressed air system","Check the required pressure",0,0,0,0,0,0,0,0,0,0,0,0,1,0,0,0,0,0,0,1,0,0,0,0,0,0,0,0,0,0,0,0,0,0,0,0,0,0,0,0,0,0,0,0,0,0,0,0,0,0,0]
[null,null,"Regular check for leakages",0,0,0,0,0,0,0,0,1,1,0,0,1,0,0,0,0,1,0,1,0,0,0,0,0,0,0,0,0,0,0,0,0,0,0,0,0,0,1,0,0,1,0,0,0,0,0,0,0,0,0]
[null,null,"Waste heat recovery ",0,0,0,0,0,0,0,0,0,0,0,0,1,0,0,0,0,0,0,1,0,0,0,0,0,0,0,0,0,0,0,0,0,0,0,0,0,0,0,0,0,0,0,0,0,1,0,0,0,0,0]
[null,null,"Regular maintenance of the compressor",0,0,0,0,1,0,0,0,1,0,0,1,1,0,0,0,0,0,0,1,0,0,0,0,0,0,0,1,0,0,0,0,0,0,0,0,0,0,1,0,1,1,0,0,0,0,0,0,0,0,0]
[null,"Steam system","Check the required pressure",0,0,0,0,0,0,0,0,0,0,0,0,1,0,0,0,0,0,0,1,0,0,0,0,0,0,0,0,0,0,0,0,0,0,0,0,0,0,0,0,0,0,0,0,0,0,0,0,0,0,0]
[null,null,"Check for leakages",0,0,0,0,0,0,0,0,1,0,0,1,1,0,0,0,0,1,0,1,0,0,0,0,0,0,0,0,0,0,0,0,0,0,0,0,0,0,0,1,0,1,0,0,0,0,0,0,0,0,0]
[null,null,"Regular maintenance of the boiler",0,0,0,0,1,0,0,0,1,0,0,0,1,0,0,0,0,0,0,1,0,0,0,0,0,0,0,1,0,0,0,0,0,0,0,0,0,0,0,1,1,1,0,0,0,0,0,0,0,0,0]
[null,"Refrigeration","Optimisation of the required temperatures",0,0,0,0,0,0,0,0,0,0,0,0,1,0,0,0,0,0,0,1,0,0,0,0,0,0,0,0,0,0,0,0,0,0,0,0,0,0,0,0,0,0,0,0,0,0,0,0,0,0,0]
[null,null,"Waste heat recovery ",0,0,0,0,0,0,0,0,0,0,0,0,1,0,0,0,0,0,0,1,0,0,0,0,0,0,0,0,0,0,0,0,0,0,0,0,0,0,0,0,0,0,0,0,0,1,0,0,0,0,0]
[null,null,"Install frequency control (i.e. VRF) on chiller compressor.",0,0,0,0,0,0,0,0,0,0,0,0,1,0,0,0,0,0,0,1,0,0,0,0,0,0,0,0,0,0,0,0,0,0,0,0,0,0,0,0,0,0,0,0,0,0,0,0,0,0,0]
[null,null,"Install high efficiency or 2-rev electromotor on evaporation fan",0,0,0,0,0,0,0,0,0,0,0,0,1,0,0,0,0,0,0,1,0,0,0,0,0,0,0,0,0,0,0,0,0,0,0,0,0,0,0,0,0,0,0,0,0,0,0,0,0,0,0]
[null,null,"Build a cooled front space for refrigeration units.",0,0,0,0,0,0,0,0,0,0,0,0,1,0,0,0,0,0,0,1,0,0,0,0,0,0,0,0,0,0,0,0,0,0,0,0,0,0,0,0,0,0,0,0,0,0,0,0,0,0,0]
[null,null,"Use hot refrigerant gas from the compressor for the initial stages of the defrosting cycle.",0,0,0,0,0,0,0,0,0,0,0,0,1,0,0,0,0,0,0,1,0,0,0,0,0,0,0,0,0,0,0,0,0,0,0,0,0,0,0,0,0,0,0,0,0,0,0,0,0,0,0]
[null,null,"Use excess heat from other production processes for the production of cooling using adsorption/absorption cooling.",0,0,0,0,0,0,0,0,0,0,0,0,1,0,0,0,0,1,0,1,0,0,0,0,0,0,0,0,0,0,0,0,0,0,0,0,0,0,0,0,0,0,0,0,0,0,0,0,0,0,0]
[null,null,"Utilisation of free cooling",0,0,0,0,0,0,0,0,0,0,0,0,1,0,0,0,0,1,0,1,0,0,0,0,0,0,0,0,0,0,0,0,0,0,0,0,0,0,0,0,0,0,0,0,0,1,0,0,0,0,0]
[null,null,"Replacement of the equipment.",0,0,0,0,0,0,0,0,0,0,0,0,1,0,0,0,0,1,0,1,0,0,0,0,0,0,0,0,0,0,0,0,0,0,0,0,0,0,1,0,1,0,0,0,0,0,0,0,0,0,0]
[null,"Water systems","Efficient pumps for the Water treatment system (if any)",0,0,0,0,0,0,0,0,0,0,0,1,1,0,0,0,0,0,0,1,0,0,0,0,0,0,0,0,0,0,0,0,0,0,0,0,0,0,0,0,0,0,0,0,0,0,0,0,0,0,0]
[null,null,"Advanced process of water recovery ",0,0,0,0,0,0,0,0,1,0,0,0,1,0,0,0,0,1,0,1,0,1,0,0,0,0,0,0,0,0,0,0,0,0,0,0,0,0,1,0,0,1,0,0,0,1,0,0,0,0,0]
[null,"Production line","Optimisation of the production process and workflow",1,0,0,0,1,0,0,0,1,0,1,1,1,0,0,0,0,0,0,1,0,1,0,0,0,0,0,1,0,0,0,0,0,0,0,0,0,0,1,0,1,1,0,0,0,0,0,0,0,0,0]
[null,null,"Waste reduction & recycling in the production line ",0,0,0,0,0,0,0,0,0,0,0,0,1,0,0,0,0,0,0,1,0,1,0,0,0,0,0,0,0,0,0,0,0,0,0,0,0,0,0,0,0,0,0,0,0,0,0,0,0,0,0]
[null,null,"Optimization of motor driven systems ",0,0,0,0,0,0,0,0,0,0,0,1,1,0,0,0,0,0,0,1,0,0,0,0,0,0,0,1,0,0,0,0,0,0,0,0,0,0,1,0,1,0,0,0,0,0,0,0,0,0,0]
[null,null,"High efficient transmission system",0,0,0,0,0,0,0,0,0,0,0,1,1,0,0,0,0,0,0,1,0,0,0,0,0,0,0,1,0,0,0,0,0,0,0,0,0,0,0,0,0,0,0,0,0,0,0,0,0,0,0]
[null,null,"Reduction of the manual labor",1,0,0,0,1,0,0,0,1,0,0,0,1,0,0,0,0,0,0,1,0,0,0,0,0,0,0,1,0,0,0,0,0,0,0,0,0,0,0,0,0,0,0,0,0,0,0,0,0,0,0]
[null,null,"Regular maintenance of the equipment",1,0,0,0,1,0,0,0,1,0,0,1,1,0,0,0,0,1,0,1,0,1,0,0,0,0,0,1,0,0,0,0,0,0,0,0,0,0,1,0,1,1,0,0,0,0,0,0,0,0,0]
[null,null,"Replacement of the equipment",0,0,0,0,0,0,0,0,0,1,0,0,1,0,0,0,0,1,0,1,0,-1,0,0,0,0,0,1,0,0,0,0,0,0,0,0,0,0,1,0,1,1,0,0,0,0,0,0,0,0,0]
[null,null,"Waste heat recovery ",0,0,0,0,0,0,0,0,0,0,0,0,1,0,0,0,0,0,0,1,0,1,0,0,0,0,0,0,0,0,0,0,0,0,0,0,0,0,0,0,0,0,0,0,0,1,0,0,0,0,0]
[null,null,"Low-carbon packaging ",0,0,0,0,0,0,0,0,0,0,0,0,1,0,0,0,0,0,0,1,0,0,0,0,0,0,0,0,0,0,0,0,0,0,0,0,0,0,0,0,0,0,0,0,0,1,0,0,0,0,0]
["Transport","Transport of goods","Optimisation of timetables",0,0,0,0,0,0,0,0,0,0,0,0,1,0,0,0,0,1,0,1,0,0,0,0,0,0,0,0,0,0,0,0,0,0,0,0,0,0,0,0,0,0,0,0,0,0,0,0,0,0,0]
[null,null,"Optimisation of routes",0,0,0,0,0,0,0,0,0,0,0,0,1,0,0,0,0,1,0,1,0,0,0,0,0,0,0,0,0,0,0,0,0,0,0,0,0,0,0,0,0,0,0,0,0,0,0,0,0,0,0]
[null,null,"Optimisation of loads",0,0,0,0,0,0,0,0,0,0,0,0,1,0,0,0,0,1,0,1,0,0,0,0,0,0,0,0,0,0,0,0,0,0,0,0,0,0,0,0,0,0,0,0,0,0,0,0,0,0,0]
[null,null,"Optimisation of the fleet",0,0,0,0,0,0,0,0,0,0,0,0,1,0,0,0,0,1,0,1,0,0,0,0,0,0,0,0,0,0,0,0,0,0,0,0,0,0,0,0,0,0,0,0,0,0,0,0,0,0,0]
[null,null,"Promote electromobility",1,0,0,0,0,0,0,0,0,0,0,0,1,0,0,0,0,1,0,1,0,-1,0,0,0,0,0,0,0,0,0,0,0,0,0,0,0,0,0,0,0,0,0,0,0,0,0,0,0,0,0]
[null,null,"Promotion of modal shift for freight",0,0,0,0,0,0,0,0,0,0,0,0,1,0,0,0,0,1,0,1,0,0,0,0,0,0,0,0,0,0,0,0,0,0,0,0,0,0,0,0,0,0,0,0,0,1,0,0,0,0,0]
[null,null,"Regular maintenance",1,0,0,0,1,0,0,0,1,0,0,1,1,0,0,0,0,1,0,1,0,1,0,0,0,0,0,0,0,0,0,0,0,0,0,0,0,0,0,0,0,0,0,0,0,0,0,0,0,0,0]
[null,null,"Driver training",0,0,0,0,1,0,0,0,1,0,0,0,1,0,0,0,0,1,0,1,0,0,0,0,0,0,0,0,0,0,0,0,0,0,0,0,0,0,1,0,0,1,0,0,0,0,0,0,0,0,0]
["Management & Maintenance measures","Management & Maintenance measures","Green supply chain management",0,0,0,0,0,0,0,0,0,0,0,0,1,0,0,0,0,1,0,1,0,0,0,0,0,0,0,0,0,0,0,0,0,0,0,0,0,0,0,0,0,0,0,0,0,1,0,0,0,0,0]
[null,null,"Improved energy management",0,0,0,0,0,0,0,0,0,0,0,0,1,0,0,0,0,0,0,1,0,0,0,0,0,0,0,0,0,0,0,0,0,0,0,0,0,0,0,0,0,0,0,0,0,1,0,0,0,0,0]
[null,null,"Improved environmental awareness at the management level",0,0,0,0,0,0,0,0,0,0,0,0,1,0,0,0,0,0,0,1,0,0,0,0,0,0,0,0,0,0,0,0,0,0,0,0,0,0,0,0,0,0,0,0,0,1,0,0,0,0,0]
["Occupant behaviour","Occupant behaviour","Employee engagement and training",1,0,0,0,1,0,0,0,1,1,1,1,1,0,0,0,0,1,0,1,0,1,0,0,0,0,0,1,0,0,0,0,0,0,0,0,0,0,1,0,1,1,0,0,0,1,0,0,0,0,0]
[null,null,"Motivation",1,0,0,0,1,0,0,0,0,0,0,0,1,0,0,0,0,1,0,1,0,1,0,0,0,0,0,1,0,0,0,0,0,0,0,0,0,0,1,0,1,1,0,0,0,1,0,0,0,0,0]

{"sheet":"ITA_emp","index":30,"n_rows":97,"n_cols":54,"rows_kept":97,"cut":false,"hidden":true,"merged":[[0,51,0,53],[2,0,56,0],[2,1,6,1],[7,1,16,1],[17,1,22,1],[23,1,33,1],[34,1,39,1],[40,1,44,1],[45,1,49,1],[50,1,52,1],[0,3,0,7],[0,8,0,14],[0,15,0,24],[0,25,0,37],[0,38,0,44],[0,45,0,50],[53,1,56,1],[57,0,83,0],[57,1,60,1],[61,1,63,1],[64,1,72,1],[73,1,74,1],[75,1,83,1],[84,0,91,0],[84,1,91,1],[92,0,94,0],[92,1,94,1],[95,0,96,0],[95,1,96,1]]}
[null,null,null,"Social",null,null,null,null,"Health",null,null,null,null,null,null,"Environment",null,null,null,null,null,null,null,null,null,"Economic",null,null,null,null,null,null,null,null,null,null,null,null,"Security & Safety",null,null,null,null,null,null,"Quality",null,null,null,null,null,"Time"]
[null,null,"EEM/NEB","Employee satisfaction","Alleviation of energy poverty","Customers (new, satisfaction, etc.)","Improved supply chain relationships","Work performance","Health and well-being","(avoided) mortality","Disease burden \"daly\"","Sickness & absenteeism","Improved air quality","Improved lighting","Reduced noise","Emission reduction","Impact of EE on RES target achievement ","Ecosystem degradation","Reduced water use ","Reduced material consumption","Reduced emissions (dust, CO2, chemical agents etc.)","Reduced noise pollution","Reduced use of non-renewable resources ","Reduced litigations risks","Reduced waste","Improvement of compatitiveness","Innovation impacts","Reduction of (maintenance) costs","Reduction of emission or disposal fees","Shorter production cycle","Increased production yields","Increased real estate value","Reduction of (operating) costs","Macro economy","Usage of waste streams","Turnover of energy efficiency goods ","Employment effects","Impact on public budgets","Energy security","Security of supply / self sufficiency","Supplier diversity ","Operation safety of equipment","Less maintenance","Electrical safety","Reduced injuries","Accurate monitoring","Right First Time","Increased quality of products","Increased corporate image","Increased regulatory compliance","Risk reduction","Increased productivity","Increased equipment lifetime","Reduced time of fault detection"]
["Building","Envelope","Improvement to visible building envelope elements",1,0,0,0,0,0,0,0,0,0,0,0,1,0,1,0,0,1,0,0,0,0,0,0,0,0,0,0,1,0,0,0,0,0,0,0,0,0,0,0,0,0,0,0,0,1,0,0,0,0,0]
[null,null,"Improvements to non-visible building envelope elements",1,0,0,0,0,0,0,0,0,0,0,0,1,0,1,0,0,1,0,0,0,0,0,0,0,0,0,0,1,0,0,0,0,0,0,0,0,0,0,0,0,0,0,0,0,1,0,0,0,0,0]
[null,null,"Replacemert of windows",1,0,0,0,0,0,0,0,0,0,0,0,1,0,1,0,0,1,0,0,0,0,0,0,0,0,0,0,1,0,0,0,0,0,0,0,0,0,0,0,0,0,0,0,0,1,0,0,0,0,0]
[null,null,"Increasing the air-tightness of the building",0,0,0,0,0,0,0,0,0,0,0,0,1,0,1,0,0,1,0,0,0,0,0,0,0,0,0,0,0,0,0,0,0,0,0,0,0,0,0,0,0,0,0,0,0,0,0,0,0,0,0]
[null,null,"Shading to reduce summer heat gains",1,0,0,0,1,1,0,0,1,0,0,0,1,0,1,0,0,1,0,0,0,0,0,0,0,0,0,0,1,0,0,0,0,0,0,0,0,0,0,0,0,0,0,0,0,0,0,0,0,0,0]
[null,"Heating system","Roomwise temperature control",1,0,0,0,1,1,0,0,1,0,0,0,1,0,1,0,0,1,0,0,0,0,0,0,0,0,0,0,0,0,0,0,0,0,0,0,0,0,0,0,0,0,0,0,0,0,0,0,0,0,0]
[null,null,"Zoning optimisation of the building",0,0,0,0,0,0,0,0,0,0,0,0,1,0,1,0,0,1,0,0,0,0,0,0,0,0,0,0,0,0,0,0,0,0,0,0,0,0,0,0,0,0,0,0,0,0,0,0,0,0,0]
[null,null,"Optimisation of the heating schedule",0,0,0,0,0,0,0,0,0,0,0,0,1,0,1,0,0,1,0,0,0,0,0,0,0,0,0,0,0,0,0,0,0,0,0,0,0,0,0,0,0,0,0,0,0,0,0,0,0,0,0]
[null,null,"Lowering setpoint temperature",0,0,0,0,0,-1,0,0,-1,0,0,0,1,0,1,0,0,1,0,0,0,0,0,0,0,0,0,0,0,0,0,0,0,0,0,0,0,0,0,0,0,0,0,0,0,0,0,0,0,0,0]
[null,null,"Control optimisation",0,0,0,0,0,0,0,0,0,0,0,0,1,0,1,0,0,1,0,0,0,0,0,0,0,0,0,0,0,0,0,0,0,0,0,0,0,0,0,0,0,0,0,0,0,0,0,0,0,0,0]
[null,null,"Insulation of the distribution network",0,0,0,0,0,0,0,0,0,0,0,0,1,0,1,0,0,1,0,0,0,0,0,0,0,0,0,0,0,0,0,0,0,0,0,0,0,0,0,0,0,0,0,0,0,0,0,0,0,0,0]
[null,null,"Hydraulic balancing of the distribution network",0,0,0,0,0,0,0,0,0,0,0,0,1,0,1,0,0,1,0,0,0,0,0,0,0,0,0,0,0,0,0,0,0,0,0,0,0,0,0,0,0,0,0,0,0,0,0,0,0,0,0]
[null,null,"New, more efficient heat generator",0,0,0,0,0,0,0,0,0,0,0,0,1,0,1,0,0,1,0,0,0,0,0,0,0,0,0,0,0,0,0,0,0,0,0,0,0,0,0,0,0,0,0,0,0,0,0,0,0,0,0]
[null,null,"Including a renewable based heat source",0,0,0,0,0,0,0,0,0,0,0,0,1,0,1,0,0,1,0,1,0,0,0,0,0,0,0,0,0,0,0,0,0,0,0,0,0,0,0,0,0,0,0,0,0,1,0,0,0,0,0]
[null,null,"Energy efficient pumps",0,0,0,0,0,0,0,0,0,0,0,0,1,0,1,0,0,1,0,0,0,0,0,0,0,0,0,0,0,0,0,0,0,0,0,0,0,0,0,0,0,0,0,0,0,0,0,0,0,0,0]
[null,"DHW system","Reducing the DHW demand",0,0,0,0,0,0,0,0,0,0,0,0,1,0,1,1,0,1,0,0,0,0,0,0,0,0,0,0,0,0,0,0,0,0,0,0,0,0,0,0,0,0,0,0,0,0,0,0,0,0,0]
[null,null,"Insulation of the distribution network",0,0,0,0,0,0,0,0,0,0,0,0,1,0,1,0,0,1,0,0,0,0,0,0,0,0,0,0,0,0,0,0,0,0,0,0,0,0,0,0,0,0,0,0,0,0,0,0,0,0,0]
[null,null,"Lowering setpoint temperature",-1,0,0,0,0,-1,0,0,-1,0,0,0,1,0,1,0,0,1,0,0,0,0,0,0,0,0,0,0,0,0,0,0,0,0,0,0,0,0,0,0,0,0,0,0,0,0,0,0,0,0,0]
[null,null,"Circulation network optimisation, decentralisation of DHW production",0,0,0,0,0,0,0,0,0,0,0,0,1,0,1,0,0,1,0,0,0,0,0,0,0,0,0,0,0,0,0,0,0,0,0,0,0,0,0,0,0,0,0,0,0,0,0,0,0,0,0]
[null,null,"New, more efficient heat generator",0,0,0,0,0,0,0,0,0,0,0,0,1,0,1,0,0,1,0,0,0,0,0,0,0,0,0,0,0,0,0,0,0,0,0,0,0,0,0,0,0,0,0,0,0,1,0,0,0,0,0]
[null,null,"Including a renewable based heat source",0,0,0,0,0,0,0,0,0,0,0,0,1,0,1,0,0,1,0,1,0,0,0,0,0,0,0,0,0,0,0,0,0,0,0,0,0,0,0,0,0,0,0,0,0,1,0,0,0,0,0]
[null,"Cooling system","Roomwise temperature control",1,0,0,0,1,1,0,0,1,0,0,0,1,0,1,0,0,1,0,0,0,0,0,0,0,0,0,0,0,0,0,0,0,0,0,0,0,0,0,0,0,0,0,0,0,0,0,0,0,0,0]
[null,null,"Zoning optimisation of the building",0,0,0,0,0,0,0,0,0,0,0,0,1,0,1,0,0,1,0,0,0,0,0,0,0,0,0,0,0,0,0,0,0,0,0,0,0,0,0,0,0,0,0,0,0,0,0,0,0,0,0]
[null,null,"Optimisation of the cooling schedule",0,0,0,0,0,0,0,0,0,0,0,0,1,0,1,0,0,1,0,0,0,0,0,0,0,0,0,0,0,0,0,0,0,0,0,0,0,0,0,0,0,0,0,0,0,0,0,0,0,0,0]
[null,null,"Increasing setpoint temperature",-1,0,0,0,0,-1,0,0,-1,0,0,1,1,0,1,0,0,1,0,0,0,0,0,0,0,0,0,0,0,0,0,0,0,0,0,0,0,0,0,0,0,0,0,0,0,0,0,0,0,0,0]
[null,null,"Control optimisation",0,0,0,0,0,0,0,0,0,0,0,1,1,0,1,0,0,1,0,0,0,0,0,0,0,0,0,0,0,0,0,0,0,0,0,0,0,0,0,0,0,0,0,0,0,0,0,0,0,0,0]
[null,null,"Insulation of the distribution network",0,0,0,0,0,0,0,0,0,0,0,0,1,0,1,0,0,1,0,0,0,0,0,0,0,0,0,0,0,0,0,0,0,0,0,0,0,0,0,0,0,0,0,0,0,0,0,0,0,0,0]
[null,null,"Hydraulic balancing of the distribution network",0,0,0,0,0,0,0,0,0,0,0,1,1,0,1,0,0,1,0,0,0,0,0,0,0,0,0,0,0,0,0,0,0,0,0,0,0,0,0,0,0,0,0,0,0,0,0,0,0,0,0]
[null,null,"New, more efficient heat generator",0,0,0,0,0,0,0,0,0,0,0,0,1,0,1,0,0,1,0,0,0,0,0,0,0,0,0,0,0,0,0,0,0,0,0,0,0,0,0,0,0,0,0,0,0,1,0,0,0,0,0]
[null,null,"Energy efficient pumps",0,0,0,0,0,0,0,0,0,0,0,0,1,0,1,0,0,1,0,0,0,0,0,0,0,0,0,0,0,0,0,0,0,0,0,0,0,0,0,0,0,0,0,0,0,0,0,0,0,0,0]
[null,null,"Utilisation of free cooling",0,0,0,0,0,0,0,0,0,0,0,0,1,0,1,0,0,1,0,1,0,0,0,0,0,0,0,0,0,0,0,0,0,0,0,0,0,0,0,0,0,0,0,0,0,0,0,0,0,0,0]
[null,null,"Utilising the waste heat from the cooling system for heating&DHW",0,0,0,0,0,0,0,0,0,0,0,0,1,0,1,0,0,1,0,0,0,0,0,0,0,0,0,0,0,0,0,0,0,0,0,0,0,0,0,0,0,0,0,0,0,0,0,0,0,0,0]
[null,"Ventilation system","Schedule optimisation",0,0,0,0,0,0,0,0,0,1,0,1,1,0,1,0,0,1,0,0,0,0,0,0,0,0,0,0,0,0,0,0,0,0,0,0,0,0,0,0,0,0,0,0,0,0,0,0,0,0,0]
[null,null,"Control optimisation",0,0,0,0,0,0,0,0,0,1,0,1,1,0,1,0,0,1,0,0,0,0,0,0,0,0,0,0,0,0,0,0,0,0,0,0,0,0,0,0,0,0,0,0,0,0,0,0,0,0,0]
[null,null,"Air velocity optimisation",1,0,0,0,1,1,0,1,1,1,0,1,1,0,1,0,0,1,0,0,0,0,0,0,0,0,0,0,0,0,0,0,0,0,0,0,0,0,0,0,0,0,0,0,0,0,0,0,0,0,0]
[null,null,"Inlet air temperature optimisation",1,0,0,0,1,1,0,0,1,1,0,0,1,0,1,0,0,1,0,0,0,0,0,0,0,0,0,0,0,0,0,0,0,0,0,0,0,0,0,0,0,0,0,0,0,0,0,0,0,0,0]
[null,null,"Heat recovery",0,0,0,0,0,0,0,0,0,0,0,0,1,0,1,0,0,1,0,0,0,0,0,0,0,0,0,0,0,0,0,0,0,0,0,0,0,0,0,0,0,0,0,0,0,0,0,0,0,0,0]
[null,null,"Energy efficient fans",0,0,0,0,0,0,0,0,0,0,0,0,1,0,1,0,0,1,0,0,0,0,0,0,0,0,0,0,0,0,0,0,0,0,0,0,0,0,0,0,0,0,0,0,0,0,0,0,0,0,0]
[null,"Lighting","Energy efficient lights (e.g LED)",0,0,0,0,0,0,0,0,0,0,0,0,1,0,1,0,0,1,0,0,0,0,0,0,0,0,0,0,0,0,0,0,0,0,0,0,0,0,0,0,0,0,0,0,0,0,0,0,0,0,0]
[null,null,"Level of illumination",1,0,0,0,1,1,0,0,1,0,1,0,0,0,0,0,0,0,0,0,0,0,0,0,0,0,0,0,0,0,0,0,0,0,0,0,0,0,0,0,0,0,0,0,0,0,0,0,0,0,0]
[null,null,"Schedule optimisation",0,0,0,0,0,0,0,0,0,0,1,0,1,0,1,0,0,1,0,0,0,0,0,0,0,0,0,0,0,0,0,0,0,0,0,0,0,0,0,0,0,0,0,0,0,0,0,0,0,0,0]
[null,null,"Control optimisation",0,0,0,0,0,0,0,0,0,0,1,0,1,0,1,0,0,1,0,0,0,0,0,0,0,0,0,0,0,0,0,0,0,0,0,0,0,0,0,0,0,0,0,0,0,0,0,0,0,0,0]
[null,null,"Utilisation of natural light",1,0,0,0,1,1,0,0,1,0,1,0,1,0,1,0,0,1,0,1,0,0,0,0,0,0,0,0,0,0,0,0,0,0,0,0,0,0,0,0,0,0,0,0,0,0,0,0,0,0,0]
[null,"Renewable energy","Solar PV",0,0,0,0,0,0,0,0,0,0,0,0,1,0,1,0,0,1,0,1,0,0,0,0,0,0,0,0,0,0,0,0,0,0,0,0,0,0,0,0,0,0,0,0,0,1,0,0,0,0,0]
[null,null,"Wind turbine",0,0,0,0,0,0,-1,0,0,0,0,-1,1,0,1,0,0,1,-1,1,0,0,0,0,0,0,0,0,0,0,0,0,0,0,0,0,0,0,0,0,0,0,0,0,0,1,0,0,0,0,0]
[null,null,"Solar collector system",0,0,0,0,0,0,0,0,0,0,0,0,1,0,1,0,0,1,0,1,0,0,0,0,0,0,0,0,0,0,0,0,0,0,0,0,0,0,0,0,0,0,0,0,0,1,0,0,0,0,0]
[null,null,"Geothermal heat pump system",0,0,0,0,0,0,0,0,0,0,0,0,1,0,1,0,0,1,0,1,0,0,0,0,0,0,0,0,0,0,0,0,0,0,0,0,0,0,0,0,0,0,0,0,0,1,0,0,0,0,0]
[null,null,"Passive measures",0,0,0,0,0,0,0,0,0,0,0,0,1,0,1,0,0,1,0,1,0,0,0,0,0,0,0,0,0,0,0,0,0,0,0,0,0,0,0,0,0,0,0,0,0,1,0,0,0,0,0]
[null,"Appliances","Energy efficient appliances",0,0,0,0,0,0,0,0,0,0,0,0,1,0,1,0,0,1,0,0,0,0,0,0,0,0,0,0,0,0,0,0,0,0,0,0,0,0,0,0,0,0,0,0,0,0,0,0,0,0,0]
[null,null,"Reducing stand-by consumption",0,0,0,0,0,0,0,0,0,0,0,0,1,0,1,0,0,1,0,0,0,0,0,0,0,0,0,0,0,0,0,0,0,0,0,0,0,0,0,0,0,0,0,0,0,0,0,0,0,0,0]
[null,null,"Optimal usage, on demand operation",1,0,0,0,1,0,0,0,0,0,0,0,1,0,1,0,0,1,0,0,0,0,0,0,0,0,0,0,0,0,0,0,0,0,0,0,0,0,0,0,0,0,0,0,0,0,0,0,0,0,0]
[null,"Building automation","Building automation and management systems",0,0,0,0,0,0,0,0,0,0,0,0,1,0,1,1,0,1,0,0,0,0,0,0,0,0,0,0,0,0,0,0,0,0,0,0,0,0,0,0,0,0,0,0,0,0,0,0,0,0,0]
[null,null,"Energy management system",0,0,0,0,0,0,0,0,0,0,0,0,1,0,1,0,0,1,0,0,0,0,0,0,0,0,0,0,0,0,0,0,0,0,0,0,0,0,0,0,0,0,0,0,0,0,0,0,0,0,0]
[null,null,"Measured consumption",0,0,0,0,0,0,0,0,0,0,0,0,1,0,1,1,0,1,0,0,0,0,0,0,0,0,0,0,0,0,0,0,0,0,0,0,0,0,0,0,0,0,0,0,0,0,0,0,0,0,0]
[null,null,"Improved smart-readiness",0,0,0,0,0,0,0,0,0,0,0,0,1,0,1,0,0,1,0,0,0,0,0,0,0,0,0,0,0,0,0,0,0,0,0,0,0,0,0,0,0,0,0,0,0,0,0,0,0,0,0]
["Processes","Compressed air system","Check the required pressure",0,0,0,0,0,0,1,1,0,0,0,0,1,0,1,0,0,1,0,0,0,0,0,0,0,0,0,0,0,0,0,0,0,0,0,0,0,0,0,0,0,0,0,0,0,0,0,0,0,1,1]
[null,null,"Regular check for leakages",0,0,0,0,0,0,0,1,0,0,0,1,1,0,1,0,0,1,1,0,0,0,0,0,1,0,0,0,0,0,0,0,0,0,0,0,0,0,1,1,0,1,0,0,0,0,0,1,0,1,1]
[null,null,"Waste heat recovery ",0,0,0,0,0,0,0,0,0,0,0,0,1,0,1,0,0,1,0,0,0,0,0,0,0,0,0,0,0,0,0,0,0,0,0,0,0,0,0,0,0,0,0,0,0,0,0,0,0,0,0]
[null,null,"Regular maintenance of the compressor",0,0,0,0,0,0,0,0,0,0,0,0,1,0,1,0,0,1,0,0,0,0,0,0,0,0,0,0,0,0,0,0,0,0,0,0,0,0,0,0,0,0,0,0,0,0,0,0,0,1,1]
[null,"Steam system","Check the required pressure",0,0,0,0,0,0,1,1,0,0,0,0,1,0,1,0,0,1,0,0,0,0,0,0,0,0,0,0,0,0,0,0,0,0,0,0,0,0,1,0,0,1,0,0,0,0,0,1,0,1,1]
[null,null,"Check for leakages",0,0,0,0,0,0,0,1,0,0,0,1,1,0,1,0,0,1,1,0,0,0,0,0,1,0,0,0,0,0,0,0,0,0,0,0,0,0,0,1,0,0,0,0,0,0,0,0,0,1,1]
[null,null,"Regular maintenance of the boiler",0,0,0,0,0,0,0,0,0,0,0,0,1,0,1,0,0,1,0,0,0,0,0,0,0,0,0,0,0,0,0,0,0,0,0,0,0,0,0,0,0,0,0,0,0,0,0,0,0,1,1]
[null,"Refrigeration","Optimisation of the required temperatures",0,0,0,0,0,0,0,0,0,0,0,0,1,0,1,0,0,1,0,0,0,0,0,0,0,0,0,0,0,0,0,0,0,0,0,0,0,0,0,0,0,0,0,0,0,0,0,0,0,0,0]
[null,null,"Waste heat recovery ",0,0,0,0,0,0,0,0,0,0,0,0,1,0,1,0,0,1,0,0,0,0,0,0,0,0,0,0,0,0,0,0,0,0,0,0,0,0,0,0,0,0,0,0,0,0,0,0,0,0,0]
[null,null,"Install frequency control (i.e. VRF) on chiller compressor.",0,0,0,0,0,0,0,0,0,0,0,1,1,0,1,0,0,1,1,0,0,0,0,0,0,0,0,0,0,0,0,0,0,0,0,0,0,0,0,0,0,0,0,0,0,0,0,0,0,0,0]
[null,null,"Install high efficiency or 2-rev electromotor on evaporation fan",0,0,0,0,0,0,0,0,0,0,0,0,1,0,1,0,0,1,0,0,0,0,0,0,0,0,0,0,0,0,0,0,0,0,0,0,0,0,0,0,0,0,0,0,0,0,0,0,0,0,0]
[null,null,"Build a cooled front space for refrigeration units.",0,0,0,0,0,0,0,0,0,0,0,0,1,0,1,0,0,1,0,0,0,0,0,0,0,0,0,0,0,0,0,0,0,0,0,0,0,0,0,0,0,0,0,0,0,0,0,0,0,0,0]
[null,null,"Use hot refrigerant gas from the compressor for the initial stages of the defrosting cycle.",0,0,0,0,0,0,0,0,0,0,0,0,1,0,1,0,0,1,0,0,0,0,0,0,0,0,0,0,0,0,0,0,0,0,0,0,0,0,0,0,0,0,0,0,0,0,0,0,0,0,0]
[null,null,"Use excess heat from other production processes for the production of cooling using adsorption/absorption cooling.",0,0,0,0,0,0,0,0,0,0,0,0,1,0,1,0,0,1,0,0,0,0,0,0,0,0,0,0,0,0,0,0,0,0,0,0,0,0,0,0,0,0,0,0,0,0,0,0,0,0,0]
[null,null,"Utilisation of free cooling",0,0,0,0,0,0,0,0,0,1,0,1,1,0,1,0,0,1,1,1,0,0,0,0,0,0,0,0,0,0,0,0,0,0,0,0,0,0,0,0,0,0,0,0,0,0,0,0,0,0,0]
[null,null,"Replacement of the equipment.",0,0,0,0,0,0,0,0,0,0,0,1,1,0,1,0,0,1,1,0,0,0,0,0,1,0,0,0,0,0,0,0,0,0,0,0,0,0,0,1,0,0,0,0,0,0,0,0,0,0,0]
[null,"Water systems","Efficient pumps for the Water treatment system (if any)",0,0,0,0,0,0,0,0,0,0,0,1,1,0,1,0,0,1,1,0,0,0,0,0,0,0,0,0,0,0,0,0,0,0,0,0,0,0,0,0,0,0,0,0,0,0,0,0,0,0,0]
[null,null,"Advanced process of water recovery ",0,0,0,0,0,0,0,0,0,0,0,0,0,0,1,1,0,0,0,0,0,0,0,0,0,0,0,0,0,0,0,0,0,0,0,0,0,0,0,0,0,0,0,0,0,0,0,0,0,0,0]
[null,"Production line","Optimisation of the production process and workflow",1,0,0,0,1,1,0,1,1,0,0,0,1,0,1,1,0,1,0,0,0,1,1,0,0,0,0,1,0,0,0,0,0,0,0,0,0,0,0,0,0,0,0,0,1,0,0,0,1,0,0]
[null,null,"Waste reduction & recycling in the production line ",0,0,0,0,0,0,0,0,0,0,0,0,1,0,1,1,0,1,0,0,0,1,0,0,0,0,0,0,0,0,0,0,0,0,0,0,0,0,0,0,0,0,0,0,0,0,0,0,0,0,0]
[null,null,"Optimization of motor driven systems ",0,0,0,0,0,0,0,0,0,0,0,0,1,0,1,0,0,1,0,0,0,0,0,0,0,0,0,0,0,0,0,0,0,0,0,0,0,0,0,0,0,0,0,0,0,0,0,0,0,0,0]
[null,null,"High efficient transmission system",0,0,0,0,0,0,0,0,0,0,0,0,1,0,1,0,0,1,0,0,0,0,0,0,0,0,0,0,0,0,0,0,0,0,0,0,0,0,0,0,0,0,0,0,0,0,0,0,0,0,0]
[null,null,"Reduction of the manual labor",-1,0,0,0,1,1,0,0,1,0,0,0,-1,0,-1,0,0,-1,0,0,0,0,0,0,0,0,0,1,0,0,0,0,0,0,0,0,0,0,0,0,0,0,0,0,1,0,0,0,0,0,0]
[null,null,"Regular maintenance of the equipment",0,0,0,0,0,1,1,1,1,0,0,1,1,0,1,0,0,1,1,0,0,0,1,0,1,0,0,0,0,0,0,0,0,0,0,0,0,0,1,1,0,1,0,0,0,0,0,1,1,1,1]
[null,null,"Replacement of the equipment",0,0,0,0,1,0,0,0,0,0,0,1,1,0,1,0,0,1,1,0,0,0,0,0,1,0,0,0,0,0,0,0,0,0,0,0,0,0,0,1,0,0,0,0,0,0,0,0,0,0,0]
[null,null,"Waste heat recovery ",0,0,0,0,0,0,0,0,0,0,0,0,1,0,1,0,0,1,0,0,0,0,0,0,0,0,0,0,0,0,0,0,0,0,0,0,0,0,0,0,0,0,0,0,0,0,0,0,0,0,0]
[null,null,"Low-carbon packaging ",0,1,0,0,0,0,0,0,0,0,0,0,1,0,1,0,0,1,0,0,0,0,0,0,0,0,0,0,0,0,0,0,0,0,0,0,0,0,0,0,0,0,0,0,0,0,0,0,0,0,0]
["Transport","Transport of goods","Optimisation of timetables",1,0,0,0,1,0,0,0,0,0,0,0,1,0,1,0,0,1,0,0,0,0,0,0,0,0,0,0,0,0,0,0,0,0,0,0,0,0,0,0,0,0,0,0,0,0,0,0,0,0,0]
[null,null,"Optimisation of routes",1,0,0,0,0,0,0,0,0,0,0,0,1,0,1,0,0,1,0,0,0,0,0,0,0,0,0,0,0,0,0,0,0,0,0,0,0,0,0,0,0,0,0,0,0,0,0,0,0,0,0]
[null,null,"Optimisation of loads",1,0,0,0,0,0,0,0,0,0,0,0,0,0,0,0,0,0,0,0,0,0,0,0,0,0,0,0,0,0,0,0,0,0,0,0,0,0,0,0,0,0,0,0,0,0,0,0,0,0,0]
[null,null,"Optimisation of the fleet",1,0,0,0,1,0,0,0,0,0,0,0,0,0,0,0,0,0,0,0,0,0,0,0,0,0,0,0,0,0,0,0,0,0,0,0,0,0,0,0,0,0,0,0,0,0,0,0,0,0,0]
[null,null,"Promote electromobility",1,0,0,0,0,0,0,0,0,0,0,0,1,0,1,0,0,1,0,0,0,0,0,0,0,0,0,0,0,0,0,0,0,0,0,0,0,0,0,0,0,0,0,0,0,0,0,0,0,0,0]
[null,null,"Promotion of modal shift for freight",1,0,0,0,1,0,0,0,0,0,0,0,1,0,1,0,0,1,0,1,0,0,0,0,0,0,0,0,0,0,0,0,0,0,0,0,0,0,0,0,0,0,0,0,0,0,0,0,0,0,0]
[null,null,"Regular maintenance",0,0,0,0,1,0,1,1,0,0,0,1,1,0,1,0,0,1,1,0,0,0,0,0,1,0,0,0,0,0,0,0,0,0,0,0,0,0,1,1,0,1,0,0,0,0,0,1,0,0,0]
[null,null,"Driver training",1,0,0,0,1,0,0,0,0,0,0,0,0,0,0,0,0,0,0,0,0,0,0,0,0,0,0,0,0,0,0,0,0,0,0,0,0,0,1,0,0,1,0,0,0,1,0,1,0,0,0]
["Management & Maintenance measures","Management & Maintenance measures","Green supply chain management",0,0,0,0,0,0,0,0,0,0,0,0,1,0,1,0,0,1,0,1,0,0,0,0,0,0,0,0,0,0,0,0,0,0,0,0,0,0,0,0,0,0,0,0,0,1,0,0,0,0,0]
[null,null,"Improved energy management",0,0,0,0,0,0,0,0,0,0,0,0,1,0,1,0,0,1,0,1,0,0,0,0,0,0,0,0,0,0,0,0,0,0,0,0,0,0,0,0,0,0,0,0,0,1,0,0,0,0,0]
[null,null,"Improved environmental awareness at the management level",0,0,0,0,0,0,0,0,0,0,0,0,1,0,1,0,0,1,0,0,0,0,0,0,0,0,0,0,0,0,0,0,0,0,0,0,0,0,0,0,0,0,0,0,0,1,0,0,0,0,0]
["Occupant behaviour","Occupant behaviour","Employee engagement and training",1,0,0,0,1,0,0,0,0,0,0,0,1,0,0,0,0,1,0,0,0,0,0,0,0,0,0,0,0,0,0,0,0,0,0,0,0,0,1,0,0,1,0,0,0,0,0,1,0,0,0]
[null,null,"Motivation",1,0,0,0,1,1,0,0,0,0,0,0,1,0,0,0,0,1,0,0,0,0,0,0,0,0,0,0,0,0,0,0,0,0,0,0,0,0,0,0,0,0,0,0,0,0,0,0,0,0,0]

{"sheet":"LAT_emp","index":31,"n_rows":97,"n_cols":54,"rows_kept":97,"cut":false,"hidden":true,"merged":[[0,51,0,53],[2,0,56,0],[2,1,6,1],[7,1,16,1],[17,1,22,1],[23,1,33,1],[34,1,39,1],[40,1,44,1],[45,1,49,1],[50,1,52,1],[0,3,0,7],[0,8,0,14],[0,15,0,24],[0,25,0,37],[0,38,0,44],[0,45,0,50],[53,1,56,1],[57,0,83,0],[57,1,60,1],[61,1,63,1],[64,1,72,1],[73,1,74,1],[75,1,83,1],[84,0,91,0],[84,1,91,1],[92,0,94,0],[92,1,94,1],[95,0,96,0],[95,1,96,1]]}
[null,null,null,"Social",null,null,null,null,"Health",null,null,null,null,null,null,"Environment",null,null,null,null,null,null,null,null,null,"Economic",null,null,null,null,null,null,null,null,null,null,null,null,"Security & Safety",null,null,null,null,null,null,"Quality",null,null,null,null,null,"Time"]
[null,null,"EEM/NEB","Employee satisfaction","Alleviation of energy poverty","Customers (new, satisfaction, etc.)","Improved supply chain relationships","Work performance","Health and well-being","(avoided) mortality","Disease burden \"daly\"","Sickness & absenteeism","Improved air quality","Improved lighting","Reduced noise","Emission reduction","Impact of EE on RES target achievement ","Ecosystem degradation","Reduced water use ","Reduced material consumption","Reduced emissions (dust, CO2, chemical agents etc.)","Reduced noise pollution","Reduced use of non-renewable resources ","Reduced litigations risks","Reduced waste","Improvement of compatitiveness","Innovation impacts","Reduction of (maintenance) costs","Reduction of emission or disposal fees","Shorter production cycle","Increased production yields","Increased real estate value","Reduction of (operating) costs","Macro economy","Usage of waste streams","Turnover of energy efficiency goods ","Employment effects","Impact on public budgets","Energy security","Security of supply / self sufficiency","Supplier diversity ","Operation safety of equipment","Less maintenance","Electrical safety","Reduced injuries","Accurate monitoring","Right First Time","Increased quality of products","Increased corporate image","Increased regulatory compliance","Risk reduction","Increased productivity","Increased equipment lifetime","Reduced time of fault detection"]
["Building","Envelope","Improvement to visible building envelope elements",1,0,1,0,0,0,0,0,0,0,0,0,0,0,0,0,0,0,0,0,0,0,0,0,0,0,0,0,0,0,0,0,0,0,0,0,0,0,0,0,0,0,0,0,0,0,0,0,0,0,0]
[null,null,"Improvements to non-visible building envelope elements",0,0,0,0,0,0,0,0,0,0,0,0,0,0,0,0,0,0,0,0,0,0,0,0,0,0,0,0,0,0,0,0,0,0,0,0,0,0,0,0,0,0,0,0,0,0,0,0,0,0,0]
[null,null,"Replacemert of windows",1,0,1,0,0,0,0,0,0,-1,1,0,0,0,0,0,0,0,0,0,0,0,0,0,0,0,0,0,0,0,0,0,0,0,0,0,0,0,0,0,0,0,0,0,0,0,0,0,0,0,0]
[null,null,"Increasing the air-tightness of the building",-1,0,0,0,0,0,0,0,0,-1,0,0,0,0,0,0,0,0,0,0,0,0,0,0,0,0,0,0,0,0,0,0,0,0,0,0,0,0,0,0,0,0,0,0,0,0,0,0,0,0,0]
[null,null,"Shading to reduce summer heat gains",1,0,0,0,0,0,0,0,0,0,0,0,0,0,0,0,0,0,0,0,0,0,0,0,0,0,0,0,0,0,0,0,0,0,0,0,0,0,0,0,0,0,0,0,0,0,0,0,0,0,0]
[null,"Heating system","Roomwise temperature control",1,0,0,0,0,0,0,0,0,1,0,0,0,0,0,0,0,0,0,0,0,0,0,0,0,0,0,0,0,0,0,0,0,0,0,0,0,0,0,0,0,0,0,0,0,0,0,0,0,0,0]
[null,null,"Zoning optimisation of the building",0,0,0,0,0,0,0,0,0,0,0,0,0,0,0,0,0,0,0,0,0,0,0,0,0,0,0,0,0,0,0,0,0,0,0,0,0,0,0,0,0,0,0,0,0,0,0,0,0,0,0]
[null,null,"Optimisation of the heating schedule",0,0,0,0,0,0,0,0,0,0,0,0,0,0,0,0,0,0,0,0,0,0,0,0,0,0,0,0,0,0,0,0,0,0,0,0,0,0,0,0,0,0,0,0,0,0,0,0,0,0,0]
[null,null,"Lowering setpoint temperature",-1,0,0,0,0,0,0,0,0,0,0,0,0,0,0,0,0,0,0,0,0,0,0,0,0,0,0,0,0,0,0,0,0,0,0,0,0,0,0,0,0,0,0,0,0,0,0,0,0,0,0]
[null,null,"Control optimisation",0,0,0,0,0,0,0,0,0,0,0,0,0,0,0,0,0,0,0,0,0,0,0,0,0,0,0,0,0,0,0,0,0,0,0,0,0,0,0,0,0,0,0,0,0,0,0,0,0,0,0]
[null,null,"Insulation of the distribution network",0,0,0,0,0,0,0,0,0,0,0,0,0,0,0,0,0,0,0,0,0,0,0,0,0,0,0,0,0,0,0,0,0,0,0,0,0,0,0,0,0,0,0,0,0,0,0,0,0,0,0]
[null,null,"Hydraulic balancing of the distribution network",0,0,0,0,0,0,0,0,0,0,0,0,0,0,0,0,0,0,0,0,0,0,0,0,0,0,0,0,0,0,0,0,0,0,0,0,0,0,0,0,0,0,0,0,0,0,0,0,0,0,0]
[null,null,"New, more efficient heat generator",0,0,0,0,0,0,0,0,0,0,0,1,0,0,0,0,0,1,1,0,0,0,0,0,0,0,0,0,0,0,0,0,0,0,0,0,0,0,0,0,0,0,0,0,0,0,0,0,0,0,0]
[null,null,"Including a renewable based heat source",0,0,0,0,0,0,0,0,0,0,0,0,1,0,0,0,0,1,0,0,0,0,0,0,0,0,0,0,0,0,0,0,0,0,0,0,0,0,0,0,0,0,0,0,0,0,0,0,0,0,0]
[null,null,"Energy efficient pumps",0,0,0,0,0,0,0,0,0,0,0,0,0,0,0,0,0,0,0,0,0,0,0,0,0,0,0,0,0,0,0,0,0,0,0,0,0,0,0,0,0,0,0,0,0,0,0,0,0,0,0]
[null,"DHW system","Reducing the DHW demand",-1,0,0,0,0,0,0,0,0,0,0,0,0,0,0,0,0,0,0,0,0,0,0,0,0,0,0,0,0,0,0,0,0,0,0,0,0,0,0,0,0,0,0,0,0,0,0,0,0,0,0]
[null,null,"Insulation of the distribution network",0,0,0,0,0,0,0,0,0,0,0,0,0,0,0,0,0,0,0,0,0,0,0,0,0,0,0,0,0,0,0,0,0,0,0,0,0,0,0,0,0,0,0,0,0,0,0,0,0,0,0]
[null,null,"Lowering setpoint temperature",-1,0,0,0,0,0,0,0,0,0,0,0,0,0,0,0,0,0,0,0,0,0,0,0,0,0,0,0,0,0,0,0,0,0,0,0,0,0,0,0,0,0,0,0,0,0,0,0,0,0,0]
[null,null,"Circulation network optimisation, decentralisation of DHW production",0,0,0,0,0,0,0,0,0,0,0,0,0,0,0,0,0,0,0,0,0,0,0,0,0,0,0,0,0,0,0,0,0,0,0,0,0,0,0,0,0,0,0,0,0,0,0,0,0,0,0]
[null,null,"New, more efficient heat generator",0,0,0,0,0,0,0,0,0,0,0,1,0,0,0,0,0,1,1,0,0,0,0,0,0,0,0,0,0,0,0,0,0,0,0,0,0,0,0,0,0,0,0,0,0,0,0,0,0,0,0]
[null,null,"Including a renewable based heat source",0,0,0,0,0,0,0,0,0,0,0,0,1,0,0,0,0,1,0,0,0,0,0,0,0,0,0,0,0,0,0,0,0,0,0,0,0,0,0,0,0,0,0,0,0,0,0,0,0,0,0]
[null,"Cooling system","Roomwise temperature control",1,0,0,0,0,0,0,0,0,1,0,0,0,0,0,0,0,0,0,0,0,0,0,0,0,0,0,0,0,0,0,0,0,0,0,0,0,0,0,0,0,0,0,0,0,0,0,0,0,0,0]
[null,null,"Zoning optimisation of the building",0,0,0,0,0,0,0,0,0,0,0,0,0,0,0,0,0,0,0,0,0,0,0,0,0,0,0,0,0,0,0,0,0,0,0,0,0,0,0,0,0,0,0,0,0,0,0,0,0,0,0]
[null,null,"Optimisation of the cooling schedule",0,0,0,0,0,0,0,0,0,0,0,0,0,0,0,0,0,0,0,0,0,0,0,0,0,0,0,0,0,0,0,0,0,0,0,0,0,0,0,0,0,0,0,0,0,0,0,0,0,0,0]
[null,null,"Increasing setpoint temperature",-1,0,0,0,0,0,0,0,0,0,0,0,0,0,0,0,0,0,0,0,0,0,0,0,0,0,0,0,0,0,0,0,0,0,0,0,0,0,0,0,0,0,0,0,0,0,0,0,0,0,0]
[null,null,"Control optimisation",0,0,0,0,0,0,0,0,0,0,0,0,0,0,0,0,0,0,0,0,0,0,0,0,0,0,0,0,0,0,0,0,0,0,0,0,0,0,0,0,0,0,0,0,0,0,0,0,0,0,0]
[null,null,"Insulation of the distribution network",0,0,0,0,0,0,0,0,0,0,0,0,0,0,0,0,0,0,0,0,0,0,0,0,0,0,0,0,0,0,0,0,0,0,0,0,0,0,0,0,0,0,0,0,0,0,0,0,0,0,0]
[null,null,"Hydraulic balancing of the distribution network",0,0,0,0,0,0,0,0,0,0,0,0,0,0,0,0,0,0,0,0,0,0,0,0,0,0,0,0,0,0,0,0,0,0,0,0,0,0,0,0,0,0,0,0,0,0,0,0,0,0,0]
[null,null,"New, more efficient heat generator",0,0,0,0,0,0,0,0,0,0,0,1,0,0,0,0,0,1,1,0,0,0,0,0,0,0,0,0,0,0,0,0,0,0,0,0,0,0,0,0,0,0,0,0,0,0,0,0,0,0,0]
[null,null,"Energy efficient pumps",0,0,0,0,0,0,0,0,0,0,0,0,0,0,0,0,0,0,0,0,0,0,0,0,0,0,0,0,0,0,0,0,0,0,0,0,0,0,0,0,0,0,0,0,0,0,0,0,0,0,0]
[null,null,"Utilisation of free cooling",0,0,0,0,0,0,0,0,0,0,0,0,0,0,0,0,0,0,0,0,0,0,0,0,0,0,0,0,0,0,0,0,0,0,0,0,0,0,0,0,0,0,0,0,0,0,0,0,0,0,0]
[null,null,"Utilising the waste heat from the cooling system for heating&DHW",0,0,0,0,0,0,0,0,0,0,0,0,0,0,0,0,0,0,0,0,0,0,0,0,0,0,0,0,0,0,0,0,0,0,0,0,0,0,0,0,0,0,0,0,0,0,0,0,0,0,0]
[null,"Ventilation system","Schedule optimisation",0,0,0,0,0,0,0,0,0,0,0,0,0,0,0,0,0,0,0,0,0,0,0,0,0,0,0,0,0,0,0,0,0,0,0,0,0,0,0,0,0,0,0,0,0,0,0,0,0,0,0]
[null,null,"Control optimisation",0,0,0,0,0,0,0,0,0,0,0,0,0,0,0,0,0,0,0,0,0,0,0,0,0,0,0,0,0,0,0,0,0,0,0,0,0,0,0,0,0,0,0,0,0,0,0,0,0,0,0]
[null,null,"Air velocity optimisation",0,0,0,0,0,0,0,0,0,0,0,0,0,0,0,0,0,0,0,0,0,0,0,0,0,0,0,0,0,0,0,0,0,0,0,0,0,0,0,0,0,0,0,0,0,0,0,0,0,0,0]
[null,null,"Inlet air temperature optimisation",0,0,0,0,0,0,0,0,0,0,0,0,0,0,0,0,0,0,0,0,0,0,0,0,0,0,0,0,0,0,0,0,0,0,0,0,0,0,0,0,0,0,0,0,0,0,0,0,0,0,0]
[null,null,"Heat recovery",0,0,0,0,0,0,0,0,0,0,0,0,0,0,0,0,0,0,0,0,0,0,0,0,0,0,0,0,0,0,0,0,0,0,0,0,0,0,0,0,0,0,0,0,0,0,0,0,0,0,0]
[null,null,"Energy efficient fans",0,0,0,0,0,0,0,0,0,0,0,0,0,0,0,0,0,0,0,0,0,0,0,0,0,0,0,0,0,0,0,0,0,0,0,0,0,0,0,0,0,0,0,0,0,0,0,0,0,0,0]
[null,"Lighting","Energy efficient lights (e.g LED)",1,0,0,0,0,0,0,0,0,0,0,0,0,0,0,0,0,0,0,0,0,0,0,0,0,0,0,0,0,1,0,0,0,0,0,0,0,0,0,0,0,0,0,0,0,0,0,0,0,0,0]
[null,null,"Level of illumination",1,0,0,0,0,0,0,0,0,0,1,0,0,0,0,0,0,0,0,0,0,0,0,0,0,0,0,0,0,0,0,0,0,0,0,0,0,0,0,0,0,0,0,0,0,0,0,0,0,0,0]
[null,null,"Schedule optimisation",0,0,0,0,0,0,0,0,0,0,0,0,0,0,0,0,0,0,0,0,0,0,0,0,0,0,0,0,0,0,0,0,0,0,0,0,0,0,0,0,0,0,0,0,0,0,0,0,0,0,0]
[null,null,"Control optimisation",0,0,0,0,0,0,0,0,0,0,0,0,0,0,0,0,0,0,0,0,0,0,0,0,0,0,0,0,0,0,0,0,0,0,0,0,0,0,0,0,0,0,0,0,0,0,0,0,0,0,0]
[null,null,"Utilisation of natural light",1,0,0,0,0,0,0,0,0,0,1,0,0,0,0,0,0,0,0,0,0,0,0,0,0,0,0,0,0,0,0,0,0,0,0,0,0,0,0,0,0,0,0,0,0,0,0,0,0,0,0]
[null,"Renewable energy","Solar PV",0,0,0,0,0,0,0,0,0,0,0,0,1,1,0,0,0,1,0,0,0,0,0,0,0,1,0,0,0,0,0,0,0,0,0,0,0,0,0,0,0,0,0,0,0,1,0,0,0,0,0]
[null,null,"Wind turbine",0,0,0,0,0,0,0,0,0,0,0,-1,1,1,0,0,0,1,-1,0,0,0,0,0,0,1,0,0,0,0,0,0,0,0,0,0,0,0,0,0,0,0,0,0,0,0,0,0,0,0,0]
[null,null,"Solar collector system",0,0,0,0,0,0,0,0,0,0,0,0,1,1,0,0,0,1,0,0,0,0,0,0,0,1,0,0,0,0,0,0,0,0,0,0,0,0,0,0,0,0,0,0,0,0,0,0,0,0,0]
[null,null,"Geothermal heat pump system",0,0,0,0,0,0,0,0,0,0,0,0,1,0,0,0,0,1,0,0,0,0,0,0,0,0,0,0,0,0,0,0,0,0,0,0,0,0,0,0,0,0,0,0,0,0,0,0,0,0,0]
[null,null,"Passive measures",0,0,0,0,0,0,0,0,0,0,0,0,1,0,0,0,0,0,0,0,0,0,0,0,0,0,0,0,0,0,0,0,0,0,0,0,0,0,0,0,0,0,0,0,0,0,0,0,0,0,0]
[null,"Appliances","Energy efficient appliances",1,0,0,0,0,0,0,0,0,0,0,1,0,0,0,0,0,0,1,0,0,0,0,0,0,0,0,0,0,0,0,0,0,0,0,0,0,0,0,0,0,0,0,0,0,0,0,0,0,0,0]
[null,null,"Reducing stand-by consumption",-1,0,0,0,0,0,0,0,0,0,0,0,0,0,0,0,0,0,0,0,0,0,0,0,0,0,0,0,0,0,0,0,0,0,0,0,0,0,0,0,0,0,0,0,0,0,0,0,0,0,0]
[null,null,"Optimal usage, on demand operation",-1,0,0,0,0,0,0,0,0,0,0,1,0,0,0,0,0,0,1,0,0,0,0,0,0,0,0,0,0,0,0,0,0,0,0,0,0,0,0,0,0,0,0,0,0,0,0,0,0,0,0]
[null,"Building automation","Building automation and management systems",0,0,0,0,0,0,0,0,0,0,0,0,0,0,0,0,0,0,0,0,0,0,0,0,0,0,0,0,0,0,0,0,0,0,0,0,0,0,0,0,0,0,0,0,0,0,0,0,0,0,0]
[null,null,"Energy management system",0,0,0,0,0,0,0,0,0,0,0,0,0,0,0,0,0,0,0,0,0,0,0,0,0,0,0,0,0,0,0,0,0,0,0,0,0,0,0,0,0,0,0,0,0,0,0,0,0,0,0]
[null,null,"Measured consumption",0,0,0,0,0,0,0,0,0,0,0,0,0,0,0,0,0,0,0,0,0,0,0,0,0,0,0,0,0,0,0,0,0,0,0,0,0,0,0,0,0,0,0,0,0,0,0,0,0,0,0]
[null,null,"Improved smart-readiness",0,0,0,0,0,0,0,0,0,0,0,0,0,0,0,0,0,0,0,0,0,0,0,0,0,0,0,0,0,0,0,0,0,0,0,0,0,0,0,0,0,0,0,0,0,0,0,0,0,0,0]
["Processes","Compressed air system","Check the required pressure",0,0,0,0,0,0,0,0,0,0,0,0,0,0,0,0,0,0,0,0,0,0,0,0,0,0,0,0,0,0,0,0,0,0,0,0,0,0,0,0,0,0,0,0,0,0,0,0,0,0,0]
[null,null,"Regular check for leakages",0,0,0,0,0,0,0,0,0,0,0,0,0,0,0,0,0,0,0,0,0,0,0,0,0,0,0,0,0,0,0,0,0,0,0,0,0,0,0,0,0,0,0,0,0,0,0,0,0,0,0]
[null,null,"Waste heat recovery ",0,0,0,0,0,0,0,0,0,0,0,0,0,0,0,0,0,0,0,0,0,0,0,0,0,0,0,0,0,0,0,0,0,0,0,0,0,0,0,0,0,0,0,0,0,0,0,0,0,0,0]
[null,null,"Regular maintenance of the compressor",0,0,0,0,0,0,0,0,0,0,0,0,0,0,0,0,0,0,0,0,0,0,0,0,0,0,0,0,0,0,0,0,0,0,0,0,0,0,0,0,0,0,0,0,0,0,0,0,0,0,0]
[null,"Steam system","Check the required pressure",0,0,0,0,0,0,0,0,0,0,0,0,0,0,0,0,0,0,0,0,0,0,0,0,0,0,0,0,0,0,0,0,0,0,0,0,0,0,0,0,0,0,0,0,0,0,0,0,0,0,0]
[null,null,"Check for leakages",0,0,0,0,0,0,0,0,0,0,0,0,0,0,0,0,0,0,0,0,0,0,0,0,0,0,0,0,0,0,0,0,0,0,0,0,0,0,0,0,0,0,0,0,0,0,0,0,0,0,0]
[null,null,"Regular maintenance of the boiler",0,0,0,0,0,0,0,0,0,0,0,0,0,0,0,0,0,0,0,0,0,0,0,0,0,0,0,0,0,0,0,0,0,0,0,0,0,0,0,0,0,0,0,0,0,0,0,0,0,0,0]
[null,"Refrigeration","Optimisation of the required temperatures",0,0,0,0,0,0,0,0,0,0,0,0,0,0,0,0,0,0,0,0,0,0,0,0,0,0,0,0,0,0,0,0,0,0,0,0,0,0,0,0,0,0,0,0,0,0,0,0,0,0,0]
[null,null,"Waste heat recovery ",0,0,0,0,0,0,0,0,0,0,0,0,0,0,0,0,0,0,0,0,0,0,0,0,0,0,0,0,0,0,0,0,0,0,0,0,0,0,0,0,0,0,0,0,0,0,0,0,0,0,0]
[null,null,"Install frequency control (i.e. VRF) on chiller compressor.",0,0,0,0,0,0,0,0,0,0,0,0,0,0,0,0,0,0,0,0,0,0,0,0,0,0,0,0,0,0,0,0,0,0,0,0,0,0,0,0,0,0,0,0,0,0,0,0,0,0,0]
[null,null,"Install high efficiency or 2-rev electromotor on evaporation fan",0,0,0,0,0,0,0,0,0,0,0,0,0,0,0,0,0,0,0,0,0,0,0,0,0,0,0,0,0,0,0,0,0,0,0,0,0,0,0,0,0,0,0,0,0,0,0,0,0,0,0]
[null,null,"Build a cooled front space for refrigeration units.",0,0,0,0,0,0,0,0,0,0,0,0,0,0,0,0,0,0,0,0,0,0,0,0,0,0,0,0,0,0,0,0,0,0,0,0,0,0,0,0,0,0,0,0,0,0,0,0,0,0,0]
[null,null,"Use hot refrigerant gas from the compressor for the initial stages of the defrosting cycle.",0,0,0,0,0,0,0,0,0,0,0,0,0,0,0,0,0,0,0,0,0,0,0,0,0,0,0,0,0,0,0,0,0,0,0,0,0,0,0,0,0,0,0,0,0,0,0,0,0,0,0]
[null,null,"Use excess heat from other production processes for the production of cooling using adsorption/absorption cooling.",0,0,0,0,0,0,0,0,0,0,0,0,0,0,0,0,0,0,0,0,0,0,0,0,0,0,0,0,0,0,0,0,0,0,0,0,0,0,0,0,0,0,0,0,0,0,0,0,0,0,0]
[null,null,"Utilisation of free cooling",0,0,0,0,0,0,0,0,0,0,0,0,0,0,0,0,0,0,0,0,0,0,0,0,0,0,0,0,0,0,0,0,0,0,0,0,0,0,0,0,0,0,0,0,0,0,0,0,0,0,0]
[null,null,"Replacement of the equipment.",1,0,0,0,0,0,0,0,0,0,0,1,1,0,0,0,0,1,1,0,0,0,0,0,0,0,0,0,0,0,0,0,0,0,0,0,0,0,0,1,0,0,0,0,1,0,0,0,0,0,0]
[null,"Water systems","Efficient pumps for the Water treatment system (if any)",0,0,0,0,0,0,0,0,0,0,0,0,0,0,0,0,0,0,0,0,0,0,0,0,0,0,0,0,0,0,0,0,0,0,0,0,0,0,0,0,0,0,0,0,0,0,0,0,0,0,0]
[null,null,"Advanced process of water recovery ",0,0,0,0,0,0,0,0,0,0,0,0,0,0,0,0,0,0,0,0,0,0,0,0,0,0,0,0,0,0,0,0,0,0,0,0,0,0,0,0,0,0,0,0,0,0,0,0,0,0,0]
[null,"Production line","Optimisation of the production process and workflow",0,0,0,0,0,0,0,0,0,0,0,0,0,0,0,0,0,0,0,0,0,0,0,0,0,0,0,0,0,0,0,0,0,0,0,0,0,0,0,0,0,0,0,0,0,0,0,0,0,0,0]
[null,null,"Waste reduction & recycling in the production line ",0,0,0,0,0,0,0,0,0,0,0,0,0,0,0,0,0,0,0,0,0,0,0,0,0,0,0,0,0,0,0,0,0,0,0,0,0,0,0,0,0,0,0,0,0,0,0,0,0,0,0]
[null,null,"Optimization of motor driven systems ",0,0,0,0,0,0,0,0,0,0,0,0,0,0,0,0,0,0,0,0,0,0,0,0,0,0,0,0,0,0,0,0,0,0,0,0,0,0,0,0,0,0,0,0,0,0,0,0,0,0,0]
[null,null,"High efficient transmission system",0,0,0,0,0,0,0,0,0,0,0,0,0,0,0,0,0,0,0,0,0,0,0,0,0,0,0,0,0,0,0,0,0,0,0,0,0,0,0,0,0,0,0,0,0,0,0,0,0,0,0]
[null,null,"Reduction of the manual labor",-1,0,0,0,0,0,0,0,0,0,0,0,0,0,0,0,0,0,0,0,0,0,0,0,0,0,0,0,0,0,0,0,0,-1,0,0,0,0,0,0,0,0,0,0,0,0,0,0,1,0,0]
[null,null,"Regular maintenance of the equipment",0,0,0,0,0,0,0,0,0,0,0,0,0,0,0,0,0,0,0,0,0,0,0,0,0,0,0,0,0,0,0,0,0,0,0,0,0,0,0,0,0,0,0,0,0,0,0,1,0,0,0]
[null,null,"Replacement of the equipment",1,0,0,0,0,1,0,0,0,0,0,1,1,0,0,0,0,1,1,0,0,0,0,0,0,1,1,1,0,0,0,0,0,0,0,0,0,0,0,1,0,0,0,0,1,0,0,0,0,0,0]
[null,null,"Waste heat recovery ",0,0,0,0,0,0,0,0,0,0,0,0,0,0,0,0,0,0,0,0,0,0,0,0,0,0,0,0,0,0,0,0,0,0,0,0,0,0,0,0,0,0,0,0,0,0,0,0,0,0,0]
[null,null,"Low-carbon packaging ",0,0,1,0,0,0,0,0,0,0,0,0,0,0,0,0,0,0,0,0,0,0,1,0,0,0,0,0,0,0,0,0,0,0,0,0,0,0,0,0,0,0,0,0,0,1,0,0,0,0,0]
["Transport","Transport of goods","Optimisation of timetables",0,0,0,0,0,0,0,0,0,0,0,0,0,0,0,0,0,0,0,0,0,0,0,0,0,0,0,0,0,0,0,0,0,0,0,0,0,0,0,0,0,0,0,0,0,0,0,0,0,0,0]
[null,null,"Optimisation of routes",0,0,0,0,0,0,0,0,0,0,0,0,0,0,0,0,0,0,0,0,0,0,0,0,0,0,0,0,0,0,0,0,0,0,0,0,0,0,0,0,0,0,0,0,0,0,0,0,0,0,0]
[null,null,"Optimisation of loads",0,0,0,0,0,0,0,0,0,0,0,0,0,0,0,0,0,0,0,0,0,0,0,0,0,0,0,0,0,0,0,0,0,0,0,0,0,0,0,0,0,0,0,0,0,0,0,0,0,0,0]
[null,null,"Optimisation of the fleet",0,0,0,0,0,0,0,0,0,0,0,0,0,0,0,0,0,0,0,0,0,0,0,0,0,0,0,0,0,0,0,0,0,0,0,0,0,0,0,0,0,0,0,0,0,0,0,0,0,0,0]
[null,null,"Promote electromobility",0,0,0,0,0,0,0,0,0,0,0,1,1,0,0,0,0,1,1,0,0,0,0,0,0,1,0,0,0,0,0,0,0,0,0,0,0,0,0,0,0,0,0,0,0,1,0,0,0,0,0]
[null,null,"Promotion of modal shift for freight",0,0,0,0,0,0,0,0,0,0,0,0,0,0,0,0,0,0,0,0,0,0,0,0,0,0,0,0,0,0,0,0,0,0,0,0,0,0,0,0,0,0,0,0,0,0,0,0,0,0,0]
[null,null,"Regular maintenance",0,0,0,0,0,0,0,0,0,0,0,0,0,0,0,0,0,0,0,0,0,0,0,0,0,0,0,0,0,0,0,0,0,0,0,0,0,0,0,0,0,0,0,0,0,0,0,0,0,0,0]
[null,null,"Driver training",0,0,0,0,0,0,0,0,0,0,0,0,0,0,0,0,0,0,0,0,0,0,0,0,0,0,0,0,0,0,0,0,0,0,0,0,0,0,0,0,0,0,0,0,0,0,0,0,0,0,0]
["Management & Maintenance measures","Management & Maintenance measures","Green supply chain management",0,0,0,0,0,0,0,0,0,0,0,0,0,0,0,0,0,0,0,0,0,0,0,0,0,0,0,0,0,0,0,0,0,0,0,0,0,0,0,0,0,0,0,0,0,0,0,0,0,0,0]
[null,null,"Improved energy management",0,0,0,0,0,0,0,0,0,0,0,0,0,0,0,0,0,0,0,0,0,0,0,0,0,0,0,0,0,0,0,0,0,0,0,0,0,0,0,0,0,0,0,0,0,0,0,0,0,0,0]
[null,null,"Improved environmental awareness at the management level",0,0,0,0,0,0,0,0,0,0,0,0,0,0,0,0,0,0,0,0,0,0,1,0,0,0,0,0,0,0,0,0,0,0,0,0,0,0,0,0,0,0,0,0,0,0,0,0,0,0,0]
["Occupant behaviour","Occupant behaviour","Employee engagement and training",0,0,0,0,0,0,0,0,0,0,0,0,0,0,0,0,0,0,0,0,0,0,0,0,0,0,0,0,0,0,0,0,0,0,0,0,0,0,0,0,0,1,0,1,1,0,0,0,0,0,0]
[null,null,"Motivation",0,0,0,0,0,0,0,0,0,0,0,0,0,0,0,0,0,0,0,0,0,0,0,0,0,0,0,0,0,0,0,0,0,0,0,0,0,0,0,0,0,0,0,0,1,0,0,0,0,0,0]

{"sheet":"POL_emp","index":32,"n_rows":97,"n_cols":54,"rows_kept":97,"cut":false,"hidden":true,"merged":[[0,51,0,53],[2,0,56,0],[2,1,6,1],[7,1,16,1],[17,1,22,1],[23,1,33,1],[34,1,39,1],[40,1,44,1],[45,1,49,1],[50,1,52,1],[0,3,0,7],[0,8,0,14],[0,15,0,24],[0,25,0,37],[0,38,0,44],[0,45,0,50],[53,1,56,1],[57,0,83,0],[57,1,60,1],[61,1,63,1],[64,1,72,1],[73,1,74,1],[75,1,83,1],[84,0,91,0],[84,1,91,1],[92,0,94,0],[92,1,94,1],[95,0,96,0],[95,1,96,1]]}
[null,null,null,"Social",null,null,null,null,"Health",null,null,null,null,null,null,"Environment",null,null,null,null,null,null,null,null,null,"Economic",null,null,null,null,null,null,null,null,null,null,null,null,"Security & Safety",null,null,null,null,null,null,"Quality",null,null,null,null,null,"Time"]
[null,null,"EEM/NEB","Employee satisfaction","Alleviation of energy poverty","Customers (new, satisfaction, etc.)","Improved supply chain relationships","Work performance","Health and well-being","(avoided) mortality","Disease burden \"daly\"","Sickness & absenteeism","Improved air quality","Improved lighting","Reduced noise","Emission reduction","Impact of EE on RES target achievement ","Ecosystem degradation","Reduced water use ","Reduced material consumption","Reduced emissions (dust, CO2, chemical agents etc.)","Reduced noise pollution","Reduced use of non-renewable resources ","Reduced litigations risks","Reduced waste","Improvement of compatitiveness","Innovation impacts","Reduction of (maintenance) costs","Reduction of emission or disposal fees","Shorter production cycle","Increased production yields","Increased real estate value","Reduction of (operating) costs","Macro economy","Usage of waste streams","Turnover of energy efficiency goods ","Employment effects","Impact on public budgets","Energy security","Security of supply / self sufficiency","Supplier diversity ","Operation safety of equipment","Less maintenance","Electrical safety","Reduced injuries","Accurate monitoring","Right First Time","Increased quality of products","Increased corporate image","Increased regulatory compliance","Risk reduction","Increased productivity","Increased equipment lifetime","Reduced time of fault detection"]
["Building","Envelope","Improvement to visible building envelope elements",0,0,0,0,0,0,0,0,0,0,0,0,0,0,0,0,0,0,0,0,0,0,0,0,0,0,0,0,0,0,0,0,0,0,0,0,0,0,0,0,0,0,0,0,0,0,0,0,0,0,0]
[null,null,"Improvements to non-visible building envelope elements",0,0,0,0,0,0,0,0,0,0,0,0,0,0,0,0,0,0,0,0,0,0,0,0,0,0,0,0,0,0,0,0,0,0,0,0,0,0,0,0,0,0,0,0,0,0,0,0,0,0,0]
[null,null,"Replacemert of windows",0,0,0,0,0,0,0,0,0,1,0,1,0,0,0,0,0,0,0,0,0,0,0,0,0,0,0,0,0,0,0,0,0,0,0,0,0,0,0,0,0,0,0,0,0,0,0,0,0,0,0]
[null,null,"Increasing the air-tightness of the building",0,0,0,0,0,0,0,0,0,0,0,0,0,0,0,0,0,0,0,0,0,0,0,0,0,0,0,0,0,0,0,0,0,0,0,0,0,0,0,0,0,0,0,0,0,0,0,0,0,0,0]
[null,null,"Shading to reduce summer heat gains",0,0,0,0,0,0,0,0,0,0,0,0,0,0,0,0,0,0,0,0,0,0,0,0,0,0,0,0,0,0,0,0,0,0,0,0,0,0,0,0,0,0,0,0,0,0,0,0,0,0,0]
[null,"Heating system","Roomwise temperature control",0,0,0,0,0,0,0,0,0,0,0,0,0,0,0,0,0,0,0,0,0,0,0,0,0,0,0,0,0,0,0,0,0,0,0,0,0,0,0,0,0,0,0,0,0,0,0,0,0,0,0]
[null,null,"Zoning optimisation of the building",0,0,0,0,0,0,0,0,0,0,0,0,0,0,0,0,0,0,0,0,0,0,0,0,0,0,0,0,0,0,0,0,0,0,0,0,0,0,0,0,0,0,0,0,0,0,0,0,0,0,0]
[null,null,"Optimisation of the heating schedule",0,0,0,0,0,0,0,0,0,0,0,0,0,0,0,0,0,0,0,0,0,0,0,0,0,0,0,0,0,0,0,0,0,0,0,0,0,0,0,0,0,0,0,0,0,0,0,0,0,0,0]
[null,null,"Lowering setpoint temperature",0,0,0,0,0,0,0,0,0,0,0,0,0,0,0,0,0,0,0,0,0,0,0,0,0,0,0,0,0,0,0,0,0,0,0,0,0,0,0,0,0,0,0,0,0,0,0,0,0,0,0]
[null,null,"Control optimisation",0,0,0,0,0,0,0,0,0,0,0,0,0,0,0,0,0,0,0,0,0,0,0,0,0,0,0,0,0,0,0,0,0,0,0,0,0,0,0,0,0,0,0,0,0,0,0,0,0,0,0]
[null,null,"Insulation of the distribution network",0,0,0,0,0,0,0,0,0,0,0,0,0,0,0,0,0,0,0,0,0,0,0,0,0,0,0,0,0,0,0,0,0,0,0,0,0,0,0,0,0,0,0,0,0,0,0,0,0,0,0]
[null,null,"Hydraulic balancing of the distribution network",0,0,0,0,0,0,0,0,0,0,0,0,0,0,0,0,0,0,0,0,0,0,0,0,0,0,0,0,0,0,0,0,0,0,0,0,0,0,0,0,0,0,0,0,0,0,0,0,0,0,0]
[null,null,"New, more efficient heat generator",0,0,0,0,0,0,0,0,0,0,0,0,0,0,0,0,0,0,0,0,0,0,0,0,0,0,0,0,0,0,0,0,0,0,0,0,0,0,0,0,0,0,0,0,0,0,0,0,0,0,0]
[null,null,"Including a renewable based heat source",0,0,0,0,0,0,0,0,0,0,0,0,0,0,0,0,0,0,0,0,0,0,0,0,0,0,0,0,0,0,0,0,0,0,0,0,0,0,0,0,0,0,0,0,0,0,0,0,0,0,0]
[null,null,"Energy efficient pumps",0,0,0,0,0,0,0,0,0,0,0,0,0,0,0,0,0,0,0,0,0,0,0,0,0,0,0,0,0,0,0,0,0,0,0,0,0,0,0,0,0,0,0,0,0,0,0,0,0,0,0]
[null,"DHW system","Reducing the DHW demand",0,0,0,0,0,0,0,0,0,0,0,0,0,0,0,0,0,0,0,0,0,0,0,0,0,0,0,0,0,0,0,0,0,0,0,0,0,0,0,0,0,0,0,0,0,0,0,0,0,0,0]
[null,null,"Insulation of the distribution network",0,0,0,0,0,0,0,0,0,0,0,0,0,0,0,0,0,0,0,0,0,0,0,0,0,0,0,0,0,0,0,0,0,0,0,0,0,0,0,0,0,0,0,0,0,0,0,0,0,0,0]
[null,null,"Lowering setpoint temperature",-1,0,0,0,0,-1,0,0,-1,0,0,0,0,0,0,0,0,0,0,0,0,0,0,0,0,0,0,0,0,0,0,0,0,0,0,0,0,0,0,0,0,0,0,0,0,0,0,0,0,0,0]
[null,null,"Circulation network optimisation, decentralisation of DHW production",0,0,0,0,0,0,0,0,0,0,0,0,0,0,0,0,0,0,0,0,0,0,0,0,0,0,0,0,0,0,0,0,0,0,0,0,0,0,0,0,0,0,0,0,0,0,0,0,0,0,0]
[null,null,"New, more efficient heat generator",0,0,0,0,0,0,0,0,0,0,0,0,0,0,0,0,0,0,0,0,0,0,0,0,0,0,0,0,0,0,0,0,0,0,0,0,0,0,0,0,0,0,0,0,0,0,0,0,0,0,0]
[null,null,"Including a renewable based heat source",0,0,0,0,0,0,0,0,0,0,0,0,0,0,0,0,0,0,0,0,0,0,0,0,0,0,0,0,0,0,0,0,0,0,0,0,0,0,0,0,0,0,0,0,0,0,0,0,0,0,0]
[null,"Cooling system","Roomwise temperature control",0,0,0,0,0,0,0,0,0,0,0,0,0,0,0,0,0,0,0,0,0,0,0,0,0,0,0,0,0,0,0,0,0,0,0,0,0,0,0,0,0,0,0,0,0,0,0,0,0,0,0]
[null,null,"Zoning optimisation of the building",0,0,0,0,0,0,0,0,0,0,0,0,0,0,0,0,0,0,0,0,0,0,0,0,0,0,0,0,0,0,0,0,0,0,0,0,0,0,0,0,0,0,0,0,0,0,0,0,0,0,0]
[null,null,"Optimisation of the cooling schedule",0,0,0,0,0,0,0,0,0,0,0,0,0,0,0,0,0,0,0,0,0,0,0,0,0,0,0,0,0,0,0,0,0,0,0,0,0,0,0,0,0,0,0,0,0,0,0,0,0,0,0]
[null,null,"Increasing setpoint temperature",0,0,0,0,0,0,0,0,0,0,0,0,0,0,0,0,0,0,0,0,0,0,0,0,0,0,0,0,0,0,0,0,0,0,0,0,0,0,0,0,0,0,0,0,0,0,0,0,0,0,0]
[null,null,"Control optimisation",0,0,0,0,0,0,0,0,0,0,0,0,0,0,0,0,0,0,0,0,0,0,0,0,0,0,0,0,0,0,0,0,0,0,0,0,0,0,0,0,0,0,0,0,0,0,0,0,0,0,0]
[null,null,"Insulation of the distribution network",0,0,0,0,0,0,0,0,0,0,0,0,0,0,0,0,0,0,0,0,0,0,0,0,0,0,0,0,0,0,0,0,0,0,0,0,0,0,0,0,0,0,0,0,0,0,0,0,0,0,0]
[null,null,"Hydraulic balancing of the distribution network",0,0,0,0,0,0,0,0,0,0,0,0,0,0,0,0,0,0,0,0,0,0,0,0,0,0,0,0,0,0,0,0,0,0,0,0,0,0,0,0,0,0,0,0,0,0,0,0,0,0,0]
[null,null,"New, more efficient heat generator",0,0,0,0,0,0,0,0,0,0,0,0,0,0,0,0,0,0,0,0,0,0,0,0,0,0,0,0,0,0,0,0,0,0,0,0,0,0,0,0,0,0,0,0,0,0,0,0,0,0,0]
[null,null,"Energy efficient pumps",0,0,0,0,0,0,0,0,0,0,0,0,0,0,0,0,0,0,0,0,0,0,0,0,0,0,0,0,0,0,0,0,0,0,0,0,0,0,0,0,0,0,0,0,0,0,0,0,0,0,0]
[null,null,"Utilisation of free cooling",0,0,0,0,0,0,0,0,0,0,0,0,0,0,0,0,0,0,0,0,0,0,0,0,0,0,0,0,0,0,0,0,0,0,0,0,0,0,0,0,0,0,0,0,0,0,0,0,0,0,0]
[null,null,"Utilising the waste heat from the cooling system for heating&DHW",0,0,0,0,0,0,0,0,0,0,0,0,0,0,0,0,0,0,0,0,0,0,0,0,0,0,0,0,0,0,0,0,0,0,0,0,0,0,0,0,0,0,0,0,0,0,0,0,0,0,0]
[null,"Ventilation system","Schedule optimisation",0,0,0,0,0,0,0,0,0,0,0,0,0,0,0,0,0,0,0,0,0,0,0,0,0,0,0,0,0,0,0,0,0,0,0,0,0,0,0,0,0,0,0,0,0,0,0,0,0,0,0]
[null,null,"Control optimisation",0,0,0,0,0,0,0,0,0,0,0,0,0,0,0,0,0,0,0,0,0,0,0,0,0,0,0,0,0,0,0,0,0,0,0,0,0,0,0,0,0,0,0,0,0,0,0,0,0,0,0]
[null,null,"Air velocity optimisation",0,0,0,0,0,0,0,0,0,0,0,0,0,0,0,0,0,0,0,0,0,0,0,0,0,0,0,0,0,0,0,0,0,0,0,0,0,0,0,0,0,0,0,0,0,0,0,0,0,0,0]
[null,null,"Inlet air temperature optimisation",0,0,0,0,0,0,0,0,0,0,0,0,0,0,0,0,0,0,0,0,0,0,0,0,0,0,0,0,0,0,0,0,0,0,0,0,0,0,0,0,0,0,0,0,0,0,0,0,0,0,0]
[null,null,"Heat recovery",0,0,0,0,0,0,0,0,0,0,0,0,0,0,0,0,0,0,0,0,0,0,0,0,0,0,0,0,0,0,0,0,0,0,0,0,0,0,0,0,0,0,0,0,0,0,0,0,0,0,0]
[null,null,"Energy efficient fans",0,0,0,0,0,0,0,0,0,0,0,0,0,0,0,0,0,0,0,0,0,0,0,0,0,0,0,0,0,0,0,0,0,0,0,0,0,0,0,0,0,0,0,0,0,0,0,0,0,0,0]
[null,"Lighting","Energy efficient lights (e.g LED)",0,0,0,0,0,0,0,0,0,0,0,0,0,0,0,0,0,0,0,0,0,0,0,0,0,0,0,0,0,0,0,0,0,0,0,0,0,0,0,0,0,0,0,0,0,0,0,0,0,0,0]
[null,null,"Level of illumination",1,0,0,0,0,0,0,0,0,0,1,0,0,0,0,0,0,0,0,0,0,0,0,0,0,0,0,0,0,0,0,0,0,0,0,0,0,0,0,0,0,0,0,0,0,0,0,0,0,0,0]
[null,null,"Schedule optimisation",0,0,0,0,0,0,0,0,0,0,0,0,0,0,0,0,0,0,0,0,0,0,0,0,0,0,0,0,0,0,0,0,0,0,0,0,0,0,0,0,0,0,0,0,0,0,0,0,0,0,0]
[null,null,"Control optimisation",0,0,0,0,0,0,0,0,0,0,0,0,0,0,0,0,0,0,0,0,0,0,0,0,0,0,0,0,0,0,0,0,0,0,0,0,0,0,0,0,0,0,0,0,0,0,0,0,0,0,0]
[null,null,"Utilisation of natural light",0,0,0,0,0,0,0,0,0,0,0,0,0,0,0,0,0,0,0,0,0,0,0,0,0,0,0,0,0,0,0,0,0,0,0,0,0,0,0,0,0,0,0,0,0,0,0,0,0,0,0]
[null,"Renewable energy","Solar PV",0,0,0,0,0,0,0,0,0,0,0,0,0,0,0,0,0,0,0,0,0,0,0,0,0,0,0,0,0,0,0,0,0,0,0,0,0,0,0,0,0,0,0,0,0,0,0,0,0,0,0]
[null,null,"Wind turbine",0,0,0,0,0,0,0,0,0,0,0,0,0,0,0,0,0,0,0,0,0,0,0,0,0,0,0,0,0,0,0,0,0,0,0,0,0,0,0,0,0,0,0,0,0,0,0,0,0,0,0]
[null,null,"Solar collector system",0,0,0,0,0,0,0,0,0,0,0,0,0,0,0,0,0,0,0,0,0,0,0,0,0,0,0,0,0,0,0,0,0,0,0,0,0,0,0,0,0,0,0,0,0,0,0,0,0,0,0]
[null,null,"Geothermal heat pump system",0,0,0,0,0,0,0,0,0,0,0,0,0,0,0,0,0,0,0,0,0,0,0,0,0,0,0,0,0,0,0,0,0,0,0,0,0,0,0,0,0,0,0,0,0,0,0,0,0,0,0]
[null,null,"Passive measures",0,0,0,0,0,0,0,0,0,0,0,0,0,0,0,0,0,0,0,0,0,0,0,0,0,0,0,0,0,0,0,0,0,0,0,0,0,0,0,0,0,0,0,0,0,0,0,0,0,0,0]
[null,"Appliances","Energy efficient appliances",0,0,0,0,0,0,0,0,0,0,0,0,0,0,0,0,0,0,0,0,0,0,0,0,0,0,0,0,0,0,0,0,0,0,0,0,0,0,0,0,0,0,0,0,0,0,0,0,0,0,0]
[null,null,"Reducing stand-by consumption",0,0,0,0,0,0,0,0,0,0,0,0,0,0,0,0,0,0,0,0,0,0,0,0,0,0,0,0,0,0,0,0,0,0,0,0,0,0,0,0,0,0,0,0,0,0,0,0,0,0,0]
[null,null,"Optimal usage, on demand operation",0,0,0,0,0,0,0,0,0,0,0,0,0,0,0,0,0,0,0,0,0,0,0,0,0,0,0,0,0,0,0,0,0,0,0,0,0,0,0,0,0,0,0,0,0,0,0,0,0,0,0]
[null,"Building automation","Building automation and management systems",0,0,0,0,0,0,0,0,0,0,0,0,0,0,0,0,0,0,0,0,0,0,0,0,0,0,0,0,0,0,0,0,0,0,0,0,0,0,0,0,0,0,0,0,0,0,0,0,0,0,0]
[null,null,"Energy management system",0,0,0,0,0,0,0,0,0,0,0,0,0,0,0,0,0,0,0,0,0,0,0,0,0,0,0,0,0,0,0,0,0,0,0,0,0,0,0,0,0,0,0,0,0,0,0,0,0,0,0]
[null,null,"Measured consumption",0,0,0,0,0,0,0,0,0,0,0,0,0,0,0,0,0,0,0,0,0,0,0,0,0,0,0,0,0,0,0,0,0,0,0,0,0,0,0,0,0,0,0,0,0,0,0,0,0,0,0]
[null,null,"Improved smart-readiness",0,0,0,0,0,0,0,0,0,0,0,0,0,0,0,0,0,0,0,0,0,0,0,0,0,0,0,0,0,0,0,0,0,0,0,0,0,0,0,0,0,0,0,0,0,0,0,0,0,0,0]
["Processes","Compressed air system","Check the required pressure",0,0,0,0,0,0,0,0,0,0,0,0,0,0,0,0,0,0,0,0,0,0,0,0,0,0,0,0,0,0,0,0,0,0,0,0,0,0,0,0,0,0,0,0,0,0,0,0,0,0,0]
[null,null,"Regular check for leakages",0,0,0,0,0,0,0,0,0,0,0,0,0,0,0,0,0,0,0,0,0,0,0,0,0,0,0,0,0,0,0,0,0,0,0,0,0,0,0,0,0,0,0,0,0,0,0,0,0,0,0]
[null,null,"Waste heat recovery ",0,0,0,0,0,0,0,0,0,0,0,0,0,0,0,0,0,0,0,0,0,0,0,0,0,0,0,0,0,0,0,0,0,0,0,0,0,0,0,0,0,0,0,0,0,0,0,0,0,0,0]
[null,null,"Regular maintenance of the compressor",0,0,0,0,0,0,0,0,0,0,0,0,0,0,0,0,0,0,0,0,0,0,0,0,0,0,0,0,0,0,0,0,0,0,0,0,0,0,0,0,0,0,0,0,0,0,0,0,0,0,0]
[null,"Steam system","Check the required pressure",0,0,0,0,0,0,0,0,0,0,0,0,0,0,0,0,0,0,0,0,0,0,0,0,0,0,0,0,0,0,0,0,0,0,0,0,0,0,0,0,0,0,0,0,0,0,0,0,0,0,0]
[null,null,"Check for leakages",0,0,0,0,0,0,0,0,0,0,0,0,0,0,0,0,0,0,0,0,0,0,0,0,0,0,0,0,0,0,0,0,0,0,0,0,0,0,0,0,0,0,0,0,0,0,0,0,0,0,0]
[null,null,"Regular maintenance of the boiler",0,0,0,0,0,0,0,0,0,0,0,0,0,0,0,0,0,0,0,0,0,0,0,0,0,0,0,0,0,0,0,0,0,0,0,0,0,0,0,0,0,0,0,0,0,0,0,0,0,0,0]
[null,"Refrigeration","Optimisation of the required temperatures",0,0,0,0,0,0,0,0,0,0,0,0,0,0,0,0,0,0,0,0,0,0,0,0,0,0,0,0,0,0,0,0,0,0,0,0,0,0,0,0,0,0,0,0,0,0,0,0,0,0,0]
[null,null,"Waste heat recovery ",0,0,0,0,0,0,0,0,0,0,0,0,0,0,0,0,0,0,0,0,0,0,0,0,0,0,0,0,0,0,0,0,0,0,0,0,0,0,0,0,0,0,0,0,0,0,0,0,0,0,0]
[null,null,"Install frequency control (i.e. VRF) on chiller compressor.",0,0,0,0,0,0,0,0,0,0,0,0,0,0,0,0,0,0,0,0,0,0,0,0,0,0,0,0,0,0,0,0,0,0,0,0,0,0,0,0,0,0,0,0,0,0,0,0,0,0,0]
[null,null,"Install high efficiency or 2-rev electromotor on evaporation fan",0,0,0,0,0,0,0,0,0,0,0,0,0,0,0,0,0,0,0,0,0,0,0,0,0,0,0,0,0,0,0,0,0,0,0,0,0,0,0,0,0,0,0,0,0,0,0,0,0,0,0]
[null,null,"Build a cooled front space for refrigeration units.",0,0,0,0,0,0,0,0,0,0,0,0,0,0,0,0,0,0,0,0,0,0,0,0,0,0,0,0,0,0,0,0,0,0,0,0,0,0,0,0,0,0,0,0,0,0,0,0,0,0,0]
[null,null,"Use hot refrigerant gas from the compressor for the initial stages of the defrosting cycle.",0,0,0,0,0,0,0,0,0,0,0,0,0,0,0,0,0,0,0,0,0,0,0,0,0,0,0,0,0,0,0,0,0,0,0,0,0,0,0,0,0,0,0,0,0,0,0,0,0,0,0]
[null,null,"Use excess heat from other production processes for the production of cooling using adsorption/absorption cooling.",0,0,0,0,0,0,0,0,0,0,0,0,0,0,0,0,0,0,0,0,0,0,0,0,0,0,0,0,0,0,0,0,0,0,0,0,0,0,0,0,0,0,0,0,0,0,0,0,0,0,0]
[null,null,"Utilisation of free cooling",0,0,0,0,0,0,0,0,0,0,0,0,0,0,0,0,0,0,0,0,0,0,0,0,0,0,0,0,0,0,0,0,0,0,0,0,0,0,0,0,0,0,0,0,0,0,0,0,0,0,0]
[null,null,"Replacement of the equipment.",0,0,0,0,0,0,0,0,0,0,0,0,0,0,0,0,0,0,0,0,0,0,0,0,0,0,0,0,0,0,0,0,0,0,0,0,0,0,0,0,0,0,0,0,0,0,0,0,0,0,0]
[null,"Water systems","Efficient pumps for the Water treatment system (if any)",0,0,0,0,0,0,0,0,0,0,0,0,0,0,0,0,0,0,0,0,0,0,0,0,0,0,0,0,0,0,0,0,0,0,0,0,0,0,0,0,0,0,0,0,0,0,0,0,0,0,0]
[null,null,"Advanced process of water recovery ",0,0,0,0,0,0,0,0,0,0,0,0,0,0,0,0,0,0,0,0,0,0,0,0,0,0,0,0,0,0,0,0,0,0,0,0,0,0,0,0,0,0,0,0,0,0,0,0,0,0,0]
[null,"Production line","Optimisation of the production process and workflow",0,0,0,0,0,0,0,0,0,0,0,0,0,0,0,0,0,0,0,0,0,0,0,0,0,0,0,0,0,0,0,0,0,0,0,0,0,0,0,0,0,0,0,0,0,0,0,0,0,0,0]
[null,null,"Waste reduction & recycling in the production line ",0,0,0,0,0,0,0,0,0,0,0,0,0,0,0,0,0,0,0,0,0,0,0,0,0,0,0,0,0,0,0,0,0,0,0,0,0,0,0,0,0,0,0,0,0,0,0,0,0,0,0]
[null,null,"Optimization of motor driven systems ",0,0,0,0,0,0,0,0,0,0,0,0,0,0,0,0,0,0,0,0,0,0,0,0,0,0,0,0,0,0,0,0,0,0,0,0,0,0,0,0,0,0,0,0,0,0,0,0,0,0,0]
[null,null,"High efficient transmission system",0,0,0,0,0,0,0,0,0,0,0,0,0,0,0,0,0,0,0,0,0,0,0,0,0,0,0,0,0,0,0,0,0,0,0,0,0,0,0,0,0,0,0,0,0,0,0,0,0,0,0]
[null,null,"Reduction of the manual labor",0,0,0,0,0,0,0,0,0,0,0,0,0,0,0,0,0,0,0,0,0,0,0,0,0,0,0,0,0,0,0,0,0,0,0,0,0,0,0,0,0,0,0,0,0,0,0,0,0,0,0]
[null,null,"Regular maintenance of the equipment",0,0,0,0,0,0,0,0,0,0,0,0,0,0,0,0,0,0,0,0,0,0,0,0,0,0,0,0,0,0,0,0,0,0,0,0,0,0,0,0,0,0,0,0,0,0,0,0,0,0,0]
[null,null,"Replacement of the equipment",0,0,0,0,0,0,0,0,0,0,0,0,0,0,0,0,0,0,0,0,0,0,0,0,0,0,0,0,0,0,0,0,0,0,0,0,0,0,0,0,0,0,0,0,0,0,0,0,0,0,0]
[null,null,"Waste heat recovery ",0,0,0,0,0,0,0,0,0,0,0,0,0,0,0,0,0,0,0,0,0,0,0,0,0,0,0,0,0,0,0,0,0,0,0,0,0,0,0,0,0,0,0,0,0,0,0,0,0,0,0]
[null,null,"Low-carbon packaging ",0,0,0,0,0,0,0,0,0,0,0,0,0,0,0,0,0,0,0,0,0,0,0,0,0,0,0,0,0,0,0,0,0,0,0,0,0,0,0,0,0,0,0,0,0,0,0,0,0,0,0]
["Transport","Transport of goods","Optimisation of timetables",0,0,0,0,0,0,0,0,0,0,0,0,0,0,0,0,0,0,0,0,0,0,0,0,0,0,0,0,0,0,0,0,0,0,0,0,0,0,0,0,0,0,0,0,0,0,0,0,0,0,0]
[null,null,"Optimisation of routes",0,0,0,0,0,0,0,0,0,0,0,0,0,0,0,0,0,0,0,0,0,0,0,0,0,0,0,0,0,0,0,0,0,0,0,0,0,0,0,0,0,0,0,0,0,0,0,0,0,0,0]
[null,null,"Optimisation of loads",0,0,0,0,0,0,0,0,0,0,0,0,0,0,0,0,0,0,0,0,0,0,0,0,0,0,0,0,0,0,0,0,0,0,0,0,0,0,0,0,0,0,0,0,0,0,0,0,0,0,0]
[null,null,"Optimisation of the fleet",0,0,0,0,0,0,0,0,0,0,0,0,0,0,0,0,0,0,0,0,0,0,0,0,0,0,0,0,0,0,0,0,0,0,0,0,0,0,0,0,0,0,0,0,0,0,0,0,0,0,0]
[null,null,"Promote electromobility",0,0,0,0,0,0,0,0,0,0,0,0,0,0,0,0,0,0,0,0,0,0,0,0,0,0,0,0,0,0,0,0,0,0,0,0,0,0,0,0,0,0,0,0,0,0,0,0,0,0,0]
[null,null,"Promotion of modal shift for freight",0,0,0,0,0,0,0,0,0,0,0,0,0,0,0,0,0,0,0,0,0,0,0,0,0,0,0,0,0,0,0,0,0,0,0,0,0,0,0,0,0,0,0,0,0,0,0,0,0,0,0]
[null,null,"Regular maintenance",0,0,0,0,0,0,0,0,0,0,0,0,0,0,0,0,0,0,0,0,0,0,0,0,0,0,0,0,0,0,0,0,0,0,0,0,0,0,0,0,0,0,0,0,0,0,0,0,0,0,0]
[null,null,"Driver training",0,0,0,0,0,0,0,0,0,0,0,0,0,0,0,0,0,0,0,0,0,0,0,0,0,0,0,0,0,0,0,0,0,0,0,0,0,0,0,0,0,0,0,0,0,0,0,0,0,0,0]
["Management & Maintenance measures","Management & Maintenance measures","Green supply chain management",0,0,0,0,0,0,0,0,0,0,0,0,0,0,0,0,0,0,0,0,0,0,0,0,0,0,0,0,0,0,0,0,0,0,0,0,0,0,0,0,0,0,0,0,0,0,0,0,0,0,0]
[null,null,"Improved energy management",0,0,0,0,0,0,0,0,0,0,0,0,0,0,0,0,0,0,0,0,0,0,0,0,0,0,0,0,0,0,0,0,0,0,0,0,0,0,0,0,0,0,0,0,0,0,0,0,0,0,0]
[null,null,"Improved environmental awareness at the management level",0,0,0,0,0,0,0,0,0,0,0,0,0,0,0,0,0,0,0,0,0,0,0,0,0,0,0,0,0,0,0,0,0,0,0,0,0,0,0,0,0,0,0,0,0,0,0,0,0,0,0]
["Occupant behaviour","Occupant behaviour","Employee engagement and training",0,0,0,0,0,0,0,0,0,0,0,0,0,0,0,0,0,0,0,0,0,0,0,0,0,0,0,0,0,0,0,0,0,0,0,0,0,0,0,0,0,0,0,0,0,0,0,0,0,0,0]
[null,null,"Motivation",0,0,0,0,0,0,0,0,0,0,0,0,0,0,0,0,0,0,0,0,0,0,0,0,0,0,0,0,0,0,0,0,0,0,0,0,0,0,0,0,0,0,0,0,0,0,0,0,0,0,0]

{"sheet":"POR_emp","index":33,"n_rows":97,"n_cols":54,"rows_kept":97,"cut":false,"hidden":true,"merged":[[0,51,0,53],[2,0,56,0],[2,1,6,1],[7,1,16,1],[17,1,22,1],[23,1,33,1],[34,1,39,1],[40,1,44,1],[45,1,49,1],[50,1,52,1],[0,3,0,8],[0,9,0,14],[0,15,0,24],[0,25,0,37],[0,38,0,44],[0,45,0,50],[53,1,56,1],[57,0,83,0],[57,1,60,1],[61,1,63,1],[64,1,72,1],[73,1,74,1],[75,1,83,1],[84,0,91,0],[84,1,91,1],[92,0,94,0],[92,1,94,1],[95,0,96,0],[95,1,96,1]]}
["Concerns about this",null,null,"Social",null,null,null,null,null,"Health",null,null,null,null,null,"Environment",null,null,null,null,null,null,null,null,null,"Economic",null,null,null,null,null,null,null,null,null,null,null,null,"Security & Safety",null,null,null,null,null,null,"Quality",null,null,null,null,null,"Time"]
[null,null,"EEM/ NEB","Health and well-being","Alleviation of energy poverty","Employee satisfaction","Customers (new, satisfaction, etc.)","Improved supply chain relationships","Work performance","(avoided) mortality","Disease burden \"daly\"","Sickness & absenteeism","Improved air quality","Improved lighting","Reduced noise","Emission reduction","Impact of EE on RES target achievement ","Ecosystem degradation","Reduced water use ","Reduced material consumption","Reduced emissions (dust, CO2, chemical agents etc.)","Reduced noise pollution","Reduced use of non-renewable resources ","Reduced litigations risks","Reduced waste","Improvement of compatitiveness","Innovation impacts","Reduction of (maintenance) costs","Reduction of emission or disposal fees","Shorter production cycle","Increased production yields","Increased real estate value","Reduction of (operating) costs","Macro economy","Usage of waste streams","Turnover of energy efficiency goods ","Employment effects","Impact on public budgets","Energy security","Security of supply / self sufficiency","Supplier diversity ","Operation safety of equipment","Less maintenance","Electrical safety","Reduced injuries","Accurate monitoring","Right First Time","Increased quality of products","Increased corporate image","Increased regulatory compliance","Risk reduction","Increased productivity","Increased equipment lifetime","Reduced time of fault detection"]
["Building","Envelope","Improvement to visible building envelope elements",0,null,1,1,0,0,0,0,1,1,1,1,1,1,0,0,0,1,1,0,0,0,0,0,0,0,0,0,0,1,null,0,null,1,1,0,0,0,1,1,1,1,0,0,1,0,0,1,1,1,0]
[null,null,"Improvements to non-visible building envelope elements",1,1,1,0,0,1,0,1,1,1,0,1,1,0,0,0,0,1,1,0,0,0,0,0,0,0,0,0,0,0,null,0,null,1,1,0,0,0,1,1,1,1,0,0,1,0,0,1,1,1,0]
[null,null,"Replacemert of windows",1,1,1,0,0,1,0,1,1,1,1,1,1,0,0,0,0,1,1,0,0,0,0,0,0,0,0,0,0,0,null,0,null,1,1,0,0,0,1,1,1,1,0,0,1,0,0,1,1,1,0]
[null,null,"Increasing the air-tightness of the building",1,null,1,0,0,1,0,1,1,0,0,0,0,0,0,0,0,0,0,0,0,0,0,0,0,0,0,0,0,0,null,0,null,0,1,0,0,0,0,0,0,0,0,0,1,0,0,1,1,1,0]
[null,null,"Shading to reduce summer heat gains",1,1,1,0,0,1,0,1,1,1,1,0,0,0,0,0,0,0,0,0,0,0,0,0,0,0,0,0,0,0,null,0,null,0,1,0,0,0,1,0,0,1,0,0,1,0,0,1,1,1,0]
[null,"Heating system","Roomwise temperature control",1,null,1,0,0,1,0,1,1,1,0,0,0,0,0,0,0,0,0,0,0,0,0,0,0,0,0,0,0,0,null,0,null,0,1,0,0,0,1,1,0,1,null,null,null,null,null,null,1,0,0]
[null,null,"Zoning optimisation of the building",1,null,1,0,0,1,0,1,1,1,1,1,0,0,0,0,0,0,0,0,0,0,0,0,1,0,0,0,0,0,null,0,null,0,1,0,0,0,0,1,0,1,null,null,null,null,null,null,1,0,0]
[null,null,"Optimisation of the heating schedule",1,null,1,0,0,1,0,1,1,0,0,0,0,0,0,0,0,0,0,0,0,0,0,0,1,0,0,0,0,0,null,0,null,0,1,0,0,0,0,1,0,1,null,null,null,null,null,null,0,1,0]
[null,null,"Lowering setpoint temperature",-1,0,-1,0,0,-1,0,-1,-1,0,0,0,0,0,0,0,0,0,0,0,0,0,0,0,1,0,0,0,0,1,null,0,null,0,1,1,1,0,-1,0,0,-1,null,null,null,null,null,null,-1,0,0]
[null,null,"Control optimisation",1,null,1,0,0,1,0,0,1,0,0,0,0,0,0,0,0,0,0,0,0,0,0,0,1,0,1,0,0,1,null,0,null,0,1,0,0,0,1,1,0,0,null,null,null,null,null,null,0,0,0]
[null,null,"Insulation of the distribution network",0,null,0,0,0,0,0,0,0,0,0,0,1,0,1,0,0,1,1,1,1,1,0,0,0,0,0,0,0,1,null,0,null,0,1,0,0,0,1,1,1,1,null,null,null,null,null,null,0,0,0]
[null,null,"Hydraulic balancing of the distribution network",0,null,0,0,0,0,0,0,0,0,0,0,0,0,0,0,0,0,0,0,0,0,0,0,0,0,0,0,0,0,null,0,null,0,1,0,0,0,1,1,1,1,null,null,null,null,null,null,0,1,0]
[null,null,"New, more efficient heat generator",0,null,0,0,0,0,0,0,0,0,0,0,0,0,0,0,0,0,0,0,0,0,0,0,1,0,0,0,0,1,null,0,null,0,1,0,0,0,1,1,1,1,null,null,null,null,null,null,0,0,0]
[null,null,"Including a renewable based heat source",0,null,0,0,0,0,0,0,0,0,0,0,0,0,0,0,0,0,0,0,0,0,0,0,0,0,0,0,0,0,null,0,null,0,1,1,1,1,0,-1,0,0,null,null,null,null,null,null,0,0,0]
[null,null,"Energy efficient pumps",0,null,0,0,0,0,0,0,0,1,0,1,0,0,0,0,0,0,0,0,0,0,0,0,1,0,0,0,0,1,null,0,null,0,1,0,0,0,0,1,0,0,null,null,null,null,null,null,0,0,0]
[null,"DHW system","Reducing the DHW demand",0,null,0,0,0,0,0,0,0,0,0,0,0,0,0,0,0,0,0,0,0,0,0,0,0,0,0,0,0,1,null,0,null,0,1,0,0,0,0,0,0,0,null,null,null,null,null,null,0,0,0]
[null,null,"Insulation of the distribution network",0,null,0,0,0,0,0,0,0,0,0,0,1,0,1,1,0,1,1,1,1,1,0,0,0,0,0,0,0,1,null,0,null,0,1,0,0,0,1,1,1,1,null,null,null,null,null,null,0,0,0]
[null,null,"Lowering setpoint temperature",0,null,0,0,0,0,0,-1,-1,0,0,0,0,0,0,0,0,0,0,0,0,0,0,0,1,0,0,0,0,1,null,0,null,0,1,0,0,0,0,0,0,0,null,null,null,null,null,null,-1,0,0]
[null,null,"Circulation network optimisation, decentralisation of DHW production",0,null,0,0,0,0,0,0,0,0,0,0,0,0,1,1,0,0,0,0,0,1,0,0,0,0,0,0,0,1,null,0,null,0,1,0,0,0,0,-1,1,0,null,null,null,null,null,null,0,0,0]
[null,null,"New, more efficient heat generator",0,null,0,0,0,0,0,0,0,0,0,0,0,0,0,0,0,0,0,0,0,0,0,0,1,0,0,0,0,1,null,0,null,0,1,0,0,0,1,1,1,1,null,null,null,null,null,null,0,0,0]
[null,null,"Including a renewable based heat source",0,null,0,0,0,0,0,0,0,0,0,0,1,0,0,0,0,0,0,0,0,0,0,0,0,0,0,0,0,0,null,0,null,0,1,1,1,1,0,-1,0,0,null,null,null,null,null,null,0,0,0]
[null,"Cooling system","Roomwise temperature control",1,null,1,0,0,1,0,1,1,1,0,0,0,0,0,0,0,0,0,0,0,0,0,0,0,0,0,0,0,0,null,0,null,0,1,0,0,0,1,1,0,1,null,null,null,null,null,null,1,0,0]
[null,null,"Zoning optimisation of the building",1,null,1,0,0,1,0,1,1,1,1,1,0,0,0,0,0,0,0,0,0,0,0,0,1,0,0,0,0,0,null,0,null,0,1,0,0,0,0,1,0,1,null,null,null,null,null,null,1,0,0]
[null,null,"Optimisation of the cooling schedule",-1,null,-1,0,0,-1,0,1,1,1,0,0,0,0,0,0,0,0,0,0,0,0,0,0,1,0,0,0,0,0,null,0,null,0,1,0,0,0,0,1,0,1,null,null,null,null,null,null,0,1,0]
[null,null,"Increasing setpoint temperature",-1,0,-1,0,0,-1,0,-1,-1,0,0,0,0,0,0,0,0,0,0,0,0,0,0,0,1,0,0,0,0,1,null,0,null,0,1,1,1,0,-1,0,0,-1,null,null,null,null,null,null,-1,0,0]
[null,null,"Control optimisation",0,null,1,0,0,0,0,0,0,1,0,0,0,0,0,0,0,0,0,0,0,0,0,0,1,0,1,1,0,1,null,0,null,0,1,0,0,0,1,1,0,0,null,null,null,null,null,null,0,0,0]
[null,null,"Insulation of the distribution network",1,0,1,0,0,1,0,0,0,0,0,0,1,0,1,0,0,1,1,1,1,1,0,0,0,0,0,0,0,1,null,0,null,0,1,0,0,0,1,1,1,1,null,null,null,null,null,null,0,1,0]
[null,null,"Hydraulic balancing of the distribution network",0,0,0,0,0,0,0,0,0,0,0,0,0,0,0,0,0,0,0,0,0,0,0,0,0,0,0,0,0,0,null,0,null,0,1,0,0,0,1,1,1,1,null,null,null,null,null,null,0,0,0]
[null,null,"New, more efficient heat generator",0,null,0,0,0,0,0,0,0,0,0,0,0,0,0,0,0,0,0,0,0,0,0,0,1,0,0,0,0,1,null,0,null,0,1,0,0,0,1,1,1,1,null,null,null,null,null,null,0,0,0]
[null,null,"Energy efficient pumps",0,null,0,0,0,0,0,0,0,1,0,1,0,0,0,0,0,0,0,0,0,0,0,0,1,0,0,0,0,1,null,0,null,0,1,0,0,0,0,1,0,0,null,null,null,null,null,null,0,0,0]
[null,null,"Utilisation of free cooling",0,null,0,0,0,0,0,1,1,1,0,1,1,0,0,0,0,0,0,0,0,0,0,0,0,0,0,0,0,1,null,0,null,0,1,0,0,0,0,-1,0,0,null,null,null,null,null,null,0,0,0]
[null,null,"Utilising the waste heat from the cooling system for heating&DHW",0,null,0,0,0,0,0,0,1,1,0,0,1,0,0,0,0,1,0,0,0,0,0,0,0,0,0,0,0,1,null,1,null,0,1,0,0,0,0,-1,0,0,null,null,null,null,null,null,0,0,0]
[null,"Ventilation system","Schedule optimisation",0,null,-1,0,0,-1,0,1,1,1,0,0,0,0,0,0,0,0,0,0,0,0,0,0,1,0,0,0,0,0,null,0,null,0,1,0,0,0,1,1,0,0,null,null,null,null,null,null,0,1,0]
[null,null,"Control optimisation",0,null,1,0,0,0,0,1,1,1,0,0,0,0,0,0,0,0,0,0,0,0,0,0,1,0,1,1,0,1,null,0,null,0,1,0,0,0,1,1,0,0,null,null,null,null,null,null,0,1,0]
[null,null,"Air velocity optimisation",0,null,1,0,0,0,0,1,1,1,0,1,0,0,0,0,0,0,0,0,0,0,0,0,1,0,0,0,0,1,null,0,null,0,1,0,0,0,1,1,0,0,null,null,null,null,null,null,0,0,0]
[null,null,"Inlet air temperature optimisation",1,1,1,0,0,0,0,1,1,1,0,1,0,0,0,0,0,0,0,0,0,0,0,0,1,0,0,0,0,1,null,0,null,0,1,0,0,0,1,1,0,0,null,null,null,null,null,null,0,0,0]
[null,null,"Heat recovery",1,1,1,0,0,0,0,1,1,1,0,0,0,0,0,0,0,0,0,0,0,0,0,0,0,0,0,0,0,1,null,1,null,0,1,0,0,0,0,-1,0,0,null,null,null,null,null,null,0,0,0]
[null,null,"Energy efficient fans",0,null,0,0,0,0,0,0,0,1,0,1,0,0,0,0,0,0,0,0,0,0,0,0,1,0,0,0,0,1,null,0,null,0,1,0,0,0,0,1,0,0,null,null,null,null,null,null,0,0,0]
[null,"Lighting","Energy efficient lights (e.g LED)",0,0,0,0,0,0,0,0,0,0,1,0,0,0,0,0,0,0,0,0,0,0,0,0,0,0,0,0,0,1,null,0,null,0,1,1,0,0,0,0,0,1,null,null,null,null,null,null,0,0,0]
[null,null,"Level of illumination",1,null,1,0,0,1,0,1,1,0,1,0,0,0,0,0,0,0,0,0,0,0,0,0,0,0,0,0,0,1,null,0,null,0,1,0,0,0,0,0,0,1,null,null,null,null,null,null,1,0,0]
[null,null,"Schedule optimisation",0,null,-1,0,0,-1,0,0,0,0,1,0,0,0,0,0,0,0,0,0,0,0,0,0,1,0,0,0,0,1,null,0,null,0,1,0,0,0,0,0,0,1,null,null,null,null,null,null,0,1,0]
[null,null,"Control optimisation",0,null,1,0,0,0,0,0,0,0,1,0,0,0,0,0,0,0,0,0,0,0,0,0,1,0,1,1,0,1,null,0,null,0,1,0,0,0,0,0,0,1,null,null,null,null,null,null,0,1,0]
[null,null,"Utilisation of natural light",1,null,1,0,0,1,0,1,1,0,1,0,1,0,0,0,0,0,0,0,0,0,0,0,0,0,0,0,0,1,null,0,null,0,1,1,0,0,0,1,0,0,null,null,null,null,null,null,1,0,0]
[null,"Renewable energy","Solar PV",0,null,0,0,0,0,0,0,0,0,0,1,1,0,-1,0,0,0,0,0,-1,0,0,0,0,0,0,0,0,0,null,0,null,1,1,1,1,0,0,-1,0,0,null,null,null,null,null,null,0,0,0]
[null,null,"Wind turbine",0,null,0,0,0,0,0,0,0,0,0,0,1,0,-1,0,0,0,-1,0,-1,0,0,0,0,0,0,0,0,0,null,0,null,1,1,1,1,0,0,-1,0,0,null,null,null,null,null,null,0,0,0]
[null,null,"Solar collector system",0,null,0,0,0,0,0,0,0,0,0,1,1,0,-1,0,0,0,0,0,-1,0,0,0,0,0,0,0,0,0,null,0,null,1,1,1,1,0,0,-1,0,0,null,null,null,null,null,null,0,0,0]
[null,null,"Geothermal heat pump system",0,null,0,0,0,0,0,0,0,0,0,0,1,0,1,0,0,0,0,0,-1,0,0,0,0,0,0,0,0,0,null,0,null,1,1,1,1,0,0,-1,0,0,null,null,null,null,null,null,0,0,0]
[null,null,"Passive measures",0,null,0,0,0,0,null,null,null,null,null,null,1,1,1,0,0,0,0,0,0,0,0,0,0,0,0,0,0,1,null,0,null,1,1,null,null,null,null,null,null,null,null,null,null,null,null,null,0,0,0]
[null,"Appliances","Energy efficient appliances",0,0,0,0,0,0,0,0,0,0,0,0,0,0,0,0,0,0,0,0,0,0,0,0,0,0,0,0,0,1,null,0,null,0,1,0,0,0,0,0,0,0,null,null,null,null,null,null,0,0,0]
[null,null,"Reducing stand-by consumption",0,0,0,0,0,0,0,0,0,0,0,0,0,0,0,0,0,0,0,0,0,0,0,0,0,0,0,0,0,1,null,0,null,0,1,0,0,0,0,0,0,0,null,null,null,null,null,null,0,0,0]
[null,null,"Optimal usage, on demand operation",0,0,0,0,0,0,0,0,0,0,0,0,0,0,0,0,0,0,0,0,0,0,0,0,1,0,0,0,0,1,null,0,null,0,1,0,0,0,0,0,0,0,null,null,null,null,null,null,0,1,0]
[null,"Building automation","Building automation and management systems",0,null,-1,1,0,1,0,0,0,1,1,0,0,0,0,0,0,0,0,0,0,0,0,0,-1,0,0,0,0,1,null,0,null,1,1,0,0,0,0,0,0,1,null,null,null,null,null,null,0,0,1]
[null,null,"Energy management system",0,null,-1,1,0,1,0,0,0,1,1,0,0,0,0,0,0,0,0,0,0,0,0,0,-1,0,0,0,0,1,null,0,null,1,1,0,0,0,0,0,0,1,null,null,null,null,null,null,0,0,1]
[null,null,"Measured consumption",0,null,-1,1,0,1,0,0,0,1,1,0,0,0,0,0,0,0,0,0,0,0,0,0,-1,0,0,0,0,1,null,0,null,1,1,0,0,0,0,0,0,1,null,null,null,null,null,null,0,0,1]
[null,null,"Improved smart-readiness",0,null,-1,1,0,1,0,0,0,1,1,0,0,0,0,0,0,0,0,0,0,0,0,0,-1,0,0,0,0,1,null,0,null,1,1,0,0,0,0,0,0,1,null,null,null,null,null,null,0,0,1]
["Processes","Compressed air system","Check the required pressure",0,null,0,0,0,0,1,0,0,0,0,0,1,0,0,0,0,0,0,1,0,1,0,0,1,0,0,0,0,1,null,0,null,0,0,0,0,0,1,0,0,1,0,0,0,null,null,0,0,1,1]
[null,null,"Regular check for leakages",0,1,0,0,0,0,0,1,1,0,0,1,1,0,0,0,0,0,1,1,0,1,0,0,1,0,0,0,0,1,null,0,null,0,0,0,0,0,1,0,0,1,null,null,null,null,null,0,0,1,0]
[null,null,"Waste heat recovery ",0,1,1,0,0,0,0,0,0,1,0,1,1,1,1,0,0,1,0,1,0,1,0,0,0,0,0,0,0,1,null,1,null,0,0,0,0,0,0,-1,0,0,null,null,null,null,null,0,0,0,0]
[null,null,"Regular maintenance of the compressor",0,null,0,0,0,0,1,0,0,0,0,0,1,0,0,0,0,0,1,1,0,1,0,0,1,0,0,0,0,1,null,0,null,0,0,0,0,0,1,1,0,1,null,null,null,null,null,1,0,1,0]
[null,"Steam system","Check the required pressure",0,null,0,0,0,1,1,0,0,0,0,0,1,0,0,0,0,0,0,1,0,1,0,0,1,0,0,0,0,1,null,0,null,0,0,0,0,0,1,0,0,1,null,null,null,null,null,0,0,1,1]
[null,null,"Check for leakages",0,1,0,0,0,1,1,1,1,1,0,1,1,0,0,1,0,0,0,1,0,1,0,0,1,0,0,0,0,1,null,0,null,0,0,0,0,0,1,0,0,1,null,null,null,null,null,0,0,1,1]
[null,null,"Regular maintenance of the boiler",0,null,0,0,0,1,1,0,0,1,0,1,1,0,0,0,0,0,0,1,0,1,0,0,1,0,0,0,0,1,null,0,null,-1,0,0,0,0,1,1,0,1,null,null,null,null,1,1,0,1,0]
[null,"Refrigeration","Optimisation of the required temperatures",0,null,0,0,0,1,0,0,0,0,0,0,1,0,0,0,0,0,0,1,0,1,0,0,1,0,0,0,0,null,null,0,null,0,0,0,0,0,1,1,0,1,null,null,null,null,null,null,0,1,0]
[null,null,"Waste heat recovery ",0,null,0,0,0,0,0,0,0,1,0,1,1,1,1,0,0,1,0,1,0,1,0,0,0,0,0,0,0,null,null,1,null,0,0,0,0,0,0,-1,0,0,null,null,null,null,null,null,0,0,0]
[null,null,"Install frequency control (i.e. VRF) on chiller compressor.",0,null,0,0,0,1,0,0,0,0,0,0,0,0,0,0,0,0,0,0,0,0,0,0,1,0,1,1,0,1,null,0,null,0,0,0,0,0,0,1,0,0,null,null,null,null,null,null,0,1,0]
[null,null,"Install high efficiency or 2-rev electromotor on evaporation fan",0,null,0,0,0,1,0,0,0,0,0,0,0,0,0,0,0,0,0,0,0,0,0,0,1,0,1,1,0,1,null,0,null,0,0,0,0,0,0,1,0,0,null,null,null,null,null,null,0,1,0]
[null,null,"Build a cooled front space for refrigeration units.",1,null,1,0,0,1,0,1,1,0,0,0,0,0,0,0,0,0,0,0,0,0,0,0,-1,0,0,0,0,1,null,0,null,0,0,0,0,0,0,0,0,0,null,null,null,null,null,null,0,0,0]
[null,null,"Use hot refrigerant gas from the compressor for the initial stages of the defrosting cycle.",0,null,0,0,0,0,0,0,0,0,0,0,0,0,0,0,0,0,0,0,0,0,0,0,0,0,0,0,0,1,null,1,null,0,0,0,0,0,0,0,0,0,null,null,null,null,null,null,0,0,0]
[null,null,"Use excess heat from other production processes for the production of cooling using adsorption/absorption cooling.",0,null,0,0,0,0,0,0,0,0,0,0,1,0,0,0,0,1,0,0,0,0,0,0,0,0,0,0,0,1,null,1,null,0,0,0,0,0,0,0,0,0,null,null,null,null,null,null,0,0,0]
[null,null,"Utilisation of free cooling",1,null,1,0,0,1,0,0,0,0,0,0,1,1,0,0,0,0,0,0,0,0,0,0,-1,0,0,0,0,null,null,0,null,0,0,0,0,0,0,-1,0,0,null,null,null,null,null,null,0,0,0]
[null,null,"Replacement of the equipment.",0,null,0,0,0,1,0,0,0,0,0,0,0,0,0,0,0,0,0,0,0,-1,0,0,-1,0,1,1,0,-1,null,0,null,0,0,0,0,0,0,1,0,0,null,null,null,null,null,null,0,0,0]
[null,"Water systems","Efficient pumps for the Water treatment system (if any)",0,0,0,0,0,0,0,0,0,0,0,0,1,0,0,0,0,0,0,0,0,0,0,0,1,0,0,0,0,1,null,0,null,0,0,0,0,0,0,0,0,0,null,null,null,null,null,null,0,0,0]
[null,null,"Advanced process of water recovery ",0,0,0,0,0,0,0,0,0,0,0,0,1,0,1,1,0,0,0,0,0,1,0,0,1,0,0,0,0,1,null,1,null,0,0,0,0,0,0,0,0,0,null,null,null,null,null,null,0,0,0]
[null,"Production line","Optimisation of the production process and workflow",0,null,0,1,0,1,0,0,0,0,0,0,1,0,0,0,0,1,0,0,0,1,0,0,1,0,1,1,0,1,null,0,null,-1,0,0,0,0,1,1,0,0,null,null,null,null,null,null,1,1,0]
[null,null,"Waste reduction & recycling in the production line ",0,null,0,1,0,0,0,0,0,0,0,0,1,0,0,0,0,1,0,0,0,1,0,0,null,0,0,0,0,1,null,1,null,-1,0,0,0,0,0,0,0,0,null,null,null,null,null,null,0,0,0]
[null,null,"Optimization of motor driven systems ",0,null,0,0,0,0,0,0,0,0,0,1,1,0,0,0,0,1,0,0,0,0,0,0,1,0,0,1,0,1,null,0,null,0,0,0,0,0,0,1,0,0,null,null,null,null,null,null,0,1,0]
[null,null,"High efficient transmission system",0,null,0,0,0,0,0,0,0,0,0,1,1,0,0,0,0,1,0,0,0,0,0,0,1,0,1,1,0,1,null,0,null,0,0,0,0,0,0,1,0,0,null,null,null,null,null,null,0,0,0]
[null,null,"Reduction of the manual labor",1,null,-1,-1,0,0,0,1,1,0,0,0,0,0,0,0,0,0,0,0,0,0,-1,0,-1,0,1,1,0,1,null,0,null,-1,-1,0,0,0,1,0,0,0,null,null,null,null,null,null,0,0,0]
[null,null,"Regular maintenance of the equipment",0,null,0,0,0,0,0,0,0,0,0,1,1,0,0,0,0,0,0,0,0,0,1,0,1,0,1,1,0,-1,null,0,null,0,0,0,0,0,1,1,0,1,null,null,null,null,null,null,0,1,0]
[null,null,"Replacement of the equipment",0,null,0,0,0,0,0,0,0,0,0,0,0,0,0,0,0,0,0,0,0,-1,0,0,-1,0,-1,0,0,-1,null,0,null,0,0,0,0,0,0,1,0,0,null,null,null,null,null,null,0,0,0]
[null,null,"Waste heat recovery ",0,null,0,0,0,0,0,0,0,1,0,0,1,1,1,0,0,1,0,1,0,1,1,0,0,0,0,0,0,1,null,1,null,0,0,0,0,0,0,-1,0,0,null,null,null,null,null,null,0,0,0]
[null,null,"Low-carbon packaging ",0,null,0,1,1,0,0,0,0,0,0,0,1,1,1,1,1,1,1,1,1,1,-1,1,0,0,0,0,0,-1,null,0,null,0,0,0,0,0,0,0,0,0,null,null,null,null,null,null,0,0,0]
["Transport","Transport of goods","Optimisation of timetables",-1,null,-1,0,0,-1,1,1,1,0,0,0,1,1,1,1,1,1,1,1,1,1,1,0,1,0,1,1,0,1,null,0,null,1,0,0,0,0,1,0,0,1,null,null,null,null,null,null,1,0,0]
[null,null,"Optimisation of routes",0,null,1,0,0,1,0,1,1,0,0,0,1,1,1,1,1,1,1,1,1,1,1,0,1,0,1,1,0,1,null,0,null,1,0,0,0,0,1,0,0,1,null,null,null,null,null,null,1,0,0]
[null,null,"Optimisation of loads",0,null,1,0,0,1,0,1,1,0,0,0,1,1,1,1,1,1,1,1,1,1,1,0,1,0,1,1,0,1,null,0,null,1,0,0,0,0,1,0,0,0,null,null,null,null,null,null,1,0,0]
[null,null,"Optimisation of the fleet",0,null,1,1,0,1,0,0,0,1,0,0,1,1,1,1,1,1,1,1,1,1,1,0,1,0,1,1,0,1,null,0,null,1,0,0,0,0,0,0,0,0,null,null,null,null,null,null,1,0,0]
[null,null,"Promote electromobility",0,null,1,1,0,0,0,0,0,1,0,1,1,1,1,1,1,1,1,1,1,1,0,0,1,0,0,0,0,1,null,0,null,1,0,0,0,0,0,0,0,0,null,null,null,null,null,null,0,0,0]
[null,null,"Promotion of modal shift for freight",0,null,0,1,0,0,0,0,0,1,0,1,1,1,1,1,1,1,1,1,1,1,0,0,1,0,0,0,0,1,null,0,null,-1,1,0,0,0,0,0,0,0,null,null,null,null,null,null,0,0,0]
[null,null,"Regular maintenance",0,null,1,0,0,1,1,0,0,0,0,0,1,1,1,1,1,1,1,1,1,1,1,0,1,0,0,0,0,-1,null,0,null,-1,0,0,0,0,1,-1,0,1,null,null,null,null,null,null,0,1,0]
[null,null,"Driver training",0,null,1,0,0,1,1,0,0,0,0,0,1,1,1,1,1,1,1,1,1,1,1,1,1,0,1,1,0,1,null,0,null,1,0,0,0,0,1,1,0,1,null,null,null,null,null,null,1,1,1]
["Management & Maintenance measures","Management & Maintenance measures","Green supply chain management",0,null,0,1,1,0,0,0,0,1,0,0,1,1,1,1,1,1,1,1,1,1,0,1,1,0,-1,-1,0,-1,null,0,null,1,1,0,0,1,0,0,0,0,null,null,null,1,1,null,0,0,0]
[null,null,"Improved energy management",0,null,0,1,0,1,0,0,0,0,0,0,1,1,1,1,1,1,1,1,1,1,1,0,1,0,1,1,0,1,null,0,null,1,1,0,0,1,0,1,0,0,1,1,1,1,1,1,0,0,1]
[null,null,"Improved environmental awareness at the management level",0,null,0,1,0,0,0,0,0,1,0,0,1,1,1,1,1,1,1,1,1,1,1,0,1,0,1,1,0,1,null,0,null,1,1,0,0,1,0,1,0,0,null,null,null,1,1,null,0,0,0]
["Occupant behaviour","Occupant behaviour","Employee engagement and training",1,0,1,1,0,1,1,1,1,0,0,0,1,1,1,1,1,1,1,1,1,1,1,1,1,0,1,1,0,1,null,1,null,1,1,0,0,1,1,0,1,1,null,null,null,null,null,null,1,1,0]
[null,null,"Motivation",1,0,1,1,0,1,1,1,1,0,0,0,1,1,1,1,1,1,1,1,1,1,1,1,1,0,1,1,0,1,null,0,null,1,1,0,0,1,1,0,1,1,null,null,null,null,null,null,1,0,0]

{"sheet":"AUT_leg","index":34,"n_rows":97,"n_cols":54,"rows_kept":97,"cut":false,"hidden":true,"merged":[[0,51,0,53],[2,0,56,0],[2,1,6,1],[7,1,16,1],[17,1,22,1],[23,1,33,1],[34,1,39,1],[40,1,44,1],[45,1,49,1],[50,1,52,1],[0,3,0,7],[0,8,0,14],[0,15,0,24],[0,25,0,37],[0,38,0,44],[0,45,0,50],[53,1,56,1],[57,0,83,0],[57,1,60,1],[61,1,63,1],[64,1,72,1],[73,1,74,1],[75,1,83,1],[84,0,91,0],[84,1,91,1],[92,0,94,0],[92,1,94,1],[95,0,96,0],[95,1,96,1]]}
[null,null,null,"Social",null,null,null,null,"Health",null,null,null,null,null,null,"Environment",null,null,null,null,null,null,null,null,null,"Economic",null,null,null,null,null,null,null,null,null,null,null,null,"Security & Safety",null,null,null,null,null,null,"Quality",null,null,null,null,null,"Time"]
[null,null,"EEM/NEB","Employee satisfaction","Alleviation of energy poverty","Customers (new, satisfaction, etc.)","Improved supply chain relationships","Work performance","Health and well-being","(avoided) mortality","Disease burden \"daly\"","Sickness & absenteeism","Improved air quality","Improved lighting","Reduced noise","Emission reduction","Impact of EE on RES target achievement ","Ecosystem degradation","Reduced water use ","Reduced material consumption","Reduced emissions (dust, CO2, chemical agents etc.)","Reduced noise pollution","Reduced use of non-renewable resources ","Reduced litigations risks","Reduced waste","Improvement of compatitiveness","Innovation impacts","Reduction of (maintenance) costs","Reduction of emission or disposal fees","Shorter production cycle","Increased production yields","Increased real estate value","Reduction of (operating) costs","Macro economy","Usage of waste streams","Turnover of energy efficiency goods ","Employment effects","Impact on public budgets","Energy security","Security of supply / self sufficiency","Supplier diversity ","Operation safety of equipment","Less maintenance","Electrical safety","Reduced injuries","Accurate monitoring","Right First Time","Increased quality of products","Increased corporate image","Increased regulatory compliance","Risk reduction","Increased productivity","Increased equipment lifetime","Reduced time of fault detection"]
["Building","Envelope","Improvement to visible building envelope elements",1,0,0,0,0,0,0,0,0,1,0,0,1,1,1,0,0,1,1,1,0,0,1,0,0,0,0,0,0,0,1,0,0,1,0,0,0,0,0,0,0,0,0,0,0,0,0,0,0,0,0]
[null,null,"Improvements to non-visible building envelope elements",1,0,0,0,0,0,0,0,0,1,0,0,1,1,1,0,0,1,1,1,0,0,1,0,0,0,0,0,0,0,1,0,0,1,0,0,0,0,0,0,0,0,0,0,0,0,0,0,0,0,0]
[null,null,"Replacemert of windows",1,0,0,0,0,0,0,0,0,1,0,1,1,1,1,0,0,1,1,1,0,0,1,0,0,0,0,0,0,0,1,0,0,1,0,0,0,0,0,0,0,0,0,0,0,0,0,0,0,0,0]
[null,null,"Increasing the air-tightness of the building",1,0,0,0,0,1,0,0,0,0,0,0,1,1,1,0,0,1,1,1,0,0,0,0,0,0,0,0,0,0,1,0,0,1,0,0,0,0,0,0,0,0,0,0,0,0,0,0,0,0,0]
[null,null,"Shading to reduce summer heat gains",1,0,0,0,0,1,0,1,1,1,0,0,0,1,1,0,0,1,0,1,0,0,0,0,0,0,0,0,0,0,1,0,0,1,0,0,0,0,0,0,0,0,0,0,0,0,0,0,0,0,0]
[null,"Heating system","Roomwise temperature control",1,0,0,0,1,1,0,1,0,0,0,0,1,1,1,0,0,1,0,1,0,0,0,0,0,0,0,0,0,0,1,0,0,1,0,0,0,0,0,0,0,0,0,0,0,0,0,0,0,0,0]
[null,null,"Zoning optimisation of the building",0,0,0,0,0,0,0,0,0,0,0,0,0,0,0,0,0,0,0,0,0,0,0,0,0,0,0,0,0,0,0,0,0,0,0,0,0,0,0,0,0,0,0,0,0,0,0,0,0,0,0]
[null,null,"Optimisation of the heating schedule",1,0,0,0,0,1,0,1,1,0,0,0,1,1,1,0,0,1,0,1,0,0,1,0,0,1,0,0,0,0,1,0,0,0,0,0,0,0,0,0,0,0,0,0,0,0,0,0,0,0,0]
[null,null,"Lowering setpoint temperature",0,0,0,0,0,0,0,0,0,0,0,0,0,0,0,0,0,0,0,0,0,0,0,0,0,0,0,0,0,0,0,0,0,0,0,0,0,0,0,0,0,0,0,0,0,0,0,0,0,0,0]
[null,null,"Control optimisation",1,0,0,0,0,1,1,1,1,1,0,0,1,1,1,0,0,1,0,1,0,0,1,0,0,1,0,0,0,0,1,0,0,0,0,0,0,0,0,0,0,0,0,0,0,0,0,0,0,0,0]
[null,null,"Insulation of the distribution network",1,0,0,0,0,0,0,0,0,0,0,0,1,1,1,0,0,1,0,1,0,0,1,0,0,1,0,0,0,1,1,0,0,0,0,0,0,0,0,0,0,0,0,0,0,0,0,0,0,0,0]
[null,null,"Hydraulic balancing of the distribution network",1,0,0,0,0,0,0,0,0,0,0,0,1,1,1,0,0,1,0,1,0,0,1,1,0,1,0,1,0,1,1,0,0,1,1,1,1,0,0,0,0,0,0,0,0,0,0,0,0,0,0]
[null,null,"New, more efficient heat generator",0,0,0,0,0,0,0,0,0,0,0,0,1,1,1,0,0,1,0,1,0,0,1,1,1,1,0,0,0,1,1,0,0,1,0,0,1,0,1,1,0,0,0,0,0,0,0,0,0,0,0]
[null,null,"Including a renewable based heat source",0,0,0,0,0,0,0,0,0,0,0,0,-1,1,1,0,0,1,0,1,0,0,0,1,-1,1,0,0,0,-1,0,0,0,1,1,1,0,0,0,0,0,0,0,0,0,0,0,0,0,0,0]
[null,null,"Energy efficient pumps",0,0,0,0,0,0,0,0,0,0,0,0,1,1,1,0,0,1,0,1,0,0,1,1,0,1,0,0,0,0,1,0,0,0,0,1,0,0,0,0,0,0,0,0,0,0,0,0,0,0,0]
[null,"DHW system","Reducing the DHW demand",0,0,0,0,0,0,0,0,0,0,0,0,0,0,1,1,1,0,0,0,0,0,0,0,0,0,0,0,0,0,0,0,0,0,0,0,0,0,0,0,0,0,0,0,0,0,0,0,0,0,0]
[null,null,"Insulation of the distribution network",0,0,0,0,0,0,0,1,1,0,0,0,1,1,1,1,0,1,0,1,0,0,0,0,0,0,0,0,0,0,0,0,0,0,0,0,0,0,0,0,0,0,0,0,0,0,0,0,0,0,0]
[null,null,"Lowering setpoint temperature",0,0,0,0,0,-1,-1,-1,-1,0,0,0,1,1,1,0,0,1,0,1,0,0,0,0,0,0,0,0,0,0,0,0,0,0,0,0,0,0,0,0,0,0,0,0,0,0,0,0,0,0,0]
[null,null,"Circulation network optimisation, decentralisation of DHW production",0,0,0,0,0,1,0,0,1,0,0,0,1,1,1,0,0,1,0,1,0,0,0,0,0,1,0,0,0,0,0,0,0,0,0,0,0,0,0,0,0,0,0,0,0,0,0,0,0,0,0]
[null,null,"New, more efficient heat generator",0,0,0,0,0,1,0,0,0,0,0,0,1,1,1,0,0,1,0,1,0,0,0,0,0,0,0,0,0,0,0,0,0,0,0,0,0,0,0,0,0,0,0,0,0,0,0,0,0,0,0]
[null,null,"Including a renewable based heat source",0,0,0,0,0,0,0,0,0,0,0,0,1,-1,0,0,0,1,0,1,0,0,0,0,0,1,0,0,0,0,0,0,0,0,0,0,0,0,0,0,0,0,0,0,0,0,0,0,0,0,0]
[null,"Cooling system","Roomwise temperature control",1,0,0,0,0,0,0,0,0,0,0,0,1,1,1,0,0,1,0,1,0,0,1,0,0,1,0,1,0,1,1,0,0,0,0,1,1,0,0,1,0,0,0,0,0,0,0,0,0,0,0]
[null,null,"Zoning optimisation of the building",0,0,0,0,0,0,0,0,0,0,0,0,1,1,1,0,0,1,0,1,0,0,1,0,0,1,0,1,0,1,1,0,0,0,0,1,1,0,0,0,0,0,0,0,0,0,0,0,0,0,0]
[null,null,"Optimisation of the cooling schedule",0,0,0,0,0,0,0,0,0,0,0,0,1,1,1,0,0,1,0,1,0,0,1,0,0,0,0,1,0,0,1,0,0,0,0,1,0,0,0,0,0,0,0,0,0,0,0,0,0,0,0]
[null,null,"Increasing setpoint temperature",0,0,0,0,0,0,0,0,0,0,0,0,1,1,1,0,0,1,0,1,0,0,1,0,0,0,0,1,0,0,1,0,0,0,{"$f":"-AL26","v":0},1,0,0,0,0,0,0,0,0,0,0,0,0,0,0,0]
[null,null,"Control optimisation",0,0,0,0,0,0,0,0,0,0,0,0,1,1,1,0,0,1,0,1,0,0,1,0,0,0,0,1,0,0,1,0,0,0,0,1,0,0,0,0,0,0,0,0,0,0,0,0,0,0,0]
[null,null,"Insulation of the distribution network",0,0,0,0,0,0,0,0,0,0,0,0,1,1,1,0,0,1,0,1,0,0,1,0,0,0,0,1,0,0,1,0,0,0,0,1,1,0,0,0,0,0,0,0,0,0,0,0,0,0,0]
[null,null,"Hydraulic balancing of the distribution network",0,0,0,0,0,0,0,0,0,0,0,0,1,1,1,0,0,1,0,1,0,0,1,0,0,0,0,1,0,0,1,0,0,0,0,1,0,0,0,0,0,0,0,0,0,0,0,0,0,0,0]
[null,null,"New, more efficient heat generator",0,0,0,0,0,0,0,0,0,0,0,0,1,1,1,0,0,1,0,1,0,0,1,0,0,0,0,1,0,0,1,0,0,0,0,1,1,0,0,0,0,0,0,0,0,0,0,0,0,0,0]
[null,null,"Energy efficient pumps",0,0,0,0,0,0,0,0,0,0,0,0,1,1,1,0,0,1,0,1,0,0,1,0,0,0,0,1,0,0,1,0,0,0,0,1,1,0,0,0,0,0,0,0,0,0,0,0,0,0,0]
[null,null,"Utilisation of free cooling",0,0,0,0,0,0,0,0,0,0,0,0,1,1,1,0,0,1,0,1,0,0,1,0,0,0,0,1,0,0,1,0,0,0,0,1,1,0,0,0,0,0,0,0,0,0,0,0,0,0,0]
[null,null,"Utilising the waste heat from the cooling system for heating&DHW",0,0,0,0,0,0,0,0,0,0,0,0,1,1,1,0,0,1,0,1,0,0,1,0,0,0,0,1,0,0,1,0,0,0,0,1,1,0,0,0,0,0,0,0,0,0,0,0,0,0,0]
[null,"Ventilation system","Schedule optimisation",0,0,0,0,0,0,0,0,0,0,0,0,1,1,1,0,0,1,0,1,0,0,0,0,0,0,0,0,0,0,1,0,0,0,0,1,1,0,0,0,0,0,0,0,0,0,0,0,0,0,0]
[null,null,"Control optimisation",0,0,0,0,0,0,0,0,0,0,0,0,1,1,1,0,0,1,0,1,0,0,0,0,0,0,0,0,0,0,1,0,0,0,0,1,1,0,0,0,0,0,0,0,0,0,0,0,0,0,0]
[null,null,"Air velocity optimisation",0,0,0,0,0,0,0,0,0,0,0,0,1,1,1,0,0,1,0,1,0,0,0,0,0,0,0,0,0,0,1,0,0,0,0,1,1,0,0,0,0,0,0,0,0,0,0,0,0,0,0]
[null,null,"Inlet air temperature optimisation",0,0,0,0,0,0,0,0,0,0,0,0,1,1,1,0,0,1,0,1,0,0,0,0,0,0,0,0,0,0,1,0,0,0,0,1,1,0,0,0,0,0,0,0,0,0,0,0,0,0,0]
[null,null,"Heat recovery",0,0,0,0,0,0,0,0,0,0,0,0,1,1,1,0,0,1,0,1,0,0,0,0,0,0,0,0,0,0,1,0,0,0,0,1,1,0,0,0,0,0,0,0,0,0,0,0,0,0,0]
[null,null,"Energy efficient fans",0,0,0,0,0,0,0,0,0,0,0,0,1,1,1,0,0,1,0,1,0,0,0,0,0,0,0,0,0,0,1,0,0,0,0,1,1,0,0,0,0,0,0,0,0,0,0,0,0,0,0]
[null,"Lighting","Energy efficient lights (e.g LED)",0,0,0,0,0,0,0,0,0,0,0,0,1,1,1,0,0,1,0,1,0,0,0,0,0,0,0,0,0,0,1,0,0,0,0,1,1,0,0,0,0,0,0,0,0,0,0,0,0,0,0]
[null,null,"Level of illumination",0,0,0,0,0,0,0,0,0,0,0,0,-1,-1,-1,0,0,-1,0,-1,0,0,0,0,0,0,0,0,0,0,1,0,0,0,0,0,-1,0,0,0,0,0,0,0,0,0,0,0,0,0,0]
[null,null,"Schedule optimisation",0,0,0,0,0,0,0,0,0,0,0,0,1,1,1,0,0,1,0,1,0,0,0,0,0,0,0,0,0,0,1,0,0,0,0,1,1,0,0,0,0,0,0,0,0,0,0,0,0,0,0]
[null,null,"Control optimisation",0,0,0,0,0,0,0,0,0,0,0,0,1,1,1,0,0,1,0,1,0,0,0,0,0,0,0,0,0,0,1,0,0,0,0,1,1,0,0,0,0,0,0,0,0,0,0,0,0,0,0]
[null,null,"Utilisation of natural light",0,0,0,0,0,0,0,0,0,0,0,0,1,1,1,0,0,1,0,1,0,0,0,0,0,0,0,0,0,0,1,0,0,0,0,1,1,0,0,0,0,0,0,0,0,0,0,0,0,0,0]
[null,"Renewable energy","Solar PV",1,0,0,0,0,0,0,0,0,0,0,0,1,1,1,0,0,1,0,1,0,0,0,0,0,0,0,0,0,0,1,0,0,0,0,1,1,0,0,0,0,0,0,0,0,0,0,0,0,0,0]
[null,null,"Wind turbine",0,0,0,0,0,0,0,0,0,0,0,0,1,1,1,0,0,1,0,1,0,0,0,0,0,0,0,0,0,0,1,0,0,0,0,1,1,0,0,0,0,0,0,0,0,0,0,0,0,0,0]
[null,null,"Solar collector system",1,0,0,0,0,0,0,0,0,0,0,0,1,1,1,0,0,1,0,1,0,0,0,0,0,0,0,0,0,0,1,0,0,0,0,1,1,0,0,0,0,0,0,0,0,0,0,0,0,0,0]
[null,null,"Geothermal heat pump system",0,0,0,0,0,0,0,0,0,0,0,0,1,1,1,0,0,1,0,1,0,0,0,0,0,0,0,0,0,0,1,0,0,0,0,1,1,0,0,0,0,0,0,0,0,0,0,0,0,0,0]
[null,null,"Passive measures",0,0,0,0,0,0,0,0,0,0,0,0,1,1,1,0,0,1,0,1,0,0,0,0,0,0,0,0,0,0,1,0,0,0,0,1,1,0,0,0,0,0,0,0,0,0,0,0,0,0,0]
[null,"Appliances","Energy efficient appliances",0,0,0,0,0,0,0,0,0,0,0,0,1,1,1,0,0,1,0,1,0,0,1,0,0,1,0,1,0,1,1,0,0,0,0,1,1,0,0,0,0,0,0,0,0,1,0,0,1,0,0]
[null,null,"Reducing stand-by consumption",0,0,0,0,0,0,0,0,0,0,0,0,1,1,1,0,0,1,0,1,0,0,1,0,0,1,0,1,0,1,1,0,0,0,0,1,1,0,0,0,0,0,0,0,0,1,0,0,1,0,0]
[null,null,"Optimal usage, on demand operation",0,0,0,0,0,0,0,0,0,0,0,0,1,1,1,0,0,1,0,1,0,0,1,0,1,1,0,1,0,1,1,0,0,0,0,1,1,0,0,0,0,0,0,0,0,1,0,0,1,0,0]
[null,"Building automation","Building automation and management systems",0,0,0,0,0,0,0,0,0,0,0,0,1,1,1,1,0,1,0,1,0,0,1,0,1,1,0,1,1,1,1,0,0,0,0,1,1,0,1,1,0,0,0,0,1,1,0,0,1,0,1]
[null,null,"Energy management system",0,0,0,0,0,0,0,0,0,0,0,0,1,1,1,0,0,1,0,1,0,0,1,0,1,1,0,1,0,1,1,0,0,0,0,1,1,0,1,1,0,0,0,0,1,1,0,0,1,0,1]
[null,null,"Measured consumption",0,0,0,0,0,0,0,0,0,0,0,0,1,1,1,0,0,1,0,1,0,0,1,0,0,1,0,1,0,1,1,0,0,0,0,1,1,0,1,1,0,0,0,0,1,1,0,0,0,0,0]
[null,null,"Improved smart-readiness",0,0,0,0,0,0,0,0,0,0,0,0,1,1,1,0,0,1,0,1,0,0,1,0,0,1,0,0,0,0,1,0,0,0,0,1,1,0,1,1,0,0,0,0,1,1,0,0,0,0,0]
["Processes","Compressed air system","Check the required pressure",0,0,0,0,0,0,1,0,0,0,0,0,1,1,1,0,0,1,0,1,0,0,1,0,0,1,1,1,0,1,1,0,0,0,0,1,1,0,1,0,0,1,0,0,0,0,0,1,0,1,0]
[null,null,"Regular check for leakages",0,0,0,0,0,0,0,0,0,0,0,0,1,1,1,0,0,1,0,1,0,0,1,0,0,1,1,1,0,1,1,0,0,0,0,1,1,0,1,0,0,1,0,0,0,0,0,0,1,1,0]
[null,null,"Waste heat recovery ",0,0,0,0,0,0,0,0,0,0,0,0,1,1,1,0,0,1,0,1,0,0,1,0,0,1,0,0,0,1,1,0,0,0,0,1,1,0,0,0,0,0,0,0,0,0,0,0,1,0,0]
[null,null,"Regular maintenance of the compressor",0,0,0,0,0,0,0,0,0,0,0,0,0,1,1,0,0,1,0,1,0,0,0,0,0,1,1,1,0,-1,1,0,0,0,0,1,1,0,1,0,0,1,0,0,0,0,0,1,1,1,0]
[null,"Steam system","Check the required pressure",0,0,0,0,0,0,0,0,0,0,0,0,1,1,1,0,0,1,0,1,0,0,1,0,0,1,0,1,0,1,1,0,0,0,0,1,1,0,1,0,0,1,0,0,0,0,0,0,0,0,0]
[null,null,"Check for leakages",0,0,0,0,0,0,0,0,0,0,0,0,1,1,1,1,0,1,0,1,0,0,1,0,0,1,0,1,0,1,1,0,0,0,0,1,1,0,1,0,0,1,0,0,0,0,0,0,1,0,0]
[null,null,"Regular maintenance of the boiler",0,0,0,0,0,0,0,0,0,0,0,0,1,1,1,0,0,1,0,1,0,0,1,0,0,1,0,1,0,-1,1,0,0,0,0,1,1,0,1,0,0,1,0,0,0,0,0,0,1,0,0]
[null,"Refrigeration","Optimisation of the required temperatures",0,0,0,0,0,0,0,0,0,0,0,0,1,1,1,0,0,1,0,1,0,0,1,0,0,1,0,1,0,1,1,0,0,0,0,1,1,0,1,0,0,0,0,0,0,0,0,0,1,0,0]
[null,null,"Waste heat recovery ",0,0,0,0,0,0,0,0,0,0,0,0,1,1,1,0,0,1,0,1,0,0,1,0,0,1,0,1,0,1,1,0,0,0,0,1,1,0,1,0,0,0,0,0,0,0,0,0,1,0,0]
[null,null,"Install frequency control (i.e. VRF) on chiller compressor.",0,0,0,0,0,0,0,0,0,0,0,0,1,1,1,0,0,1,0,1,0,0,1,0,0,1,0,1,0,1,1,0,0,0,0,1,1,0,1,0,0,0,0,0,0,0,0,0,1,0,0]
[null,null,"Install high efficiency or 2-rev electromotor on evaporation fan",0,0,0,0,0,0,0,0,0,0,0,0,1,1,1,0,0,1,0,1,0,0,1,0,0,1,0,1,0,1,1,0,0,0,0,1,1,0,0,0,0,0,0,0,0,0,0,0,1,0,0]
[null,null,"Build a cooled front space for refrigeration units.",0,0,0,0,0,0,0,0,0,0,0,0,1,1,1,0,0,1,0,1,0,0,1,0,0,1,0,1,0,1,1,0,0,0,0,1,1,0,0,0,0,0,0,0,0,0,0,0,1,0,0]
[null,null,"Use hot refrigerant gas from the compressor for the initial stages of the defrosting cycle.",0,0,0,0,0,0,0,0,0,0,0,0,1,1,1,0,0,1,0,1,0,0,1,0,0,1,0,1,0,1,1,0,0,0,0,1,1,0,0,0,0,0,0,0,0,0,0,0,1,0,0]
[null,null,"Use excess heat from other production processes for the production of cooling using adsorption/absorption cooling.",0,0,0,0,0,0,0,0,0,0,0,0,1,1,1,0,0,1,0,1,0,0,1,0,0,1,0,1,0,1,1,0,0,0,0,1,1,0,0,0,0,0,0,0,0,0,0,0,1,0,0]
[null,null,"Utilisation of free cooling",0,0,0,0,0,0,0,0,0,0,0,0,1,1,1,0,0,1,0,1,0,0,1,0,0,1,0,1,0,1,1,0,0,0,0,1,1,0,0,0,0,0,0,0,0,0,0,0,1,0,0]
[null,null,"Replacement of the equipment.",0,0,0,0,0,0,0,0,0,0,0,0,0,0,0,0,0,0,0,0,0,0,1,0,0,1,0,1,0,1,1,0,0,0,0,0,0,0,0,0,0,0,0,0,0,0,0,0,0,0,0]
[null,"Water systems","Efficient pumps for the Water treatment system (if any)",0,0,0,0,0,0,0,0,0,0,0,0,1,1,1,0,0,1,0,1,0,0,1,0,0,1,0,1,0,1,1,0,0,0,0,1,1,0,0,0,0,0,0,0,0,0,0,0,0,0,0]
[null,null,"Advanced process of water recovery ",0,0,0,0,0,0,0,0,0,0,0,0,0,1,1,1,0,0,0,0,0,0,1,0,0,0,0,0,0,0,1,0,0,0,0,0,0,0,0,0,0,0,0,0,0,0,0,0,0,0,0]
[null,"Production line","Optimisation of the production process and workflow",0,0,0,0,0,0,0,0,0,0,0,0,0,0,0,1,0,1,0,0,0,0,1,1,1,0,1,1,0,1,1,0,0,1,1,1,1,0,0,0,0,0,1,1,1,1,0,1,1,1,1]
[null,null,"Waste reduction & recycling in the production line ",0,0,0,0,0,0,0,0,0,0,0,0,0,1,1,0,1,1,0,0,0,1,1,1,1,1,1,1,0,1,1,1,0,0,0,0,0,0,0,0,0,0,1,0,1,1,0,0,0,0,0]
[null,null,"Optimization of motor driven systems ",0,0,0,0,0,0,0,0,0,0,0,0,1,1,1,0,0,1,0,0,0,0,1,1,1,1,1,1,0,1,1,0,0,0,0,1,1,0,0,0,0,0,0,0,0,1,0,1,1,0,0]
[null,null,"High efficient transmission system",0,0,0,0,0,0,0,0,0,0,0,0,1,1,1,0,0,1,0,1,0,0,1,1,1,1,1,1,0,1,1,0,0,0,0,1,1,0,0,0,0,0,0,0,0,1,0,0,0,1,0]
[null,null,"Reduction of the manual labor",0,0,0,0,0,0,0,0,0,0,0,0,0,0,0,0,0,0,0,0,0,0,1,0,1,1,-1,1,0,1,1,0,0,0,0,0,0,0,0,0,0,0,0,0,0,1,0,1,0,0,0]
[null,null,"Regular maintenance of the equipment",0,0,0,0,0,0,0,0,0,0,0,0,0,0,0,0,0,0,0,1,0,0,1,0,1,1,1,-1,0,1,1,0,0,0,0,1,1,0,1,-1,0,0,0,0,0,1,0,0,-1,0,0]
[null,null,"Replacement of the equipment",0,0,0,0,0,0,0,0,0,0,0,0,0,0,0,0,0,0,0,0,0,0,0,0,0,0,0,0,0,0,1,0,0,0,0,0,0,0,0,0,0,0,0,0,0,1,0,0,0,0,0]
[null,null,"Waste heat recovery ",0,0,0,0,0,0,0,0,0,0,0,0,1,1,1,0,0,0,0,1,0,0,1,0,1,1,1,1,0,1,1,0,0,0,0,1,1,0,0,0,0,0,0,0,0,1,0,0,0,0,0]
[null,null,"Low-carbon packaging ",0,0,0,0,0,0,0,0,0,0,0,0,1,1,1,0,0,0,0,0,0,0,0,1,1,0,0,1,0,-1,1,0,0,0,0,0,0,0,0,0,0,0,0,0,0,1,0,0,-1,0,0]
["Transport","Transport of goods","Optimisation of timetables",0,0,0,0,0,0,0,0,0,0,0,0,1,1,1,0,0,0,0,1,0,0,1,0,1,1,0,1,0,1,1,0,0,0,0,1,1,0,0,0,0,0,0,0,0,0,0,0,1,0,0]
[null,null,"Optimisation of routes",0,0,0,0,0,0,0,0,0,0,0,0,1,1,1,0,0,1,0,1,0,0,1,0,1,1,0,1,0,1,1,0,0,0,0,1,1,0,0,0,0,1,0,0,0,0,0,0,0,0,0]
[null,null,"Optimisation of loads",0,0,0,0,0,0,0,0,0,0,0,0,1,1,1,0,0,1,0,1,0,0,1,0,1,1,0,1,0,1,1,0,0,0,0,1,1,0,0,0,0,0,0,0,0,0,0,0,1,0,0]
[null,null,"Optimisation of the fleet",0,0,0,0,0,0,0,0,0,0,0,0,1,1,1,0,0,1,0,1,0,0,1,0,1,1,0,1,0,1,1,0,0,0,0,1,1,0,0,0,0,0,0,0,0,0,0,0,1,0,0]
[null,null,"Promote electromobility",0,0,0,0,0,0,0,0,0,0,0,0,1,1,1,0,0,1,1,1,0,0,1,0,1,1,0,1,0,1,1,0,0,0,0,1,1,0,0,0,0,0,0,0,0,0,0,0,1,0,0]
[null,null,"Promotion of modal shift for freight",0,0,0,0,0,0,0,0,0,0,0,0,1,1,1,0,0,1,0,1,0,0,-1,0,-1,1,0,1,0,1,1,0,0,0,0,1,1,0,0,0,0,0,0,0,0,0,0,0,-1,0,0]
[null,null,"Regular maintenance",0,0,0,0,0,0,0,0,0,0,0,0,1,1,1,0,0,1,0,1,0,0,1,0,-1,1,0,1,0,1,1,0,0,0,0,-1,-1,0,0,-1,0,0,0,0,0,0,0,0,-1,1,0]
[null,null,"Driver training",0,0,0,0,0,0,0,0,0,0,0,0,1,1,1,0,0,1,0,1,0,0,1,0,1,1,0,1,0,1,1,0,0,0,0,1,1,0,0,0,0,0,0,0,0,0,0,0,1,0,0]
["Management & Maintenance measures","Management & Maintenance measures","Green supply chain management",0,0,0,0,0,0,0,0,0,0,0,0,0,0,1,0,0,1,0,1,0,1,1,0,1,1,0,0,0,1,1,1,1,0,0,0,0,0,0,0,0,0,0,0,0,1,0,0,0,0,0]
[null,null,"Improved energy management",0,0,0,0,0,0,0,0,0,0,0,0,1,1,1,1,0,1,0,1,0,0,1,0,1,1,0,1,0,1,1,0,1,0,0,1,1,0,0,0,0,0,1,0,0,1,1,0,1,0,1]
[null,null,"Improved environmental awareness at the management level",0,0,0,0,0,1,1,1,1,1,1,1,1,1,1,1,0,1,0,1,0,0,1,0,1,1,0,0,0,1,1,1,1,0,0,1,1,0,0,0,0,0,1,0,0,1,1,0,1,0,1]
["Occupant behaviour","Occupant behaviour","Employee engagement and training",1,0,0,0,0,1,1,1,1,1,1,1,1,1,1,1,0,1,1,1,0,0,1,0,1,1,0,0,0,1,1,1,1,0,0,1,1,0,0,0,0,1,1,1,1,1,0,0,1,0,1]
[null,null,"Motivation",1,0,0,0,0,1,1,1,1,1,1,1,1,1,1,1,0,1,1,1,0,0,1,0,1,1,0,1,0,1,1,1,1,0,0,1,1,0,0,0,0,0,1,1,1,1,0,0,1,0,1]

{"sheet":"ESP_leg","index":35,"n_rows":97,"n_cols":54,"rows_kept":97,"cut":false,"hidden":true,"merged":[[0,51,0,53],[2,0,56,0],[2,1,6,1],[7,1,16,1],[17,1,22,1],[23,1,33,1],[34,1,39,1],[40,1,44,1],[45,1,49,1],[50,1,52,1],[0,3,0,7],[0,8,0,14],[0,15,0,24],[0,25,0,37],[0,38,0,44],[0,45,0,50],[53,1,56,1],[57,0,83,0],[57,1,60,1],[61,1,63,1],[64,1,72,1],[73,1,74,1],[75,1,83,1],[84,0,91,0],[84,1,91,1],[92,0,94,0],[92,1,94,1],[95,0,96,0],[95,1,96,1]]}
[null,null,null,"Social",null,null,null,null,"Health",null,null,null,null,null,null,"Environment",null,null,null,null,null,null,null,null,null,"Economic",null,null,null,null,null,null,null,null,null,null,null,null,"Security & Safety",null,null,null,null,null,null,"Quality",null,null,null,null,null,"Time"]
[null,null,"EEM/NEB","Employee satisfaction","Alleviation of energy poverty","Customers (new, satisfaction, etc.)","Improved supply chain relationships","Work performance","Health and well-being","(avoided) mortality","Disease burden \"daly\"","Sickness & absenteeism","Improved air quality","Improved lighting","Reduced noise","Emission reduction","Impact of EE on RES target achievement ","Ecosystem degradation","Reduced water use ","Reduced material consumption","Reduced emissions (dust, CO2, chemical agents etc.)","Reduced noise pollution","Reduced use of non-renewable resources ","Reduced litigations risks","Reduced waste","Improvement of compatitiveness","Innovation impacts","Reduction of (maintenance) costs","Reduction of emission or disposal fees","Shorter production cycle","Increased production yields","Increased real estate value","Reduction of (operating) costs","Macro economy","Usage of waste streams","Turnover of energy efficiency goods ","Employment effects","Impact on public budgets","Energy security","Security of supply / self sufficiency","Supplier diversity ","Operation safety of equipment","Less maintenance","Electrical safety","Reduced injuries","Accurate monitoring","Right First Time","Increased quality of products","Increased corporate image","Increased regulatory compliance","Risk reduction","Increased productivity","Increased equipment lifetime","Reduced time of fault detection"]
["Building","Envelope","Improvement to visible building envelope elements",1,1,1,1,1,1,1,0,0,-1,-1,1,1,1,0,-1,0,1,1,1,-1,-1,1,1,1,1,1,1,1,1,1,1,1,1,1,1,1,1,1,1,1,1,1,1,1,1,1,1,1,1,1]
[null,null,"Improvements to non-visible building envelope elements",0,1,0,0,0,1,1,0,0,-1,-1,1,1,1,0,-1,0,1,1,1,-1,-1,1,1,1,1,1,1,1,1,1,1,1,1,1,1,1,1,1,1,1,1,1,1,1,1,1,1,1,1,1]
[null,null,"Replacemert of windows",1,1,1,1,1,1,1,0,0,1,-1,1,1,1,0,-1,0,1,1,1,-1,-1,1,1,1,1,1,1,1,1,1,1,1,1,1,1,1,1,1,1,1,1,1,1,1,1,1,1,1,1,1]
[null,null,"Increasing the air-tightness of the building",1,1,1,1,1,1,1,0,0,1,-1,1,1,1,0,-1,0,1,1,1,-1,-1,1,1,1,1,1,1,1,1,1,1,1,1,1,1,1,1,1,1,1,1,1,1,1,1,1,1,1,1,1]
[null,null,"Shading to reduce summer heat gains",1,1,1,1,1,1,1,0,0,0,-1,-1,1,1,0,-1,0,1,1,1,-1,-1,1,1,1,1,1,1,1,1,1,1,1,1,1,1,1,1,1,1,1,1,1,1,1,1,1,1,1,1,1]
[null,"Heating system","Roomwise temperature control",1,1,1,1,1,1,1,0,0,0,-1,-1,1,1,0,-1,0,1,1,1,-1,-1,1,1,1,1,1,1,1,1,1,1,1,1,1,1,1,1,1,1,1,1,1,1,1,1,1,1,1,1,1]
[null,null,"Zoning optimisation of the building",1,1,1,1,1,0,0,0,0,0,-1,-1,1,1,0,-1,0,1,1,0,-1,-1,1,1,1,1,1,1,1,1,1,1,1,1,1,1,1,1,1,1,1,1,1,1,1,1,1,1,1,1,1]
[null,null,"Optimisation of the heating schedule",1,1,1,1,1,0,0,0,0,0,-1,-1,1,1,0,-1,0,1,1,0,-1,-1,1,1,1,1,1,1,1,1,1,1,1,1,1,1,1,1,1,1,1,1,1,1,1,1,1,1,1,1,1]
[null,null,"Lowering setpoint temperature",-1,1,-1,-1,-1,1,1,0,0,0,-1,-1,1,1,0,-1,0,1,1,1,-1,-1,1,1,1,1,1,1,1,1,1,1,1,1,1,1,1,1,1,1,1,1,1,1,1,1,1,1,1,1,1]
[null,null,"Control optimisation",0,1,0,0,0,1,1,0,0,1,-1,1,1,1,0,-1,0,1,1,0,-1,-1,1,1,1,1,1,1,1,1,1,1,1,1,1,1,1,1,1,1,1,1,1,1,1,1,1,1,1,1,1]
[null,null,"Insulation of the distribution network",-1,1,-1,-1,-1,1,1,0,0,0,-1,1,1,1,0,-1,0,1,1,1,-1,-1,1,1,1,1,1,1,1,1,1,1,1,1,1,1,1,1,1,1,1,1,1,1,1,1,1,1,1,1,1]
[null,null,"Hydraulic balancing of the distribution network",-1,1,-1,-1,-1,1,1,0,0,0,-1,1,1,1,0,-1,0,1,1,1,-1,-1,1,1,1,1,1,1,1,1,1,1,1,1,1,1,1,1,1,1,1,1,1,1,1,1,1,1,1,1,1]
[null,null,"New, more efficient heat generator",-1,1,-1,-1,-1,1,1,0,0,0,-1,-1,1,1,0,-1,0,1,1,1,-1,-1,1,1,1,1,1,1,1,1,1,1,1,1,1,1,1,1,1,1,1,1,1,1,1,1,1,1,1,1,1]
[null,null,"Including a renewable based heat source",0,1,0,0,0,1,1,0,0,-1,-1,-1,1,1,0,-1,0,1,1,1,-1,-1,1,1,1,1,1,1,1,1,1,1,1,1,1,1,1,1,1,1,1,1,1,1,1,1,1,1,1,1,1]
[null,null,"Energy efficient pumps",-1,1,-1,-1,-1,1,1,0,0,-1,-1,-1,1,1,0,-1,0,1,1,1,-1,-1,1,1,1,1,1,1,1,1,1,1,1,1,1,1,1,1,1,1,1,1,1,1,1,1,1,1,1,1,1]
[null,"DHW system","Reducing the DHW demand",-1,1,-1,-1,-1,1,1,0,0,-1,-1,-1,1,1,0,1,0,1,1,1,-1,-1,1,1,1,1,1,1,1,1,1,1,1,1,1,1,1,1,1,1,1,1,1,1,1,1,1,1,1,1,1]
[null,null,"Insulation of the distribution network",-1,1,-1,-1,-1,1,1,0,0,-1,-1,1,1,1,0,-1,0,1,1,1,-1,-1,1,1,1,1,1,1,1,1,1,1,1,1,1,1,1,1,1,1,1,1,1,1,1,1,1,1,1,1,1]
[null,null,"Lowering setpoint temperature",-1,1,-1,-1,-1,1,1,0,0,-1,-1,-1,1,1,0,-1,0,1,1,1,-1,-1,1,1,1,1,1,1,1,1,1,1,1,1,1,1,1,1,1,1,1,1,1,1,1,1,1,1,1,1,1]
[null,null,"Circulation network optimisation, decentralisation of DHW production",-1,1,-1,-1,-1,1,1,0,0,-1,-1,1,1,1,0,-1,0,1,1,1,-1,-1,1,1,1,1,1,1,1,1,1,1,1,1,1,1,1,1,1,1,1,1,1,1,1,1,1,1,1,1,1]
[null,null,"New, more efficient heat generator",-1,1,-1,-1,-1,1,1,0,0,-1,-1,-1,1,1,0,-1,0,1,1,1,-1,-1,1,1,1,1,1,1,1,1,1,1,1,1,1,1,1,1,1,1,1,1,1,1,1,1,1,1,1,1,1]
[null,null,"Including a renewable based heat source",-1,1,-1,-1,-1,1,1,0,0,-1,-1,-1,1,1,0,-1,0,1,1,1,-1,-1,1,1,1,1,1,1,1,1,1,1,1,1,1,1,1,1,1,1,1,1,1,1,1,1,1,1,1,1,1]
[null,"Cooling system","Roomwise temperature control",1,1,1,1,1,1,1,0,0,0,-1,-1,1,1,0,-1,0,1,1,1,-1,-1,1,1,1,1,1,1,1,1,1,1,1,1,1,1,1,1,1,1,1,1,1,1,1,1,1,1,1,1,1]
[null,null,"Zoning optimisation of the building",1,1,1,1,1,0,0,0,0,0,-1,-1,1,1,0,-1,0,1,1,0,-1,-1,1,1,1,1,1,1,1,1,1,1,1,1,1,1,1,1,1,1,1,1,1,1,1,1,1,1,1,1,1]
[null,null,"Optimisation of the cooling schedule",1,1,1,1,1,0,0,0,0,0,-1,-1,1,1,0,-1,0,1,1,0,-1,-1,1,1,1,1,1,1,1,1,1,1,1,1,1,1,1,1,1,1,1,1,1,1,1,1,1,1,1,1,1]
[null,null,"Increasing setpoint temperature",-1,1,-1,-1,-1,1,1,0,0,0,-1,-1,1,1,0,-1,0,1,1,1,-1,-1,1,1,1,1,1,1,1,1,1,1,1,1,1,1,1,1,1,1,1,1,1,1,1,1,1,1,1,1,1]
[null,null,"Control optimisation",0,1,0,0,0,1,1,0,0,1,-1,1,1,1,0,-1,0,1,1,0,-1,-1,1,1,1,1,1,1,1,1,1,1,1,1,1,1,1,1,1,1,1,1,1,1,1,1,1,1,1,1,1]
[null,null,"Insulation of the distribution network",-1,1,-1,-1,-1,1,1,0,0,0,-1,1,1,1,0,-1,0,1,1,1,-1,-1,1,1,1,1,1,1,1,1,1,1,1,1,1,1,1,1,1,1,1,1,1,1,1,1,1,1,1,1,1]
[null,null,"Hydraulic balancing of the distribution network",-1,1,-1,-1,-1,1,1,0,0,-1,-1,1,1,1,0,-1,0,1,1,1,-1,-1,1,1,1,1,1,1,1,1,1,1,1,1,1,1,1,1,1,1,1,1,1,1,1,1,1,1,1,1,1]
[null,null,"New, more efficient heat generator",-1,1,-1,-1,-1,1,1,0,0,-1,-1,-1,1,1,0,-1,0,1,1,1,-1,-1,1,1,1,1,1,1,1,1,1,1,1,1,1,1,1,1,1,1,1,1,1,1,1,1,1,1,1,1,1]
[null,null,"Energy efficient pumps",-1,1,-1,-1,-1,1,1,0,0,-1,-1,1,1,1,0,-1,0,1,1,1,-1,-1,1,1,1,1,1,1,1,1,1,1,1,1,1,1,1,1,1,1,1,1,1,1,1,1,1,1,1,1,1]
[null,null,"Utilisation of free cooling",-1,1,-1,-1,-1,1,1,0,0,-1,-1,-1,1,1,0,-1,0,1,1,1,-1,-1,1,1,1,1,1,1,1,1,1,1,1,1,1,1,1,1,1,1,1,1,1,1,1,1,1,1,1,1,1]
[null,null,"Utilising the waste heat from the cooling system for heating&DHW",-1,1,-1,-1,-1,1,1,0,0,-1,-1,-1,1,1,0,-1,0,1,1,1,-1,-1,1,1,1,1,1,1,1,1,1,1,1,1,1,1,1,1,1,1,1,1,1,1,1,1,1,1,1,1,1]
[null,"Ventilation system","Schedule optimisation",1,1,1,1,1,0,0,0,0,1,-1,1,1,1,0,-1,0,1,1,0,-1,-1,1,1,1,1,1,1,1,1,1,1,1,1,1,1,1,1,1,1,1,1,1,1,1,1,1,1,1,1,1]
[null,null,"Control optimisation",1,1,1,1,1,1,1,0,0,1,-1,1,1,1,0,-1,0,1,1,1,-1,-1,1,1,1,1,1,1,1,1,1,1,1,1,1,1,1,1,1,1,1,1,1,1,1,1,1,1,1,1,1]
[null,null,"Air velocity optimisation",1,1,1,1,1,0,0,0,0,1,-1,1,1,1,0,-1,0,1,1,1,-1,-1,1,1,1,1,1,1,1,1,1,1,1,1,1,1,1,1,1,1,1,1,1,1,1,1,1,1,1,1,1]
[null,null,"Inlet air temperature optimisation",1,1,1,1,1,1,1,0,0,1,-1,-1,1,1,0,-1,0,1,1,1,-1,-1,1,1,1,1,1,1,1,1,1,1,1,1,1,1,1,1,1,1,1,1,1,1,1,1,1,1,1,1,1]
[null,null,"Heat recovery",-1,1,-1,-1,-1,1,1,0,0,1,-1,-1,1,1,0,-1,0,1,1,1,-1,-1,1,1,1,1,1,1,1,1,1,1,1,1,1,1,1,1,1,1,1,1,1,1,1,1,1,1,1,1,1]
[null,null,"Energy efficient fans",-1,1,-1,-1,-1,1,1,0,0,1,-1,1,1,1,0,-1,0,1,1,1,-1,-1,1,1,1,1,1,1,1,1,1,1,1,1,1,1,1,1,1,1,1,1,1,1,1,1,1,1,1,1,1]
[null,"Lighting","Energy efficient lights (e.g LED)",1,1,1,1,1,1,1,0,0,-1,1,-1,1,1,0,-1,0,1,1,1,-1,-1,1,1,1,1,1,1,1,1,1,1,1,1,1,1,1,1,1,1,1,1,1,1,1,1,1,1,1,1,1]
[null,null,"Level of illumination",1,1,1,1,1,1,1,0,0,-1,1,-1,1,1,0,-1,0,1,1,1,-1,-1,1,1,1,1,1,1,1,1,1,1,1,1,1,1,1,1,1,1,1,1,1,1,1,1,1,1,1,1,1]
[null,null,"Schedule optimisation",1,1,1,1,1,0,0,0,0,-1,1,-1,1,1,0,-1,0,1,1,0,-1,-1,1,1,1,1,1,1,1,1,1,1,1,1,1,1,1,1,1,1,1,1,1,1,1,1,1,1,1,1,1]
[null,null,"Control optimisation",1,1,1,1,1,1,1,0,0,-1,1,-1,1,1,0,-1,0,1,1,0,-1,-1,1,1,1,1,1,1,1,1,1,1,1,1,1,1,1,1,1,1,1,1,1,1,1,1,1,1,1,1,1]
[null,null,"Utilisation of natural light",1,1,1,1,1,1,1,0,0,-1,1,-1,1,1,0,-1,0,1,1,1,-1,-1,1,1,1,1,1,1,1,1,1,1,1,1,1,1,1,1,1,1,1,1,1,1,1,1,1,1,1,1,1]
[null,"Renewable energy","Solar PV",0,1,0,0,0,1,1,0,0,-1,-1,-1,1,1,0,-1,0,1,1,1,-1,-1,1,1,1,1,1,1,1,1,1,1,1,1,1,1,1,1,1,1,1,1,1,1,1,1,1,1,1,1,1]
[null,null,"Wind turbine",0,1,0,0,0,1,1,0,0,-1,-1,-1,1,1,0,-1,0,1,1,1,-1,-1,1,1,1,1,1,1,1,1,1,1,1,1,1,1,1,1,1,1,1,1,1,1,1,1,1,1,1,1,1]
[null,null,"Solar collector system",0,1,0,0,0,1,1,0,0,-1,-1,-1,1,1,0,-1,0,1,1,1,-1,-1,1,1,1,1,1,1,1,1,1,1,1,1,1,1,1,1,1,1,1,1,1,1,1,1,1,1,1,1,1]
[null,null,"Geothermal heat pump system",0,1,0,0,0,1,1,0,0,-1,-1,-1,1,1,0,-1,0,1,1,1,-1,-1,1,1,1,1,1,1,1,1,1,1,1,1,1,1,1,1,1,1,1,1,1,1,1,1,1,1,1,1,1]
[null,null,"Passive measures",1,1,1,1,1,1,1,0,0,-1,-1,-1,1,1,0,-1,0,1,1,1,-1,-1,1,1,1,1,1,1,1,1,1,1,1,1,1,1,1,1,1,1,1,1,1,1,1,1,1,1,1,1,1]
[null,"Appliances","Energy efficient appliances",-1,1,-1,-1,-1,1,1,0,0,-1,-1,-1,1,1,0,-1,0,1,1,1,-1,-1,1,1,1,1,1,1,1,1,1,1,1,1,1,1,1,1,1,1,1,1,1,1,1,1,1,1,1,1,1]
[null,null,"Reducing stand-by consumption",-1,1,-1,-1,-1,1,1,0,0,-1,-1,-1,1,1,0,-1,0,1,1,1,-1,-1,1,1,1,1,1,1,1,1,1,1,1,1,1,1,1,1,1,1,1,1,1,1,1,1,1,1,1,1,1]
[null,null,"Optimal usage, on demand operation",-1,1,-1,-1,-1,1,1,0,0,-1,-1,-1,1,1,0,-1,0,1,1,1,-1,-1,1,1,1,1,1,1,1,1,1,1,1,1,1,1,1,1,1,1,1,1,1,1,1,1,1,1,1,1,1]
[null,"Building automation","Building automation and management systems",-1,1,-1,-1,-1,1,1,0,0,-1,-1,-1,1,1,0,-1,0,1,1,0,-1,-1,1,1,1,1,1,1,1,1,1,1,1,1,1,1,1,1,1,1,1,1,1,1,1,1,1,1,1,1,1]
[null,null,"Energy management system",-1,1,-1,-1,-1,1,1,0,0,-1,-1,-1,1,1,0,-1,0,1,1,0,-1,-1,1,1,1,1,1,1,1,1,1,1,1,1,1,1,1,1,1,1,1,1,1,1,1,1,1,1,1,1,1]
[null,null,"Measured consumption",-1,1,-1,-1,-1,1,1,0,0,-1,-1,-1,1,1,0,-1,0,1,1,0,-1,-1,1,1,1,1,1,1,1,1,1,1,1,1,1,1,1,1,1,1,1,1,1,1,1,1,1,1,1,1,1]
[null,null,"Improved smart-readiness",-1,1,-1,-1,-1,-1,-1,0,0,-1,-1,-1,1,1,0,-1,0,1,1,0,-1,-1,1,1,1,1,1,1,1,1,1,1,1,1,1,1,1,1,1,1,1,1,1,1,1,1,1,1,1,1,1]
["Processes","Compressed air system","Check the required pressure",-1,-1,-1,-1,-1,1,1,0,0,-1,-1,1,1,1,0,-1,0,1,1,1,-1,-1,1,1,1,1,1,1,1,1,1,1,1,1,1,1,1,1,1,1,1,1,1,1,1,1,1,1,1,1,1]
[null,null,"Regular check for leakages",-1,-1,-1,-1,-1,1,1,0,0,-1,-1,1,1,1,0,-1,0,1,1,1,-1,-1,1,1,1,1,1,1,1,1,1,1,1,1,1,1,1,1,1,1,1,1,1,1,1,1,1,1,1,1,1]
[null,null,"Waste heat recovery ",-1,-1,-1,-1,-1,1,1,0,0,-1,-1,1,1,1,0,-1,0,1,1,1,-1,-1,1,1,1,1,1,1,1,1,1,1,1,1,1,1,1,1,1,1,1,1,1,1,1,1,1,1,1,1,1]
[null,null,"Regular maintenance of the compressor",-1,-1,-1,-1,-1,1,1,0,0,-1,-1,1,1,1,0,-1,0,1,1,1,-1,-1,1,1,1,1,1,1,1,1,1,1,1,1,1,1,1,1,1,1,1,1,1,1,1,1,1,1,1,1,1]
[null,"Steam system","Check the required pressure",-1,-1,-1,-1,-1,1,1,0,0,-1,-1,1,1,1,0,1,0,1,1,1,-1,-1,1,1,1,1,1,1,1,1,1,1,1,1,1,1,1,1,1,1,1,1,1,1,1,1,1,1,1,1,1]
[null,null,"Check for leakages",-1,-1,-1,-1,-1,1,1,0,0,-1,-1,1,1,1,0,1,0,1,1,1,-1,-1,1,1,1,1,1,1,1,1,1,1,1,1,1,1,1,1,1,1,1,1,1,1,1,1,1,1,1,1,1]
[null,null,"Regular maintenance of the boiler",-1,-1,-1,-1,-1,1,1,0,0,-1,-1,1,1,1,0,1,0,1,1,1,-1,-1,1,1,1,1,1,1,1,1,1,1,1,1,1,1,1,1,1,1,1,1,1,1,1,1,1,1,1,1,1]
[null,"Refrigeration","Optimisation of the required temperatures",-1,1,-1,-1,-1,1,1,0,0,-1,-1,-1,1,1,0,-1,0,1,1,1,-1,-1,1,1,1,1,1,1,1,1,1,1,1,1,1,1,1,1,1,1,1,1,1,1,1,1,1,1,1,1,1]
[null,null,"Waste heat recovery ",-1,1,-1,-1,-1,1,1,0,0,-1,-1,-1,1,1,0,-1,0,1,1,1,-1,-1,1,1,1,1,1,1,1,1,1,1,1,1,1,1,1,1,1,1,1,1,1,1,1,1,1,1,1,1,1]
[null,null,"Install frequency control (i.e. VRF) on chiller compressor.",-1,1,-1,-1,-1,1,1,0,0,-1,-1,-1,1,1,0,-1,0,1,1,1,-1,-1,1,1,1,1,1,1,1,1,1,1,1,1,1,1,1,1,1,1,1,1,1,1,1,1,1,1,1,1,1]
[null,null,"Install high efficiency or 2-rev electromotor on evaporation fan",-1,1,-1,-1,-1,1,1,0,0,-1,-1,-1,1,1,0,-1,0,1,1,1,-1,-1,1,1,1,1,1,1,1,1,1,1,1,1,1,1,1,1,1,1,1,1,1,1,1,1,1,1,1,1,1]
[null,null,"Build a cooled front space for refrigeration units.",-1,1,-1,-1,-1,1,1,0,0,-1,-1,1,1,1,0,-1,0,1,1,1,-1,-1,1,1,1,1,1,1,1,1,1,1,1,1,1,1,1,1,1,1,1,1,1,1,1,1,1,1,1,1,1]
[null,null,"Use hot refrigerant gas from the compressor for the initial stages of the defrosting cycle.",-1,1,-1,-1,-1,1,1,0,0,-1,-1,-1,1,1,0,-1,0,1,1,1,-1,-1,1,1,1,1,1,1,1,1,1,1,1,1,1,1,1,1,1,1,1,1,1,1,1,1,1,1,1,1,1]
[null,null,"Use excess heat from other production processes for the production of cooling using adsorption/absorption cooling.",-1,1,-1,-1,-1,1,1,0,0,-1,-1,-1,1,1,0,-1,0,1,1,1,-1,-1,1,1,1,1,1,1,1,1,1,1,1,1,1,1,1,1,1,1,1,1,1,1,1,1,1,1,1,1,1]
[null,null,"Utilisation of free cooling",-1,1,-1,-1,-1,1,1,0,0,-1,-1,1,1,1,0,-1,0,1,1,1,-1,-1,1,1,1,1,1,1,1,1,1,1,1,1,1,1,1,1,1,1,1,1,1,1,1,1,1,1,1,1,1]
[null,null,"Replacement of the equipment.",-1,1,-1,-1,-1,1,1,0,0,-1,-1,1,1,1,0,-1,0,1,1,1,-1,-1,1,1,1,1,1,1,1,1,1,1,1,1,1,1,1,1,1,1,1,1,1,1,1,1,1,1,1,1,1]
[null,"Water systems","Efficient pumps for the Water treatment system (if any)",-1,1,-1,-1,-1,1,1,0,0,-1,-1,-1,1,1,0,1,0,1,1,1,-1,-1,1,1,1,1,1,1,1,1,1,1,1,1,1,1,1,1,1,1,1,1,1,1,1,1,1,1,1,1,1]
[null,null,"Advanced process of water recovery ",-1,1,-1,-1,-1,1,1,0,0,-1,-1,-1,1,1,0,1,0,1,1,1,-1,-1,1,1,1,1,1,1,1,1,1,1,1,1,1,1,1,1,1,1,1,1,1,1,1,1,1,1,1,1,1]
[null,"Production line","Optimisation of the production process and workflow",0,-1,0,0,0,1,1,0,0,-1,-1,-1,1,1,0,-1,0,1,1,1,-1,-1,1,1,1,1,1,1,1,1,1,1,1,1,1,1,1,1,1,1,1,1,1,1,1,1,1,1,1,1,1]
[null,null,"Waste reduction & recycling in the production line ",0,-1,0,0,0,1,1,0,0,-1,-1,-1,1,1,0,-1,0,1,1,1,-1,-1,1,1,1,1,1,1,1,1,1,1,1,1,1,1,1,1,1,1,1,1,1,1,1,1,1,1,1,1,1]
[null,null,"Optimization of motor driven systems ",-1,-1,-1,-1,-1,1,1,0,0,-1,-1,1,1,1,0,-1,0,1,1,1,-1,-1,1,1,1,1,1,1,1,1,1,1,1,1,1,1,1,1,1,1,1,1,1,1,1,1,1,1,1,1,1]
[null,null,"High efficient transmission system",-1,-1,-1,-1,-1,1,1,0,0,-1,-1,1,1,1,0,-1,0,1,1,1,-1,-1,1,1,1,1,1,1,1,1,1,1,1,1,1,1,1,1,1,1,1,1,1,1,1,1,1,1,1,1,1]
[null,null,"Reduction of the manual labor",1,-1,1,1,1,-1,-1,0,0,-1,-1,1,1,1,0,-1,0,1,1,1,-1,-1,1,1,1,1,1,1,1,1,1,1,1,1,1,1,1,1,1,1,1,1,1,1,1,1,1,1,1,1,1]
[null,null,"Regular maintenance of the equipment",1,-1,1,1,1,1,1,0,0,-1,-1,1,1,1,0,-1,0,1,1,1,-1,-1,1,1,1,1,1,1,1,1,1,1,1,1,1,1,1,1,1,1,1,1,1,1,1,1,1,1,1,1,1]
[null,null,"Replacement of the equipment",1,-1,1,1,1,1,1,0,0,-1,-1,1,1,1,0,-1,0,1,1,1,-1,-1,1,1,1,1,1,1,1,1,1,1,1,1,1,1,1,1,1,1,1,1,1,1,1,1,1,1,1,1,1]
[null,null,"Waste heat recovery ",-1,-1,-1,-1,-1,1,1,0,0,-1,-1,-1,1,1,0,-1,0,1,1,1,-1,-1,1,1,1,1,1,1,1,1,1,1,1,1,1,1,1,1,1,1,1,1,1,1,1,1,1,1,1,1,1]
[null,null,"Low-carbon packaging ",-1,-1,-1,-1,-1,1,1,0,0,-1,-1,-1,1,1,0,-1,0,1,1,1,-1,-1,1,1,1,1,1,1,1,1,1,1,1,1,1,1,1,1,1,1,1,1,1,1,1,1,1,1,1,1,1]
["Transport","Transport of goods","Optimisation of timetables",1,-1,1,1,1,1,1,0,0,-1,-1,-1,1,1,0,-1,0,1,1,1,-1,-1,1,1,1,1,1,1,1,1,1,1,1,1,1,1,1,1,1,1,1,1,1,1,1,1,1,1,1,1,1]
[null,null,"Optimisation of routes",1,-1,1,1,1,1,1,0,0,-1,-1,-1,1,1,0,-1,0,1,1,1,-1,-1,1,1,1,1,1,1,1,1,1,1,1,1,1,1,1,1,1,1,1,1,1,1,1,1,1,1,1,1,1]
[null,null,"Optimisation of loads",1,-1,1,1,1,1,1,0,0,-1,-1,-1,1,1,0,-1,0,1,1,1,-1,-1,1,1,1,1,1,1,1,1,1,1,1,1,1,1,1,1,1,1,1,1,1,1,1,1,1,1,1,1,1]
[null,null,"Optimisation of the fleet",1,-1,1,1,1,1,1,0,0,-1,-1,-1,1,1,0,-1,0,1,1,1,-1,-1,1,1,1,1,1,1,1,1,1,1,1,1,1,1,1,1,1,1,1,1,1,1,1,1,1,1,1,1,1]
[null,null,"Promote electromobility",1,-1,1,1,1,1,1,0,0,-1,-1,-1,1,1,0,-1,0,1,1,1,-1,-1,1,1,1,1,1,1,1,1,1,1,1,1,1,1,1,1,1,1,1,1,1,1,1,1,1,1,1,1,1]
[null,null,"Promotion of modal shift for freight",1,-1,1,1,1,1,1,0,0,-1,-1,-1,1,1,0,-1,0,1,1,1,-1,-1,1,1,1,1,1,1,1,1,1,1,1,1,1,1,1,1,1,1,1,1,1,1,1,1,1,1,1,1,1]
[null,null,"Regular maintenance",1,-1,1,1,1,1,1,0,0,-1,-1,1,1,1,0,-1,0,1,1,1,-1,-1,1,1,1,1,1,1,1,1,1,1,1,1,1,1,1,1,1,1,1,1,1,1,1,1,1,1,1,1,1]
[null,null,"Driver training",1,-1,1,1,1,1,1,0,0,-1,-1,1,1,1,0,-1,0,1,1,1,-1,-1,1,1,1,1,1,1,1,1,1,1,1,1,1,1,1,1,1,1,1,1,1,1,1,1,1,1,1,1,1]
["Management & Maintenance measures","Management & Maintenance measures","Green supply chain management",0,-1,1,1,0,-1,-1,0,0,-1,-1,-1,1,1,0,-1,0,1,1,1,-1,-1,1,1,1,1,1,1,1,1,1,1,1,1,1,1,1,1,1,1,1,1,1,1,1,1,1,1,1,1,1]
[null,null,"Improved energy management",0,-1,1,1,0,1,1,0,0,-1,-1,-1,1,1,0,-1,0,1,1,1,-1,-1,1,1,1,1,1,1,1,1,1,1,1,1,1,1,1,1,1,1,1,1,1,1,1,1,1,1,1,1,1]
[null,null,"Improved environmental awareness at the management level",0,-1,1,1,0,-1,-1,0,0,-1,-1,-1,1,1,0,-1,0,1,1,1,-1,-1,1,1,1,1,1,1,1,1,1,1,1,1,1,1,1,1,1,1,1,1,1,1,1,1,1,1,1,1,1]
["Occupant behaviour","Occupant behaviour","Employee engagement and training",1,-1,1,1,1,-1,-1,0,0,-1,-1,1,1,1,0,-1,0,1,1,1,-1,-1,1,1,1,1,1,1,1,1,1,1,1,1,1,1,1,1,1,1,1,1,1,1,1,1,1,1,1,1,1]
[null,null,"Motivation",1,-1,1,1,1,-1,-1,0,0,-1,-1,1,1,1,0,-1,0,1,1,1,-1,-1,1,1,1,1,1,1,1,1,1,1,1,1,1,1,1,1,1,1,1,1,1,1,1,1,1,1,1,1,1]

{"sheet":"GRC_leg","index":36,"n_rows":97,"n_cols":54,"rows_kept":97,"cut":false,"hidden":true,"merged":[[0,51,0,53],[2,0,56,0],[2,1,6,1],[7,1,16,1],[17,1,22,1],[23,1,33,1],[34,1,39,1],[40,1,44,1],[45,1,49,1],[50,1,52,1],[0,3,0,8],[0,9,0,14],[0,15,0,24],[0,25,0,37],[0,38,0,44],[0,45,0,50],[53,1,56,1],[57,0,83,0],[57,1,60,1],[61,1,63,1],[64,1,72,1],[73,1,74,1],[75,1,83,1],[84,0,91,0],[84,1,91,1],[92,0,94,0],[92,1,94,1],[95,0,96,0],[95,1,96,1]]}
[null,null,null,"Social",null,null,null,null,null,"Health",null,null,null,null,null,"Environment",null,null,null,null,null,null,null,null,null,"Economic",null,null,null,null,null,null,null,null,null,null,null,null,"Security & Safety",null,null,null,null,null,null,"Quality",null,null,null,null,null,"Time"]
[null,null,"EEM/ NEB","Health and well-being","Alleviation of energy poverty","Employee satisfaction","Customers (new, satisfaction, etc.)","Improved supply chain relationships","Work performance","(avoided) mortality","Disease burden \"daly\"","Sickness & absenteeism","Improved air quality","Improved lighting","Reduced noise","Emission reduction","Impact of EE on RES target achievement ","Ecosystem degradation","Reduced water use ","Reduced material consumption","Reduced emissions (dust, CO2, chemical agents etc.)","Reduced noise pollution","Reduced use of non-renewable resources ","Reduced litigations risks","Reduced waste","Improvement of compatitiveness","Innovation impacts","Reduction of (maintenance) costs","Reduction of emission or disposal fees","Shorter production cycle","Increased production yields","Increased real estate value","Reduction of (operating) costs","Macro economy","Usage of waste streams","Turnover of energy efficiency goods ","Employment effects","Impact on public budgets","Energy security","Security of supply / self sufficiency","Supplier diversity ","Operation safety of equipment","Less maintenance","Electrical safety","Reduced injuries","Accurate monitoring","Right First Time","Increased quality of products","Increased corporate image","Increased regulatory compliance","Risk reduction","Increased productivity","Increased equipment lifetime","Reduced time of fault detection"]
["Building","Envelope","Improvement to visible building envelope elements",0,0,0,0,0,0,0,0,0,0,0,0,1,1,0,0,0,1,0,0,0,0,0,0,0,1,0,0,1,1,0,0,0,0,1,1,0,0,0,0,0,0,0,0,0,1,0,0,0,0,0]
[null,null,"Improvements to non-visible building envelope elements",0,0,0,0,0,0,0,0,0,0,0,0,1,1,0,0,0,1,0,0,0,0,0,0,0,1,0,0,1,1,0,0,0,0,1,1,0,0,0,0,0,0,0,0,0,0,0,0,0,0,0]
[null,null,"Replacemert of windows",1,0,0,0,0,0,0,0,0,0,0,0,1,1,0,0,0,1,0,0,0,0,0,0,0,1,0,0,1,1,0,0,0,0,1,1,0,0,0,0,0,0,0,0,0,0,0,0,0,0,0]
[null,null,"Increasing the air-tightness of the building",1,0,1,0,0,1,0,0,0,1,0,1,1,1,0,0,0,1,1,0,0,0,0,0,0,1,0,0,1,1,0,0,0,0,1,1,0,0,0,0,0,0,0,0,0,0,0,0,0,0,0]
[null,null,"Shading to reduce summer heat gains",1,0,1,0,0,1,0,0,0,0,0,0,1,1,0,0,0,1,0,0,0,0,0,0,0,1,0,0,0,1,0,0,0,0,1,1,0,0,0,0,0,0,0,0,0,0,0,0,0,0,0]
[null,"Heating system","Roomwise temperature control",0,0,0,0,0,0,0,0,0,0,0,0,1,1,0,0,0,1,0,0,0,0,1,0,0,1,0,0,0,1,0,0,0,0,1,1,0,0,0,0,0,0,1,0,0,0,0,0,0,0,0]
[null,null,"Zoning optimisation of the building",0,0,0,0,0,0,0,0,0,0,0,0,0,0,0,0,0,0,0,0,0,0,0,0,0,1,0,0,0,1,0,0,0,0,0,1,0,0,0,0,0,0,0,0,0,0,0,0,0,0,0]
[null,null,"Optimisation of the heating schedule",0,0,1,0,0,0,0,0,0,0,0,0,0,0,0,0,0,0,0,0,0,0,0,0,0,1,0,0,0,1,0,0,0,0,0,1,0,0,0,0,0,0,1,0,0,0,0,0,0,1,0]
[null,null,"Lowering setpoint temperature",0,0,-1,0,0,0,0,0,0,0,0,0,1,1,0,0,0,1,0,0,0,0,0,0,0,1,0,0,0,1,0,0,0,0,1,1,0,0,0,0,0,0,0,0,0,0,0,0,0,1,0]
[null,null,"Control optimisation",0,0,0,0,0,0,0,0,0,0,0,0,0,0,0,0,0,0,0,0,0,0,0,0,0,1,0,0,0,1,0,0,0,0,0,1,0,0,0,0,0,0,1,0,0,0,0,1,0,0,0]
[null,null,"Insulation of the distribution network",0,0,0,0,0,0,0,0,0,0,0,0,1,0,0,0,0,0,0,0,0,0,0,0,0,1,0,0,0,1,0,0,0,0,1,1,0,0,0,0,0,0,0,0,0,0,0,0,0,1,0]
[null,null,"Hydraulic balancing of the distribution network",0,0,0,0,0,0,0,0,0,0,0,0,1,0,0,0,0,0,0,0,0,0,0,0,0,1,0,0,0,1,0,0,0,0,1,1,0,0,0,0,0,0,0,0,0,0,0,0,0,0,0]
[null,null,"New, more efficient heat generator",0,0,0,0,0,0,0,0,0,0,0,0,1,0,0,0,0,0,0,0,0,0,0,0,1,1,0,0,0,1,0,0,0,0,1,1,0,0,0,0,0,0,0,0,0,0,1,0,0,0,0]
[null,null,"Including a renewable based heat source",0,0,0,1,0,0,0,0,0,0,0,0,1,1,0,0,0,1,1,0,0,0,0,0,0,1,0,0,0,1,0,0,0,0,1,1,1,0,0,0,0,0,0,0,0,1,1,0,0,0,0]
[null,null,"Energy efficient pumps",0,0,0,0,0,0,0,0,0,0,0,0,1,1,0,0,0,1,0,0,0,0,0,0,0,1,0,0,0,1,0,0,0,0,1,1,0,0,0,0,0,0,0,0,0,0,1,0,0,0,0]
[null,"DHW system","Reducing the DHW demand",0,0,0,0,0,0,0,0,0,0,0,0,1,1,0,1,0,1,0,0,0,0,0,0,0,1,0,0,0,1,0,0,0,0,0,1,0,0,0,0,0,0,0,0,0,0,0,0,0,0,0]
[null,null,"Insulation of the distribution network",0,0,0,0,0,0,0,0,0,0,0,0,1,1,0,0,0,1,0,0,0,0,0,0,0,1,0,0,0,1,0,0,0,0,1,1,0,0,0,0,0,0,0,0,0,0,0,0,0,1,0]
[null,null,"Lowering setpoint temperature",0,0,0,0,0,0,0,0,0,0,0,0,1,1,0,0,0,1,0,0,0,0,0,0,0,1,0,0,0,1,0,0,0,0,1,1,0,0,0,0,0,0,0,0,0,0,0,0,0,0,0]
[null,null,"Circulation network optimisation, decentralisation of DHW production",0,0,0,0,0,0,0,0,0,0,0,0,0,0,0,0,0,0,0,0,0,0,0,0,0,1,0,0,0,1,0,0,0,0,1,1,0,0,0,0,0,0,0,0,0,0,0,0,0,0,0]
[null,null,"New, more efficient heat generator",0,0,0,0,0,0,0,0,0,0,0,0,1,1,0,0,0,1,0,0,0,0,1,0,1,1,0,0,0,1,0,0,0,0,1,1,0,0,0,0,0,0,0,0,0,0,1,0,0,0,0]
[null,null,"Including a renewable based heat source",0,0,0,1,0,0,0,0,0,0,0,0,1,1,0,0,0,1,1,0,0,0,1,0,0,1,0,0,0,1,0,0,0,0,1,1,0,0,0,0,0,0,0,0,0,1,1,0,0,0,0]
[null,"Cooling system","Roomwise temperature control",0,0,0,0,0,0,0,0,0,0,0,0,1,1,0,0,0,1,0,0,0,0,1,0,0,1,0,0,0,1,0,0,0,0,1,1,0,0,0,0,0,0,1,0,0,0,0,0,0,0,0]
[null,null,"Zoning optimisation of the building",0,0,0,0,0,0,0,0,0,0,0,0,0,0,0,0,0,0,0,0,0,0,0,0,0,1,0,0,0,1,0,0,0,0,0,1,0,0,0,0,0,0,0,0,0,0,0,0,0,0,0]
[null,null,"Optimisation of the cooling schedule",0,0,0,0,0,0,0,0,0,0,0,0,0,0,0,0,0,0,0,0,0,0,0,0,0,1,0,0,0,1,0,0,0,0,0,1,0,0,0,0,0,0,1,0,0,0,0,0,0,0,0]
[null,null,"Increasing setpoint temperature",0,0,-1,0,0,0,0,0,0,0,0,0,1,1,0,0,0,1,0,0,0,0,0,0,0,1,0,0,0,1,0,0,0,0,0,1,0,0,0,0,0,0,0,0,0,0,0,0,0,0,0]
[null,null,"Control optimisation",0,0,0,0,0,0,0,0,0,0,0,0,0,0,0,0,0,0,0,0,0,0,0,0,0,1,0,0,0,1,0,0,0,0,0,1,0,0,0,0,0,0,1,0,0,0,0,1,0,0,0]
[null,null,"Insulation of the distribution network",0,0,0,0,0,0,0,0,0,0,0,0,1,1,0,0,0,1,0,0,0,0,0,0,0,1,0,0,0,1,0,0,0,0,1,1,0,0,0,0,0,0,0,0,0,0,0,0,0,1,0]
[null,null,"Hydraulic balancing of the distribution network",0,0,0,0,0,0,0,0,0,0,0,0,1,1,0,0,0,1,0,0,0,0,0,0,0,1,0,0,0,1,0,0,0,0,1,1,0,0,0,0,0,0,0,0,0,0,0,0,0,0,0]
[null,null,"New, more efficient heat generator",0,0,0,0,0,0,0,0,0,0,0,0,1,1,0,0,0,1,0,0,0,0,1,0,1,1,0,0,0,1,0,0,0,0,1,1,0,0,0,0,0,0,0,0,0,0,0,0,0,0,0]
[null,null,"Energy efficient pumps",0,0,0,0,0,0,0,0,0,0,0,0,1,1,0,0,0,1,1,0,0,0,1,0,0,1,0,0,0,1,0,0,0,0,1,1,0,0,0,0,0,0,0,0,0,0,0,0,0,0,0]
[null,null,"Utilisation of free cooling",1,0,1,0,0,0,0,0,0,1,0,0,1,1,0,0,0,1,0,0,0,0,0,0,0,1,0,0,0,1,0,0,0,0,1,1,0,0,0,0,0,0,0,0,0,0,0,0,0,0,0]
[null,null,"Utilising the waste heat from the cooling system for heating&DHW",0,0,0,0,0,0,0,0,0,0,0,0,1,1,0,0,0,1,0,0,0,0,0,0,0,1,0,0,0,1,0,0,0,0,1,1,0,0,0,0,0,0,0,0,0,0,0,0,0,0,0]
[null,"Ventilation system","Schedule optimisation",0,0,0,0,0,0,0,0,0,0,0,0,0,0,0,0,0,0,0,0,0,0,0,0,0,1,0,0,0,1,0,0,0,0,0,0,0,0,0,0,0,0,0,0,0,0,0,1,0,1,0]
[null,null,"Control optimisation",0,0,0,0,0,0,0,0,0,1,0,0,0,0,0,0,0,0,0,0,0,0,0,0,0,1,0,0,0,1,0,0,0,0,0,0,0,0,0,0,0,0,1,0,0,0,0,1,0,0,0]
[null,null,"Air velocity optimisation",0,0,0,0,0,0,0,0,1,1,0,0,1,1,0,0,0,1,0,0,0,0,0,0,0,1,0,0,0,1,0,0,0,0,0,0,0,0,0,0,0,0,0,0,0,0,0,0,0,0,0]
[null,null,"Inlet air temperature optimisation",0,0,0,0,0,0,0,0,0,1,0,0,0,0,0,0,0,0,0,0,0,0,0,0,0,1,0,0,0,1,0,0,0,0,0,0,0,0,0,0,0,0,0,0,0,0,0,0,0,0,0]
[null,null,"Heat recovery",0,0,0,0,0,0,0,0,0,0,0,0,1,1,0,0,0,1,0,0,0,0,0,0,0,1,0,0,0,1,0,1,0,0,1,0,1,0,0,0,0,0,0,0,0,0,0,0,0,0,0]
[null,null,"Energy efficient fans",0,0,0,0,0,0,0,0,0,0,0,0,1,1,0,0,0,1,1,0,0,0,0,0,0,1,0,0,0,1,0,0,0,0,1,0,0,0,0,0,0,0,0,0,0,0,0,0,0,0,0]
[null,"Lighting","Energy efficient lights (e.g LED)",0,0,0,0,0,0,0,0,0,0,1,0,1,1,0,0,0,1,0,0,0,0,0,0,0,1,0,0,0,1,0,0,0,0,1,0,0,0,0,0,0,0,0,0,0,1,1,0,0,0,0]
[null,null,"Level of illumination",1,0,1,0,0,1,0,0,1,0,1,0,1,1,0,0,0,1,0,0,0,0,1,0,0,1,0,0,0,1,0,0,0,0,1,0,0,0,0,0,0,1,0,0,0,0,0,0,1,0,0]
[null,null,"Schedule optimisation",0,0,0,0,0,0,0,0,0,0,1,0,0,0,0,0,0,0,0,0,0,0,0,0,0,1,0,0,0,1,0,0,0,0,0,0,0,0,0,0,0,0,0,0,0,0,0,0,0,1,0]
[null,null,"Control optimisation",0,0,0,0,0,0,0,0,0,0,1,0,0,0,0,0,0,0,0,0,0,0,0,0,0,1,0,0,0,1,0,0,0,0,0,0,0,0,0,0,0,0,1,0,0,0,0,0,0,0,0]
[null,null,"Utilisation of natural light",1,0,1,0,0,1,0,0,0,0,1,0,1,1,0,0,0,1,0,0,0,0,0,0,0,1,0,0,0,1,0,0,0,0,1,0,0,0,0,0,0,0,0,0,0,0,0,0,1,0,0]
[null,"Renewable energy","Solar PV",0,0,0,1,0,0,0,0,0,0,0,0,1,0,0,0,0,1,1,0,0,0,1,0,0,1,0,0,0,1,0,0,1,0,1,1,1,0,0,0,0,0,0,0,0,1,1,0,0,0,0]
[null,null,"Wind turbine",0,0,0,1,0,0,0,0,0,0,0,0,1,0,0,0,0,1,-1,0,0,0,1,0,0,1,0,0,0,1,0,0,1,0,1,1,1,0,0,0,0,0,0,0,0,1,0,0,0,0,0]
[null,null,"Solar collector system",0,0,0,1,0,0,0,0,0,0,0,0,1,0,0,0,0,1,1,0,0,0,1,0,0,1,0,0,0,1,0,0,0,0,1,1,1,0,0,0,0,0,0,0,0,1,1,0,0,0,0]
[null,null,"Geothermal heat pump system",0,0,0,1,0,0,0,0,0,0,0,0,1,0,0,0,0,1,1,0,0,0,1,0,0,1,0,0,0,1,0,0,0,0,1,1,1,0,0,0,0,0,0,0,0,1,0,0,0,0,0]
[null,null,"Passive measures",0,0,0,1,0,0,0,0,0,0,0,0,1,0,0,0,0,1,1,0,0,0,1,0,0,1,0,0,0,1,0,0,0,0,1,1,1,0,0,0,0,0,0,0,0,0,0,0,0,0,0]
[null,"Appliances","Energy efficient appliances",0,0,0,0,0,0,0,0,0,0,0,0,1,1,0,0,0,1,0,0,0,0,1,0,0,1,0,0,0,1,0,0,0,0,1,0,0,0,0,0,0,0,0,0,0,1,0,0,0,0,0]
[null,null,"Reducing stand-by consumption",0,0,0,0,0,0,0,0,0,0,0,0,0,0,0,0,0,0,0,0,0,0,0,0,0,1,0,0,0,1,0,0,0,0,0,0,0,0,0,0,0,0,0,0,0,0,0,0,0,0,0]
[null,null,"Optimal usage, on demand operation",0,0,0,0,0,0,0,0,0,0,0,0,0,1,0,0,0,1,0,0,0,0,0,0,0,1,0,0,0,1,0,0,0,0,0,0,0,0,0,0,0,0,0,0,0,0,0,0,0,1,0]
[null,"Building automation","Building automation and management systems",0,0,0,0,0,1,0,0,0,0,0,0,1,1,0,0,0,1,0,0,0,0,1,0,0,1,0,0,0,1,0,0,0,-1,1,1,0,0,0,0,0,1,1,0,0,0,1,1,1,0,1]
[null,null,"Energy management system",0,0,0,1,0,0,0,0,0,0,0,0,1,1,0,0,0,1,0,0,0,0,1,0,0,1,0,0,0,1,0,0,0,0,1,1,0,0,0,0,0,0,0,0,0,0,0,1,0,0,0]
[null,null,"Measured consumption",0,0,0,0,0,0,0,0,0,0,0,0,1,1,0,0,0,1,0,0,0,0,1,0,0,1,0,0,0,1,0,0,0,0,1,1,0,0,0,0,0,0,1,0,0,0,0,0,0,0,0]
[null,null,"Improved smart-readiness",0,0,0,0,0,0,0,0,0,0,0,0,1,1,0,0,0,1,0,0,0,0,1,0,0,1,0,0,0,1,0,0,0,0,1,1,0,0,0,0,0,0,1,0,0,0,0,0,0,0,0]
["Processes","Compressed air system","Check the required pressure",0,0,0,0,0,0,1,0,0,0,0,0,1,1,0,0,0,1,0,0,1,0,0,0,0,1,0,0,0,1,0,0,0,0,0,0,0,0,1,0,0,0,0,0,0,0,0,0,0,0,1]
[null,null,"Regular check for leakages",1,0,0,0,0,0,0,0,0,0,0,0,1,1,0,0,0,1,0,0,0,0,0,0,0,1,0,0,0,1,0,0,0,0,0,0,0,0,1,0,0,0,0,0,0,0,1,0,0,0,1]
[null,null,"Waste heat recovery ",0,0,0,0,0,0,0,0,0,0,0,0,1,1,1,0,0,1,0,0,0,0,0,0,0,1,0,0,0,1,0,1,0,0,0,0,1,0,0,0,0,0,0,0,0,0,0,0,0,0,0]
[null,null,"Regular maintenance of the compressor",0,0,0,0,0,0,1,0,0,0,0,1,1,1,0,0,0,1,0,0,1,0,0,0,1,1,0,0,0,1,0,0,0,0,0,0,0,0,1,1,0,0,0,0,0,0,1,0,0,1,1]
[null,"Steam system","Check the required pressure",0,0,0,0,0,0,1,0,0,0,0,0,1,1,0,0,0,1,0,0,1,0,0,0,0,1,0,0,0,1,0,0,0,0,0,1,0,0,1,0,0,0,0,0,0,0,0,0,0,0,1]
[null,null,"Check for leakages",1,0,0,0,0,0,1,0,0,0,0,0,1,1,0,0,0,1,0,0,1,0,0,0,0,1,0,0,0,1,0,0,0,0,0,1,0,0,1,0,0,0,0,0,0,0,1,0,0,0,1]
[null,null,"Regular maintenance of the boiler",0,0,0,0,0,0,1,0,0,0,0,1,1,1,0,0,0,1,0,0,1,0,0,0,1,1,0,0,0,1,0,0,0,0,0,1,0,0,1,1,0,0,0,0,0,0,1,0,0,1,1]
[null,"Refrigeration","Optimisation of the required temperatures",0,0,0,0,0,0,0,0,0,0,0,0,1,1,0,0,0,1,0,0,0,0,0,0,0,1,0,0,0,1,0,0,0,0,0,0,0,0,0,0,0,0,0,0,0,0,0,0,0,1,0]
[null,null,"Waste heat recovery ",0,0,0,0,0,0,0,0,0,0,0,0,1,1,1,0,0,1,0,0,0,0,0,0,0,1,0,0,0,1,0,1,0,0,1,0,1,0,0,0,0,0,0,0,0,0,0,0,0,0,0]
[null,null,"Install frequency control (i.e. VRF) on chiller compressor.",0,0,0,0,0,0,0,0,0,0,0,0,1,1,0,0,0,1,0,0,0,0,0,0,0,1,0,0,0,1,0,0,0,0,1,0,0,0,0,0,0,0,0,0,0,0,0,0,0,0,0]
[null,null,"Install high efficiency or 2-rev electromotor on evaporation fan",0,0,0,0,0,0,0,0,0,0,0,0,1,1,0,0,0,1,0,0,0,0,0,0,0,1,0,0,0,1,0,0,0,0,1,0,0,0,0,0,0,0,0,0,0,0,0,0,0,0,0]
[null,null,"Build a cooled front space for refrigeration units.",0,0,0,0,0,0,0,0,0,0,0,0,1,1,0,0,0,1,0,0,0,0,0,0,0,1,0,0,0,1,0,0,0,0,1,0,0,0,0,0,0,0,0,0,0,0,0,0,0,0,0]
[null,null,"Use hot refrigerant gas from the compressor for the initial stages of the defrosting cycle.",0,0,0,0,0,0,0,0,0,0,0,0,1,1,0,0,0,1,0,0,0,0,0,0,0,1,0,0,0,1,0,0,0,0,1,0,0,0,0,0,0,0,0,0,0,0,0,0,0,0,0]
[null,null,"Use excess heat from other production processes for the production of cooling using adsorption/absorption cooling.",0,0,0,0,0,0,0,0,0,0,0,0,1,1,0,0,0,1,0,0,0,0,0,0,0,1,0,0,0,1,0,0,0,0,1,0,0,0,0,0,0,0,0,0,0,0,0,0,0,0,0]
[null,null,"Utilisation of free cooling",0,0,0,0,0,0,0,0,0,0,0,0,1,1,0,0,0,1,0,0,0,0,0,0,0,1,0,0,0,1,0,0,0,0,1,0,0,0,0,0,0,0,0,0,0,0,0,0,0,0,0]
[null,null,"Replacement of the equipment.",0,0,0,0,0,0,0,0,0,0,0,1,1,1,0,0,0,1,0,0,0,0,1,0,1,1,1,0,0,1,0,0,0,0,1,0,0,0,0,1,0,0,0,0,0,0,0,0,1,0,1]
[null,"Water systems","Efficient pumps for the Water treatment system (if any)",0,0,0,0,0,0,0,0,0,0,0,0,1,1,0,1,0,1,0,0,0,0,0,0,0,1,0,0,0,1,0,0,0,0,1,0,0,0,0,0,0,0,0,0,0,0,0,0,0,0,0]
[null,null,"Advanced process of water recovery ",0,0,0,0,0,0,0,0,0,0,0,0,0,0,0,1,1,0,0,0,0,1,0,0,0,0,0,0,0,0,0,0,0,0,0,0,1,0,0,0,0,0,0,0,0,0,0,0,0,0,0]
[null,"Production line","Optimisation of the production process and workflow",0,0,0,0,0,1,0,0,0,0,0,0,1,1,0,0,0,1,0,0,0,0,1,0,0,1,1,1,0,1,1,0,0,-1,1,0,0,0,0,0,0,0,1,0,0,0,0,1,1,0,0]
[null,null,"Waste reduction & recycling in the production line ",0,0,0,0,0,0,0,0,0,0,0,0,0,0,1,0,1,0,0,0,0,1,0,0,0,1,0,0,0,1,1,1,0,0,0,0,0,0,0,0,0,0,0,0,0,1,0,0,0,0,0]
[null,null,"Optimization of motor driven systems ",0,0,0,0,0,1,0,0,0,0,0,0,0,0,0,0,0,0,0,0,0,0,1,0,0,1,0,1,0,1,0,0,0,0,0,0,0,0,0,0,0,0,0,0,0,0,0,0,1,1,0]
[null,null,"High efficient transmission system",0,0,0,0,0,0,0,0,0,0,0,0,1,1,0,0,0,1,0,0,0,0,0,0,0,1,0,0,0,1,1,0,0,0,0,0,0,0,0,0,0,0,0,0,0,0,0,0,0,0,0]
[null,null,"Reduction of the manual labor",1,0,1,0,0,1,1,1,1,0,0,0,0,0,0,0,0,0,0,0,0,0,0,0,0,0,0,0,0,0,1,0,0,-1,0,0,0,0,0,0,0,0,0,0,0,0,0,0,1,0,0]
[null,null,"Regular maintenance of the equipment",0,0,0,0,0,0,0,0,0,0,0,0,1,1,0,0,0,1,0,0,0,0,0,0,1,1,0,0,0,1,0,0,0,0,0,0,0,0,1,1,0,0,0,0,0,0,0,0,0,1,1]
[null,null,"Replacement of the equipment",0,0,0,0,0,1,0,0,0,0,0,1,1,1,0,0,0,1,1,0,0,0,1,0,0,1,0,1,0,1,0,0,0,0,1,0,0,0,0,0,0,0,0,0,0,0,0,1,0,0,1]
[null,null,"Waste heat recovery ",0,0,0,0,0,0,0,0,0,0,0,0,1,1,1,0,0,1,0,0,0,0,0,0,0,1,0,0,0,1,0,1,0,0,1,0,1,0,0,0,0,0,0,0,0,0,0,0,0,0,0]
[null,null,"Low-carbon packaging ",0,0,0,1,0,0,0,0,0,0,0,0,0,0,0,0,0,0,0,0,0,0,0,0,0,1,0,0,0,1,0,0,0,0,0,0,0,0,0,0,0,0,0,0,0,1,0,0,0,0,0]
["Transport","Transport of goods","Optimisation of timetables",1,0,1,0,0,1,0,0,0,0,0,0,0,1,0,0,0,1,0,0,0,0,1,0,0,1,0,0,0,1,0,0,0,0,0,1,0,0,0,0,0,0,1,0,0,0,0,0,1,0,0]
[null,null,"Optimisation of routes",1,0,1,0,0,1,0,0,0,0,0,0,0,0,0,0,0,0,0,0,0,0,0,0,0,1,0,0,0,1,0,0,0,0,0,1,0,0,0,0,0,0,0,0,0,0,0,0,0,0,0]
[null,null,"Optimisation of loads",0,0,1,0,0,0,0,0,0,0,0,0,0,0,0,0,0,0,0,0,0,0,1,0,0,1,0,0,0,1,0,0,0,0,0,1,0,0,0,0,0,0,0,0,0,0,0,0,0,0,0]
[null,null,"Optimisation of the fleet",0,0,0,0,0,0,0,0,0,0,0,0,0,0,0,0,0,0,0,0,0,0,1,0,0,1,0,0,0,1,0,0,0,0,0,1,0,0,0,0,0,0,0,0,0,0,0,0,0,0,0]
[null,null,"Promote electromobility",0,0,0,0,0,0,0,0,0,0,0,0,1,1,0,0,0,1,0,0,0,0,0,0,0,1,0,0,0,1,0,0,0,0,1,1,0,0,0,0,0,0,0,0,0,1,0,0,0,0,0]
[null,null,"Promotion of modal shift for freight",0,0,0,0,0,0,0,0,0,0,0,0,0,0,0,0,0,0,0,0,0,0,0,0,0,1,0,0,0,1,0,0,0,0,0,1,0,0,0,0,0,0,0,0,0,0,0,0,0,0,0]
[null,null,"Regular maintenance",0,0,0,0,0,0,0,0,0,0,0,0,1,1,0,0,0,1,1,0,0,0,0,0,1,1,0,0,0,1,0,0,0,0,0,1,0,0,0,0,0,0,0,0,0,0,0,0,0,1,1]
[null,null,"Driver training",0,0,1,0,0,0,1,0,0,0,0,0,0,0,0,0,0,0,0,0,1,0,1,0,0,1,0,0,0,1,0,0,0,0,0,1,0,0,0,0,0,1,0,0,0,0,0,0,1,0,0]
["Management & Maintenance measures","Management & Maintenance measures","Green supply chain management",1,0,0,1,1,0,0,0,0,0,0,0,1,1,0,0,0,1,0,0,0,0,0,0,0,1,0,0,0,1,0,0,0,0,0,0,0,0,0,0,0,0,0,0,0,1,0,0,0,0,0]
[null,null,"Improved energy management",1,0,0,1,0,0,0,0,0,0,0,0,1,1,0,0,0,1,0,0,0,0,1,0,1,1,0,0,0,1,0,0,0,0,1,0,0,0,0,0,0,0,0,0,0,0,0,0,0,0,0]
[null,null,"Improved environmental awareness at the management level",1,0,0,1,0,0,0,0,0,0,0,0,1,1,0,0,0,1,0,0,0,0,0,0,0,1,0,0,0,0,0,0,0,0,0,0,0,0,0,0,0,0,0,0,0,0,0,0,0,0,0]
["Occupant behaviour","Occupant behaviour","Employee engagement and training",1,0,1,0,0,1,0,0,0,0,0,0,1,0,0,0,0,1,0,0,0,0,1,0,0,1,0,0,0,1,0,0,0,0,1,0,0,0,0,0,1,0,0,0,0,0,0,0,0,0,1]
[null,null,"Motivation",0,0,1,0,0,0,0,0,0,0,0,0,0,0,0,0,0,0,0,0,0,0,0,0,0,1,0,0,0,1,0,0,0,0,0,0,0,0,0,0,0,0,0,0,0,0,0,0,0,0,0]

{"sheet":"HUN_leg","index":37,"n_rows":97,"n_cols":54,"rows_kept":97,"cut":false,"hidden":true,"merged":[[0,51,0,53],[2,0,56,0],[2,1,6,1],[7,1,16,1],[17,1,22,1],[23,1,33,1],[34,1,39,1],[40,1,44,1],[45,1,49,1],[50,1,52,1],[0,3,0,7],[0,8,0,14],[0,15,0,24],[0,25,0,37],[0,38,0,44],[0,45,0,50],[53,1,56,1],[57,0,83,0],[57,1,60,1],[61,1,63,1],[64,1,72,1],[73,1,74,1],[75,1,83,1],[84,0,91,0],[84,1,91,1],[92,0,94,0],[92,1,94,1],[95,0,96,0],[95,1,96,1]]}
[null,null,null,"Social",null,null,null,null,"Health",null,null,null,null,null,null,"Environment",null,null,null,null,null,null,null,null,null,"Economic",null,null,null,null,null,null,null,null,null,null,null,null,"Security & Safety",null,null,null,null,null,null,"Quality",null,null,null,null,null,"Time"]
[null,null,"EEM/NEB","Employee satisfaction","Alleviation of energy poverty","Customers (new, satisfaction, etc.)","Improved supply chain relationships","Work performance","Health and well-being","(avoided) mortality","Disease burden \"daly\"","Sickness & absenteeism","Improved air quality","Improved lighting","Reduced noise","Emission reduction","Impact of EE on RES target achievement ","Ecosystem degradation","Reduced water use ","Reduced material consumption","Reduced emissions (dust, CO2, chemical agents etc.)","Reduced noise pollution","Reduced use of non-renewable resources ","Reduced litigations risks","Reduced waste","Improvement of compatitiveness","Innovation impacts","Reduction of (maintenance) costs","Reduction of emission or disposal fees","Shorter production cycle","Increased production yields","Increased real estate value","Reduction of (operating) costs","Macro economy","Usage of waste streams","Turnover of energy efficiency goods ","Employment effects","Impact on public budgets","Energy security","Security of supply / self sufficiency","Supplier diversity ","Operation safety of equipment","Less maintenance","Electrical safety","Reduced injuries","Accurate monitoring","Right First Time","Increased quality of products","Increased corporate image","Increased regulatory compliance","Risk reduction","Increased productivity","Increased equipment lifetime","Reduced time of fault detection"]
["Building","Envelope","Improvement to visible building envelope elements",1,1,0,0,1,1,0,1,1,0,0,0,1,1,1,0,0,1,0,1,0,0,1,1,0,1,0,0,0,0,1,1,0,1,1,1,1,1,1,0,0,0,0,0,0,0,1,0,1,0,0]
[null,null,"Improvements to non-visible building envelope elements",1,1,0,0,1,1,0,1,1,0,0,0,1,1,1,0,0,1,0,1,0,0,1,1,0,1,0,0,0,0,1,1,0,1,1,1,1,1,1,0,0,0,0,0,0,0,1,0,1,0,0]
[null,null,"Replacemert of windows",1,1,0,0,1,1,0,1,1,0,0,0,1,1,1,0,0,1,1,1,0,0,1,1,0,1,0,0,0,0,1,1,0,1,1,1,1,1,1,0,0,0,0,0,0,0,1,0,1,0,0]
[null,null,"Increasing the air-tightness of the building",1,1,0,0,1,1,0,1,1,0,0,0,1,1,1,0,0,1,0,1,0,0,1,1,0,1,0,0,0,0,1,1,0,1,1,1,1,1,1,0,0,0,0,0,0,0,1,0,1,0,0]
[null,null,"Shading to reduce summer heat gains",1,1,0,0,1,1,0,1,1,0,0,0,1,1,1,0,0,1,0,1,0,0,1,1,0,1,0,0,0,0,1,1,0,1,1,1,1,1,1,0,0,0,0,0,0,0,1,0,1,0,0]
[null,"Heating system","Roomwise temperature control",1,1,0,0,1,1,0,1,1,0,0,0,1,1,1,0,0,1,0,1,0,0,1,1,0,1,0,0,0,0,1,1,0,1,1,1,1,1,1,0,0,0,0,0,0,0,1,0,1,0,0]
[null,null,"Zoning optimisation of the building",1,1,0,0,1,1,0,1,1,0,0,0,1,1,1,0,0,1,0,1,0,0,1,1,0,1,0,0,0,0,1,1,0,1,1,1,1,1,1,0,0,0,0,0,0,0,1,0,1,0,0]
[null,null,"Optimisation of the heating schedule",1,1,0,0,1,1,0,1,1,0,0,0,1,1,1,0,0,1,0,1,0,0,1,1,0,1,0,0,0,0,1,1,0,1,1,1,1,1,1,0,0,0,0,0,0,0,1,0,1,0,0]
[null,null,"Lowering setpoint temperature",1,1,0,0,1,1,0,1,1,0,0,0,1,1,1,0,0,1,0,1,0,0,1,1,0,1,0,0,0,0,1,1,0,1,1,1,1,1,1,0,0,0,0,0,0,0,1,0,1,0,0]
[null,null,"Control optimisation",1,1,0,0,1,1,0,1,1,0,0,0,1,1,1,0,0,1,0,1,0,0,1,1,0,1,0,0,0,0,1,1,0,1,1,1,1,1,1,0,0,0,0,0,0,0,1,0,1,0,0]
[null,null,"Insulation of the distribution network",0,1,0,0,0,0,0,0,0,0,0,0,1,1,1,0,0,1,0,1,0,0,1,1,0,1,0,0,0,0,1,1,0,1,1,1,1,1,1,0,0,0,0,0,0,0,1,0,1,0,0]
[null,null,"Hydraulic balancing of the distribution network",1,1,0,0,1,1,0,1,1,0,0,0,1,1,1,0,0,1,0,1,0,0,1,1,0,1,0,0,0,0,1,1,0,1,1,1,1,1,1,0,0,0,0,0,0,0,1,0,1,0,0]
[null,null,"New, more efficient heat generator",0,1,0,0,0,0,1,0,0,0,0,0,1,1,1,0,0,1,0,1,0,0,1,1,0,1,0,0,0,0,1,1,0,1,1,1,1,1,1,0,0,0,0,0,0,0,1,0,1,0,0]
[null,null,"Including a renewable based heat source",1,1,0,0,1,1,0,1,1,0,0,0,1,1,1,0,0,1,0,1,0,0,1,1,0,1,0,0,0,0,1,1,0,1,1,1,1,1,1,0,0,0,0,0,0,0,1,0,1,0,0]
[null,null,"Energy efficient pumps",0,1,0,0,0,0,0,0,0,0,0,0,1,1,1,0,0,1,0,1,0,0,1,1,0,1,0,0,0,0,1,1,0,1,1,1,1,1,1,0,0,0,0,0,0,0,1,0,1,0,0]
[null,"DHW system","Reducing the DHW demand",0,1,0,0,0,0,0,0,0,0,0,0,1,1,1,1,0,1,0,1,0,0,1,1,0,1,0,0,0,0,1,1,0,1,1,1,1,1,1,0,0,0,0,0,0,0,1,0,1,0,0]
[null,null,"Insulation of the distribution network",0,1,0,0,0,0,0,0,0,0,0,0,1,1,1,0,0,1,0,1,0,0,1,1,0,1,0,0,0,0,1,1,0,1,1,1,1,1,1,0,0,0,0,0,0,0,1,0,1,0,0]
[null,null,"Lowering setpoint temperature",1,1,0,0,1,1,0,1,1,0,0,0,1,1,1,0,0,1,0,1,0,0,1,1,0,1,0,0,0,0,1,1,0,1,1,1,1,1,1,0,0,0,0,0,0,0,1,0,1,0,0]
[null,null,"Circulation network optimisation, decentralisation of DHW production",0,1,0,0,0,0,0,0,0,0,0,0,1,1,1,1,0,1,0,1,0,0,1,1,0,1,0,0,0,0,1,1,0,1,1,1,1,1,1,0,0,0,0,0,0,0,1,0,1,0,0]
[null,null,"New, more efficient heat generator",0,1,0,0,0,0,1,0,0,0,0,0,1,1,1,1,0,1,0,1,0,0,1,1,0,1,0,0,0,0,1,1,0,1,1,1,1,1,1,0,0,0,0,0,0,0,1,0,1,0,0]
[null,null,"Including a renewable based heat source",1,1,0,0,1,1,0,1,1,0,0,0,1,1,1,0,0,1,0,1,0,0,1,1,0,1,0,0,0,0,1,1,0,1,1,1,1,1,1,0,0,0,0,0,0,0,1,0,1,0,0]
[null,"Cooling system","Roomwise temperature control",1,1,0,0,1,1,0,1,1,0,0,0,1,1,1,0,0,1,0,1,0,0,1,1,0,1,0,0,0,0,1,1,0,1,1,1,1,1,1,0,0,0,0,0,0,0,1,0,1,0,0]
[null,null,"Zoning optimisation of the building",1,1,0,0,1,1,0,1,1,0,0,0,1,1,1,0,0,1,0,1,0,0,1,1,0,1,0,0,0,0,1,1,0,1,1,1,1,1,1,0,0,0,0,0,0,0,1,0,1,0,0]
[null,null,"Optimisation of the cooling schedule",1,1,0,0,1,1,0,1,1,0,0,0,1,1,1,0,0,1,0,1,0,0,1,1,0,1,0,0,0,0,1,1,0,1,1,1,1,1,1,0,0,0,0,0,0,0,1,0,1,0,0]
[null,null,"Increasing setpoint temperature",1,1,0,0,1,1,0,1,1,0,0,0,1,1,1,0,0,1,0,1,0,0,1,1,0,1,0,0,0,0,1,1,0,1,1,1,1,1,1,0,0,0,0,0,0,0,1,0,1,0,0]
[null,null,"Control optimisation",1,1,0,0,1,1,0,1,1,0,0,0,1,1,1,0,0,1,0,1,0,0,1,1,0,1,0,0,0,0,1,1,0,1,1,1,1,1,1,0,0,0,0,0,0,0,1,0,1,0,0]
[null,null,"Insulation of the distribution network",0,1,0,0,0,0,0,0,0,0,0,0,1,1,1,0,0,1,0,1,0,0,1,1,0,1,0,0,0,0,1,1,0,1,1,1,1,1,1,0,0,0,0,0,0,0,1,0,1,0,0]
[null,null,"Hydraulic balancing of the distribution network",1,1,0,0,1,1,0,1,1,0,0,0,1,1,1,0,0,1,0,1,0,0,1,1,0,1,0,0,0,0,1,1,0,1,1,1,1,1,1,0,0,0,0,0,0,0,1,0,1,0,0]
[null,null,"New, more efficient heat generator",0,1,0,0,0,0,0,0,0,0,0,0,1,1,1,0,0,1,0,1,0,0,1,1,0,1,0,0,0,0,1,1,0,1,1,1,1,1,1,0,0,0,0,0,0,0,1,0,1,0,0]
[null,null,"Energy efficient pumps",0,1,0,0,0,0,0,0,0,0,0,0,1,1,1,0,0,1,0,1,0,0,1,1,0,1,0,0,0,0,1,1,0,1,1,1,1,1,1,0,0,0,0,0,0,0,1,0,1,0,0]
[null,null,"Utilisation of free cooling",1,1,0,0,1,1,0,1,1,0,0,0,1,1,1,0,0,1,0,1,0,0,1,1,0,1,0,0,0,0,1,1,0,1,1,1,1,1,1,0,0,0,0,0,0,0,1,0,1,0,0]
[null,null,"Utilising the waste heat from the cooling system for heating&DHW",1,1,0,0,1,1,0,1,1,0,0,0,1,1,1,0,0,1,0,1,0,0,1,1,0,1,0,0,0,0,1,1,0,1,1,1,1,1,1,0,0,0,0,0,0,0,1,0,1,0,0]
[null,"Ventilation system","Schedule optimisation",1,1,0,0,1,1,0,1,1,1,0,0,1,1,1,0,0,1,0,1,0,0,1,1,0,1,0,0,0,0,1,1,0,1,1,1,1,1,1,0,0,0,0,0,0,0,1,0,1,0,0]
[null,null,"Control optimisation",1,1,0,0,1,1,0,1,1,1,0,0,1,1,1,0,0,1,0,1,0,0,1,1,0,1,0,0,0,0,1,1,0,1,1,1,1,1,1,0,0,0,0,0,0,0,1,0,1,0,0]
[null,null,"Air velocity optimisation",1,1,0,0,1,1,0,1,1,1,0,0,1,1,1,0,0,1,0,1,0,0,1,1,0,1,0,0,0,0,1,1,0,1,1,1,1,1,1,0,0,0,0,0,0,0,1,0,1,0,0]
[null,null,"Inlet air temperature optimisation",1,1,0,0,1,1,0,1,1,1,0,0,1,1,1,0,0,1,0,1,0,0,1,1,0,1,0,0,0,0,1,1,0,1,1,1,1,1,1,0,0,0,0,0,0,0,1,0,1,0,0]
[null,null,"Heat recovery",0,1,0,0,0,0,0,0,0,0,0,0,1,1,1,0,0,1,0,1,0,0,1,1,0,1,0,0,0,0,1,1,0,1,1,1,1,1,1,0,0,0,0,0,0,0,1,0,1,0,0]
[null,null,"Energy efficient fans",0,1,0,0,0,0,0,0,0,0,0,0,1,1,1,0,0,1,1,1,0,0,1,1,0,1,0,0,0,0,1,1,0,1,1,1,1,1,1,0,0,0,0,0,0,0,1,0,1,0,0]
[null,"Lighting","Energy efficient lights (e.g LED)",0,1,0,0,0,0,0,0,0,0,0,0,1,1,1,0,0,1,0,1,0,0,1,1,0,1,0,0,0,0,1,1,0,1,1,1,1,1,1,0,0,0,0,0,0,0,1,0,1,0,0]
[null,null,"Level of illumination",1,1,0,0,1,1,0,1,1,0,0,0,1,1,1,0,0,1,0,1,0,0,1,1,0,1,0,0,0,0,1,1,0,1,1,1,1,1,1,0,0,0,0,0,0,0,1,0,1,0,0]
[null,null,"Schedule optimisation",1,1,0,0,1,1,0,1,1,0,0,0,1,1,1,0,0,1,0,1,0,0,1,1,0,1,0,0,0,0,1,1,0,1,1,1,1,1,1,0,0,0,0,0,0,0,1,0,1,0,0]
[null,null,"Control optimisation",1,1,0,0,1,1,0,1,1,0,0,0,1,1,1,0,0,1,0,1,0,0,1,1,0,1,0,0,0,0,1,1,0,1,1,1,1,1,1,0,0,0,0,0,0,0,1,0,1,0,0]
[null,null,"Utilisation of natural light",1,1,0,0,1,1,0,1,1,0,0,0,1,1,1,0,0,1,0,1,0,0,1,1,0,1,0,0,0,0,1,1,0,1,1,1,1,1,1,0,0,0,0,0,0,0,1,0,1,0,0]
[null,"Renewable energy","Solar PV",1,1,0,0,1,1,0,1,1,0,0,0,1,1,1,0,0,1,0,1,0,0,1,1,0,1,0,0,0,0,1,1,0,1,1,1,1,1,1,0,0,0,0,0,0,0,1,0,1,0,0]
[null,null,"Wind turbine",1,1,0,0,1,1,0,1,1,0,0,0,1,1,1,0,0,1,0,1,0,0,1,1,0,1,0,0,0,0,1,1,0,1,1,1,1,1,1,0,0,0,0,0,0,0,1,0,1,0,0]
[null,null,"Solar collector system",1,1,0,0,1,1,0,1,1,0,0,0,1,1,1,0,0,1,0,1,0,0,1,1,0,1,0,0,0,0,1,1,0,1,1,1,1,1,1,0,0,0,0,0,0,0,1,0,1,0,0]
[null,null,"Geothermal heat pump system",1,1,0,0,1,1,0,1,1,0,0,0,1,1,1,0,0,1,0,1,0,0,1,1,0,1,0,0,0,0,1,1,0,1,1,1,1,1,1,0,0,0,0,0,0,0,1,0,1,0,0]
[null,null,"Passive measures",1,1,0,0,1,1,0,1,1,0,0,0,1,1,1,0,0,1,0,1,0,0,1,1,0,1,0,0,0,0,1,1,0,1,1,1,1,1,1,0,0,0,0,0,0,0,1,0,1,0,0]
[null,"Appliances","Energy efficient appliances",0,1,0,0,0,0,0,0,0,0,0,0,1,1,1,0,0,1,0,1,0,0,1,1,0,1,0,0,0,0,1,1,0,1,1,1,1,1,1,0,0,0,0,0,0,0,1,0,1,0,0]
[null,null,"Reducing stand-by consumption",0,1,0,0,0,0,0,0,0,0,0,0,1,1,1,0,0,1,0,1,0,0,1,1,0,1,0,0,0,0,1,1,0,1,1,1,1,1,1,0,0,0,0,0,0,0,1,0,1,0,0]
[null,null,"Optimal usage, on demand operation",0,1,0,0,0,0,0,0,0,0,0,0,1,1,1,0,0,1,0,1,0,0,1,1,0,1,0,0,0,0,1,1,0,1,1,1,1,1,1,0,0,0,0,0,0,0,1,0,1,0,0]
[null,"Building automation","Building automation and management systems",0,1,0,0,0,0,0,0,0,0,0,0,1,1,1,0,0,1,0,1,0,0,1,1,0,1,0,0,0,0,1,1,0,1,1,1,1,1,1,0,0,0,0,0,0,0,1,0,1,0,0]
[null,null,"Energy management system",0,1,0,0,0,0,0,0,0,0,0,0,1,1,1,0,0,1,0,1,0,0,1,1,0,1,0,0,0,0,1,1,0,1,1,1,1,1,1,0,0,0,0,0,0,0,1,0,1,0,0]
[null,null,"Measured consumption",0,1,0,0,0,0,0,0,0,0,0,0,1,1,1,0,0,1,0,1,0,0,1,1,0,1,0,0,0,0,1,1,0,1,1,1,1,1,1,0,0,0,0,0,0,0,1,0,1,0,0]
[null,null,"Improved smart-readiness",0,1,0,0,0,0,0,0,0,0,0,0,1,1,1,0,0,1,0,1,0,0,1,1,0,1,0,0,0,0,1,1,0,1,1,1,1,1,1,0,0,0,0,0,0,0,1,0,1,0,0]
["Processes","Compressed air system","Check the required pressure",0,1,0,0,0,0,0,0,0,0,0,0,1,1,1,0,0,1,0,1,0,0,1,1,0,1,0,0,0,0,1,1,0,1,1,1,1,1,1,0,0,0,0,0,0,0,1,0,1,0,0]
[null,null,"Regular check for leakages",0,1,0,0,0,0,0,0,0,0,0,0,1,1,1,0,0,1,0,1,0,0,1,1,0,1,0,0,0,0,1,1,0,1,1,1,1,1,1,0,0,0,0,0,0,0,1,0,1,0,0]
[null,null,"Waste heat recovery ",0,1,0,0,0,0,0,0,0,0,0,0,1,1,1,0,0,1,0,1,0,0,1,1,0,1,0,0,0,0,1,1,0,1,1,1,1,1,1,0,0,0,0,0,0,0,1,0,1,0,0]
[null,null,"Regular maintenance of the compressor",0,1,0,0,0,0,1,0,0,0,0,0,1,1,1,0,0,1,1,1,0,0,1,1,0,1,0,0,0,0,1,1,0,1,1,1,1,1,1,0,1,1,0,0,0,0,1,0,1,0,0]
[null,"Steam system","Check the required pressure",0,1,0,0,0,0,0,0,0,0,0,0,1,1,1,0,0,1,0,1,0,0,1,1,0,1,0,0,0,0,1,1,0,1,1,1,1,1,1,0,0,0,0,0,0,0,1,0,1,0,0]
[null,null,"Check for leakages",0,1,0,0,0,0,0,0,0,0,0,0,1,1,1,0,0,1,0,1,0,0,1,1,0,1,0,0,0,0,1,1,0,1,1,1,1,1,1,0,0,0,0,0,0,0,1,0,1,0,0]
[null,null,"Regular maintenance of the boiler",0,1,0,0,0,0,1,0,0,0,0,0,1,1,1,0,0,1,0,1,0,0,1,1,0,1,0,0,0,0,1,1,0,1,1,1,1,1,1,0,0,0,0,0,0,0,1,0,1,0,0]
[null,"Refrigeration","Optimisation of the required temperatures",0,1,0,0,0,0,0,0,0,0,0,0,1,1,1,0,0,1,0,1,0,0,1,1,0,1,0,0,0,0,1,1,0,1,1,1,1,1,1,0,0,0,0,0,0,0,1,0,1,0,0]
[null,null,"Waste heat recovery ",0,1,0,0,0,0,0,0,0,0,0,0,1,1,1,0,0,1,0,1,0,0,1,1,0,1,0,0,0,0,1,1,0,1,1,1,1,1,1,0,0,0,0,0,0,0,1,0,1,0,0]
[null,null,"Install frequency control (i.e. VRF) on chiller compressor.",0,1,0,0,0,0,0,0,0,0,0,0,1,1,1,0,0,1,0,1,0,0,1,1,0,1,0,0,0,0,1,1,0,1,1,1,1,1,1,0,0,0,0,0,0,0,1,0,1,0,0]
[null,null,"Install high efficiency or 2-rev electromotor on evaporation fan",0,1,0,0,0,0,0,0,0,0,0,0,1,1,1,0,0,1,0,1,0,0,1,1,0,1,0,0,0,0,1,1,0,1,1,1,1,1,1,0,0,0,0,0,0,0,1,0,1,0,0]
[null,null,"Build a cooled front space for refrigeration units.",0,1,0,0,0,0,0,0,0,0,0,0,1,1,1,0,0,1,0,1,0,0,1,1,0,1,0,0,0,0,1,1,0,1,1,1,1,1,1,0,0,0,0,0,0,0,1,0,1,0,0]
[null,null,"Use hot refrigerant gas from the compressor for the initial stages of the defrosting cycle.",0,1,0,0,0,0,0,0,0,0,0,0,1,1,1,0,0,1,0,1,0,0,1,1,0,1,0,0,0,0,1,1,0,1,1,1,1,1,1,0,0,0,0,0,0,0,1,0,1,0,0]
[null,null,"Use excess heat from other production processes for the production of cooling using adsorption/absorption cooling.",0,1,0,0,0,0,0,0,0,0,0,0,1,1,1,0,0,1,0,1,0,0,1,1,0,1,0,0,0,0,1,1,0,1,1,1,1,1,1,0,0,0,0,0,0,0,1,0,1,0,0]
[null,null,"Utilisation of free cooling",0,1,0,0,0,0,0,0,0,0,0,0,1,1,1,0,0,1,0,1,0,0,1,1,0,1,0,0,0,0,1,1,0,1,1,1,1,1,1,0,1,0,0,0,0,0,1,0,1,0,0]
[null,null,"Replacement of the equipment.",0,1,0,0,0,0,0,0,0,0,0,0,1,1,1,0,0,1,0,1,0,0,1,1,0,1,0,0,0,0,1,1,0,1,1,1,1,1,1,0,1,1,0,0,0,0,1,0,1,0,0]
[null,"Water systems","Efficient pumps for the Water treatment system (if any)",0,1,0,0,0,0,0,0,0,0,0,0,1,1,1,1,0,1,0,1,0,0,1,1,0,1,0,0,0,0,1,1,0,1,1,1,1,1,1,0,0,0,0,0,0,0,1,0,1,0,0]
[null,null,"Advanced process of water recovery ",0,1,0,0,0,0,0,0,0,0,0,0,1,1,1,1,0,1,0,1,0,0,1,1,0,1,0,0,0,0,1,1,0,1,1,1,1,1,1,0,0,0,0,0,0,0,1,0,1,0,0]
[null,"Production line","Optimisation of the production process and workflow",1,1,0,0,1,1,1,1,1,0,0,0,1,1,1,0,1,1,0,1,0,1,1,1,0,1,1,0,0,0,1,1,0,1,1,1,1,1,1,0,0,0,0,0,0,0,1,0,1,0,0]
[null,null,"Waste reduction & recycling in the production line ",1,1,0,0,1,1,0,1,1,0,0,0,1,1,1,0,1,1,0,1,0,1,1,1,0,1,1,0,0,0,1,1,0,1,1,1,1,1,1,0,0,0,0,0,0,0,1,0,1,0,0]
[null,null,"Optimization of motor driven systems ",0,1,0,0,0,0,0,0,0,0,0,0,1,1,1,0,0,1,0,1,0,0,1,1,0,1,0,0,0,0,1,1,0,1,1,1,1,1,1,0,0,0,0,0,0,0,1,0,1,0,0]
[null,null,"High efficient transmission system",0,1,0,0,0,0,0,0,0,0,0,0,1,1,1,0,0,1,0,1,0,0,1,1,0,1,0,0,0,0,1,1,0,1,1,1,1,1,1,0,0,0,0,0,0,0,1,0,1,0,0]
[null,null,"Reduction of the manual labor",-1,1,0,0,1,-1,1,-1,-1,0,0,0,1,1,1,0,0,1,0,1,0,0,1,1,0,1,0,0,0,0,1,1,0,1,1,1,1,1,1,0,0,0,0,0,0,0,1,0,1,0,0]
[null,null,"Regular maintenance of the equipment",1,1,0,0,1,1,1,1,1,0,0,0,1,1,1,0,0,1,1,1,0,0,1,1,0,1,0,0,0,0,1,1,0,1,1,1,1,1,1,0,1,1,0,0,0,0,1,0,1,0,0]
[null,null,"Replacement of the equipment",1,1,0,0,1,1,1,1,1,0,0,0,1,1,1,0,0,1,1,1,0,0,1,1,0,1,0,0,0,0,1,1,0,1,1,1,1,1,1,0,1,1,0,0,0,0,1,0,1,0,0]
[null,null,"Waste heat recovery ",0,1,0,0,0,0,0,0,0,0,0,0,1,1,1,0,0,1,0,1,0,0,1,1,0,1,0,0,0,0,1,1,0,1,1,1,1,1,1,0,0,0,0,0,0,0,1,0,1,0,0]
[null,null,"Low-carbon packaging ",1,1,0,0,1,1,0,1,1,0,0,0,1,1,1,0,1,1,0,1,0,1,1,1,0,1,1,0,0,0,1,1,0,1,1,1,1,1,1,0,0,0,0,0,0,0,1,0,1,0,0]
["Transport","Transport of goods","Optimisation of timetables",1,1,0,0,1,1,0,1,1,0,0,0,1,1,1,0,0,1,1,1,0,0,1,1,0,1,0,0,0,0,1,1,0,1,1,1,1,1,1,0,0,0,0,0,0,0,1,0,1,0,0]
[null,null,"Optimisation of routes",1,1,0,0,1,1,0,1,1,0,0,0,1,1,1,0,0,1,1,1,0,0,1,1,0,1,0,0,0,0,1,1,0,1,1,1,1,1,1,0,0,0,0,0,0,0,1,0,1,0,0]
[null,null,"Optimisation of loads",1,1,0,0,1,1,0,1,1,0,0,0,1,1,1,0,0,1,1,1,0,0,1,1,0,1,0,0,0,0,1,1,0,1,1,1,1,1,1,0,0,0,0,0,0,0,1,0,1,0,0]
[null,null,"Optimisation of the fleet",1,1,0,0,1,1,0,1,1,0,0,0,1,1,1,0,0,1,0,1,0,0,1,1,0,1,0,0,0,0,1,1,0,1,1,1,1,1,1,0,0,0,0,0,0,0,1,0,1,0,0]
[null,null,"Promote electromobility",1,1,0,0,1,1,0,1,1,0,0,0,1,1,1,0,0,1,0,1,0,0,1,1,0,1,0,0,0,0,1,1,0,1,1,1,1,1,1,0,0,0,0,0,0,0,1,0,1,0,0]
[null,null,"Promotion of modal shift for freight",1,1,0,0,1,1,0,1,1,0,0,0,1,1,1,0,0,1,0,1,0,0,1,1,0,1,0,0,0,0,1,1,0,1,1,1,1,1,1,0,0,0,0,0,0,0,1,0,1,0,0]
[null,null,"Regular maintenance",1,1,0,0,1,1,1,1,1,0,0,0,1,1,1,0,0,1,0,1,0,0,1,1,0,1,0,0,0,0,1,1,0,1,1,1,1,1,1,0,1,1,0,0,0,0,1,0,1,0,0]
[null,null,"Driver training",1,1,0,0,1,1,1,1,1,0,0,0,1,1,1,0,0,1,0,1,0,0,1,1,0,1,0,0,0,0,1,1,0,1,1,1,1,1,1,0,0,1,0,0,0,0,1,0,1,0,0]
["Management & Maintenance measures","Management & Maintenance measures","Green supply chain management",1,1,0,0,1,1,0,1,1,0,0,0,1,1,1,0,1,1,1,1,0,1,1,1,0,1,1,0,0,0,1,1,0,1,1,1,1,1,1,0,0,0,0,0,0,0,1,0,1,0,0]
[null,null,"Improved energy management",1,1,0,0,1,1,0,1,1,0,0,0,1,1,1,0,0,1,0,1,0,0,1,1,0,1,0,0,0,0,1,1,0,1,1,1,1,1,1,0,0,0,0,0,0,0,1,0,1,0,0]
[null,null,"Improved environmental awareness at the management level",1,1,0,0,1,1,0,1,1,0,0,0,1,1,1,0,1,1,0,1,0,1,1,1,0,1,1,0,0,0,1,1,0,1,1,1,1,1,1,0,0,0,0,0,0,0,1,0,1,0,0]
["Occupant behaviour","Occupant behaviour","Employee engagement and training",1,1,0,0,1,1,1,1,1,0,0,0,1,1,1,1,1,1,1,1,0,1,1,1,0,1,1,0,0,0,1,1,0,1,1,1,1,1,1,0,1,1,0,0,0,0,1,0,1,0,0]
[null,null,"Motivation",1,1,0,0,1,1,0,1,1,0,0,0,1,1,1,1,1,1,1,1,0,1,1,1,0,1,1,0,0,0,1,1,0,1,1,1,1,1,1,0,0,0,0,0,0,0,1,0,1,0,0]

{"sheet":"ITA_leg","index":38,"n_rows":97,"n_cols":54,"rows_kept":97,"cut":false,"hidden":true,"merged":[[0,51,0,53],[2,0,56,0],[2,1,6,1],[7,1,16,1],[17,1,22,1],[23,1,33,1],[34,1,39,1],[40,1,44,1],[45,1,49,1],[50,1,52,1],[0,3,0,7],[0,8,0,14],[0,15,0,24],[0,25,0,37],[0,38,0,44],[0,45,0,50],[53,1,56,1],[57,0,83,0],[57,1,60,1],[61,1,63,1],[64,1,72,1],[73,1,74,1],[75,1,83,1],[84,0,91,0],[84,1,91,1],[92,0,94,0],[92,1,94,1],[95,0,96,0],[95,1,96,1]]}
[null,null,null,"Social",null,null,null,null,"Health",null,null,null,null,null,null,"Environment",null,null,null,null,null,null,null,null,null,"Economic",null,null,null,null,null,null,null,null,null,null,null,null,"Security & Safety",null,null,null,null,null,null,"Quality",null,null,null,null,null,"Time"]
[null,null,"EEM/NEB","Employee satisfaction","Alleviation of energy poverty","Customers (new, satisfaction, etc.)","Improved supply chain relationships","Work performance","Health and well-being","(avoided) mortality","Disease burden \"daly\"","Sickness & absenteeism","Improved air quality","Improved lighting","Reduced noise","Emission reduction","Impact of EE on RES target achievement ","Ecosystem degradation","Reduced water use ","Reduced material consumption","Reduced emissions (dust, CO2, chemical agents etc.)","Reduced noise pollution","Reduced use of non-renewable resources ","Reduced litigations risks","Reduced waste","Improvement of compatitiveness","Innovation impacts","Reduction of (maintenance) costs","Reduction of emission or disposal fees","Shorter production cycle","Increased production yields","Increased real estate value","Reduction of (operating) costs","Macro economy","Usage of waste streams","Turnover of energy efficiency goods ","Employment effects","Impact on public budgets","Energy security","Security of supply / self sufficiency","Supplier diversity ","Operation safety of equipment","Less maintenance","Electrical safety","Reduced injuries","Accurate monitoring","Right First Time","Increased quality of products","Increased corporate image","Increased regulatory compliance","Risk reduction","Increased productivity","Increased equipment lifetime","Reduced time of fault detection"]
["Building","Envelope","Improvement to visible building envelope elements",0,1,0,0,0,1,0,0,0,0,1,1,0,0,1,0,0,1,0,1,0,1,1,1,1,1,0,0,0,0,1,0,1,0,1,1,1,0,0,0,0,0,0,0,0,0,1,0,1,0,0]
[null,null,"Improvements to non-visible building envelope elements",0,1,0,0,0,1,0,0,0,0,1,1,0,0,1,0,1,1,0,1,0,1,1,1,1,1,0,0,0,0,1,0,1,0,1,1,1,0,0,0,0,0,0,0,0,0,1,0,1,0,0]
[null,null,"Replacemert of windows",0,1,0,0,0,1,0,0,0,0,1,1,1,0,1,0,1,1,1,1,0,1,1,1,1,1,0,0,0,0,1,0,1,0,1,1,1,0,0,0,0,0,0,0,0,0,1,0,1,0,0]
[null,null,"Increasing the air-tightness of the building",0,1,0,0,0,1,0,0,0,0,1,1,0,0,1,0,1,1,0,1,0,1,1,1,1,1,0,0,0,0,1,0,1,0,1,1,1,0,0,0,0,0,0,0,0,0,1,0,1,0,0]
[null,null,"Shading to reduce summer heat gains",0,1,0,0,0,1,1,1,1,1,1,0,1,0,1,0,1,1,0,1,0,1,1,1,1,1,0,0,0,0,1,0,1,0,1,1,1,0,0,0,0,0,0,0,0,0,1,0,1,0,0]
[null,"Heating system","Roomwise temperature control",0,1,0,0,0,1,1,1,1,1,0,0,1,0,1,0,1,1,0,1,0,1,1,1,0,1,0,0,0,1,1,0,1,0,1,1,1,0,0,0,0,0,0,0,0,0,1,0,1,0,0]
[null,null,"Zoning optimisation of the building",0,1,0,0,0,1,1,1,1,1,0,0,1,0,1,0,1,1,0,1,0,1,1,1,0,1,0,0,0,1,1,0,1,0,1,1,1,0,0,0,0,0,0,0,0,0,1,0,1,0,0]
[null,null,"Optimisation of the heating schedule",0,1,0,0,0,1,1,1,1,1,0,0,1,0,1,0,1,1,0,1,0,1,1,1,0,1,0,0,0,1,1,0,1,0,1,1,1,0,0,0,0,0,0,0,0,0,1,0,1,0,0]
[null,null,"Lowering setpoint temperature",0,1,0,0,0,1,0,1,1,1,0,0,1,0,1,0,1,1,0,1,0,1,1,1,0,1,0,0,0,1,1,0,0,0,1,1,1,0,0,0,0,0,0,0,0,0,1,0,1,0,0]
[null,null,"Control optimisation",0,1,0,0,0,1,0,1,1,1,0,0,1,0,1,0,1,1,0,1,0,1,1,1,0,1,0,0,0,1,1,0,1,0,1,1,1,0,0,0,0,0,0,0,0,0,1,0,1,0,0]
[null,null,"Insulation of the distribution network",0,1,0,0,0,1,0,1,1,1,0,0,1,0,1,0,1,1,0,1,0,1,1,1,0,1,0,0,0,1,1,0,1,0,1,1,1,0,0,0,0,0,0,0,0,0,1,0,1,0,0]
[null,null,"Hydraulic balancing of the distribution network",0,1,0,0,0,1,0,1,1,1,0,0,1,0,1,1,1,1,0,1,0,1,1,1,1,1,0,0,0,0,1,0,1,0,1,1,1,0,0,0,0,0,0,0,0,0,1,0,1,0,0]
[null,null,"New, more efficient heat generator",0,1,0,0,0,1,0,1,1,1,0,0,1,0,1,0,1,1,0,1,0,1,1,1,0,1,0,0,0,1,1,0,1,0,1,1,1,0,0,0,0,0,0,0,0,0,1,0,1,0,0]
[null,null,"Including a renewable based heat source",0,1,0,0,0,1,0,0,0,1,0,0,1,1,1,0,1,1,0,1,0,1,1,1,0,1,0,0,1,1,1,0,1,0,1,1,1,0,0,0,0,0,0,0,0,0,1,0,1,0,0]
[null,null,"Energy efficient pumps",0,1,0,0,0,1,0,0,0,1,0,0,1,0,1,0,1,1,0,1,0,1,1,1,0,1,0,0,1,1,1,0,1,0,1,1,1,0,0,0,0,0,0,0,0,0,1,0,1,0,0]
[null,"DHW system","Reducing the DHW demand",0,1,0,0,0,1,0,0,0,0,0,0,1,0,1,1,1,1,0,1,0,1,1,0,0,1,0,0,0,1,1,0,0,0,1,1,1,0,0,0,0,0,0,0,0,0,1,0,1,0,0]
[null,null,"Insulation of the distribution network",0,1,0,0,0,1,0,0,0,0,0,0,1,0,1,1,1,1,0,1,0,1,1,0,0,1,0,0,0,1,1,0,0,0,1,1,1,0,0,0,0,0,0,0,0,0,1,0,1,0,0]
[null,null,"Lowering setpoint temperature",0,1,0,0,0,1,0,1,1,1,0,0,1,0,1,0,1,1,0,1,0,1,1,1,0,1,0,0,0,1,1,0,0,0,1,1,1,0,0,0,0,0,0,0,0,0,1,0,1,0,0]
[null,null,"Circulation network optimisation, decentralisation of DHW production",0,1,0,0,0,1,0,0,0,0,0,0,1,0,1,1,1,1,0,1,0,1,1,0,0,1,0,0,0,1,1,0,0,0,1,1,1,0,0,0,0,0,0,0,0,0,1,0,1,0,0]
[null,null,"New, more efficient heat generator",0,1,0,0,0,1,0,0,0,1,0,0,1,0,1,0,1,1,0,1,0,1,1,1,0,1,0,0,1,1,1,0,1,0,1,1,1,0,0,0,0,0,0,0,0,0,1,0,1,0,0]
[null,null,"Including a renewable based heat source",0,1,0,0,0,1,0,0,0,1,0,0,1,1,1,0,1,1,0,1,0,1,1,1,0,1,0,0,1,1,1,0,1,0,1,1,1,0,0,0,0,0,0,0,0,0,1,0,1,0,0]
[null,"Cooling system","Roomwise temperature control",0,1,0,0,0,1,1,1,1,1,0,0,1,0,1,0,1,1,0,1,0,1,1,1,0,1,0,0,0,1,1,0,1,0,1,1,1,0,0,0,0,0,0,0,0,0,1,0,1,0,0]
[null,null,"Zoning optimisation of the building",0,1,0,0,0,1,1,1,1,1,0,0,1,0,1,0,1,1,0,1,0,1,1,1,0,1,0,0,0,1,1,0,1,0,1,1,1,0,0,0,0,0,0,0,0,0,1,0,1,0,0]
[null,null,"Optimisation of the cooling schedule",0,1,0,0,0,1,1,1,1,1,0,0,1,0,1,0,1,1,0,1,0,1,1,1,0,1,0,0,0,1,1,0,1,0,1,1,1,0,0,0,0,0,0,0,0,0,1,0,1,0,0]
[null,null,"Increasing setpoint temperature",0,1,0,0,0,1,0,1,1,1,0,0,1,0,1,0,1,1,0,1,0,1,1,1,0,1,0,0,0,1,1,0,0,0,1,1,1,0,0,0,0,0,0,0,0,0,1,0,1,0,0]
[null,null,"Control optimisation",0,1,0,0,0,1,0,1,1,1,0,0,1,0,1,0,1,1,0,1,0,1,1,1,0,1,0,0,0,1,1,0,1,0,1,1,1,0,0,0,0,0,0,0,0,0,1,0,1,0,0]
[null,null,"Insulation of the distribution network",0,1,0,0,0,1,0,1,1,1,0,0,1,0,1,0,1,1,0,1,0,1,1,1,0,1,0,0,0,1,1,0,1,0,1,1,1,0,0,0,0,0,0,0,0,0,1,0,1,0,0]
[null,null,"Hydraulic balancing of the distribution network",0,1,0,0,0,1,0,1,1,1,0,0,1,0,1,1,1,1,0,1,0,1,1,1,1,1,0,0,0,0,1,0,1,0,1,1,1,0,0,0,0,0,0,0,0,0,1,0,1,0,0]
[null,null,"New, more efficient heat generator",0,1,0,0,0,1,0,1,1,1,0,0,1,0,1,0,1,1,0,1,0,1,1,1,0,1,0,0,0,1,1,0,1,0,1,1,1,0,0,0,0,0,0,0,0,0,1,0,1,0,0]
[null,null,"Energy efficient pumps",0,1,0,0,0,1,0,1,1,1,0,0,1,1,1,0,1,1,0,1,0,1,1,1,0,1,0,0,0,1,1,0,1,0,1,1,1,0,0,0,0,0,0,0,0,0,1,0,1,0,0]
[null,null,"Utilisation of free cooling",0,1,0,0,0,1,0,1,1,1,0,0,1,0,1,0,1,1,0,1,0,1,1,1,0,1,0,0,0,1,1,0,1,0,1,1,1,0,0,0,0,0,0,0,0,0,1,0,1,0,0]
[null,null,"Utilising the waste heat from the cooling system for heating&DHW",0,1,0,0,0,1,0,1,1,1,0,0,1,0,1,1,1,1,0,1,0,1,1,1,0,1,0,0,0,1,1,1,1,0,1,1,1,0,0,0,0,0,0,0,0,0,1,0,1,0,0]
[null,"Ventilation system","Schedule optimisation",0,1,0,0,0,1,0,1,1,1,0,0,1,0,1,0,1,1,0,1,0,1,1,1,0,1,0,0,0,1,1,0,1,0,1,1,1,0,0,0,0,0,0,0,0,0,1,0,1,0,0]
[null,null,"Control optimisation",0,1,0,0,0,1,0,1,1,1,0,0,1,0,1,0,1,1,0,1,0,1,1,1,0,1,0,0,0,1,1,0,1,0,1,1,1,0,0,0,0,0,0,0,0,0,1,0,1,0,0]
[null,null,"Air velocity optimisation",0,1,0,0,0,1,0,1,1,1,0,0,1,0,1,0,1,1,0,1,0,1,1,1,0,1,0,0,0,1,1,0,1,0,1,1,1,0,0,0,0,0,0,0,0,0,1,0,1,0,0]
[null,null,"Inlet air temperature optimisation",0,1,0,0,0,1,0,1,1,1,0,0,1,0,1,0,1,1,0,1,0,1,1,1,0,1,0,0,0,1,1,0,1,0,1,1,1,0,0,0,0,0,0,0,0,0,1,0,1,0,0]
[null,null,"Heat recovery",0,1,0,0,0,1,0,1,1,1,0,0,1,0,1,1,1,1,0,1,0,1,1,1,0,1,0,0,0,1,1,1,1,0,1,1,1,0,0,0,0,0,0,0,0,0,1,0,1,0,0]
[null,null,"Energy efficient fans",0,1,0,0,0,1,0,1,1,1,0,0,1,0,1,0,1,1,0,1,0,1,1,1,0,1,0,0,0,1,1,0,1,0,1,1,1,0,0,0,0,0,0,0,0,0,1,0,1,0,0]
[null,"Lighting","Energy efficient lights (e.g LED)",0,1,0,0,0,1,0,1,1,1,1,0,1,0,1,0,0,1,0,1,0,0,1,1,0,1,0,0,0,1,1,0,1,0,1,1,1,0,0,0,1,0,0,0,0,0,1,0,1,1,0]
[null,null,"Level of illumination",0,1,0,0,0,1,0,1,1,1,1,0,1,0,1,0,0,1,0,1,0,0,1,1,0,1,0,0,0,1,1,0,1,0,1,1,1,0,0,0,1,0,0,0,0,0,1,0,1,1,0]
[null,null,"Schedule optimisation",0,1,0,0,0,1,0,1,1,1,1,0,1,0,1,0,0,1,0,1,0,0,1,1,0,1,0,0,0,1,1,0,1,0,1,1,1,0,0,0,1,0,0,0,0,0,1,0,1,1,0]
[null,null,"Control optimisation",0,1,0,0,0,1,0,1,1,1,1,0,1,0,1,0,0,1,0,1,0,0,1,1,0,1,0,0,0,1,1,0,1,0,1,1,1,0,0,0,1,0,0,0,0,0,1,0,1,1,0]
[null,null,"Utilisation of natural light",0,1,0,0,0,1,0,1,1,1,1,0,1,0,1,0,0,1,0,1,0,0,1,1,0,1,0,0,0,1,1,0,1,0,1,1,1,0,0,0,1,0,0,0,0,0,1,0,1,1,0]
[null,"Renewable energy","Solar PV",0,1,0,0,0,1,1,1,1,1,1,0,1,1,1,0,1,1,1,1,0,1,1,1,1,1,0,0,0,0,1,1,0,0,1,1,1,0,0,0,1,0,0,0,0,0,1,1,1,0,0]
[null,null,"Wind turbine",0,1,0,0,0,1,1,1,1,1,1,0,1,1,1,0,1,1,1,1,0,1,1,1,1,1,0,0,0,0,1,1,0,0,1,1,1,0,0,0,1,0,0,0,0,0,1,1,1,0,0]
[null,null,"Solar collector system",0,1,0,0,0,1,1,1,1,1,1,0,1,1,1,0,1,1,1,1,0,1,1,1,1,1,0,0,0,0,1,1,0,0,1,1,1,0,0,0,1,0,0,0,0,0,1,1,1,0,0]
[null,null,"Geothermal heat pump system",0,1,0,0,0,1,1,1,1,1,1,0,1,1,1,0,1,1,1,1,0,1,1,1,1,1,0,0,0,0,1,1,0,0,1,1,1,0,0,0,1,0,0,0,0,0,1,1,1,0,0]
[null,null,"Passive measures",0,1,0,0,0,1,1,1,1,1,1,0,1,1,1,0,1,1,1,1,0,1,1,1,1,1,0,0,0,0,1,1,0,0,1,1,1,0,0,0,1,0,0,0,0,0,1,1,1,0,0]
[null,"Appliances","Energy efficient appliances",0,1,0,0,0,1,0,0,0,1,0,0,1,0,1,0,1,1,0,1,0,1,1,1,1,1,0,0,0,1,1,1,1,0,1,1,1,0,0,0,1,0,0,0,0,0,1,1,1,0,0]
[null,null,"Reducing stand-by consumption",0,1,0,0,0,1,0,0,0,1,0,0,1,0,1,0,1,1,0,1,0,1,1,0,1,1,0,0,0,1,1,0,0,0,1,1,1,0,0,0,1,0,0,0,0,0,1,1,1,1,0]
[null,null,"Optimal usage, on demand operation",0,1,0,0,0,1,0,0,0,1,1,0,1,0,1,0,1,1,0,1,0,1,1,0,1,1,0,0,0,1,1,1,0,0,1,1,1,0,0,0,1,0,0,0,0,0,1,1,1,1,0]
[null,"Building automation","Building automation and management systems",0,1,0,0,0,1,0,1,1,1,1,0,1,0,1,0,1,1,0,1,0,1,1,1,1,1,0,0,1,1,1,0,1,0,1,1,1,0,0,0,1,0,0,0,0,0,1,0,1,0,0]
[null,null,"Energy management system",0,1,0,0,0,1,0,1,1,1,0,0,1,0,1,0,1,1,0,1,0,1,1,1,1,1,0,0,0,1,1,0,1,0,1,1,1,0,0,0,1,0,0,0,0,0,1,0,1,0,0]
[null,null,"Measured consumption",0,1,0,0,0,1,0,1,1,1,0,0,1,0,1,1,1,1,0,1,0,1,1,1,1,1,0,0,0,1,1,0,1,0,1,1,1,0,0,0,1,0,0,0,0,0,1,0,1,0,0]
[null,null,"Improved smart-readiness",0,1,0,0,0,1,0,1,1,1,1,0,1,0,1,0,1,1,0,1,0,1,1,1,1,1,0,0,0,1,1,0,1,0,1,1,1,0,0,0,1,0,0,0,0,0,1,0,1,0,0]
["Processes","Compressed air system","Check the required pressure",0,1,0,0,0,1,0,0,0,0,0,0,1,0,1,0,0,1,0,1,0,1,1,1,1,1,0,0,0,1,1,0,0,0,1,1,1,0,0,0,1,0,0,0,0,0,1,0,1,0,0]
[null,null,"Regular check for leakages",0,1,0,0,0,1,0,0,0,0,0,0,1,0,1,0,0,1,0,1,0,1,1,1,1,1,0,1,0,1,1,0,0,0,1,1,1,0,0,0,1,0,0,0,0,0,1,1,1,0,0]
[null,null,"Waste heat recovery ",0,1,0,0,0,1,0,0,0,0,0,0,1,0,1,0,0,1,0,1,0,1,1,1,1,1,0,1,0,1,1,1,0,0,1,1,1,0,0,0,1,0,0,0,0,0,1,0,1,0,0]
[null,null,"Regular maintenance of the compressor",0,1,0,0,0,1,0,0,0,0,0,0,1,0,1,0,0,1,0,1,0,1,1,1,1,1,0,0,0,1,1,0,0,0,1,1,1,0,0,0,1,0,0,0,0,0,1,1,1,1,0]
[null,"Steam system","Check the required pressure",0,1,0,0,0,1,0,0,0,0,0,0,1,0,1,0,0,1,0,1,0,1,1,1,1,1,0,0,0,1,1,0,0,0,1,1,1,0,0,0,1,0,0,0,0,0,1,0,1,0,0]
[null,null,"Check for leakages",0,1,0,0,0,1,0,0,0,0,0,0,1,0,1,0,0,1,0,1,0,1,1,1,1,1,0,1,0,1,1,0,0,0,1,1,1,0,0,0,1,0,0,0,0,0,1,1,1,0,0]
[null,null,"Regular maintenance of the boiler",0,1,0,0,0,1,0,0,0,0,0,0,1,0,1,0,0,1,0,1,0,1,1,1,1,1,0,0,0,1,1,0,0,0,1,1,1,0,0,0,1,0,0,0,0,0,1,1,1,1,0]
[null,"Refrigeration","Optimisation of the required temperatures",0,1,0,0,0,1,0,0,0,0,0,0,1,0,1,0,0,1,0,1,0,1,1,1,1,1,0,0,0,1,1,0,0,0,1,1,1,0,0,0,1,0,0,0,0,0,1,0,1,0,0]
[null,null,"Waste heat recovery ",0,1,0,0,0,1,0,0,0,0,0,0,1,0,1,0,0,1,0,1,0,1,1,1,1,1,0,1,0,1,1,1,0,0,1,1,1,0,0,0,1,0,0,0,0,0,1,0,1,0,0]
[null,null,"Install frequency control (i.e. VRF) on chiller compressor.",0,1,0,0,0,1,0,1,1,1,0,0,1,0,1,1,1,1,0,1,0,1,1,1,1,1,0,0,0,1,1,0,1,0,1,1,1,0,0,0,1,0,0,0,0,0,1,0,1,0,0]
[null,null,"Install high efficiency or 2-rev electromotor on evaporation fan",0,1,1,0,0,1,0,0,1,1,0,0,1,0,1,1,1,0,0,1,0,0,0,0,0,1,1,0,1,0,0,1,0,0,1,1,1,0,0,0,1,0,0,0,0,0,1,1,1,0,0]
[null,null,"Build a cooled front space for refrigeration units.",0,1,0,0,0,1,0,1,1,1,0,0,1,1,1,0,0,1,0,0,0,0,1,0,0,0,0,0,0,0,1,0,0,0,1,1,1,0,0,0,1,0,0,0,0,0,1,0,1,0,0]
[null,null,"Use hot refrigerant gas from the compressor for the initial stages of the defrosting cycle.",0,1,0,0,0,1,0,0,0,0,0,0,1,0,1,0,0,1,0,1,0,1,1,1,1,1,0,1,0,1,1,1,0,0,1,1,1,0,0,0,1,0,0,0,0,0,1,0,1,0,0]
[null,null,"Use excess heat from other production processes for the production of cooling using adsorption/absorption cooling.",0,1,0,0,0,1,0,0,0,0,0,0,1,0,1,0,0,1,0,1,0,1,1,1,1,1,0,1,0,1,1,1,0,0,1,1,1,0,0,0,1,0,0,0,0,0,1,0,1,0,0]
[null,null,"Utilisation of free cooling",0,1,0,0,0,1,0,0,0,0,0,0,1,0,1,0,0,1,0,1,0,1,1,1,1,1,0,1,0,1,1,1,0,0,1,1,1,0,0,0,1,0,0,0,0,0,1,0,1,0,0]
[null,null,"Replacement of the equipment.",0,1,0,0,0,1,0,0,0,1,0,0,1,0,1,1,1,1,0,1,0,1,1,1,1,1,0,0,0,1,1,1,1,0,1,1,1,0,0,0,1,0,0,0,0,0,1,1,1,0,0]
[null,"Water systems","Efficient pumps for the Water treatment system (if any)",0,1,0,0,0,1,0,0,0,1,0,0,1,0,1,1,1,1,0,1,0,1,1,1,1,1,0,0,0,1,1,1,1,0,1,1,1,0,0,0,1,0,0,0,0,0,1,1,1,0,0]
[null,null,"Advanced process of water recovery ",0,1,0,0,0,1,0,0,0,0,0,0,1,0,1,1,0,1,0,1,0,1,1,1,1,1,0,1,0,1,1,1,0,0,1,1,1,0,0,0,1,0,0,0,0,0,1,0,1,0,0]
[null,"Production line","Optimisation of the production process and workflow",0,1,0,0,0,1,0,1,1,0,0,0,0,0,0,0,1,0,0,1,0,1,1,0,1,0,1,1,0,1,1,1,0,0,1,0,0,0,0,0,1,0,0,0,0,0,1,1,1,0,1]
[null,null,"Waste reduction & recycling in the production line ",0,1,0,0,0,1,1,1,1,1,0,0,1,0,0,0,1,1,0,1,0,1,1,0,0,1,0,1,0,1,1,1,0,0,1,0,0,0,0,0,1,0,0,0,0,0,1,1,1,0,0]
[null,null,"Optimization of motor driven systems ",0,1,0,0,0,1,1,1,1,0,0,0,1,0,1,0,0,0,0,1,0,1,1,1,1,1,1,1,0,0,1,0,0,0,1,0,0,0,0,0,1,0,0,0,0,0,1,1,1,1,0]
[null,null,"High efficient transmission system",0,1,0,0,0,1,0,0,0,0,0,0,1,0,1,0,0,1,0,1,0,1,1,1,0,1,1,1,0,0,1,0,1,0,1,1,0,0,0,0,1,0,0,0,0,0,1,1,1,1,0]
[null,null,"Reduction of the manual labor",0,1,0,0,0,1,1,1,1,0,0,0,0,0,1,0,0,0,0,0,0,1,1,1,0,0,1,1,0,0,1,0,0,0,1,0,0,0,0,0,1,0,0,0,0,0,1,1,1,0,0]
[null,null,"Regular maintenance of the equipment",0,1,0,0,0,1,1,1,1,1,0,0,1,0,1,1,1,1,1,1,0,1,1,1,1,1,0,1,0,0,1,0,0,0,1,1,0,0,0,0,1,0,0,0,0,0,1,1,1,1,0]
[null,null,"Replacement of the equipment",0,1,0,0,0,1,1,1,1,1,0,0,1,0,1,0,1,1,1,1,0,1,1,1,1,1,1,1,0,0,1,0,0,0,1,1,0,0,0,0,1,0,0,0,0,0,1,1,1,1,0]
[null,null,"Waste heat recovery ",0,1,0,0,0,1,0,0,0,1,0,0,1,0,1,0,1,1,0,1,0,1,1,1,0,1,0,0,0,0,1,1,0,0,1,1,0,0,0,0,1,0,0,0,0,0,1,1,1,0,0]
[null,null,"Low-carbon packaging ",0,1,0,0,0,1,0,0,0,0,0,0,1,0,1,0,1,1,0,1,0,1,1,1,0,1,0,0,0,0,1,0,0,0,1,1,0,0,0,0,1,0,0,0,0,0,1,1,0,0,0]
["Transport","Transport of goods","Optimisation of timetables",0,1,0,0,0,1,0,1,1,1,0,1,1,0,1,0,1,1,1,0,0,1,1,1,1,1,0,0,0,0,1,0,0,0,1,1,1,0,0,0,1,0,0,0,0,0,1,1,0,1,0]
[null,null,"Optimisation of routes",0,1,0,0,0,1,0,1,1,1,0,1,1,0,1,0,1,1,1,0,0,1,1,1,1,1,0,0,0,0,1,0,0,0,1,1,1,0,0,0,1,0,0,0,0,0,1,1,0,1,0]
[null,null,"Optimisation of loads",0,1,0,0,0,1,0,1,1,1,0,1,1,0,1,0,1,1,1,0,0,1,1,1,1,1,0,0,0,0,1,0,0,0,1,1,1,0,0,0,1,0,0,0,0,0,1,1,0,1,0]
[null,null,"Optimisation of the fleet",0,1,0,0,0,1,0,1,1,1,0,1,1,0,1,0,1,1,1,0,0,1,1,1,1,1,0,0,0,0,1,0,0,0,1,1,1,0,0,0,1,0,0,0,0,0,1,1,0,1,0]
[null,null,"Promote electromobility",0,1,0,0,0,1,0,1,1,1,0,1,1,0,1,0,1,1,1,1,0,1,1,1,1,1,0,0,0,0,1,0,0,0,1,1,1,0,0,0,1,0,0,0,0,0,1,1,0,0,0]
[null,null,"Promotion of modal shift for freight",0,1,0,0,0,1,0,1,1,1,0,1,1,0,1,0,1,1,1,0,0,1,1,1,1,1,0,0,0,0,1,0,0,0,1,1,1,0,0,0,1,0,0,0,0,0,1,1,0,1,0]
[null,null,"Regular maintenance",0,1,0,0,0,1,1,1,1,1,0,1,1,0,1,0,1,1,1,0,0,1,1,1,1,1,0,0,0,0,1,0,0,0,1,1,1,0,0,0,1,0,0,0,0,0,1,1,0,0,0]
[null,null,"Driver training",0,1,0,0,0,1,1,1,1,1,0,0,1,0,1,0,1,1,1,0,0,1,1,0,1,1,0,0,0,0,1,0,0,0,1,1,1,0,0,0,1,0,0,0,0,0,1,1,1,0,1]
["Management & Maintenance measures","Management & Maintenance measures","Green supply chain management",0,1,0,0,0,1,1,1,1,1,0,0,1,0,1,1,1,1,0,0,1,1,1,1,1,1,0,0,0,1,1,1,1,0,1,1,1,0,0,0,1,0,0,0,0,0,1,1,1,0,0]
[null,null,"Improved energy management",0,1,0,0,0,1,1,1,1,1,1,0,1,0,1,1,1,1,0,1,1,1,1,1,1,1,0,0,0,1,1,1,1,0,1,1,1,0,0,0,1,0,0,0,0,0,1,1,1,0,0]
[null,null,"Improved environmental awareness at the management level",0,1,0,0,0,1,1,1,1,1,0,0,1,1,1,1,1,1,0,1,1,1,1,1,1,1,0,0,0,1,1,1,1,0,1,1,1,0,0,0,1,0,0,0,0,0,1,1,1,0,0]
["Occupant behaviour","Occupant behaviour","Employee engagement and training",0,1,0,0,0,1,1,1,1,1,0,1,1,0,1,1,1,1,1,1,1,1,1,1,1,1,0,1,0,1,1,1,0,0,1,1,1,0,0,0,1,0,0,0,0,0,1,1,1,0,1]
[null,null,"Motivation",0,1,0,0,0,1,1,1,1,1,0,1,1,0,1,1,1,1,1,1,1,1,1,1,1,1,0,1,0,1,1,1,0,0,1,1,1,0,0,0,1,0,0,0,0,0,1,1,1,0,1]

{"sheet":"LAT_leg","index":39,"n_rows":97,"n_cols":54,"rows_kept":97,"cut":false,"hidden":true,"merged":[[0,51,0,53],[2,0,56,0],[2,1,6,1],[7,1,16,1],[17,1,22,1],[23,1,33,1],[34,1,39,1],[40,1,44,1],[45,1,49,1],[50,1,52,1],[0,3,0,7],[0,8,0,14],[0,15,0,24],[0,25,0,37],[0,38,0,44],[0,45,0,50],[53,1,56,1],[57,0,83,0],[57,1,60,1],[61,1,63,1],[64,1,72,1],[73,1,74,1],[75,1,83,1],[84,0,91,0],[84,1,91,1],[92,0,94,0],[92,1,94,1],[95,0,96,0],[95,1,96,1]]}
[null,null,null,"Social",null,null,null,null,"Health",null,null,null,null,null,null,"Environment",null,null,null,null,null,null,null,null,null,"Economic",null,null,null,null,null,null,null,null,null,null,null,null,"Security & Safety",null,null,null,null,null,null,"Quality",null,null,null,null,null,"Time"]
[null,null,"EEM/NEB","Employee satisfaction","Alleviation of energy poverty","Customers (new, satisfaction, etc.)","Improved supply chain relationships","Work performance","Health and well-being","(avoided) mortality","Disease burden \"daly\"","Sickness & absenteeism","Improved air quality","Improved lighting","Reduced noise","Emission reduction","Impact of EE on RES target achievement ","Ecosystem degradation","Reduced water use ","Reduced material consumption","Reduced emissions (dust, CO2, chemical agents etc.)","Reduced noise pollution","Reduced use of non-renewable resources ","Reduced litigations risks","Reduced waste","Improvement of compatitiveness","Innovation impacts","Reduction of (maintenance) costs","Reduction of emission or disposal fees","Shorter production cycle","Increased production yields","Increased real estate value","Reduction of (operating) costs","Macro economy","Usage of waste streams","Turnover of energy efficiency goods ","Employment effects","Impact on public budgets","Energy security","Security of supply / self sufficiency","Supplier diversity ","Operation safety of equipment","Less maintenance","Electrical safety","Reduced injuries","Accurate monitoring","Right First Time","Increased quality of products","Increased corporate image","Increased regulatory compliance","Risk reduction","Increased productivity","Increased equipment lifetime","Reduced time of fault detection"]
["Building","Envelope","Improvement to visible building envelope elements",0,0,0,0,0,1,0,0,0,1,0,0,0,0,0,0,0,0,0,0,0,0,0,0,0,0,0,0,0,0,1,0,1,1,1,0,0,0,0,0,0,0,0,0,0,0,1,0,0,0,0]
[null,null,"Improvements to non-visible building envelope elements",0,0,0,0,0,1,0,0,0,1,0,0,0,0,0,0,0,0,0,0,0,0,0,0,0,0,0,0,0,0,1,0,1,1,1,0,0,0,0,0,0,0,0,0,0,0,1,0,0,0,0]
[null,null,"Replacemert of windows",0,0,0,0,0,1,0,0,0,1,0,0,0,0,0,0,0,0,0,0,0,0,0,0,0,0,0,0,0,0,0,0,0,0,0,0,0,0,0,0,0,0,0,0,0,0,1,0,0,0,0]
[null,null,"Increasing the air-tightness of the building",0,0,0,0,0,1,0,0,0,1,0,0,0,0,0,0,0,0,0,0,0,0,0,0,0,0,0,0,0,0,0,0,0,0,0,0,0,0,0,0,0,0,0,0,0,0,1,0,0,0,0]
[null,null,"Shading to reduce summer heat gains",0,0,0,0,0,1,0,0,0,1,0,0,0,0,0,0,0,0,0,0,0,0,0,0,0,0,0,0,0,0,0,0,0,0,0,0,0,0,0,0,0,0,0,0,0,0,1,0,0,0,0]
[null,"Heating system","Roomwise temperature control",0,0,0,0,0,0,0,0,0,0,0,0,0,0,0,0,0,0,0,0,0,0,0,0,0,0,0,0,0,0,0,0,0,0,0,0,0,0,0,0,0,0,0,0,0,0,0,0,0,0,0]
[null,null,"Zoning optimisation of the building",0,0,0,0,0,0,0,0,0,0,0,0,0,0,0,0,0,0,0,0,0,0,0,0,0,0,0,0,0,0,0,0,0,0,0,0,0,0,0,0,0,0,0,0,0,0,0,0,0,0,0]
[null,null,"Optimisation of the heating schedule",0,0,0,0,0,0,0,0,0,0,0,0,0,0,0,0,0,0,0,0,0,0,0,0,0,0,0,0,0,0,0,0,0,0,0,0,0,0,0,0,0,0,0,0,0,0,0,0,0,0,0]
[null,null,"Lowering setpoint temperature",0,0,0,0,0,0,0,0,0,0,0,0,0,0,0,0,0,0,0,0,0,0,0,0,0,0,0,0,0,0,0,0,0,0,0,0,0,0,0,0,0,0,0,0,0,0,0,0,0,0,0]
[null,null,"Control optimisation",0,0,0,0,0,0,0,0,0,0,0,0,0,0,0,0,0,0,0,0,0,0,0,0,0,0,0,0,0,0,0,0,0,0,0,0,0,0,0,0,0,0,0,0,0,0,0,0,0,0,0]
[null,null,"Insulation of the distribution network",0,0,0,0,0,0,0,0,0,0,0,0,0,0,0,0,0,0,0,0,0,0,0,0,0,0,0,0,0,0,0,0,0,0,0,0,0,0,0,0,0,0,0,0,0,0,0,0,0,0,0]
[null,null,"Hydraulic balancing of the distribution network",0,0,0,0,0,0,0,0,0,0,0,0,0,0,0,0,0,0,0,0,0,0,0,0,0,0,0,0,0,0,0,0,0,0,0,0,0,0,0,0,0,0,0,0,0,0,0,0,0,0,0]
[null,null,"New, more efficient heat generator",0,0,0,0,0,0,0,0,0,1,0,0,1,0,0,0,0,1,0,0,0,0,0,0,0,0,0,0,0,0,0,0,0,0,0,0,0,0,0,0,0,0,0,0,0,0,1,0,0,0,0]
[null,null,"Including a renewable based heat source",0,0,0,0,0,0,0,0,0,1,0,0,1,1,0,0,0,1,0,1,0,0,0,0,0,0,0,0,0,0,1,0,0,1,1,1,0,0,0,0,0,0,0,0,0,0,1,0,0,0,0]
[null,null,"Energy efficient pumps",0,0,0,0,0,0,0,0,0,0,0,0,0,0,0,0,0,0,0,0,0,0,0,0,0,0,0,0,0,0,0,0,0,0,0,0,0,0,0,0,0,0,0,0,0,0,0,0,0,0,0]
[null,"DHW system","Reducing the DHW demand",0,0,0,0,0,0,0,0,0,0,0,0,0,0,0,0,0,0,0,0,0,0,0,0,0,0,0,0,0,0,0,0,0,0,0,0,0,0,0,0,0,0,0,0,0,0,0,0,0,0,0]
[null,null,"Insulation of the distribution network",0,0,0,0,0,0,0,0,0,0,0,0,0,0,0,0,0,0,0,0,0,0,0,0,0,0,0,0,0,0,0,0,0,0,0,0,0,0,0,0,0,0,0,0,0,0,0,0,0,0,0]
[null,null,"Lowering setpoint temperature",0,0,0,0,0,0,0,0,0,0,0,0,0,0,0,0,0,0,0,0,0,0,0,0,0,0,0,0,0,0,0,0,0,0,0,0,0,0,0,0,0,0,0,0,0,0,0,0,0,0,0]
[null,null,"Circulation network optimisation, decentralisation of DHW production",0,0,0,0,0,0,0,0,0,0,0,0,0,0,0,0,0,0,0,0,0,0,0,0,0,0,0,0,0,0,0,0,0,0,0,0,0,0,0,0,0,0,0,0,0,0,0,0,0,0,0]
[null,null,"New, more efficient heat generator",0,0,0,0,0,0,0,0,0,1,0,0,1,0,0,0,0,1,0,0,0,0,0,0,0,0,0,0,0,0,0,0,0,0,0,0,0,0,0,0,0,0,0,0,0,0,1,0,0,0,0]
[null,null,"Including a renewable based heat source",0,0,0,0,0,0,0,0,0,1,0,0,1,1,0,0,0,1,0,1,0,0,0,0,0,0,0,0,0,0,1,0,0,1,1,1,0,0,0,0,0,0,0,0,0,0,1,0,0,0,0]
[null,"Cooling system","Roomwise temperature control",0,0,0,0,0,0,0,0,0,0,0,0,0,0,0,0,0,0,0,0,0,0,0,0,0,0,0,0,0,0,0,0,0,0,0,0,0,0,0,0,0,0,0,0,0,0,0,0,0,0,0]
[null,null,"Zoning optimisation of the building",0,0,0,0,0,0,0,0,0,0,0,0,0,0,0,0,0,0,0,0,0,0,0,0,0,0,0,0,0,0,0,0,0,0,0,0,0,0,0,0,0,0,0,0,0,0,0,0,0,0,0]
[null,null,"Optimisation of the cooling schedule",0,0,0,0,0,0,0,0,0,0,0,0,0,0,0,0,0,0,0,0,0,0,0,0,0,0,0,0,0,0,0,0,0,0,0,0,0,0,0,0,0,0,0,0,0,0,0,0,0,0,0]
[null,null,"Increasing setpoint temperature",0,0,0,0,0,0,0,0,0,0,0,0,0,0,0,0,0,0,0,0,0,0,0,0,0,0,0,0,0,0,0,0,0,0,0,0,0,0,0,0,0,0,0,0,0,0,0,0,0,0,0]
[null,null,"Control optimisation",0,0,0,0,0,0,0,0,0,0,0,0,0,0,0,0,0,0,0,0,0,0,0,0,0,0,0,0,0,0,0,0,0,0,0,0,0,0,0,0,0,0,0,0,0,0,0,0,0,0,0]
[null,null,"Insulation of the distribution network",0,0,0,0,0,0,0,0,0,0,0,0,0,0,0,0,0,0,0,0,0,0,0,0,0,0,0,0,0,0,0,0,0,0,0,0,0,0,0,0,0,0,0,0,0,0,0,0,0,0,0]
[null,null,"Hydraulic balancing of the distribution network",0,0,0,0,0,0,0,0,0,0,0,0,0,0,0,0,0,0,0,0,0,0,0,0,0,0,0,0,0,0,0,0,0,0,0,0,0,0,0,0,0,0,0,0,0,0,0,0,0,0,0]
[null,null,"New, more efficient heat generator",0,0,0,0,0,0,0,0,0,0,0,0,0,0,0,0,0,0,0,0,0,0,0,0,0,0,0,0,0,0,0,0,0,0,0,0,0,0,0,0,0,0,0,0,0,0,0,0,0,0,0]
[null,null,"Energy efficient pumps",0,0,0,0,0,0,0,0,0,0,0,0,0,0,0,0,0,0,0,0,0,0,0,0,0,0,0,0,0,0,0,0,0,0,0,0,0,0,0,0,0,0,0,0,0,0,0,0,0,0,0]
[null,null,"Utilisation of free cooling",0,0,0,0,0,0,0,0,0,0,0,0,0,0,0,0,0,0,0,0,0,0,0,0,0,0,0,0,0,0,0,0,0,0,0,0,0,0,0,0,0,0,0,0,0,0,0,0,0,0,0]
[null,null,"Utilising the waste heat from the cooling system for heating&DHW",0,0,0,0,0,0,0,0,0,0,0,0,0,0,0,0,0,0,0,0,0,0,0,0,0,0,0,0,0,0,0,0,0,0,0,0,0,0,0,0,0,0,0,0,0,0,0,0,0,0,0]
[null,"Ventilation system","Schedule optimisation",0,0,0,0,0,0,0,0,0,0,0,0,0,0,0,0,0,0,0,0,0,0,0,0,0,0,0,0,0,0,0,0,0,0,0,0,0,0,0,0,0,0,0,0,0,0,0,0,0,0,0]
[null,null,"Control optimisation",0,0,0,0,0,0,0,0,0,0,0,0,0,0,0,0,0,0,0,0,0,0,0,0,0,0,0,0,0,0,0,0,0,0,0,0,0,0,0,0,0,0,0,0,0,0,0,0,0,0,0]
[null,null,"Air velocity optimisation",0,0,0,0,0,0,0,0,0,0,0,0,0,0,0,0,0,0,0,0,0,0,0,0,0,0,0,0,0,0,0,0,0,0,0,0,0,0,0,0,0,0,0,0,0,0,0,0,0,0,0]
[null,null,"Inlet air temperature optimisation",0,0,0,0,0,0,0,0,0,0,0,0,0,0,0,0,0,0,0,0,0,0,0,0,0,0,0,0,0,0,0,0,0,0,0,0,0,0,0,0,0,0,0,0,0,0,0,0,0,0,0]
[null,null,"Heat recovery",0,0,0,0,0,0,0,0,0,0,0,0,0,0,0,0,0,0,0,0,0,0,0,0,0,0,0,0,0,0,0,0,0,0,0,0,0,0,0,0,0,0,0,0,0,0,0,0,0,0,0]
[null,null,"Energy efficient fans",0,0,0,0,0,0,0,0,0,0,0,0,0,0,0,0,0,0,0,0,0,0,0,0,0,0,0,0,0,0,0,0,0,0,0,0,0,0,0,0,0,0,0,0,0,0,0,0,0,0,0]
[null,"Lighting","Energy efficient lights (e.g LED)",0,0,0,0,0,0,0,0,0,0,0,0,1,0,0,0,0,1,0,0,0,0,0,0,0,0,0,0,0,0,0,0,0,0,0,0,0,0,0,0,0,0,0,0,0,0,0,0,0,0,0]
[null,null,"Level of illumination",0,0,0,0,0,0,0,0,0,0,0,0,0,0,0,0,0,0,0,0,0,0,0,0,0,0,0,0,0,0,0,0,0,0,0,0,0,0,0,0,0,0,0,0,0,0,0,0,0,0,0]
[null,null,"Schedule optimisation",0,0,0,0,0,0,0,0,0,0,0,0,0,0,0,0,0,0,0,0,0,0,0,0,0,0,0,0,0,0,0,0,0,0,0,0,0,0,0,0,0,0,0,0,0,0,0,0,0,0,0]
[null,null,"Control optimisation",0,0,0,0,0,0,0,0,0,0,0,0,0,0,0,0,0,0,0,0,0,0,0,0,0,0,0,0,0,0,0,0,0,0,0,0,0,0,0,0,0,0,0,0,0,0,0,0,0,0,0]
[null,null,"Utilisation of natural light",0,0,0,0,0,0,0,0,0,0,0,0,0,0,0,0,0,0,0,0,0,0,0,0,0,0,0,0,0,0,0,0,0,0,0,0,0,0,0,0,0,0,0,0,0,0,0,0,0,0,0]
[null,"Renewable energy","Solar PV",0,0,0,0,0,0,0,0,0,1,0,0,1,1,0,0,0,1,0,1,1,0,0,0,0,0,0,0,0,0,0,0,0,0,0,1,0,0,0,0,0,0,0,0,0,0,1,0,0,0,0]
[null,null,"Wind turbine",0,0,0,0,0,0,0,0,0,1,0,0,1,1,0,0,0,1,0,1,1,0,0,0,0,0,0,0,0,0,0,0,0,0,0,1,0,0,0,0,0,0,0,0,0,0,1,0,0,0,0]
[null,null,"Solar collector system",0,0,0,0,0,0,0,0,0,1,0,0,1,1,0,0,0,1,0,1,1,0,0,0,0,0,0,0,0,0,0,0,0,0,0,1,0,0,0,0,0,0,0,0,0,0,1,0,0,0,0]
[null,null,"Geothermal heat pump system",0,0,0,0,0,0,0,0,0,1,0,0,1,0,0,0,0,1,0,0,0,0,0,0,0,0,0,0,0,0,0,0,0,0,0,0,0,0,0,0,0,0,0,0,0,0,1,0,0,0,0]
[null,null,"Passive measures",0,0,0,0,0,0,0,0,0,1,0,0,1,0,0,0,0,1,0,0,0,0,0,0,0,0,0,0,0,0,0,0,0,0,0,0,0,0,0,0,0,0,0,0,0,0,0,0,0,0,0]
[null,"Appliances","Energy efficient appliances",0,0,0,0,0,0,0,0,0,0,0,0,1,0,0,0,0,1,0,0,0,0,0,0,0,0,0,0,0,0,0,0,0,0,0,0,0,0,0,0,0,0,0,0,0,0,1,0,0,0,0]
[null,null,"Reducing stand-by consumption",0,0,0,0,0,0,0,0,0,0,0,0,0,0,0,0,0,0,0,0,0,0,0,0,0,0,0,0,0,0,0,0,0,0,0,0,0,0,0,0,0,0,0,0,0,0,1,0,0,0,0]
[null,null,"Optimal usage, on demand operation",0,0,0,0,0,0,0,0,0,0,0,0,0,0,0,0,0,0,0,0,0,0,0,0,0,0,0,0,0,0,0,0,0,0,0,0,0,0,0,0,0,0,0,0,0,0,0,0,0,0,0]
[null,"Building automation","Building automation and management systems",0,0,0,0,0,0,0,0,0,0,0,0,0,0,0,0,0,0,0,0,0,0,0,0,0,0,0,0,0,0,0,0,0,0,0,0,0,0,0,0,0,0,0,0,0,0,0,0,0,0,0]
[null,null,"Energy management system",0,0,0,0,0,0,0,0,0,0,0,0,0,0,0,0,0,0,0,0,0,0,0,0,0,0,0,0,0,0,0,0,0,0,0,0,0,0,0,0,0,0,0,0,0,0,0,0,0,0,0]
[null,null,"Measured consumption",0,0,0,0,0,0,0,0,0,0,0,0,0,0,0,0,0,0,0,0,0,0,0,0,0,0,0,0,0,0,0,0,0,0,0,0,0,0,0,0,0,0,0,0,0,0,0,0,0,0,0]
[null,null,"Improved smart-readiness",0,0,0,0,0,0,0,0,0,0,0,0,0,0,0,0,0,0,0,0,0,0,0,0,0,0,0,0,0,0,0,0,0,0,0,0,0,0,0,0,0,0,0,0,0,0,0,0,0,0,0]
["Processes","Compressed air system","Check the required pressure",0,0,0,0,0,0,0,0,0,0,0,0,0,0,0,0,0,0,0,0,0,0,0,0,0,0,0,0,0,0,0,0,0,0,0,0,0,0,0,0,0,0,0,0,0,0,0,0,0,0,0]
[null,null,"Regular check for leakages",0,0,0,0,0,0,0,0,0,0,0,0,0,0,0,0,0,0,0,0,0,0,0,0,0,0,0,0,0,0,0,0,0,0,0,0,0,0,0,0,0,0,0,0,0,0,0,0,0,0,0]
[null,null,"Waste heat recovery ",0,0,0,0,0,0,0,0,0,0,0,0,0,0,0,0,0,0,0,0,0,0,0,0,0,0,0,0,0,0,0,0,0,0,0,0,0,0,0,0,0,0,0,0,0,0,0,0,0,0,0]
[null,null,"Regular maintenance of the compressor",0,0,0,0,0,0,0,0,0,0,0,0,0,0,0,0,0,0,0,0,0,0,0,0,0,0,0,0,0,0,0,0,0,0,0,0,0,0,0,0,0,0,0,0,0,0,0,0,0,0,0]
[null,"Steam system","Check the required pressure",0,0,0,0,0,0,0,0,0,0,0,0,0,0,0,0,0,0,0,0,0,0,0,0,0,0,0,0,0,0,0,0,0,0,0,0,0,0,0,0,0,0,0,0,0,0,0,0,0,0,0]
[null,null,"Check for leakages",0,0,0,0,0,0,0,0,0,0,0,0,0,0,0,0,0,0,0,0,0,0,0,0,0,0,0,0,0,0,0,0,0,0,0,0,0,0,0,0,0,0,0,0,0,0,0,0,0,0,0]
[null,null,"Regular maintenance of the boiler",0,0,0,0,0,0,0,0,0,0,0,0,0,0,0,0,0,0,0,0,0,0,0,0,0,0,0,0,0,0,0,0,0,0,0,0,0,0,0,0,0,0,0,0,0,0,0,0,0,0,0]
[null,"Refrigeration","Optimisation of the required temperatures",0,0,0,0,0,0,0,0,0,0,0,0,0,0,0,0,0,0,0,0,0,0,0,0,0,0,0,0,0,0,0,0,0,0,0,0,0,0,0,0,0,0,0,0,0,0,0,0,0,0,0]
[null,null,"Waste heat recovery ",0,0,0,0,0,0,0,0,0,0,0,0,0,0,0,0,0,0,0,0,0,0,0,0,0,0,0,0,0,0,0,0,0,0,0,0,0,0,0,0,0,0,0,0,0,0,0,0,0,0,0]
[null,null,"Install frequency control (i.e. VRF) on chiller compressor.",0,0,0,0,0,0,0,0,0,0,0,0,0,0,0,0,0,0,0,0,0,0,0,0,0,0,0,0,0,0,0,0,0,0,0,0,0,0,0,0,0,0,0,0,0,0,0,0,0,0,0]
[null,null,"Install high efficiency or 2-rev electromotor on evaporation fan",0,0,0,0,0,0,0,0,0,0,0,0,0,0,0,0,0,0,0,0,0,0,0,0,0,0,0,0,0,0,0,0,0,0,0,0,0,0,0,0,0,0,0,0,0,0,0,0,0,0,0]
[null,null,"Build a cooled front space for refrigeration units.",0,0,0,0,0,0,0,0,0,0,0,0,0,0,0,0,0,0,0,0,0,0,0,0,0,0,0,0,0,0,0,0,0,0,0,0,0,0,0,0,0,0,0,0,0,0,0,0,0,0,0]
[null,null,"Use hot refrigerant gas from the compressor for the initial stages of the defrosting cycle.",0,0,0,0,0,0,0,0,0,0,0,0,0,0,0,0,0,0,0,0,0,0,0,0,0,0,0,0,0,0,0,0,0,0,0,0,0,0,0,0,0,0,0,0,0,0,0,0,0,0,0]
[null,null,"Use excess heat from other production processes for the production of cooling using adsorption/absorption cooling.",0,0,0,0,0,0,0,0,0,0,0,0,0,0,0,0,0,0,0,0,0,0,0,0,0,0,0,0,0,0,0,0,0,0,0,0,0,0,0,0,0,0,0,0,0,0,0,0,0,0,0]
[null,null,"Utilisation of free cooling",0,0,0,0,0,0,0,0,0,0,0,0,0,0,0,0,0,0,0,0,0,0,0,0,0,0,0,0,0,0,0,0,0,0,0,0,0,0,0,0,0,0,0,0,0,0,0,0,0,0,0]
[null,null,"Replacement of the equipment.",0,0,0,0,0,0,0,0,0,0,0,0,0,0,0,0,0,0,0,0,0,0,0,0,0,0,0,0,0,0,0,0,0,0,0,0,0,0,0,0,0,0,0,0,0,0,0,0,0,0,0]
[null,"Water systems","Efficient pumps for the Water treatment system (if any)",0,0,0,0,0,0,0,0,0,0,0,0,0,0,0,0,0,0,0,0,0,0,0,0,0,0,0,0,0,0,0,0,0,0,0,0,0,0,0,0,0,0,0,0,0,0,0,0,0,0,0]
[null,null,"Advanced process of water recovery ",0,0,0,0,0,0,0,0,0,0,0,0,0,0,0,0,0,0,0,0,0,0,0,0,0,0,0,0,0,0,0,0,0,0,0,0,0,0,0,0,0,0,0,0,0,0,0,0,0,0,0]
[null,"Production line","Optimisation of the production process and workflow",0,0,0,0,0,0,0,0,0,0,0,0,0,0,0,0,0,0,0,0,0,0,0,0,0,0,0,0,0,0,0,0,0,0,0,0,0,0,0,0,0,0,0,0,0,0,0,0,0,0,0]
[null,null,"Waste reduction & recycling in the production line ",0,0,0,0,0,0,0,0,0,0,0,0,0,0,0,0,0,0,0,0,0,0,0,0,0,0,0,0,0,0,0,0,0,0,0,0,0,0,0,0,0,0,0,0,0,0,0,0,0,0,0]
[null,null,"Optimization of motor driven systems ",0,0,0,0,0,0,0,0,0,0,0,0,0,0,0,0,0,0,0,0,0,0,0,0,0,0,0,0,0,0,0,0,0,0,0,0,0,0,0,0,0,0,0,0,0,0,0,0,0,0,0]
[null,null,"High efficient transmission system",0,0,0,0,0,0,0,0,0,0,0,0,0,0,0,0,0,0,0,0,0,0,0,0,0,0,0,0,0,0,0,0,0,0,0,0,0,0,0,0,0,0,0,0,0,0,0,0,0,0,0]
[null,null,"Reduction of the manual labor",0,0,0,0,0,0,0,0,0,0,0,0,0,0,0,0,0,0,0,0,0,0,0,0,0,0,0,0,0,0,0,0,0,0,0,0,0,0,0,0,0,0,0,0,0,0,0,0,0,0,0]
[null,null,"Regular maintenance of the equipment",0,0,0,0,0,0,0,0,0,0,0,0,0,0,0,0,0,0,0,0,0,0,0,0,0,0,0,0,0,0,0,0,0,0,0,0,0,0,0,0,0,0,0,0,0,0,0,0,0,0,0]
[null,null,"Replacement of the equipment",0,0,0,0,0,0,0,0,0,0,0,0,0,0,0,0,0,0,0,0,0,0,0,0,0,0,0,0,0,0,0,0,0,0,0,0,0,0,0,0,0,0,0,0,0,0,0,0,0,0,0]
[null,null,"Waste heat recovery ",0,0,0,0,0,0,0,0,0,0,0,0,0,0,0,0,0,0,0,0,0,0,0,0,0,0,0,0,0,0,0,0,0,0,0,0,0,0,0,0,0,0,0,0,0,0,0,0,0,0,0]
[null,null,"Low-carbon packaging ",0,0,1,0,0,0,0,0,0,0,0,0,0,0,0,0,1,0,0,0,0,1,0,0,0,1,0,0,0,0,0,0,0,0,0,0,0,0,0,0,0,0,0,0,0,0,0,0,0,0,0]
["Transport","Transport of goods","Optimisation of timetables",0,0,0,0,0,0,0,0,0,0,0,0,0,0,0,0,0,0,0,0,0,0,0,0,0,0,0,0,0,0,0,0,0,0,0,0,0,0,0,0,0,0,0,0,0,0,0,0,0,0,0]
[null,null,"Optimisation of routes",0,0,0,0,0,0,0,0,0,0,0,0,0,0,0,0,0,0,0,0,0,0,0,0,0,0,0,0,0,0,0,0,0,0,0,0,0,0,0,0,0,0,0,0,0,0,0,0,0,0,0]
[null,null,"Optimisation of loads",0,0,0,0,0,0,0,0,0,0,0,0,0,0,0,0,0,0,0,0,0,0,0,0,0,0,0,0,0,0,0,0,0,0,0,0,0,0,0,0,0,0,0,0,0,0,0,0,0,0,0]
[null,null,"Optimisation of the fleet",0,0,0,0,0,0,0,0,0,0,0,0,0,0,0,0,0,0,0,0,0,0,0,0,0,0,0,0,0,0,0,0,0,0,0,0,0,0,0,0,0,0,0,0,0,0,0,0,0,0,0]
[null,null,"Promote electromobility",0,0,0,0,0,0,0,0,0,1,0,0,1,1,0,0,0,1,0,1,0,0,0,0,0,0,0,0,0,0,0,0,0,0,0,0,0,0,0,0,0,0,0,0,0,0,1,0,0,0,0]
[null,null,"Promotion of modal shift for freight",0,0,0,0,0,0,0,0,0,1,0,0,1,0,0,0,0,1,0,0,0,0,0,0,0,0,0,0,0,0,0,0,0,0,0,0,0,0,0,0,0,0,0,0,0,0,0,0,0,0,0]
[null,null,"Regular maintenance",0,0,0,0,0,0,0,0,0,0,0,0,0,0,0,0,0,0,0,0,0,0,0,0,0,0,0,0,0,0,0,0,0,0,0,0,0,0,0,0,0,0,0,0,0,0,0,0,0,0,0]
[null,null,"Driver training",0,0,0,0,0,0,0,0,0,0,0,0,0,0,0,0,0,0,0,0,0,0,0,0,0,0,0,0,0,0,0,0,0,0,0,0,0,0,0,0,0,0,0,0,0,0,0,0,0,0,0]
["Management & Maintenance measures","Management & Maintenance measures","Green supply chain management",0,0,0,0,0,0,0,0,0,0,0,0,1,0,1,0,0,1,0,0,0,0,0,0,0,0,0,0,0,0,0,0,0,0,0,0,0,0,0,0,0,0,0,0,0,0,0,0,0,0,0]
[null,null,"Improved energy management",0,0,0,0,0,0,0,0,0,0,0,0,1,0,0,0,0,1,0,0,0,0,0,0,0,0,0,0,0,0,0,0,0,0,0,0,0,0,0,0,0,0,0,0,0,0,1,0,0,0,0]
[null,null,"Improved environmental awareness at the management level",0,0,0,0,0,0,0,0,0,0,0,0,0,0,0,0,0,0,0,0,0,0,0,0,0,0,0,0,0,0,0,0,0,0,0,0,0,0,0,0,0,0,0,0,0,0,0,0,0,0,0]
["Occupant behaviour","Occupant behaviour","Employee engagement and training",0,0,0,0,0,0,0,0,0,0,0,0,1,0,0,0,0,1,0,0,0,0,0,0,0,0,0,0,0,0,0,0,0,0,0,0,0,0,0,0,0,0,0,0,0,0,0,0,0,0,0]
[null,null,"Motivation",0,0,0,0,0,0,0,0,0,0,0,0,1,0,0,0,0,1,0,0,0,0,0,0,0,0,0,0,0,0,0,0,0,0,0,0,0,0,0,0,0,0,0,0,0,0,0,0,0,0,0]

{"sheet":"POL_leg","index":40,"n_rows":97,"n_cols":54,"rows_kept":97,"cut":false,"hidden":true,"merged":[[0,51,0,53],[2,0,56,0],[2,1,6,1],[7,1,16,1],[17,1,22,1],[23,1,33,1],[34,1,39,1],[40,1,44,1],[45,1,49,1],[50,1,52,1],[0,3,0,7],[0,8,0,14],[0,15,0,24],[0,25,0,37],[0,38,0,44],[0,45,0,50],[53,1,56,1],[57,0,83,0],[57,1,60,1],[61,1,63,1],[64,1,72,1],[73,1,74,1],[75,1,83,1],[84,0,91,0],[84,1,91,1],[92,0,94,0],[92,1,94,1],[95,0,96,0],[95,1,96,1]]}
[null,null,null,"Social",null,null,null,null,"Health",null,null,null,null,null,null,"Environment",null,null,null,null,null,null,null,null,null,"Economic",null,null,null,null,null,null,null,null,null,null,null,null,"Security & Safety",null,null,null,null,null,null,"Quality",null,null,null,null,null,"Time"]
[null,null,"EEM/NEB","Employee satisfaction","Alleviation of energy poverty","Customers (new, satisfaction, etc.)","Improved supply chain relationships","Work performance","Health and well-being","(avoided) mortality","Disease burden \"daly\"","Sickness & absenteeism","Improved air quality","Improved lighting","Reduced noise","Emission reduction","Impact of EE on RES target achievement ","Ecosystem degradation","Reduced water use ","Reduced material consumption","Reduced emissions (dust, CO2, chemical agents etc.)","Reduced noise pollution","Reduced use of non-renewable resources ","Reduced litigations risks","Reduced waste","Improvement of compatitiveness","Innovation impacts","Reduction of (maintenance) costs","Reduction of emission or disposal fees","Shorter production cycle","Increased production yields","Increased real estate value","Reduction of (operating) costs","Macro economy","Usage of waste streams","Turnover of energy efficiency goods ","Employment effects","Impact on public budgets","Energy security","Security of supply / self sufficiency","Supplier diversity ","Operation safety of equipment","Less maintenance","Electrical safety","Reduced injuries","Accurate monitoring","Right First Time","Increased quality of products","Increased corporate image","Increased regulatory compliance","Risk reduction","Increased productivity","Increased equipment lifetime","Reduced time of fault detection"]
["Building","Envelope","Improvement to visible building envelope elements",0,0,0,0,0,0,0,0,0,0,0,0,1,0,0,0,0,0,0,1,0,0,0,0,0,0,0,0,0,0,0,0,0,0,0,1,0,0,0,0,0,0,0,0,0,0,0,0,0,0,0]
[null,null,"Improvements to non-visible building envelope elements",0,0,0,0,0,0,0,0,0,0,0,0,1,0,0,0,0,0,0,1,0,0,0,0,0,0,0,0,0,0,0,0,0,0,0,1,0,0,0,0,0,0,0,0,0,0,0,0,0,0,0]
[null,null,"Replacemert of windows",0,0,0,0,0,0,0,0,0,0,0,0,1,0,0,0,0,0,0,1,0,0,0,0,0,0,0,0,0,0,0,0,0,0,0,1,0,0,0,0,0,0,0,0,0,0,0,0,0,0,0]
[null,null,"Increasing the air-tightness of the building",0,0,0,0,0,0,0,0,0,0,0,0,1,0,0,0,0,0,0,1,0,0,0,0,0,0,0,0,0,0,0,0,0,0,0,1,0,0,0,0,0,0,0,0,0,0,0,0,0,0,0]
[null,null,"Shading to reduce summer heat gains",0,0,0,0,0,0,0,0,0,0,0,0,1,0,0,0,0,0,0,1,0,0,0,0,0,0,0,0,0,0,0,0,0,0,0,1,0,0,0,0,0,0,0,0,0,0,0,0,0,0,0]
[null,"Heating system","Roomwise temperature control",0,0,0,0,0,0,0,0,0,0,0,0,1,0,0,0,0,0,0,1,0,0,0,0,0,0,0,0,0,0,0,0,0,0,0,1,0,0,0,0,0,0,0,0,0,0,0,0,0,0,0]
[null,null,"Zoning optimisation of the building",0,0,0,0,0,0,0,0,0,0,0,0,1,0,0,0,0,0,0,1,0,0,0,0,0,0,0,0,0,0,0,0,0,0,0,1,0,0,0,0,0,0,0,0,0,0,0,0,0,0,0]
[null,null,"Optimisation of the heating schedule",0,0,0,0,0,0,0,0,0,0,0,0,1,0,0,0,0,0,0,1,0,0,0,0,0,0,0,0,0,0,0,0,0,0,0,1,0,0,0,0,0,0,0,0,0,0,0,0,0,0,0]
[null,null,"Lowering setpoint temperature",0,0,0,0,0,0,0,0,0,0,0,0,1,0,0,0,0,0,0,1,0,0,0,0,0,0,0,0,0,0,0,0,0,0,0,1,0,0,0,0,0,0,0,0,0,0,0,0,0,0,0]
[null,null,"Control optimisation",0,0,0,0,0,0,0,0,0,0,0,0,1,0,0,0,0,0,0,1,0,0,0,0,0,0,0,0,0,0,0,0,0,0,0,1,0,0,0,0,0,0,0,0,0,0,0,0,0,0,0]
[null,null,"Insulation of the distribution network",0,0,0,0,0,0,0,0,0,0,0,0,1,0,0,0,0,0,0,1,0,0,0,0,0,0,0,0,0,0,0,0,0,0,0,1,0,0,0,0,0,0,0,0,0,0,0,0,0,0,0]
[null,null,"Hydraulic balancing of the distribution network",0,0,0,0,0,0,0,0,0,0,0,0,1,0,0,0,0,0,0,1,0,0,0,0,0,0,0,0,0,0,0,0,0,0,0,1,0,0,0,0,0,0,0,0,0,0,0,0,0,0,0]
[null,null,"New, more efficient heat generator",0,0,0,0,0,0,0,0,0,0,0,0,1,0,0,0,0,0,0,1,0,0,0,0,0,0,0,0,0,0,0,0,0,0,0,1,0,0,0,0,0,0,0,0,0,0,0,0,0,0,0]
[null,null,"Including a renewable based heat source",0,0,0,0,0,0,0,0,0,0,0,0,1,1,0,0,0,1,0,1,0,0,0,0,0,0,0,0,0,0,0,0,0,0,0,1,0,0,0,0,0,0,0,0,0,0,0,0,0,0,0]
[null,null,"Energy efficient pumps",0,0,0,0,0,0,0,0,0,0,0,0,1,0,0,0,0,0,0,1,0,0,0,0,0,0,0,0,0,0,0,0,0,0,0,1,0,0,0,0,0,0,0,0,0,0,0,0,0,0,0]
[null,"DHW system","Reducing the DHW demand",0,0,0,0,0,0,0,0,0,0,0,0,1,0,0,0,0,0,0,1,0,0,0,0,0,0,0,0,0,0,0,0,0,0,0,1,0,0,0,0,0,0,0,0,0,0,0,0,0,0,0]
[null,null,"Insulation of the distribution network",0,0,0,0,0,0,0,0,0,0,0,0,1,0,0,0,0,0,0,1,0,0,0,0,0,0,0,0,0,0,0,0,0,0,0,1,0,0,0,0,0,0,0,0,0,0,0,0,0,0,0]
[null,null,"Lowering setpoint temperature",0,0,0,0,0,0,0,0,0,0,0,0,1,0,0,0,0,0,0,1,0,0,0,0,0,0,0,0,0,0,0,0,0,0,0,1,0,0,0,0,0,0,0,0,0,0,0,0,0,0,0]
[null,null,"Circulation network optimisation, decentralisation of DHW production",0,0,0,0,0,0,0,0,0,0,0,0,1,0,0,0,0,0,0,1,0,0,0,0,0,0,0,0,0,0,0,0,0,0,0,1,0,0,0,0,0,0,0,0,0,0,0,0,0,0,0]
[null,null,"New, more efficient heat generator",0,0,0,0,0,0,0,0,0,0,0,0,1,0,0,0,0,0,0,1,0,0,0,0,0,0,0,0,0,0,0,0,0,0,0,1,0,0,0,0,0,0,0,0,0,0,0,0,0,0,0]
[null,null,"Including a renewable based heat source",0,0,0,0,0,0,0,0,0,0,0,0,1,1,0,0,0,0,0,1,0,0,0,0,0,0,0,0,0,0,0,0,0,0,0,1,0,0,0,0,0,0,0,0,0,0,0,0,0,0,0]
[null,"Cooling system","Roomwise temperature control",0,0,0,0,0,0,0,0,0,0,0,0,1,0,0,0,0,0,0,1,0,0,0,0,0,0,0,0,0,0,0,0,0,0,0,1,0,0,0,0,0,0,0,0,0,0,0,0,0,0,0]
[null,null,"Zoning optimisation of the building",0,0,0,0,0,0,0,0,0,0,0,0,1,0,0,0,0,0,0,1,0,0,0,0,0,0,0,0,0,0,0,0,0,0,0,1,0,0,0,0,0,0,0,0,0,0,0,0,0,0,0]
[null,null,"Optimisation of the cooling schedule",0,0,0,0,0,0,0,0,0,0,0,0,1,0,0,0,0,0,0,1,0,0,0,0,0,0,0,0,0,0,0,0,0,0,0,1,0,0,0,0,0,0,0,0,0,0,0,0,0,0,0]
[null,null,"Increasing setpoint temperature",0,0,0,0,0,0,0,0,0,0,0,0,1,0,0,0,0,0,0,1,0,0,0,0,0,0,0,0,0,0,0,0,0,-1,0,1,0,0,0,0,0,0,0,0,0,0,0,0,0,0,0]
[null,null,"Control optimisation",0,0,0,0,0,0,0,0,0,0,0,0,1,0,0,0,0,0,0,1,0,0,0,0,0,0,0,0,0,0,0,0,0,0,0,1,0,0,0,0,0,0,0,0,0,0,0,0,0,0,0]
[null,null,"Insulation of the distribution network",0,0,0,0,0,0,0,0,0,0,0,0,1,0,0,0,0,0,0,1,0,0,0,0,0,0,0,0,0,0,0,0,0,0,0,1,0,0,0,0,0,0,0,0,0,0,0,0,0,0,0]
[null,null,"Hydraulic balancing of the distribution network",0,0,0,0,0,0,0,0,0,0,0,0,1,0,0,0,0,0,0,1,0,0,0,0,0,0,0,0,0,0,0,0,0,0,0,1,0,0,0,0,0,0,0,0,0,0,0,0,0,0,0]
[null,null,"New, more efficient heat generator",0,0,0,0,0,0,0,0,0,0,0,0,1,0,0,0,0,0,0,1,0,0,0,0,0,0,0,0,0,0,0,0,0,0,0,1,0,0,0,0,0,0,0,0,0,0,0,0,0,0,0]
[null,null,"Energy efficient pumps",0,0,0,0,0,0,0,0,0,0,0,0,1,0,0,0,0,0,0,1,0,0,0,0,0,0,0,0,0,0,0,0,0,0,0,1,0,0,0,0,0,0,0,0,0,0,0,0,0,0,0]
[null,null,"Utilisation of free cooling",0,0,0,0,0,0,0,0,0,0,0,0,1,0,0,0,0,0,0,1,0,0,0,0,0,0,0,0,0,0,0,0,0,0,0,1,0,0,0,0,0,0,0,0,0,0,0,0,0,0,0]
[null,null,"Utilising the waste heat from the cooling system for heating&DHW",0,0,0,0,0,0,0,0,0,0,0,0,1,0,0,0,0,0,0,1,0,0,0,0,0,0,0,0,0,0,0,0,0,0,0,1,0,0,0,0,0,0,0,0,0,0,0,0,0,0,0]
[null,"Ventilation system","Schedule optimisation",0,0,0,0,0,0,0,0,0,0,0,0,1,0,0,0,0,0,0,1,0,0,0,0,0,0,0,0,0,0,0,0,0,0,0,1,0,0,0,0,0,0,0,0,0,0,0,0,0,0,0]
[null,null,"Control optimisation",0,0,0,0,0,0,0,0,0,0,0,0,1,0,0,0,0,0,0,1,0,0,0,0,0,0,0,0,0,0,0,0,0,0,0,1,0,0,0,0,0,0,0,0,0,0,0,0,0,0,0]
[null,null,"Air velocity optimisation",0,0,0,0,0,0,0,0,0,0,0,0,1,0,0,0,0,0,0,1,0,0,0,0,0,0,0,0,0,0,0,0,0,0,0,1,0,0,0,0,0,0,0,0,0,0,0,0,0,0,0]
[null,null,"Inlet air temperature optimisation",0,0,0,0,0,0,0,0,0,0,0,0,1,0,0,0,0,0,0,1,0,0,0,0,0,0,0,0,0,0,0,0,0,0,0,1,0,0,0,0,0,0,0,0,0,0,0,0,0,0,0]
[null,null,"Heat recovery",0,0,0,0,0,0,0,0,0,0,0,0,1,0,0,0,0,0,0,1,0,0,0,0,0,0,0,0,0,0,0,0,0,0,0,1,0,0,0,0,0,0,0,0,0,0,0,0,0,0,0]
[null,null,"Energy efficient fans",0,0,0,0,0,0,0,0,0,0,0,0,1,0,0,0,0,0,0,1,0,0,0,0,0,0,0,0,0,0,0,0,0,0,0,1,0,0,0,0,0,0,0,0,0,0,0,0,0,0,0]
[null,"Lighting","Energy efficient lights (e.g LED)",0,0,0,0,0,0,0,0,0,0,0,0,1,0,0,0,0,1,0,1,0,0,0,0,0,0,0,0,0,0,0,0,0,0,0,1,0,0,0,0,0,0,0,0,0,0,0,0,0,0,0]
[null,null,"Level of illumination",0,0,0,0,0,0,0,0,0,0,0,0,1,0,0,0,0,0,0,1,0,0,0,0,0,0,0,0,0,0,0,0,0,0,0,1,0,0,0,0,0,0,0,0,0,0,0,0,0,0,0]
[null,null,"Schedule optimisation",0,0,0,0,0,0,0,0,0,0,0,0,1,0,0,0,0,0,0,1,0,0,0,0,0,0,0,0,0,0,0,0,0,0,0,1,0,0,0,0,0,0,0,0,0,0,0,0,0,0,0]
[null,null,"Control optimisation",0,0,0,0,0,0,0,0,0,0,0,0,1,0,0,0,0,0,0,1,0,0,0,0,0,0,0,0,0,0,0,0,0,0,0,1,0,0,0,0,0,0,0,0,0,0,0,0,0,0,0]
[null,null,"Utilisation of natural light",0,0,0,0,0,0,0,0,0,0,0,0,1,0,0,0,0,0,0,1,0,0,0,0,0,0,0,0,0,0,0,0,0,0,0,1,0,0,0,0,0,0,0,0,0,0,0,0,0,0,0]
[null,"Renewable energy","Solar PV",0,0,0,0,0,0,0,0,0,0,0,0,1,1,0,0,0,1,0,1,0,0,0,0,0,0,0,0,0,0,0,0,0,0,0,1,0,0,0,0,0,0,0,0,0,0,0,0,0,0,0]
[null,null,"Wind turbine",0,0,0,0,0,0,0,0,0,0,0,0,1,1,0,0,0,1,0,1,0,0,0,0,0,0,0,0,0,0,0,0,0,0,0,1,0,0,0,0,0,0,0,0,0,0,0,0,0,0,0]
[null,null,"Solar collector system",0,0,0,0,0,0,0,0,0,0,0,0,1,1,0,0,0,1,0,1,0,0,0,0,0,0,0,0,0,0,0,0,0,0,0,1,0,0,0,0,0,0,0,0,0,0,0,0,0,0,0]
[null,null,"Geothermal heat pump system",0,0,0,0,0,0,0,0,0,0,0,0,1,1,0,0,0,1,0,1,0,0,0,0,0,0,0,0,0,0,0,0,0,0,0,1,0,0,0,0,0,0,0,0,0,0,0,0,0,0,0]
[null,null,"Passive measures",0,0,0,0,0,0,0,0,0,0,0,0,1,1,0,0,0,1,0,1,0,0,0,0,0,0,0,0,0,0,0,0,0,0,0,1,0,0,0,0,0,0,0,0,0,0,0,0,0,0,0]
[null,"Appliances","Energy efficient appliances",0,0,0,0,0,0,0,0,0,0,0,0,1,0,0,0,0,1,0,1,0,0,0,0,0,0,0,0,0,0,0,0,0,0,0,1,0,0,0,0,0,0,0,0,0,0,0,0,0,0,0]
[null,null,"Reducing stand-by consumption",0,0,0,0,0,0,0,0,0,0,0,0,1,0,0,0,0,1,0,1,0,0,0,0,0,0,0,0,0,0,0,0,0,0,0,1,0,0,0,0,0,0,0,0,0,0,0,0,0,0,0]
[null,null,"Optimal usage, on demand operation",0,0,0,0,0,0,0,0,0,0,0,0,1,0,0,0,0,0,0,1,0,0,0,0,0,0,0,0,0,0,0,0,0,0,0,1,0,0,0,0,0,0,0,0,0,0,0,0,0,0,0]
[null,"Building automation","Building automation and management systems",0,0,0,0,0,0,0,0,0,0,0,0,1,0,0,0,0,0,0,1,0,0,0,0,0,0,0,0,0,0,0,0,0,0,0,1,0,0,0,0,0,0,0,0,0,0,0,0,0,0,0]
[null,null,"Energy management system",0,0,0,0,0,0,0,0,0,0,0,0,1,0,0,0,0,0,0,1,0,0,0,0,0,0,0,0,0,0,0,0,0,0,0,1,0,0,0,0,0,0,0,0,0,0,0,0,0,0,0]
[null,null,"Measured consumption",0,0,0,0,0,0,0,0,0,0,0,0,1,0,0,0,0,0,0,1,0,0,0,0,0,0,0,0,0,0,0,0,0,0,0,1,0,0,0,0,0,0,0,0,0,0,0,0,0,0,0]
[null,null,"Improved smart-readiness",0,0,0,0,0,0,0,0,0,0,0,0,1,0,0,0,0,0,0,1,0,0,0,0,0,0,0,0,0,0,0,0,0,0,0,1,0,0,0,0,0,0,0,0,0,0,0,0,0,0,0]
["Processes","Compressed air system","Check the required pressure",0,0,0,0,0,0,0,0,0,0,0,0,1,0,0,0,0,0,0,1,0,0,0,0,0,0,0,0,0,0,0,0,0,0,0,1,0,0,0,0,0,0,0,0,0,0,0,0,0,0,0]
[null,null,"Regular check for leakages",0,0,0,0,0,0,0,0,0,0,0,0,1,0,0,0,0,0,0,1,0,0,0,0,0,0,0,0,0,0,0,0,0,0,0,1,0,0,0,0,0,0,0,0,0,0,0,0,0,0,0]
[null,null,"Waste heat recovery ",0,0,0,0,0,0,0,0,0,0,0,0,1,0,0,0,0,0,0,1,0,0,0,0,0,0,0,0,0,0,0,0,0,0,0,1,0,0,0,0,0,0,0,0,0,0,0,0,0,0,0]
[null,null,"Regular maintenance of the compressor",0,0,0,0,0,0,0,0,0,0,0,0,1,0,0,0,0,0,0,1,0,0,0,0,0,0,0,0,0,0,0,0,0,0,0,1,0,0,0,0,0,0,0,0,0,0,0,0,0,0,0]
[null,"Steam system","Check the required pressure",0,0,0,0,0,0,0,0,0,0,0,0,1,0,0,0,0,0,0,1,0,0,0,0,0,0,0,0,0,0,0,0,0,0,0,1,0,0,0,0,0,0,0,0,0,0,0,0,0,0,0]
[null,null,"Check for leakages",0,0,0,0,0,0,0,0,0,0,0,0,1,0,0,0,0,0,0,1,0,0,0,0,0,0,0,0,0,0,0,0,0,0,0,1,0,0,0,0,0,0,0,0,0,0,0,0,0,0,0]
[null,null,"Regular maintenance of the boiler",0,0,0,0,0,0,0,0,0,0,0,0,1,0,0,0,0,0,0,1,0,0,0,0,0,0,0,0,0,0,0,0,0,0,0,1,0,0,0,0,0,0,0,0,0,0,0,0,0,0,0]
[null,"Refrigeration","Optimisation of the required temperatures",0,0,0,0,0,0,0,0,0,0,0,0,1,0,0,0,0,0,0,1,0,0,0,0,0,0,0,0,0,0,0,0,0,0,0,1,0,0,0,0,0,0,0,0,0,0,0,0,0,0,0]
[null,null,"Waste heat recovery ",0,0,0,0,0,0,0,0,0,0,0,0,1,0,0,0,0,0,0,1,0,0,0,0,0,0,0,0,0,0,0,0,0,0,0,1,0,0,0,0,0,0,0,0,0,0,0,0,0,0,0]
[null,null,"Install frequency control (i.e. VRF) on chiller compressor.",0,0,0,0,0,0,0,0,0,0,0,0,1,0,0,0,0,0,0,1,0,0,0,0,0,0,0,0,0,0,0,0,0,0,0,1,0,0,0,0,0,0,0,0,0,0,0,0,0,0,0]
[null,null,"Install high efficiency or 2-rev electromotor on evaporation fan",0,0,0,0,0,0,0,0,0,0,0,0,1,0,0,0,0,0,0,1,0,0,0,0,0,0,0,0,0,0,0,0,0,0,0,1,0,0,0,0,0,0,0,0,0,0,0,0,0,0,0]
[null,null,"Build a cooled front space for refrigeration units.",0,0,0,0,0,0,0,0,0,0,0,0,1,0,0,0,0,0,0,1,0,0,0,0,0,0,0,0,0,0,0,0,0,0,0,1,0,0,0,0,0,0,0,0,0,0,0,0,0,0,0]
[null,null,"Use hot refrigerant gas from the compressor for the initial stages of the defrosting cycle.",0,0,0,0,0,0,0,0,0,0,0,0,1,0,0,0,0,0,0,1,0,0,0,0,0,0,0,0,0,0,0,0,0,0,0,1,0,0,0,0,0,0,0,0,0,0,0,0,0,0,0]
[null,null,"Use excess heat from other production processes for the production of cooling using adsorption/absorption cooling.",0,0,0,0,0,0,0,0,0,0,0,0,1,0,0,0,0,0,0,1,0,0,0,0,0,0,0,0,0,0,0,0,0,0,0,1,0,0,0,0,0,0,0,0,0,0,0,0,0,0,0]
[null,null,"Utilisation of free cooling",0,0,0,0,0,0,0,0,0,0,0,0,1,0,0,0,0,0,0,1,0,0,0,0,0,0,0,0,0,0,0,0,0,0,0,1,0,0,0,0,0,0,0,0,0,0,0,0,0,0,0]
[null,null,"Replacement of the equipment.",0,0,0,0,0,0,0,0,0,0,0,0,0,0,0,0,0,0,0,1,0,0,0,0,0,0,0,0,0,0,0,0,0,0,0,1,0,0,0,0,0,0,0,0,0,0,0,0,0,0,0]
[null,"Water systems","Efficient pumps for the Water treatment system (if any)",0,0,0,0,0,0,0,0,0,0,0,0,1,0,0,1,0,0,0,1,0,0,0,0,0,0,0,0,0,0,0,0,0,0,0,1,0,0,0,0,0,0,0,0,0,0,0,0,0,0,0]
[null,null,"Advanced process of water recovery ",0,0,0,0,0,0,0,0,0,0,0,0,1,0,0,1,0,0,0,1,0,0,0,0,0,0,0,0,0,0,0,0,0,0,0,1,0,0,0,0,0,0,0,0,0,0,0,0,0,0,0]
[null,"Production line","Optimisation of the production process and workflow",0,0,0,0,0,0,0,0,0,0,0,0,1,0,0,0,0,0,0,1,0,0,0,0,0,0,0,0,0,0,0,0,0,0,0,1,0,0,0,0,0,0,0,0,0,0,0,0,0,0,0]
[null,null,"Waste reduction & recycling in the production line ",0,0,0,0,0,0,0,0,0,0,0,0,1,0,0,0,0,0,0,1,0,1,0,0,0,0,0,0,0,0,0,0,0,0,0,1,0,0,0,0,0,0,0,0,0,0,0,0,0,0,0]
[null,null,"Optimization of motor driven systems ",0,0,0,0,0,0,0,0,0,0,0,0,1,0,0,0,0,0,0,1,0,0,0,0,0,0,0,0,0,0,0,0,0,0,0,1,0,0,0,0,0,0,0,0,0,0,0,0,0,0,0]
[null,null,"High efficient transmission system",0,0,0,0,0,0,0,0,0,0,0,0,1,0,0,0,0,0,0,1,0,0,0,0,0,0,0,0,0,0,0,0,0,0,0,1,0,0,0,0,0,0,0,0,0,0,0,0,0,0,0]
[null,null,"Reduction of the manual labor",0,0,0,0,0,0,0,0,0,0,0,0,1,0,0,0,0,0,0,1,0,0,0,0,0,0,0,0,0,0,0,0,0,0,0,1,0,0,0,0,0,0,0,0,0,0,0,0,0,0,0]
[null,null,"Regular maintenance of the equipment",0,0,0,0,0,0,0,0,0,0,0,0,1,0,0,0,0,0,0,1,0,0,0,0,0,0,0,0,0,0,0,0,0,0,0,1,0,0,0,0,0,0,0,0,0,0,0,0,0,0,0]
[null,null,"Replacement of the equipment",0,0,0,0,0,0,0,0,0,0,0,0,1,0,0,0,0,0,0,1,0,0,0,0,0,0,0,0,0,0,0,0,0,0,0,1,0,0,0,0,0,0,0,0,0,0,0,0,0,0,0]
[null,null,"Waste heat recovery ",0,0,0,0,0,0,0,0,0,0,0,0,1,0,0,0,0,0,0,1,0,0,0,0,0,0,0,0,0,0,0,0,0,0,0,1,0,0,0,0,0,0,0,0,0,0,0,0,0,0,0]
[null,null,"Low-carbon packaging ",0,0,0,0,0,0,0,0,0,0,0,0,1,0,0,0,0,0,0,1,0,0,0,0,0,0,0,0,0,0,0,0,0,0,0,1,0,0,0,0,0,0,0,0,0,0,0,0,0,0,0]
["Transport","Transport of goods","Optimisation of timetables",0,0,0,0,0,0,0,0,0,0,0,0,1,0,0,0,0,0,0,1,0,0,0,0,0,0,0,0,0,0,0,0,0,0,0,1,0,0,0,0,0,0,0,0,0,0,0,0,0,0,0]
[null,null,"Optimisation of routes",0,0,0,0,0,0,0,0,0,0,0,0,1,0,0,0,0,0,0,1,0,0,0,0,0,0,0,0,0,0,0,0,0,0,0,1,0,0,0,0,0,0,0,0,0,0,0,0,0,0,0]
[null,null,"Optimisation of loads",0,0,0,0,0,0,0,0,0,0,0,0,1,0,0,0,0,0,0,1,0,0,0,0,0,0,0,0,0,0,0,0,0,0,0,1,0,0,0,0,0,0,0,0,0,0,0,0,0,0,0]
[null,null,"Optimisation of the fleet",0,0,0,0,0,0,0,0,0,0,0,0,1,0,0,0,0,0,0,1,0,0,0,0,0,0,0,0,0,0,0,0,0,0,0,1,0,0,0,0,0,0,0,0,0,0,0,0,0,0,0]
[null,null,"Promote electromobility",0,0,0,0,0,0,0,0,0,0,0,0,1,0,0,0,0,0,0,1,0,0,0,0,0,0,0,0,0,0,0,0,0,0,0,1,0,0,0,0,0,0,0,0,0,0,0,0,0,0,0]
[null,null,"Promotion of modal shift for freight",0,0,0,0,0,0,0,0,0,0,0,0,1,0,0,0,0,0,0,1,0,0,0,0,0,0,0,0,0,0,0,0,0,0,0,1,0,0,0,0,0,0,0,0,0,0,0,0,0,0,0]
[null,null,"Regular maintenance",0,0,0,0,0,0,0,0,0,0,0,0,1,0,0,0,0,0,0,1,0,0,0,0,0,0,0,0,0,0,0,0,0,0,0,1,0,0,0,0,0,0,0,0,0,0,0,0,0,0,0]
[null,null,"Driver training",0,0,0,0,0,0,0,0,0,0,0,0,1,0,0,0,0,0,0,1,0,0,0,0,0,0,0,0,0,0,0,0,0,0,0,1,0,0,0,0,0,0,0,0,0,0,0,0,0,0,0]
["Management & Maintenance measures","Management & Maintenance measures","Green supply chain management",0,0,0,0,0,0,0,0,0,0,0,0,1,0,0,0,0,0,0,1,0,0,0,0,0,0,0,0,0,0,0,0,0,0,0,1,0,0,0,0,0,0,0,0,0,0,0,0,0,0,0]
[null,null,"Improved energy management",0,0,0,0,0,0,0,0,0,0,0,0,1,0,0,0,0,0,0,1,0,0,0,0,0,0,0,0,0,0,0,0,0,0,0,1,0,0,0,0,0,0,0,0,0,0,0,0,0,0,0]
[null,null,"Improved environmental awareness at the management level",0,0,0,0,0,0,0,0,0,0,0,0,1,0,0,0,0,0,0,1,0,0,0,0,0,0,0,0,0,0,0,0,0,0,0,1,0,0,0,0,0,0,0,0,0,0,0,0,0,0,0]
["Occupant behaviour","Occupant behaviour","Employee engagement and training",0,0,0,0,0,0,0,0,0,0,0,0,1,0,0,0,0,0,0,1,0,0,0,0,0,0,0,0,0,0,0,0,0,1,0,1,0,0,0,0,0,0,0,0,0,0,0,0,0,0,0]
[null,null,"Motivation",0,0,0,0,0,0,0,0,0,0,0,0,1,0,0,0,0,0,0,1,0,0,0,0,0,0,0,0,0,0,0,0,0,1,0,1,0,0,0,0,0,0,0,0,0,0,0,0,0,0,0]

{"sheet":"POR_leg","index":41,"n_rows":97,"n_cols":54,"rows_kept":97,"cut":false,"hidden":true,"merged":[[0,51,0,53],[2,0,56,0],[2,1,6,1],[7,1,16,1],[17,1,22,1],[23,1,33,1],[34,1,39,1],[40,1,44,1],[45,1,49,1],[50,1,52,1],[0,3,0,8],[0,9,0,14],[0,15,0,24],[0,25,0,37],[0,38,0,44],[0,45,0,50],[53,1,56,1],[57,0,83,0],[57,1,60,1],[61,1,63,1],[64,1,72,1],[73,1,74,1],[75,1,83,1],[84,0,91,0],[84,1,91,1],[92,0,94,0],[92,1,94,1],[95,0,96,0],[95,1,96,1]]}
[null,null,null,"Social",null,null,null,null,null,"Health",null,null,null,null,null,"Environment",null,null,null,null,null,null,null,null,null,"Economic",null,null,null,null,null,null,null,null,null,null,null,null,"Security & Safety",null,null,null,null,null,null,"Quality",null,null,null,null,null,"Time"]
[null,null,"EEM/ NEB","Health and well-being","Alleviation of energy poverty","Employee satisfaction","Customers (new, satisfaction, etc.)","Improved supply chain relationships","Work performance","(avoided) mortality","Disease burden \"daly\"","Sickness & absenteeism","Improved air quality","Improved lighting","Reduced noise","Emission reduction","Impact of EE on RES target achievement ","Ecosystem degradation","Reduced water use ","Reduced material consumption","Reduced emissions (dust, CO2, chemical agents etc.)","Reduced noise pollution","Reduced use of non-renewable resources ","Reduced litigations risks","Reduced waste","Improvement of compatitiveness","Innovation impacts","Reduction of (maintenance) costs","Reduction of emission or disposal fees","Shorter production cycle","Increased production yields","Increased real estate value","Reduction of (operating) costs","Macro economy","Usage of waste streams","Turnover of energy efficiency goods ","Employment effects","Impact on public budgets","Energy security","Security of supply / self sufficiency","Supplier diversity ","Operation safety of equipment","Less maintenance","Electrical safety","Reduced injuries","Accurate monitoring","Right First Time","Increased quality of products","Increased corporate image","Increased regulatory compliance","Risk reduction","Increased productivity","Increased equipment lifetime","Reduced time of fault detection"]
["Building","Envelope","Improvement to visible building envelope elements",1,1,1,0,0,0,0,0,0,1,0,0,0,0,0,0,0,0,0,0,1,0,0,0,1,1,0,0,1,1,0,0,0,0,0,0,0,0,0,0,0,1,0,0,0,1,0,0,0,0,0]
[null,null,"Improvements to non-visible building envelope elements",1,1,1,0,0,0,0,0,0,1,0,0,0,0,0,0,0,0,0,0,1,0,0,0,1,1,0,0,1,1,0,0,0,0,0,1,0,0,0,0,1,1,0,0,0,1,0,0,0,0,0]
[null,null,"Replacemert of windows",1,1,1,0,0,0,0,0,0,1,0,0,0,0,0,0,0,0,0,0,1,0,0,0,1,1,0,0,1,1,0,0,0,0,0,1,0,0,0,0,0,0,0,0,0,1,0,0,0,0,0]
[null,null,"Increasing the air-tightness of the building",1,1,1,0,0,0,0,0,0,1,0,0,0,0,0,0,0,0,0,0,1,0,0,0,1,1,0,0,1,1,0,0,0,0,0,1,0,0,0,1,0,0,0,0,0,1,0,0,0,0,0]
[null,null,"Shading to reduce summer heat gains",1,1,1,0,0,0,0,0,0,0,0,0,0,0,0,0,0,0,0,0,1,0,0,0,1,1,0,0,1,1,0,0,0,0,0,1,0,0,0,1,1,1,0,0,0,1,0,0,0,0,0]
[null,"Heating system","Roomwise temperature control",1,1,1,0,0,1,0,0,0,0,0,0,0,0,0,0,0,0,0,0,1,0,0,0,1,1,0,0,1,1,0,0,0,0,0,1,0,0,0,1,1,1,0,0,0,0,0,0,1,1,0]
[null,null,"Zoning optimisation of the building",1,1,1,0,0,1,0,0,0,0,0,0,0,0,0,0,0,0,0,0,1,0,0,0,1,1,0,0,1,1,0,0,0,0,0,0,0,0,0,0,0,0,0,0,0,0,0,0,1,1,0]
[null,null,"Optimisation of the heating schedule",1,1,1,0,0,1,0,0,0,0,0,0,0,0,0,0,0,0,0,0,1,0,0,0,1,1,0,0,1,1,0,0,0,0,0,1,1,0,1,1,1,1,0,0,0,0,0,0,1,1,0]
[null,null,"Lowering setpoint temperature",1,1,1,0,0,1,0,0,0,0,0,0,0,0,0,0,0,0,0,0,1,0,0,0,1,1,0,0,1,1,0,0,0,0,0,0,0,0,0,0,0,0,0,0,0,0,0,0,0,1,0]
[null,null,"Control optimisation",1,1,1,0,0,1,0,0,0,0,0,0,0,0,0,0,0,0,0,0,1,0,0,0,1,1,0,0,1,1,0,0,0,0,0,1,1,0,1,1,1,1,0,0,0,0,0,0,1,1,0]
[null,null,"Insulation of the distribution network",1,1,1,0,0,0,0,0,0,0,0,0,0,0,0,0,0,0,0,0,1,0,0,0,1,1,0,0,0,1,0,0,0,0,0,1,0,0,1,1,1,1,0,0,0,0,0,1,0,1,0]
[null,null,"Hydraulic balancing of the distribution network",1,1,1,0,0,0,0,0,0,0,0,0,0,0,0,0,0,0,0,0,1,0,0,0,1,1,0,0,0,1,0,0,0,0,0,0,0,0,1,1,1,0,0,0,0,0,0,1,0,1,0]
[null,null,"New, more efficient heat generator",1,1,1,0,0,0,0,0,0,0,0,0,0,0,0,0,0,0,0,0,1,0,0,0,1,1,0,0,0,1,0,0,0,0,0,1,1,0,1,1,1,0,0,0,0,0,0,0,0,1,0]
[null,null,"Including a renewable based heat source",1,1,1,0,0,0,0,0,0,0,0,0,1,1,0,0,0,0,0,1,1,0,0,0,1,1,0,0,0,1,0,0,0,0,0,1,1,1,0,0,1,0,0,0,0,0,0,0,0,1,0]
[null,null,"Energy efficient pumps",1,1,1,0,0,0,0,0,0,0,0,0,0,0,0,0,0,0,0,0,1,0,0,0,1,1,0,0,0,1,0,0,0,0,0,1,1,0,1,1,1,0,0,0,0,0,0,0,0,1,0]
[null,"DHW system","Reducing the DHW demand",1,1,1,0,0,0,0,0,0,0,0,0,0,0,0,0,0,0,0,0,1,0,0,0,1,1,0,0,0,1,0,0,0,0,0,1,1,0,1,1,1,0,0,0,0,0,0,0,0,1,0]
[null,null,"Insulation of the distribution network",1,1,1,0,0,0,0,0,0,0,0,0,0,0,0,0,0,0,0,0,1,0,0,0,1,1,0,0,0,1,0,0,0,0,0,1,1,0,1,1,1,1,0,0,0,0,0,1,0,1,0]
[null,null,"Lowering setpoint temperature",1,1,1,0,0,1,0,0,0,0,0,0,0,0,0,0,0,0,0,0,1,0,0,0,1,1,0,0,0,1,0,0,0,0,0,0,1,0,1,1,1,0,0,0,0,0,0,0,0,1,0]
[null,null,"Circulation network optimisation, decentralisation of DHW production",1,1,1,0,0,0,0,0,0,0,0,0,0,0,0,0,0,0,0,0,1,0,0,0,1,1,0,0,0,1,0,0,0,0,0,1,1,0,1,1,1,0,0,0,0,0,0,0,0,1,0]
[null,null,"New, more efficient heat generator",1,1,1,0,0,0,0,0,0,0,0,0,0,0,0,0,0,0,0,0,1,0,0,0,1,1,0,0,0,1,0,0,0,0,1,1,1,1,1,1,1,0,0,0,0,0,0,0,0,1,0]
[null,null,"Including a renewable based heat source",1,1,1,0,0,0,0,0,0,0,0,0,0,0,0,0,0,0,0,0,1,0,0,0,1,1,0,0,0,1,0,0,0,1,1,1,1,1,1,1,1,0,0,0,0,0,0,0,0,1,0]
[null,"Cooling system","Roomwise temperature control",1,1,1,0,0,1,0,0,0,0,0,0,0,0,0,0,0,0,0,0,1,0,0,0,1,1,0,0,1,1,0,0,0,0,0,1,1,0,1,1,1,1,0,0,0,0,0,0,1,1,0]
[null,null,"Zoning optimisation of the building",1,1,1,0,0,1,0,0,0,0,0,0,0,0,0,0,0,0,0,0,1,0,0,0,1,1,0,0,1,1,0,0,1,0,1,1,1,0,0,0,0,0,0,0,0,0,0,0,1,1,0]
[null,null,"Optimisation of the cooling schedule",1,1,1,0,0,1,0,0,0,0,0,0,0,0,0,0,0,0,0,0,1,0,0,0,1,1,0,0,1,1,0,0,0,0,0,1,1,0,1,1,1,1,0,0,0,0,0,0,1,1,0]
[null,null,"Increasing setpoint temperature",0,0,1,0,0,0,0,0,0,0,0,0,0,0,0,0,0,0,0,0,1,0,0,0,1,1,0,0,1,1,0,0,0,0,0,0,1,0,0,0,0,0,0,0,0,0,0,0,0,1,0]
[null,null,"Control optimisation",1,1,1,0,0,1,0,0,0,0,0,0,0,0,0,0,0,0,0,0,1,0,0,0,1,1,0,0,1,1,0,0,0,0,0,1,1,0,1,1,1,1,0,0,0,0,0,1,0,1,0]
[null,null,"Insulation of the distribution network",1,1,1,0,0,0,0,0,0,0,0,0,0,0,0,0,0,0,0,0,1,0,0,0,1,1,0,0,0,1,0,0,0,0,0,1,1,0,1,1,1,1,0,0,0,0,0,0,0,1,0]
[null,null,"Hydraulic balancing of the distribution network",1,1,1,0,0,0,0,0,0,0,0,0,0,0,0,0,0,0,0,0,1,0,0,0,1,1,0,0,0,1,0,0,0,0,1,1,1,0,1,1,1,0,0,0,0,0,0,0,0,1,0]
[null,null,"New, more efficient heat generator",1,1,1,0,0,0,0,0,0,0,0,0,0,0,0,0,0,0,0,0,1,0,0,0,1,1,0,0,0,1,0,0,1,0,0,1,1,1,1,1,1,0,0,0,0,0,0,0,0,1,0]
[null,null,"Energy efficient pumps",1,1,1,0,0,0,0,0,0,0,0,0,0,0,0,0,0,0,0,0,1,0,0,0,1,1,0,0,0,1,0,0,1,0,0,1,1,1,1,1,1,0,0,0,0,0,0,0,0,1,0]
[null,null,"Utilisation of free cooling",1,1,1,0,0,0,0,0,0,0,0,0,0,0,0,0,0,0,0,0,1,0,0,0,1,1,0,0,1,1,0,0,1,0,0,1,1,1,1,1,0,0,0,0,0,0,0,0,0,1,0]
[null,null,"Utilising the waste heat from the cooling system for heating&DHW",1,1,1,0,0,0,0,0,0,0,0,0,0,0,0,0,0,1,0,0,1,0,0,0,1,1,0,0,1,1,0,0,1,0,0,1,1,1,1,1,0,0,0,0,0,0,0,0,0,1,0]
[null,"Ventilation system","Schedule optimisation",1,1,1,0,0,1,0,0,0,0,0,0,0,0,0,0,0,0,0,0,1,0,0,0,1,1,0,0,0,1,0,0,1,0,0,1,1,0,1,1,0,0,0,0,0,0,0,1,1,1,0]
[null,null,"Control optimisation",1,1,1,0,0,1,0,0,0,0,0,0,0,0,0,0,0,0,0,0,1,0,0,0,1,1,0,0,0,1,0,0,1,0,0,1,1,0,1,1,0,0,0,0,0,0,1,1,1,1,0]
[null,null,"Air velocity optimisation",1,1,1,0,0,1,0,0,0,0,0,0,0,0,0,0,0,0,0,0,1,0,0,0,1,1,0,0,0,1,0,0,1,0,0,1,1,0,1,1,0,0,0,0,0,0,1,1,1,1,0]
[null,null,"Inlet air temperature optimisation",1,1,1,0,0,1,0,0,0,0,0,0,0,0,0,0,0,0,0,0,1,0,0,0,1,1,0,0,0,1,0,0,1,0,0,1,1,0,0,1,0,0,0,0,0,0,0,1,1,1,0]
[null,null,"Heat recovery",1,1,1,0,0,1,1,1,0,0,0,0,0,0,0,0,0,0,0,0,1,0,1,0,1,1,0,0,0,1,0,0,1,0,0,1,1,0,0,0,0,0,0,0,0,0,0,0,0,1,0]
[null,null,"Energy efficient fans",1,1,1,0,0,1,0,0,0,0,0,0,0,0,0,0,0,0,0,0,1,0,0,0,1,1,0,0,0,1,0,0,1,0,0,1,1,0,1,1,1,0,0,0,0,0,0,0,0,1,0]
[null,"Lighting","Energy efficient lights (e.g LED)",1,1,1,0,0,1,0,0,0,1,1,0,0,0,0,0,0,0,0,0,1,0,0,0,1,1,0,0,1,1,0,0,1,0,0,1,1,0,1,1,1,0,0,0,0,0,0,0,0,1,0]
[null,null,"Level of illumination",1,1,1,0,0,1,0,0,0,0,1,0,0,0,0,0,0,0,0,0,1,0,0,0,1,1,0,0,1,1,0,0,1,0,0,1,1,0,0,0,0,0,0,0,0,0,0,0,1,1,0]
[null,null,"Schedule optimisation",1,1,1,0,0,1,0,0,0,0,0,0,0,0,0,0,0,0,0,0,1,0,0,0,1,1,0,0,0,1,0,0,1,0,0,1,1,0,0,0,0,0,0,0,0,0,0,0,1,1,0]
[null,null,"Control optimisation",1,1,1,0,0,1,0,0,0,0,0,0,0,0,0,0,0,0,0,0,1,0,0,0,1,1,0,0,0,1,0,0,1,0,0,1,1,0,0,0,0,0,0,0,0,0,0,0,1,1,0]
[null,null,"Utilisation of natural light",1,1,1,0,0,1,0,0,0,0,1,0,0,0,0,0,0,0,0,0,1,0,0,0,1,1,0,0,1,1,0,0,1,0,0,1,1,0,0,1,0,0,0,0,0,0,0,0,1,1,0]
[null,"Renewable energy","Solar PV",1,1,1,0,0,0,0,0,0,0,0,0,1,1,0,0,0,1,0,1,1,0,0,0,1,1,0,0,1,1,0,0,0,0,0,1,1,1,0,0,0,0,0,0,0,1,0,0,0,0,0]
[null,null,"Wind turbine",1,1,1,0,0,0,0,0,0,0,0,0,1,1,0,0,0,1,0,1,1,0,0,0,1,1,0,0,1,1,0,0,0,0,0,1,1,1,0,0,0,0,0,0,0,1,0,0,0,0,0]
[null,null,"Solar collector system",1,1,1,0,0,0,0,0,0,0,0,0,1,1,0,0,0,1,0,1,1,0,0,0,1,1,0,0,1,1,0,0,0,0,0,1,1,1,0,0,0,0,0,0,0,1,0,0,0,0,0]
[null,null,"Geothermal heat pump system",1,1,1,0,0,0,0,0,0,0,0,0,1,1,0,0,0,1,0,1,1,0,0,0,1,1,0,0,1,1,0,0,0,0,0,1,1,1,0,0,0,0,0,0,0,1,0,0,0,0,0]
[null,null,"Passive measures",1,1,1,0,0,0,0,0,0,0,0,0,0,0,0,0,0,0,0,0,1,0,0,0,1,1,0,0,1,1,0,0,0,0,0,1,1,1,0,0,0,0,0,0,0,1,0,0,0,0,0]
[null,"Appliances","Energy efficient appliances",1,1,1,0,0,1,0,0,0,0,0,0,0,0,0,0,0,0,0,1,1,0,0,0,1,1,0,0,1,1,0,0,1,0,0,1,1,0,1,1,1,0,0,0,0,0,0,0,0,1,0]
[null,null,"Reducing stand-by consumption",1,1,1,0,0,1,0,0,0,0,0,0,0,0,0,0,0,0,0,0,1,0,0,0,1,1,0,0,1,1,0,0,1,0,0,1,1,0,0,0,0,0,0,0,0,0,0,0,0,1,0]
[null,null,"Optimal usage, on demand operation",1,1,1,0,0,1,0,0,0,0,0,0,0,0,0,0,0,0,0,0,1,0,0,0,1,1,0,0,1,1,0,0,1,0,0,1,1,0,0,0,0,0,0,0,0,0,0,0,1,1,0]
[null,"Building automation","Building automation and management systems",1,1,1,0,0,1,0,0,0,0,0,0,0,0,0,0,0,0,0,0,1,0,0,0,1,1,0,0,1,1,0,0,1,0,0,1,1,0,1,1,1,0,0,0,0,0,0,1,1,1,1]
[null,null,"Energy management system",1,1,1,0,0,1,0,0,0,0,0,0,0,0,0,0,0,0,0,0,1,0,0,0,1,1,0,0,1,1,0,0,1,0,0,1,1,0,0,1,0,0,0,0,0,0,0,1,1,1,1]
[null,null,"Measured consumption",1,1,1,0,0,1,0,0,0,0,0,0,0,0,0,0,0,0,0,0,1,0,0,0,1,1,0,0,1,1,0,0,1,0,0,1,1,0,0,0,0,0,0,0,0,0,0,0,0,0,1]
[null,null,"Improved smart-readiness",1,1,1,0,0,1,0,0,0,0,0,0,0,0,0,0,0,0,0,0,1,0,0,0,1,1,0,0,1,1,0,0,1,0,0,1,1,0,0,1,0,0,0,0,0,0,0,0,1,1,1]
["Processes","Compressed air system","Check the required pressure",1,1,1,0,0,0,0,0,0,0,0,0,0,0,0,0,0,0,0,0,1,0,0,0,1,1,0,0,0,1,0,0,1,0,0,1,1,0,1,1,0,0,0,0,0,0,0,1,0,1,0]
[null,null,"Regular check for leakages",1,1,1,0,0,0,0,0,0,0,0,0,0,0,0,0,0,0,0,0,1,0,0,0,1,1,0,0,0,1,0,0,1,0,0,1,1,0,1,1,0,0,0,0,0,0,0,1,0,1,0]
[null,null,"Waste heat recovery ",1,1,1,0,0,0,0,0,0,0,0,0,0,0,0,0,0,0,0,0,1,0,0,0,1,1,0,0,0,1,0,0,1,0,0,1,1,0,0,1,0,0,0,0,0,0,0,0,0,1,0]
[null,null,"Regular maintenance of the compressor",1,1,1,0,0,1,0,0,0,0,0,0,0,0,0,0,0,0,0,0,1,0,0,0,1,1,0,0,0,1,0,0,1,0,0,1,1,0,1,1,0,0,0,0,0,0,0,1,0,1,1]
[null,"Steam system","Check the required pressure",1,1,1,0,0,0,0,0,0,0,0,0,0,0,0,0,0,0,0,0,1,0,0,0,1,1,0,0,0,1,0,0,1,0,0,1,1,0,1,1,0,0,0,0,0,0,0,1,0,1,0]
[null,null,"Check for leakages",1,1,1,0,0,0,0,0,0,0,0,0,0,0,0,0,0,0,0,0,1,0,0,0,1,1,0,0,0,1,0,0,1,0,0,1,1,0,1,1,0,0,0,0,0,0,0,1,0,1,0]
[null,null,"Regular maintenance of the boiler",1,1,1,0,0,1,0,0,0,0,0,0,0,0,0,0,0,0,0,0,1,0,0,0,1,1,0,0,0,1,0,0,1,0,0,1,1,0,1,1,0,0,0,0,0,0,0,1,0,1,1]
[null,"Refrigeration","Optimisation of the required temperatures",1,1,1,0,0,1,0,0,0,0,0,0,0,0,0,0,0,0,0,0,1,0,0,0,1,1,0,0,0,1,0,0,1,0,0,1,1,0,1,1,0,0,0,0,0,0,0,1,1,1,0]
[null,null,"Waste heat recovery ",1,1,1,0,0,0,0,0,0,0,0,0,0,0,0,0,0,0,0,0,1,0,0,0,1,1,0,0,0,1,0,0,1,0,0,1,1,0,0,1,0,0,0,0,0,0,0,0,0,1,0]
[null,null,"Install frequency control (i.e. VRF) on chiller compressor.",1,1,1,0,0,1,0,0,0,0,0,0,0,0,0,0,0,0,0,0,1,0,0,0,1,1,0,0,0,1,0,0,1,0,0,1,1,0,0,0,0,0,0,0,0,0,0,0,0,1,0]
[null,null,"Install high efficiency or 2-rev electromotor on evaporation fan",1,1,1,0,0,1,0,0,0,0,0,0,0,0,0,0,0,0,0,0,1,0,0,0,1,1,0,0,0,1,0,0,1,0,0,1,1,0,0,1,0,0,0,0,0,0,0,0,0,1,0]
[null,null,"Build a cooled front space for refrigeration units.",1,1,1,0,0,0,0,0,0,0,0,0,0,0,0,0,0,0,0,0,1,0,0,0,1,1,0,0,1,1,0,0,1,0,0,1,1,0,0,1,0,0,0,0,0,0,0,0,0,1,0]
[null,null,"Use hot refrigerant gas from the compressor for the initial stages of the defrosting cycle.",1,1,1,0,0,0,0,0,0,0,0,0,0,0,0,0,0,0,0,0,1,0,0,0,1,1,0,0,1,1,0,0,1,null,0,1,1,0,0,0,0,0,0,0,0,0,0,0,0,1,0]
[null,null,"Use excess heat from other production processes for the production of cooling using adsorption/absorption cooling.",1,1,1,0,0,0,0,0,0,0,0,0,0,0,0,0,0,0,0,0,1,0,0,0,1,1,0,0,1,1,0,0,1,0,0,1,1,0,0,0,0,0,0,0,0,0,0,0,0,1,0]
[null,null,"Utilisation of free cooling",1,1,1,0,0,0,0,0,0,0,0,0,0,0,0,0,0,0,0,0,1,0,0,0,1,1,0,0,1,1,0,0,1,0,0,1,1,0,0,0,0,0,0,0,0,0,0,0,0,1,0]
[null,null,"Replacement of the equipment.",1,1,1,0,0,0,0,0,0,0,0,0,0,0,0,0,0,0,0,0,1,0,0,0,1,1,0,0,1,1,0,0,1,0,0,1,1,0,1,1,1,0,0,0,0,0,0,1,0,1,0]
[null,"Water systems","Efficient pumps for the Water treatment system (if any)",1,1,1,0,0,0,0,0,0,0,0,0,0,0,0,1,1,0,0,0,1,0,0,0,1,1,0,0,0,1,0,0,1,0,0,1,1,0,1,1,1,0,0,0,0,0,0,0,0,1,0]
[null,null,"Advanced process of water recovery ",1,1,1,0,0,0,0,0,0,0,0,0,0,0,0,1,1,0,0,0,1,0,0,0,1,1,0,0,0,1,0,1,1,0,0,1,0,0,0,0,0,0,0,0,0,0,0,0,0,1,0]
[null,"Production line","Optimisation of the production process and workflow",1,1,1,1,0,1,0,0,0,0,0,0,0,0,0,0,1,0,0,0,1,0,1,1,1,1,0,0,1,1,0,0,1,0,0,1,1,0,0,1,0,0,0,1,1,1,0,0,1,0,0]
[null,null,"Waste reduction & recycling in the production line ",1,1,1,1,0,1,0,0,0,0,0,0,0,0,0,0,1,0,0,0,1,1,1,1,1,1,0,0,1,1,0,1,1,0,0,1,1,0,0,0,0,0,0,1,1,1,0,0,0,0,0]
[null,null,"Optimization of motor driven systems ",1,1,1,1,0,1,0,0,0,0,0,0,0,0,0,0,0,0,0,0,1,0,0,1,1,1,0,0,0,1,0,0,1,0,0,1,1,0,1,1,0,0,0,0,0,1,0,0,0,1,0]
[null,null,"High efficient transmission system",1,1,1,1,0,1,0,0,0,0,0,0,0,0,0,0,0,0,0,0,1,0,0,1,1,1,0,0,0,1,0,0,1,0,0,1,1,0,0,0,0,0,0,0,0,1,0,0,0,0,0]
[null,null,"Reduction of the manual labor",1,1,1,1,0,1,0,0,0,0,0,0,0,0,0,0,0,0,0,0,1,0,0,1,1,1,0,0,0,1,0,0,1,0,0,1,1,0,0,0,0,0,0,1,1,1,0,1,1,0,0]
[null,null,"Regular maintenance of the equipment",1,1,1,1,0,1,0,0,0,0,0,0,0,0,0,0,0,0,0,0,1,0,0,0,1,1,0,0,1,1,0,0,1,0,0,1,1,0,0,1,0,0,0,1,1,1,0,1,0,1,1]
[null,null,"Replacement of the equipment",1,1,1,1,0,0,0,0,0,0,0,0,0,0,0,0,0,0,0,0,1,0,0,0,1,1,0,0,1,1,0,0,1,0,0,1,1,0,0,1,0,0,0,1,1,1,0,1,0,1,0]
[null,null,"Waste heat recovery ",1,1,1,1,0,0,0,0,0,0,0,0,0,0,0,0,0,0,0,0,1,0,0,0,1,1,0,0,1,1,0,0,1,0,0,1,1,0,0,0,0,0,0,0,0,1,0,0,0,1,0]
[null,null,"Low-carbon packaging ",1,1,1,1,0,0,0,0,0,0,0,0,0,0,0,0,0,0,0,0,1,1,1,1,1,1,0,0,0,1,0,0,1,0,0,1,1,0,0,0,0,0,0,0,0,1,0,0,0,0,0]
["Transport","Transport of goods","Optimisation of timetables",1,1,1,0,0,1,0,0,0,0,0,0,0,0,0,0,0,0,0,0,1,0,0,0,1,1,0,0,0,1,0,0,1,0,0,1,0,0,0,0,0,0,0,0,0,0,0,0,1,0,0]
[null,null,"Optimisation of routes",1,1,1,0,0,1,0,0,0,0,0,0,0,0,0,0,0,0,0,0,1,0,0,0,1,1,0,0,0,1,0,0,1,0,0,1,0,0,0,0,0,0,0,0,0,0,0,0,0,0,0]
[null,null,"Optimisation of loads",1,1,1,0,0,1,0,0,0,0,0,0,0,0,0,0,0,0,0,0,1,0,0,0,1,1,0,0,0,1,0,0,1,0,0,1,0,0,0,0,0,0,0,0,0,0,0,0,0,0,0]
[null,null,"Optimisation of the fleet",1,1,1,0,0,1,0,0,0,0,0,0,0,0,0,0,0,0,0,0,1,0,0,0,1,1,0,0,0,1,0,0,1,0,0,1,0,0,0,1,0,0,0,0,0,0,0,0,0,0,0]
[null,null,"Promote electromobility",1,1,1,0,0,1,0,0,0,0,0,0,1,1,0,0,0,0,0,0,1,0,0,1,1,1,0,0,0,1,0,0,1,0,0,1,0,0,0,0,0,0,0,0,0,0,0,0,0,0,0]
[null,null,"Promotion of modal shift for freight",1,1,1,0,0,1,0,0,0,0,0,0,1,0,0,0,0,0,0,0,1,0,0,1,1,1,0,0,0,1,0,0,1,0,0,1,0,0,0,0,0,0,0,0,0,0,0,0,0,0,1]
[null,null,"Regular maintenance",1,1,1,1,0,1,0,0,0,0,0,0,0,0,0,0,0,0,0,0,1,0,0,0,1,1,0,0,1,1,0,0,1,0,0,1,0,0,0,1,0,0,0,0,0,0,0,0,0,0,0]
[null,null,"Driver training",1,1,1,0,0,1,0,0,0,0,0,0,0,0,0,0,0,0,0,0,1,0,0,0,1,1,0,0,0,1,0,0,1,0,0,1,0,0,0,1,0,0,0,0,0,0,0,0,0,0,0]
["Management & Maintenance measures","Management & Maintenance measures","Green supply chain management",1,1,1,1,1,1,0,0,0,0,0,0,0,0,0,0,0,0,0,0,1,1,1,1,1,1,0,0,1,1,0,0,1,0,0,1,0,0,0,1,0,0,0,0,0,1,0,0,0,0,0]
[null,null,"Improved energy management",1,1,1,1,1,1,0,0,0,0,0,0,0,0,0,0,0,0,0,0,1,0,0,0,1,1,0,0,1,1,0,0,1,0,0,1,1,0,0,1,0,0,0,0,0,1,0,0,0,1,0]
[null,null,"Improved environmental awareness at the management level",1,1,1,1,1,1,0,0,0,0,0,0,0,0,0,0,0,0,0,0,1,0,0,0,1,1,0,0,1,1,0,0,1,0,0,1,0,0,0,1,0,0,0,0,0,1,0,0,0,0,0]
["Occupant behaviour","Occupant behaviour","Employee engagement and training",1,1,1,1,1,1,0,0,0,0,0,0,0,0,0,0,0,0,0,0,1,0,0,0,1,1,0,0,1,1,0,0,1,1,0,1,1,0,1,1,1,1,0,1,1,1,0,1,1,1,0]
[null,null,"Motivation",1,1,1,1,1,1,0,0,0,0,0,0,0,0,0,0,0,0,0,0,1,0,0,0,1,1,0,0,1,1,0,0,1,1,0,1,1,0,1,1,0,1,0,1,1,1,0,1,1,1,0]